{"text_format":"1","workbook":"xlsx","n_sheets":12,"sheets":["Page 277","Page 277 bottom","Page 278","Page 281 chart","Page 281","Page 282","Page 283","Page 284-85","Page 286","Page 287","Page 287, bottom","St. Louis Fed, interest rates"],"not_rendered":{"charts":3,"images":0,"macros":1,"external_links":0,"defined_names":19,"comments":3,"pivot_tables":0},"unopened":[{"sheet":"Page 281 chart","index":3,"reason":"not_a_worksheet"}],"bounds":{"document_bytes":16777216,"sheet_cells":100000,"rows_first":2000,"rows_last":500,"rows_between":2000,"halvings":0,"cell_chars":16384,"cell_head_chars":4096},"cells_cut":0,"cells_raw":0,"read":"whole","date_system":"1900"}

{"sheet":"Page 277","index":0,"n_rows":67,"n_cols":32,"rows_kept":67,"cut":false,"hidden":false,"merged":[[0,0,0,13]]}
["PRICE DATA FOR THE DOW-JONES INDUSTRIAL STOCKS AND THE STANDARD AND POORS 500\nJuly 2001 - July 2006"]
["Date","S&P 500 Index\n^GSPC","Alcoa \nAA","American International Group \nAIG","American Express AXP","Boeing BA","Citigroup C","Caterpillar CAT","DuPont DD","Disney DIS","General Electric GE","General Motors GM","Home Depot HD","Honeywell HON","Hewlitt Packard HPQ","IBM","Intel \nINTC","Johnson & Johnson JNJ","JP Morgan JPM","Coca Cola \nKO","McDonalds \nMCD","3M \nMMM","Altria\nMO","Merck \nMRK","Microsoft \nMSFT","Pfizer \nPFE","Proctor Gamble \nPG","AT&T \nT","United Technologies \nUTX","Verizon \nVZ","Walmart\nWMT","Exxon Mobil\nXOM"]
["2001-07-03",1211.23,35.369999999999997,81.319999999999993,33.729999999999997,53.64,40.97,24.73,36.29,25.02,38.33,49.72,48.26,32.75,22.83,101.02,28.7,49.51,37.96,40.25,26.97,50.55,35.61,53.98,28.78,36.99,32.14,35.549999999999997,33.96,43.92,53.51,37.11]
["2001-08-01",1133.58,34.5,76.430000000000007,30.46,47.06,37.49,22.45,35.01,24.14,36.04,43.14,44.06,33.270000000000003,21.48,96.1,26.93,48.4,34.54,43.93,27.79,47.3,37.1,51.96,24.81,34.47,33.549999999999997,32.299999999999997,31.75,40.549999999999997,45.99,35.880000000000003]
["2001-09-04",1040.94,28.06,76.239999999999995,24.3,30.79,33.15,20.11,32.07,17.68,32.93,33.81,36.79,23.57,14.92,88.18,19.690000000000001,50.87,29.94,42.28,25.11,44.71,37.79,53.16,22.25,36.08,32.94,37.200000000000003,21.58,43.89,47.45,35.21]
["2001-10-01",1059.78,29.34,76.819999999999993,24.68,29.97,37.26,20.23,34.18,17.649999999999999,32.229999999999997,32.56,36.659999999999997,26.38,15.65,103.9,23.52,53.17,31,43.21,24.12,47.43,36.630000000000003,50.93,25.29,37.700000000000003,33.57,30.26,25.01,40.68,49.28,35.25]
["2001-11-01",1139.45,35.090000000000003,80.540000000000006,27.6,32.43,39.340000000000003,21.45,38.21,19.43,34.08,39.630000000000003,44.78,29.77,20.45,111.27,31.49,53.65,33.07,42.54,25.08,52.33,36.92,54.07,27.92,39.07,35.24,29.68,28.05,38.39,52.87,33.619999999999997]
["2001-12-03",1148.08,32.32,77.64,29.93,35.83,41.46,23.63,36.630000000000003,19.88,35.630000000000003,38.75,48.97,30.38,19.170000000000002,116.44,30.32,54.43,31.87,42.72,24.73,53.99,36.340000000000003,47.18,28.81,35.950000000000003,36,31.1,30.11,38.76,55.24,35.32]
["2002-01-02",1130.2,32.590000000000003,72.510000000000005,30.13,37.83,39.06,22.91,38.06,20.21,33.03,40.770000000000003,48.09,30.19,20.64,103.86,33.78,52.97,29.85,39.64,25.39,50.7,39.71,47.48,27.7,37.590000000000003,37.340000000000003,29.93,32.020000000000003,38.15,57.57,35.1]
["2002-02-01",1106.73,34.31,72.38,30.64,42.64,37.29,25.29,40.68,22.07,34.39,42.67,48,34.43,18.78,94.58,27.54,56.26,25.64,42.93,24.38,54.16,41.73,49.21,25.37,37.07,38.76,30.24,34.11,38.520000000000003,59.52,37.340000000000003]
["2002-03-01",1147.3900000000001,34.47,70.58,34.43,44.76,40.81,25.9,40.950000000000003,22.15,33.409999999999997,48.69,46.71,34.57,16.809999999999999,100.25,29.33,60,31.25,47.54,25.93,52.81,42.21,46.46,26.23,35.96,41.18,29.92,34.700000000000003,37.94,58.91,39.630000000000003]
["2002-04-01",1076.92,31.08,67.63,34.54,41.38,35.69,25.04,38.65,22.24,28.18,51.67,44.56,33.130000000000003,16.02,80.739999999999995,27.6,59,30.77,50.5,26.53,57.77,43.62,43.85,22.73,32.9,41.43,25,32.81,33.299999999999997,53.68,36.32]
["2002-05-01",1067.1400000000001,32.090000000000003,65.53,35.799999999999997,39.72,35.729999999999997,23.96,40.270000000000003,21.98,27.82,50.43,40.06,35.58,17.89,77.7,26.66,56.87,31.52,50.54,27.97,57.88,45.88,46.07,22.14,31.42,41.11,27.6,32.32,35.700000000000003,51.99,36.31]
["2002-06-03",989.82,30.41,66.8,30.59,41.91,32.07,22.44,38.86,18.13,26.11,43.37,35.340000000000003,31.98,14.38,69.540000000000006,17.64,48.44,29.74,51.13,26.58,56.76,35.44,41.12,23.79,31.78,41.31,24.55,31.86,33.33,52.93,37.21]
["2002-07-01",911.62,24.96,62.58,29.76,38.659999999999997,27.76,20.66,36.69,17.010000000000002,28.94,37.770000000000003,29.71,29.37,13.32,67.989999999999995,18.14,48.76,21.88,45.6,23.12,58.07,37.369999999999997,40.28,20.86,29.38,41.38,22.46,32.61,27.67,47.32,33.43]
["2002-08-01",916.07,23.15,61.49,30.44,34.68,29.22,20.170000000000002,35.58,15.05,27.1,39.28,31.69,27.34,12.64,72.959999999999994,16.11,50.53,23.14,46.57,22.2,57.94,40.57,41.03,21.34,30.16,41.22,20.079999999999998,27.98,25.99,51.46,32.450000000000003]
["2002-09-03",815.28,17.809999999999999,53.6,26.32,31.93,26.45,17.2,31.84,14.53,22.31,31.93,25.15,19.78,11.05,56.44,13.42,50.32,16.649999999999999,43.97,16.5,50.99,31.91,37.4,19.02,26.46,41.56,16.32,26.61,23.01,47.45,29.2]
["2002-10-01",885.76,20.350000000000001,61.29,30.77,27.83,33.130000000000003,19.05,36.409999999999997,16.02,22.85,27.29,27.83,21.86,14.96,76.41,16.72,54.66,18.190000000000001,42.61,16.920000000000002,58.86,33.51,44.38,23.25,28.97,41.31,21.1,29.05,32.04,51.6,30.81]
["2002-11-01",936.31,23.72,63.84,32.94,32.03,34.86,23.28,39.71,19.02,24.55,33.06,25.44,23.94,18.45,84.29,20.2,53.23,22.07,42.02,17.52,60.5,31.02,48.61,25.08,28.86,39.479999999999997,23.44,29.55,35.54,51.94,32.06]
["2002-12-02",879.82,21.15,56.73,29.98,31.03,31.55,21.33,37.74,15.84,22.21,30.7,23.2,22.09,16.510000000000002,75.150000000000006,15.06,50.14,21.04,40.369999999999997,15.23,57.45,33.86,46.61,22.48,27.98,40.14,22.3,29.29,32.880000000000003,48.74,32.19]
["2003-01-02",855.7,18.36,53.07,30.13,29.71,30.97,20.67,33.71,17,21.1,30.26,20.190000000000001,22.49,16.559999999999999,75.83,15.15,50.05,20.46,37.26,13.49,58.03,31.64,45.6,20.64,27.93,40.159999999999997,20.28,30.07,32.770000000000003,46.13,31.46]
["2003-02-03",841.15,19.18,48.33,28.48,26.06,30.06,22.09,32.950000000000003,16.57,22.11,28.52,22.65,21.24,15.08,75.739999999999995,16.71,49.17,19.88,37.03,12.89,58.72,32.29,43.43,20.68,27.43,38.42,17.260000000000002,27.81,29.6,46.38,31.55]
["2003-03-03",848.18,18.14,48.54,28.18,23.7,31.06,23.12,34.92,16.53,23.44,28.39,23.59,19.82,14.87,76.2,15.77,54.25,20.79,37.49,13.7,60.91,25.48,45.42,21.12,28.66,41.79,16.649999999999999,27.43,30.26,50.3,32.42]
["2003-04-01",916.92,21.6,56.88,32.18,25.8,35.39,24.88,38.22,18.13,27.07,30.45,27.24,21.9,15.58,82.49,17.82,52.83,26.1,37.42,16.2,59.04,26.16,48.23,22.31,28.29,42.36,19.68,29.35,32.35,54.44,32.65]
["2003-05-01",963.59,23.18,56.81,35.409999999999997,29.17,37.17,24.67,38.18,19.09,26.38,30.26,31.47,24.49,18.64,85.7,20.190000000000001,51.17,29.22,42.21,17.739999999999998,59.55,35.119999999999997,46.08,21.47,28.66,43.29,21.45,32.54,32.76,50.86,34]
["2003-06-02",974.5,24.02,54.21,35.54,32.64,38.79,26.33,37.72,19.190000000000001,26.54,30.83,32.14,25.1,20.440000000000001,80.3,20.18,48.67,30.39,43.19,20.9,60.74,39.22,50.52,22.37,31.55,42.04,21.53,33.770000000000003,34.14,51.97,33.549999999999997]
["2003-07-01",990.31,26.16,63.07,37.64,31.5,40.92,32.11,39.81,21.29,26.31,32.049999999999997,30.27,26.44,20.32,79.09,24.14,48.76,31.48,41.85,21.8,66.02,34.53,46.12,23.04,30.82,41.64,19.97,35.86,30.59,54.13,33.24]
["2003-08-01",1008.01,27.06,58.52,38.39,35.75,39.590000000000003,34.18,40.86,19.920000000000002,27.36,35.67,31.2,27.28,19.13,79.989999999999995,27.75,46.9,30.73,40.5,21.24,67.400000000000006,35.57,44.36,23.14,27.77,41.37,19.2,38.39,30.87,57.29,35.46]
["2003-09-02",995.97,24.78,56.75,38.39,32.82,41.56,32.76,36.54,19.59,27.75,35.520000000000003,30.97,24.8,18.649999999999999,86.15,26.71,46.84,30.83,40.17,22.3,65.349999999999994,38.43,44.95,24.26,28.2,43.99,19.02,36.97,28.35,54.08,34.43]
["2003-10-01",1050.71,29.91,59.82,40.08,36.799999999999997,43.61,35.04,36.9,21.99,27.01,37.03,36.049999999999997,28.81,21.5,87.27,31.98,47.61,32.56,43.39,23.68,74.62,40.799999999999997,39.29,22.94,29.33,46.8,20.85,40.51,29.7,57.17,34.409999999999997]
["2003-11-03",1058.2,31.23,56.99,39.03,36.869999999999997,43.27,36.36,38.19,22.43,26.69,37.57,35.75,28.12,20.95,88.47,32.57,46.86,32.1,43.69,24.66,75.099999999999994,45.62,36.049999999999997,22.56,31.31,45.82,20.239999999999998,41.16,29.03,53.96,34.29]
["2003-12-01",1111.92,36.17,65.260000000000005,41.27,40.47,44.66,39.700000000000003,42.27,22.88,29.03,46.89,34.58,31.66,22.21,90.56,31.12,49.1,33.31,47.69,23.89,80.790000000000006,48.36,41.39,24.01,32.950000000000003,47.56,22.67,45.52,31.01,51.54,38.83]
["2004-01-02",1131.1300000000001,32.53,68.38,44.36,40.1,45.9,37.520000000000003,40.44,23.54,31.51,43.63,34.56,34.21,23,96.96,29.64,50.77,35.6,46.27,24.76,75.150000000000006,49.4,42.64,24.26,34.159999999999997,48.35,22.43,45.89,32.93,52.31,38.64]
["2004-02-02",1144.94,35.82,72.86,45.71,41.82,46.62,36.380000000000003,41.86,26.02,30.66,42.69,35.380000000000003,33.369999999999997,21.96,94.44,28.39,51.47,37.549999999999997,46.94,27.23,74.47,51.14,43.07,23.28,34.33,49.04,21.12,44.41,34.24,57.86,40.19]
["2004-03-01",1126.21,33.159999999999997,70.31,44.46,39.6,47.96,37.979999999999997,39.200000000000003,24.51,28.77,41.92,36.47,32.229999999999997,22.16,89.88,26.45,48.42,38.4,47.5,27.49,78.14,48.95,39.9,21.87,32.840000000000003,50.17,21.59,41.61,32.64,58.12,39.64]
["2004-04-01",1107.3,29.4,70.61,41.97,41.16,44.98,37.5,39.880000000000003,22.59,28.24,42.07,34.35,32.92,19.12,86.29,25.02,51.58,34.69,47.76,26.2,82.54,49.79,42.43,22.93,33.5,50.85,22.18,41.59,34.06,55.5,40.549999999999997]
["2004-05-03",1120.68,30.07,72.23,43.47,44.36,43.43,36.35,40.450000000000003,23.02,29.34,40.72,35.06,32.270000000000003,20.61,86.88,27.8,53.46,33.99,48.49,25.4,81.06,43.13,42.7,23.01,33.26,51.82,21.11,40.97,31.21,54.39,41.49]
["2004-06-01",1140.8399999999999,31.73,70.31,44.14,49.49,43.49,38.33,41.59,25,30.73,41.8,34.44,35.07,20.55,86.45,26.88,53.45,35.770000000000003,47.9,25.01,86.28,45.64,43.21,25.06,32.270000000000003,52.33,21.6,44.29,32.67,51.24,42.6]
["2004-07-01",1101.72,30.77,69.69,43.17,49.16,41.62,35.64,40.14,22.64,31.54,38.700000000000003,32.99,36.01,19.63,85.39,23.74,53.04,34.75,41.62,26.46,78.95,43.4,41.26,25,30.08,50.36,22.87,45.27,35.159999999999997,51.74,44.41]
["2004-08-02",1104.24,31.25,70.27,42.97,50.79,43.97,35.26,39.9,22.02,31.1,37.51,35.85,34.64,17.43,83.23,20.77,56.04,36.840000000000003,42.43,25.99,79.31,44.63,40.909999999999997,24.02,30.92,54.05,23.27,45.64,35.81,51.53,44.49]
["2004-09-01",1114.58,32.42,67.14,44.21,50.2,41.64,39.020000000000003,40.409999999999997,22.12,32.04,38.57,38.44,34.520000000000003,18.34,84.26,19.57,54.33,36.979999999999997,38.229999999999997,26.97,77.010000000000005,43.53,30.28,24.33,28.96,52.26,23.42,45.38,35.93,52.04,46.64]
["2004-10-01",1130.2,31.37,59.95,45.69,48.53,42.27,39.26,40.479999999999997,24.73,32.549999999999997,35,40.29,32.42,18.25,88.2,21.71,56.31,36.24,38.81,28.04,74.7,44.84,28.73,24.61,27.4,49.66,23.06,45.11,36.01,52.75,47.5]
["2004-11-01",1173.82,32.950000000000003,62.56,47.97,52.3,42.63,44.63,43.13,26.36,33.74,35.5,41.03,34.19,19.57,92.79,21.87,58.45,35.35,37.76,30.12,76.98,53.2,25.71,26.29,26.44,51.89,22.98,47.6,37.97,50.93,49.72]
["2004-12-01",1211.92,30.46,64.930000000000007,48.54,50.54,45.89,47.53,46.68,27.51,35.03,36.85,42,34.270000000000003,20.59,97.07,22.86,61.46,36.619999999999997,40,31.42,79.38,57.22,29.89,26.21,25.6,53.44,23.53,50.41,37.31,51.8,49.73]
["2005-01-03",1181.27,28.62,65.540000000000006,46.04,49.4,46.72,43.62,45.26,28.33,34.68,33.86,40.54,34.82,19.239999999999998,91.99,21.94,62.7,35.35,39.85,31.74,81.599999999999994,59.78,26.09,25.77,23,51.88,21.97,49.11,33.1,51.39,50.06]
["2005-02-01",1203.5999999999999,31.31,66.040000000000006,46.73,53.92,45.86,46.54,51.08,27.65,34,33.229999999999997,39.33,36.94,20.43,91.33,23.53,63.85,34.61,41.11,32.42,81.599999999999994,61.48,29.49,24.75,25.22,51.74,22.25,48.93,33.450000000000003,50.61,61.72]
["2005-03-01",1180.5899999999999,29.62,54.88,44.43,57.34,43.19,44.77,49.1,28.43,34.83,27.4,37.67,36.200000000000003,21.63,90.15,22.78,65.36,32.770000000000003,40.29,30.51,83.3,61.93,30.47,23.78,25.2,51.66,21.91,49.8,33.01,49.29,58.11]
["2005-04-01",1156.8499999999999,28.29,50.37,45.58,58.38,45.56,43.31,45.14,26.12,34.96,24.87,34.840000000000003,34.79,20.18,75.349999999999994,23.06,66.8,33.950000000000003,42,28.72,74.34,61.55,31.91,24.89,26.06,53.05,22.3,49.83,33.67,46.36,55.6]
["2005-05-02",1191.5,26.55,55.02,46.58,62.94,45.7,46.29,44.92,27.15,35.229999999999997,29.88,38.76,35.450000000000003,22.2,74.73,26.53,65.63,34.200000000000003,43.15,30.32,74.92,63.59,30.53,25.46,26.95,54.03,21.91,52.49,33.28,46.6,55.07]
["2005-06-01",1191.33,25.6,57.68,46.14,65.010000000000005,44.85,46.88,41.54,24.92,33.67,32.22,38.42,35.840000000000003,23.26,73.39,25.6,63.57,33.78,40.619999999999997,27.19,70.67,61.89,29.33,24.52,26.64,51.68,22.26,50.52,32.5,47.56,56.32]
["2005-07-01",1234.18,27.48,59.76,47.68,65.02,42.62,53.28,41.22,25.37,33.53,34.89,42.97,38.43,24.36,82.55,26.7,62.56,33.94,42.58,30.54,73.31,64.09,29.58,25.28,25.6,54.78,23.23,49.88,32.57,48.69,57.57]
["2005-08-01",1220.33,26.38,58.92,47.89,66.260000000000005,42.89,54.85,38.549999999999997,24.93,32.659999999999997,32.86,39.92,37.659999999999997,27.47,79.94,25.38,62.32,32.729999999999997,42.81,31.8,69.959999999999994,67.67,27.25,27.1,24.79,54.63,22.87,49.4,31.13,44.5,58.98]
["2005-09-01",1228.81,24.05,61.67,49.79,67.180000000000007,44.6,58.07,38.159999999999997,23.88,32.94,29.42,37.76,36.89,28.97,79.540000000000006,24.32,62.21,32.770000000000003,42.29,32.82,72.13,71.34,26.27,25.47,24.29,58.55,22.77,51.22,31.11,43.37,62.57]
["2005-10-03",1207.01,23.92,64.489999999999995,49.41,63.91,44.86,52.22,40.619999999999997,24.11,33.17,26.33,40.630000000000003,33.65,27.82,81.19,23.19,61.56,35.72,41.89,30.96,74.7,72.64,27.24,25.44,21.15,55.42,22.97,50.67,30.37,46.83,55.28]
["2005-11-01",1249.48,27.16,66.819999999999993,51.04,67.67,48.04,57.37,42.02,24.67,34.94,21.44,41.46,36.15,29.44,88.36,26.42,61.02,37.31,42.08,33.85,77.569999999999993,70.45,28.75,27.48,20.8,56.6,23.99,53.42,30.82,48.07,57.43]
["2005-12-01",1248.29,29.3,67.91,51.08,69.709999999999994,48.02,57.36,41.77,23.97,34.53,19.010000000000002,40.17,36.85,28.48,81.7,24.72,59.39,38.72,39.729999999999997,33.72,76.599999999999994,73.08,31.1,25.96,22.88,57.29,23.58,55.47,29.03,46.46,55.59]
["2006-01-03",1280.08,31.21,65.150000000000006,52.19,67.790000000000006,46.09,67.69,38.479999999999997,25.31,32.270000000000003,23.56,40.24,38.01,31.02,80.8,21.05,56.86,39.11,40.79,35.01,71.91,70.75,33.729999999999997,27.95,25.2,58.9,25.33,57.91,30.91,45.78,62.11]
["2006-02-01",1280.6600000000001,29.19,66.05,53.61,72.44,46.37,72.849999999999994,39.909999999999997,27.99,32.630000000000003,20.11,41.83,40.74,32.64,79.95,20.49,57.29,40.479999999999997,41.37,34.909999999999997,73.2,70.319999999999993,34.090000000000003,26.77,25.94,59.6,26.93,58.26,32.9,45.03,59.07]
["2006-03-01",1294.8699999999999,30.43,65.930000000000007,52.28,77.66,47.23,71.58,41.87,27.89,34.520000000000003,21.06,42.13,42.55,32.81,82.17,19.36,58.85,40.97,41.57,34.36,75.290000000000006,70.06,34.83,27.1,24.69,57.31,26.39,57.73,33.25,47.07,60.56]
["2006-04-03",1310.6099999999999,33.630000000000003,65.09,53.66,83.17,49.95,75.739999999999995,43.74,27.96,34.33,22.66,39.770000000000003,42.28,32.380000000000003,82.04,19.88,58.25,45.01,41.66,34.57,84.98,72.34,34.03,24.06,25.09,58.21,25.9,62.55,32.630000000000003,44.87,62.76]
["2006-05-01",1270.0899999999999,31.72,60.8,54.21,83.25,49.3,72.95,42.53,30.5,34.01,26.93,37.97,41.18,32.29,79.900000000000006,18.02,60.22,42.29,43.71,33.17,83.66,71.540000000000006,33.29,22.65,23.66,54.25,25.75,62.52,30.83,48.45,60.91]
["2006-06-01",1270.2,32.36,59.05,53.07,81.91,48.25,74.48,41.6,30,32.96,29.79,35.79,40.299999999999997,31.68,76.819999999999993,19,59.92,41.66,43.02,33.6,80.77,73.430000000000007,36.43,23.3,23.47,55.6,27.56,63.42,33.08,48.17,61.35]
["2006-07-03",1265.48,33.549999999999997,58.97,51.98,79.989999999999995,49.08,72.58,40.54,29.83,33.299999999999997,29.48,35.369999999999997,38.96,32.85,76.42,18.559999999999999,60.62,42.41,43.18,33.18,74.099999999999994,77.8,36.97,23.3,23.68,56.5,27.74,63.1,32.71,46,62.84]
[]
["Market cap",null,29.12,153.16999999999999,64.13,63.96,243.99,48.6,37.35,65.47,346.27,16.670000000000002,73.11,32.26,91.64,118.48,107.96,179.5,147.36000000000001,101.72,41.34,55.87,162.46,80.69,237.69,173.51,185.4,107.85,63.79,95.42,191.72,380.08]
[]
["All the data from Yahoo, 9jul06"]

{"sheet":"Page 277 bottom","index":1,"n_rows":84,"n_cols":32,"rows_kept":84,"cut":false,"hidden":false,"merged":[[0,0,0,13]]}
["RETURN DATA FOR THE DOW-JONES INDUSTRIAL STOCKS AND THE STANDARD AND POORS 500\nJuly 2001 - July 2006"]
["Date","S&P 500 Index\n^GSPC","Alcoa \nAA","American International Group \nAIG","American Express AXP","Boeing BA","Citigroup C","Caterpillar CAT","DuPont DD","Disney DIS","General Electric GE","General Motors GM","Home Depot HD","Honeywell HON","Hewlitt Packard HPQ","IBM","Intel \nINTC","Johnson & Johnson JNJ","JP Morgan JPM","Coca Cola \nKO","McDonalds \nMCD","3M \nMMM","Altria\nMO","Merck \nMRK","Microsoft \nMSFT","Pfizer \nPFE","Proctor Gamble \nPG","AT&T \nT","United Technologies UTX","Verizon \nVZ","Walmart \nWMT","Exxon Mobil \nXOM"]
[]
["Average return",{"$f":"AVERAGE(B9:B68)","v":7.3025207715862923E-4},{"$f":"AVERAGE(C9:C68)","v":-8.8045232999497481E-4},-5.3560524791288885E-3,7.2078563356630853E-3,6.6601094741208884E-3,3.010192138065507E-3,1.7944538670859995E-2,1.8457819966479114E-3,2.9306515581315239E-3,-2.3445913734344336E-3,-8.7115866553562366E-3,-5.1789842829916052E-3,2.8938752782178977E-3,6.0646047398152676E-3,-4.651234583685872E-3,-7.2648065901253448E-3,3.3741700376054302E-3,1.8475201624128701E-3,1.1711236870348115E-3,3.4537024601776645E-3,6.3742097805926674E-3,1.3025248898244331E-2,-6.3084472440219719E-3,-3.5204556814594479E-3,-7.4336132638093003E-3,9.4023212973838102E-3,-4.1344123560427496E-3,1.0325623468400351E-2,-4.91148259418305E-3,-2.5204525972353053E-3,8.7784223052485757E-3]
["Beta",{"$f":"SLOPE(B9:B68,$B$9:$B$68)","v":1},{"$f":"SLOPE(C9:C68,$B$9:$B$68)","v":1.9027983836619957},{"$f":"SLOPE(D9:D68,$B$9:$B$68)","v":0.99357597429546707},1.3784130266948689,1.1514634616640862,1.2951646980207125,1.3903214616252038,1.0009466005598446,1.2805379702174076,0.84198822730205147,1.4059650700066386,1.552790870242573,1.6639716851986359,1.9594245248915774,1.5764137929690809,2.2648399177150527,0.24707693477970649,1.7916694423015864,0.35903260375546042,1.2645943445894277,0.65043868573479957,0.66329440207335677,0.60992724226830031,1.1219401416299413,0.55717127351603968,0.16872571999704272,1.127501815122895,1.0659180109233315,1.0231125023839318,0.6000114438168378,0.6455250865233817]
["Alpha",{"$f":"INTERCEPT(B9:B68,$B$9:$B$68)","v":0},{"$f":"INTERCEPT(C9:C68,$B$9:$B$68)","v":-2.2699748020782295E-3},-6.0816133981730618E-3,6.201267359736644E-3,5.819250889468424E-3,2.0643954270733529E-3,1.692925353558997E-2,1.1148386624642162E-3,1.9955360454997672E-3,-2.9594550253648688E-3,-9.738295568141063E-3,-6.3129130413791994E-3,1.6787564987684491E-3,4.6337309104776334E-3,-5.8024140304630562E-3,-8.9187106444685409E-3,3.1937415927645622E-3,5.3914983059049379E-4,9.0893938237471543E-4,2.5302298132781798E-3,5.8992255792705015E-3,1.2540876783362572E-2,-6.7538478796040323E-3,-4.3397548003323589E-3,-7.8404887436275064E-3,9.2791089898858845E-3,-4.9577728985363686E-3,9.5472346268427929E-3,-5.658612624215879E-3,-2.9586122004014994E-3,8.3070262699568732E-3]
["R-squared",{"$f":"RSQ(B9:B68,$B$9:$B$68)","v":1},{"$f":"RSQ(C9:C68,$B$9:$B$68)","v":0.60847765066893644},0.3518481112203532,0.7051780176036373,0.24867752412854968,0.59718406379967004,0.51582030933360234,0.43624143766022538,0.38454683391705435,0.32207336771025202,0.26067090340619081,0.5287578585042142,0.54733733270476037,0.52093660013759546,0.54750841607413736,0.48361819242009407,5.6626615446838925E-2,0.59512672624119656,8.0821985992514361E-2,0.44267287742790795,0.20296006525126686,9.0399117733825293E-2,8.8723971944721688E-2,0.40731957218483722,0.1564725457373137,3.8528345098536212E-2,0.28400964418052643,0.32313581038494305,0.28539837699207221,0.19127972027703805,0.22625193335445209]
[]
["2001-08-01",{"$f":"LN('Page 277'!B4/'Page 277'!B3)","v":-6.6255605887467039E-2},{"$f":"LN('Page 277'!C4/'Page 277'!C3)","v":-2.4904679180075117E-2},{"$f":"LN('Page 277'!D4/'Page 277'!D3)","v":-6.2016699505352997E-2},{"$f":"LN('Page 277'!E4/'Page 277'!E3)","v":-0.10197330160654307},{"$f":"LN('Page 277'!F4/'Page 277'!F3)","v":-0.13087167511426126},{"$f":"LN('Page 277'!G4/'Page 277'!G3)","v":-8.8765860810958969E-2},{"$f":"LN('Page 277'!H4/'Page 277'!H3)","v":-9.6726467345061545E-2},{"$f":"LN('Page 277'!I4/'Page 277'!I3)","v":-3.5908486258404655E-2},{"$f":"LN('Page 277'!J4/'Page 277'!J3)","v":-3.5805289369379566E-2},{"$f":"LN('Page 277'!K4/'Page 277'!K3)","v":-6.1603446652326505E-2},{"$f":"LN('Page 277'!L4/'Page 277'!L3)","v":-0.14195662568150003},{"$f":"LN('Page 277'!M4/'Page 277'!M3)","v":-9.1050718822688559E-2},{"$f":"LN('Page 277'!N4/'Page 277'!N3)","v":1.5753127949124486E-2},{"$f":"LN('Page 277'!O4/'Page 277'!O3)","v":-6.0953190901040094E-2},{"$f":"LN('Page 277'!P4/'Page 277'!P3)","v":-4.9929201063659778E-2},{"$f":"LN('Page 277'!Q4/'Page 277'!Q3)","v":-6.3656215942067843E-2},{"$f":"LN('Page 277'!R4/'Page 277'!R3)","v":-2.2674855650745698E-2},{"$f":"LN('Page 277'!S4/'Page 277'!S3)","v":-9.4414901023194581E-2},{"$f":"LN('Page 277'!T4/'Page 277'!T3)","v":8.7487454123115801E-2},{"$f":"LN('Page 277'!U4/'Page 277'!U3)","v":2.9951106602773683E-2},{"$f":"LN('Page 277'!V4/'Page 277'!V3)","v":-6.645264996859318E-2},{"$f":"LN('Page 277'!W4/'Page 277'!W3)","v":4.0990472323703141E-2},{"$f":"LN('Page 277'!X4/'Page 277'!X3)","v":-3.8139415787459788E-2},{"$f":"LN('Page 277'!Y4/'Page 277'!Y3)","v":-0.14843390375551219},{"$f":"LN('Page 277'!Z4/'Page 277'!Z3)","v":-7.0558225315588641E-2},{"$f":"LN('Page 277'!AA4/'Page 277'!AA3)","v":4.2935503108324086E-2},{"$f":"LN('Page 277'!AB4/'Page 277'!AB3)","v":-9.5872926020639057E-2},{"$f":"LN('Page 277'!AC4/'Page 277'!AC3)","v":-6.7290636104445939E-2},{"$f":"LN('Page 277'!AD4/'Page 277'!AD3)","v":-7.98340166398534E-2},{"$f":"LN('Page 277'!AE4/'Page 277'!AE3)","v":-0.15144457077138077},{"$f":"LN('Page 277'!AF4/'Page 277'!AF3)","v":-3.3706437881910779E-2}]
["2001-09-04",{"$f":"LN('Page 277'!B5/'Page 277'!B4)","v":-8.5256615246989922E-2},{"$f":"LN('Page 277'!C5/'Page 277'!C4)","v":-0.2066142493629993},{"$f":"LN('Page 277'!D5/'Page 277'!D4)","v":-2.4890299088461518E-3},{"$f":"LN('Page 277'!E5/'Page 277'!E4)","v":-0.22593799712051296},{"$f":"LN('Page 277'!F5/'Page 277'!F4)","v":-0.42423342136280745},{"$f":"LN('Page 277'!G5/'Page 277'!G4)","v":-0.12303151411594927},{"$f":"LN('Page 277'!H5/'Page 277'!H4)","v":-0.11007341040370261},{"$f":"LN('Page 277'!I5/'Page 277'!I4)","v":-8.7712721261510654E-2},{"$f":"LN('Page 277'!J5/'Page 277'!J4)","v":-0.31143615845988804},{"$f":"LN('Page 277'!K5/'Page 277'!K4)","v":-9.0245336351864242E-2},{"$f":"LN('Page 277'!L5/'Page 277'!L4)","v":-0.24369402424121561},{"$f":"LN('Page 277'!M5/'Page 277'!M4)","v":-0.18032627225751421},{"$f":"LN('Page 277'!N5/'Page 277'!N4)","v":-0.34468137308234564},{"$f":"LN('Page 277'!O5/'Page 277'!O4)","v":-0.36441967486504917},{"$f":"LN('Page 277'!P5/'Page 277'!P4)","v":-8.6009136046455131E-2},{"$f":"LN('Page 277'!Q5/'Page 277'!Q4)","v":-0.31313001417247327},{"$f":"LN('Page 277'!R5/'Page 277'!R4)","v":4.977354511208764E-2},{"$f":"LN('Page 277'!S5/'Page 277'!S4)","v":-0.14292269372705024},{"$f":"LN('Page 277'!T5/'Page 277'!T4)","v":-3.8283296985651298E-2},{"$f":"LN('Page 277'!U5/'Page 277'!U4)","v":-0.10141007058491872},{"$f":"LN('Page 277'!V5/'Page 277'!V4)","v":-5.6313105251997946E-2},{"$f":"LN('Page 277'!W5/'Page 277'!W4)","v":1.8427547748008123E-2},{"$f":"LN('Page 277'!X5/'Page 277'!X4)","v":2.2832042042645689E-2},{"$f":"LN('Page 277'!Y5/'Page 277'!Y4)","v":-0.1089047890914604},{"$f":"LN('Page 277'!Z5/'Page 277'!Z4)","v":4.5649314665648928E-2},{"$f":"LN('Page 277'!AA5/'Page 277'!AA4)","v":-1.8349138668196541E-2},{"$f":"LN('Page 277'!AB5/'Page 277'!AB4)","v":0.1412415310504902},{"$f":"LN('Page 277'!AC5/'Page 277'!AC4)","v":-0.38612576550871208},{"$f":"LN('Page 277'!AD5/'Page 277'!AD4)","v":7.9150723138720805E-2},{"$f":"LN('Page 277'!AE5/'Page 277'!AE4)","v":3.125254350410453E-2},{"$f":"LN('Page 277'!AF5/'Page 277'!AF4)","v":-1.8849904023634231E-2}]
["2001-10-01",{"$f":"LN('Page 277'!B6/'Page 277'!B5)","v":1.7937188329115412E-2},{"$f":"LN('Page 277'!C6/'Page 277'!C5)","v":4.4606698040520781E-2},{"$f":"LN('Page 277'!D6/'Page 277'!D5)","v":7.5787635718121277E-3},{"$f":"LN('Page 277'!E6/'Page 277'!E5)","v":1.5516848690684155E-2},{"$f":"LN('Page 277'!F6/'Page 277'!F5)","v":-2.6993080607837172E-2},{"$f":"LN('Page 277'!G6/'Page 277'!G5)","v":0.11687764854157089},{"$f":"LN('Page 277'!H6/'Page 277'!H5)","v":5.9494473950934216E-3},{"$f":"LN('Page 277'!I6/'Page 277'!I5)","v":6.3719663982381269E-2},{"$f":"LN('Page 277'!J6/'Page 277'!J5)","v":-1.6982738301917076E-3},{"$f":"LN('Page 277'!K6/'Page 277'!K5)","v":-2.1486400560926558E-2},{"$f":"LN('Page 277'!L6/'Page 277'!L5)","v":-3.7672075585455093E-2},{"$f":"LN('Page 277'!M6/'Page 277'!M5)","v":-3.5398267051240623E-3},{"$f":"LN('Page 277'!N6/'Page 277'!N5)","v":0.11263143034112882},{"$f":"LN('Page 277'!O6/'Page 277'!O5)","v":4.7768322210547512E-2},{"$f":"LN('Page 277'!P6/'Page 277'!P5)","v":0.1640487181753901},{"$f":"LN('Page 277'!Q6/'Page 277'!Q5)","v":0.17774023037939196},{"$f":"LN('Page 277'!R6/'Page 277'!R5)","v":4.4220968681573464E-2},{"$f":"LN('Page 277'!S6/'Page 277'!S5)","v":3.4791825493663948E-2},{"$f":"LN('Page 277'!T6/'Page 277'!T5)","v":2.1757788941804957E-2},{"$f":"LN('Page 277'!U6/'Page 277'!U5)","v":-4.0224801310508873E-2},{"$f":"LN('Page 277'!V6/'Page 277'!V5)","v":5.9057749643601151E-2},{"$f":"LN('Page 277'!W6/'Page 277'!W5)","v":-3.1176940570674497E-2},{"$f":"LN('Page 277'!X6/'Page 277'!X5)","v":-4.2854092948531319E-2},{"$f":"LN('Page 277'!Y6/'Page 277'!Y5)","v":0.12806705206962446},{"$f":"LN('Page 277'!Z6/'Page 277'!Z5)","v":4.3921399259542193E-2},{"$f":"LN('Page 277'!AA6/'Page 277'!AA5)","v":1.8945086242449422E-2},{"$f":"LN('Page 277'!AB6/'Page 277'!AB5)","v":-0.20648205291889096},{"$f":"LN('Page 277'!AC6/'Page 277'!AC5)","v":0.14750878505953929},{"$f":"LN('Page 277'!AD6/'Page 277'!AD5)","v":-7.5949932519783436E-2},{"$f":"LN('Page 277'!AE6/'Page 277'!AE5)","v":3.7841794169327356E-2},{"$f":"LN('Page 277'!AF6/'Page 277'!AF5)","v":1.1353960913165304E-3}]
["2001-11-01",{"$f":"LN('Page 277'!B7/'Page 277'!B6)","v":7.2484350433373146E-2},{"$f":"LN('Page 277'!C7/'Page 277'!C6)","v":0.17896441688028816},{"$f":"LN('Page 277'!D7/'Page 277'!D6)","v":4.7288932505549441E-2},{"$f":"LN('Page 277'!E7/'Page 277'!E6)","v":0.11182257368591726},{"$f":"LN('Page 277'!F7/'Page 277'!F6)","v":7.888703899065469E-2},{"$f":"LN('Page 277'!G7/'Page 277'!G6)","v":5.4321447787470847E-2},{"$f":"LN('Page 277'!H7/'Page 277'!H6)","v":5.8557994194371764E-2},{"$f":"LN('Page 277'!I7/'Page 277'!I6)","v":0.11145658377136383},{"$f":"LN('Page 277'!J7/'Page 277'!J6)","v":9.6082480010043034E-2},{"$f":"LN('Page 277'!K7/'Page 277'!K6)","v":5.5813006133768522E-2},{"$f":"LN('Page 277'!L7/'Page 277'!L6)","v":0.19650186606800416},{"$f":"LN('Page 277'!M7/'Page 277'!M6)","v":0.20007536875904985},{"$f":"LN('Page 277'!N7/'Page 277'!N6)","v":0.12089502773851651},{"$f":"LN('Page 277'!O7/'Page 277'!O6)","v":0.2675119655026485},{"$f":"LN('Page 277'!P7/'Page 277'!P6)","v":6.853078206442742E-2},{"$f":"LN('Page 277'!Q7/'Page 277'!Q6)","v":0.2918189120825071},{"$f":"LN('Page 277'!R7/'Page 277'!R6)","v":8.9871415604602708E-3},{"$f":"LN('Page 277'!S7/'Page 277'!S6)","v":6.4639322508555266E-2},{"$f":"LN('Page 277'!T7/'Page 277'!T6)","v":-1.5627140171750719E-2},{"$f":"LN('Page 277'!U7/'Page 277'!U6)","v":3.9029343905735078E-2},{"$f":"LN('Page 277'!V7/'Page 277'!V6)","v":9.8314880494626E-2},{"$f":"LN('Page 277'!W7/'Page 277'!W6)","v":7.8858328439283774E-3},{"$f":"LN('Page 277'!X7/'Page 277'!X6)","v":5.9827362497400234E-2},{"$f":"LN('Page 277'!Y7/'Page 277'!Y6)","v":9.8934217212298003E-2},{"$f":"LN('Page 277'!Z7/'Page 277'!Z6)","v":3.5694814613013971E-2},{"$f":"LN('Page 277'!AA7/'Page 277'!AA6)","v":4.8548990076035255E-2},{"$f":"LN('Page 277'!AB7/'Page 277'!AB6)","v":-1.9353290061030263E-2},{"$f":"LN('Page 277'!AC7/'Page 277'!AC6)","v":0.11471288707917753},{"$f":"LN('Page 277'!AD7/'Page 277'!AD6)","v":-5.7939562167652871E-2},{"$f":"LN('Page 277'!AE7/'Page 277'!AE6)","v":7.0317751022094518E-2},{"$f":"LN('Page 277'!AF7/'Page 277'!AF6)","v":-4.7344401277808229E-2}]
["2001-12-03",{"$f":"LN('Page 277'!B8/'Page 277'!B7)","v":7.545292033896033E-3},{"$f":"LN('Page 277'!C8/'Page 277'!C7)","v":-8.2229955942229177E-2},{"$f":"LN('Page 277'!D8/'Page 277'!D7)","v":-3.6671197122498625E-2},{"$f":"LN('Page 277'!E8/'Page 277'!E7)","v":8.1045549141503123E-2},{"$f":"LN('Page 277'!F8/'Page 277'!F7)","v":9.9701610997635887E-2},{"$f":"LN('Page 277'!G8/'Page 277'!G7)","v":5.2487294046720416E-2},{"$f":"LN('Page 277'!H8/'Page 277'!H7)","v":9.6792445824790518E-2},{"$f":"LN('Page 277'!I8/'Page 277'!I7)","v":-4.2229684668085556E-2},{"$f":"LN('Page 277'!J8/'Page 277'!J7)","v":2.2895937839079176E-2},{"$f":"LN('Page 277'!K8/'Page 277'!K7)","v":4.4477277656629913E-2},{"$f":"LN('Page 277'!L8/'Page 277'!L7)","v":-2.2455651402987761E-2},{"$f":"LN('Page 277'!M8/'Page 277'!M7)","v":8.9446254543617196E-2},{"$f":"LN('Page 277'!N8/'Page 277'!N7)","v":2.0283322139941669E-2},{"$f":"LN('Page 277'!O8/'Page 277'!O7)","v":-6.4636325431257524E-2},{"$f":"LN('Page 277'!P8/'Page 277'!P7)","v":4.5416438707813464E-2},{"$f":"LN('Page 277'!Q8/'Page 277'!Q7)","v":-3.786247433876231E-2},{"$f":"LN('Page 277'!R8/'Page 277'!R7)","v":1.4434003369401132E-2},{"$f":"LN('Page 277'!S8/'Page 277'!S7)","v":-3.6961398564456335E-2},{"$f":"LN('Page 277'!T8/'Page 277'!T7)","v":4.2223848798482611E-3},{"$f":"LN('Page 277'!U8/'Page 277'!U7)","v":-1.4053634231395062E-2},{"$f":"LN('Page 277'!V8/'Page 277'!V7)","v":3.1229023846079226E-2},{"$f":"LN('Page 277'!W8/'Page 277'!W7)","v":-1.5834346666626219E-2},{"$f":"LN('Page 277'!X8/'Page 277'!X7)","v":-0.13630942941438459},{"$f":"LN('Page 277'!Y8/'Page 277'!Y7)","v":3.1379271202265246E-2},{"$f":"LN('Page 277'!Z8/'Page 277'!Z7)","v":-8.3225824899923431E-2},{"$f":"LN('Page 277'!AA8/'Page 277'!AA7)","v":2.1337137388131106E-2},{"$f":"LN('Page 277'!AB8/'Page 277'!AB7)","v":4.6734400886008887E-2},{"$f":"LN('Page 277'!AC8/'Page 277'!AC7)","v":7.0868710524937178E-2},{"$f":"LN('Page 277'!AD8/'Page 277'!AD7)","v":9.5917780098590637E-3},{"$f":"LN('Page 277'!AE8/'Page 277'!AE7)","v":4.3851258293732528E-2},{"$f":"LN('Page 277'!AF8/'Page 277'!AF7)","v":4.9328247755289843E-2}]
["2002-01-02",{"$f":"LN('Page 277'!B9/'Page 277'!B8)","v":-1.5696373666933345E-2},{"$f":"LN('Page 277'!C9/'Page 277'!C8)","v":8.3192591965755795E-3},{"$f":"LN('Page 277'!D9/'Page 277'!D8)","v":-6.8358274917308073E-2},{"$f":"LN('Page 277'!E9/'Page 277'!E8)","v":6.6600312776022262E-3},{"$f":"LN('Page 277'!F9/'Page 277'!F8)","v":5.4316907328075453E-2},{"$f":"LN('Page 277'!G9/'Page 277'!G8)","v":-5.9630181559100652E-2},{"$f":"LN('Page 277'!H9/'Page 277'!H8)","v":-3.0943594733412221E-2},{"$f":"LN('Page 277'!I9/'Page 277'!I8)","v":3.8296285077280327E-2},{"$f":"LN('Page 277'!J9/'Page 277'!J8)","v":1.646333018710169E-2},{"$f":"LN('Page 277'!K9/'Page 277'!K8)","v":-7.5771740215046443E-2},{"$f":"LN('Page 277'!L9/'Page 277'!L8)","v":5.0815761031806052E-2},{"$f":"LN('Page 277'!M9/'Page 277'!M8)","v":-1.8133610424654605E-2},{"$f":"LN('Page 277'!N9/'Page 277'!N8)","v":-6.2737534488792801E-3},{"$f":"LN('Page 277'!O9/'Page 277'!O8)","v":7.3884383555808855E-2},{"$f":"LN('Page 277'!P9/'Page 277'!P8)","v":-0.11433228046124953},{"$f":"LN('Page 277'!Q9/'Page 277'!Q8)","v":0.10806135060548314},{"$f":"LN('Page 277'!R9/'Page 277'!R8)","v":-2.7189756889673386E-2},{"$f":"LN('Page 277'!S9/'Page 277'!S8)","v":-6.5480288590633914E-2},{"$f":"LN('Page 277'!T9/'Page 277'!T8)","v":-7.4828485190152172E-2},{"$f":"LN('Page 277'!U9/'Page 277'!U8)","v":2.6338314183262136E-2},{"$f":"LN('Page 277'!V9/'Page 277'!V8)","v":-6.2872933633058056E-2},{"$f":"LN('Page 277'!W9/'Page 277'!W8)","v":8.8683982175134984E-2},{"$f":"LN('Page 277'!X9/'Page 277'!X8)","v":6.3384957619382039E-3},{"$f":"LN('Page 277'!Y9/'Page 277'!Y8)","v":-3.9290135903144265E-2},{"$f":"LN('Page 277'!Z9/'Page 277'!Z8)","v":4.4608973409030986E-2},{"$f":"LN('Page 277'!AA9/'Page 277'!AA8)","v":3.6546199657466596E-2},{"$f":"LN('Page 277'!AB9/'Page 277'!AB8)","v":-3.8346497320580909E-2},{"$f":"LN('Page 277'!AC9/'Page 277'!AC8)","v":6.1503365074926306E-2},{"$f":"LN('Page 277'!AD9/'Page 277'!AD8)","v":-1.5863029292099467E-2},{"$f":"LN('Page 277'!AE9/'Page 277'!AE8)","v":4.1314270146626794E-2},{"$f":"LN('Page 277'!AF9/'Page 277'!AF8)","v":-6.2482452639390828E-3}]
["2002-02-01",{"$f":"LN('Page 277'!B10/'Page 277'!B9)","v":-2.0984886675167722E-2},{"$f":"LN('Page 277'!C10/'Page 277'!C9)","v":5.1431364020888035E-2},{"$f":"LN('Page 277'!D10/'Page 277'!D9)","v":-1.7944652479050878E-3},{"$f":"LN('Page 277'!E10/'Page 277'!E9)","v":1.6784991730180783E-2},{"$f":"LN('Page 277'!F10/'Page 277'!F9)","v":0.11969034121265121},{"$f":"LN('Page 277'!G10/'Page 277'!G9)","v":-4.6373731257803565E-2},{"$f":"LN('Page 277'!H10/'Page 277'!H9)","v":9.8835564216469551E-2},{"$f":"LN('Page 277'!I10/'Page 277'!I9)","v":6.6572709312355663E-2},{"$f":"LN('Page 277'!J10/'Page 277'!J9)","v":8.8041688853115377E-2},{"$f":"LN('Page 277'!K10/'Page 277'!K9)","v":4.0349585041476566E-2},{"$f":"LN('Page 277'!L10/'Page 277'!L9)","v":4.5549580368746484E-2},{"$f":"LN('Page 277'!M10/'Page 277'!M9)","v":-1.8732443816804475E-3},{"$f":"LN('Page 277'!N10/'Page 277'!N9)","v":0.13141753363168499},{"$f":"LN('Page 277'!O10/'Page 277'!O9)","v":-9.4438466833245069E-2},{"$f":"LN('Page 277'!P10/'Page 277'!P9)","v":-9.3597801200443129E-2},{"$f":"LN('Page 277'!Q10/'Page 277'!Q9)","v":-0.20422941807914533},{"$f":"LN('Page 277'!R10/'Page 277'!R9)","v":6.0258087505275552E-2},{"$f":"LN('Page 277'!S10/'Page 277'!S9)","v":-0.15203120778614188},{"$f":"LN('Page 277'!T10/'Page 277'!T9)","v":7.9732172774681864E-2},{"$f":"LN('Page 277'!U10/'Page 277'!U9)","v":-4.0592271663461701E-2},{"$f":"LN('Page 277'!V10/'Page 277'!V9)","v":6.6016718006881941E-2},{"$f":"LN('Page 277'!W10/'Page 277'!W9)","v":4.9617249460301077E-2},{"$f":"LN('Page 277'!X10/'Page 277'!X9)","v":3.5788285136419642E-2},{"$f":"LN('Page 277'!Y10/'Page 277'!Y9)","v":-8.7865039582102275E-2},{"$f":"LN('Page 277'!Z10/'Page 277'!Z9)","v":-1.3930040413445774E-2},{"$f":"LN('Page 277'!AA10/'Page 277'!AA9)","v":3.7323648908988684E-2},{"$f":"LN('Page 277'!AB10/'Page 277'!AB9)","v":1.0304229446724666E-2},{"$f":"LN('Page 277'!AC10/'Page 277'!AC9)","v":6.3229888861985634E-2},{"$f":"LN('Page 277'!AD10/'Page 277'!AD9)","v":9.6518291994588824E-3},{"$f":"LN('Page 277'!AE10/'Page 277'!AE9)","v":3.3310791837118298E-2},{"$f":"LN('Page 277'!AF10/'Page 277'!AF9)","v":6.1864007641756563E-2}]
["2002-03-01",{"$f":"LN('Page 277'!B11/'Page 277'!B10)","v":3.6080076252758407E-2},{"$f":"LN('Page 277'!C11/'Page 277'!C10)","v":4.6525236584155066E-3},{"$f":"LN('Page 277'!D11/'Page 277'!D10)","v":-2.5183199888472337E-2},{"$f":"LN('Page 277'!E11/'Page 277'!E10)","v":0.11662193247804178},{"$f":"LN('Page 277'!F11/'Page 277'!F10)","v":4.8522103586135346E-2},{"$f":"LN('Page 277'!G11/'Page 277'!G10)","v":9.0201955226984876E-2},{"$f":"LN('Page 277'!H11/'Page 277'!H10)","v":2.3833908023618247E-2},{"$f":"LN('Page 277'!I11/'Page 277'!I10)","v":6.6152391187194043E-3},{"$f":"LN('Page 277'!J11/'Page 277'!J10)","v":3.6182762224996126E-3},{"$f":"LN('Page 277'!K11/'Page 277'!K10)","v":-2.8910568075509839E-2},{"$f":"LN('Page 277'!L11/'Page 277'!L10)","v":0.13197757299470086},{"$f":"LN('Page 277'!M11/'Page 277'!M10)","v":-2.7242736393874256E-2},{"$f":"LN('Page 277'!N11/'Page 277'!N10)","v":4.0579765831008459E-3},{"$f":"LN('Page 277'!O11/'Page 277'!O10)","v":-0.11081852635959275},{"$f":"LN('Page 277'!P11/'Page 277'!P10)","v":5.8221028970948878E-2},{"$f":"LN('Page 277'!Q11/'Page 277'!Q10)","v":6.2971389688850923E-2},{"$f":"LN('Page 277'!R11/'Page 277'!R10)","v":6.436075916039001E-2},{"$f":"LN('Page 277'!S11/'Page 277'!S10)","v":0.19786574412994123},{"$f":"LN('Page 277'!T11/'Page 277'!T10)","v":0.10200057969557871},{"$f":"LN('Page 277'!U11/'Page 277'!U10)","v":6.1637475497447559E-2},{"$f":"LN('Page 277'!V11/'Page 277'!V10)","v":-2.5242061885177698E-2},{"$f":"LN('Page 277'!W11/'Page 277'!W10)","v":1.1436865190946199E-2},{"$f":"LN('Page 277'!X11/'Page 277'!X10)","v":-5.7505127535623791E-2},{"$f":"LN('Page 277'!Y11/'Page 277'!Y10)","v":3.3336420267591711E-2},{"$f":"LN('Page 277'!Z11/'Page 277'!Z10)","v":-3.0400807559221411E-2},{"$f":"LN('Page 277'!AA11/'Page 277'!AA10)","v":6.0563914577078028E-2},{"$f":"LN('Page 277'!AB11/'Page 277'!AB10)","v":-1.0638398205055643E-2},{"$f":"LN('Page 277'!AC11/'Page 277'!AC10)","v":1.7149090522259349E-2},{"$f":"LN('Page 277'!AD11/'Page 277'!AD10)","v":-1.5171622423056794E-2},{"$f":"LN('Page 277'!AE11/'Page 277'!AE10)","v":-1.0301534991240572E-2},{"$f":"LN('Page 277'!AF11/'Page 277'!AF10)","v":5.9521269088767141E-2}]
["2002-04-01",{"$f":"LN('Page 277'!B12/'Page 277'!B11)","v":-6.3384682784413518E-2},{"$f":"LN('Page 277'!C12/'Page 277'!C11)","v":-0.10352485502932729},{"$f":"LN('Page 277'!D12/'Page 277'!D11)","v":-4.269514666027549E-2},{"$f":"LN('Page 277'!E12/'Page 277'!E11)","v":3.1897953681000808E-3},{"$f":"LN('Page 277'!F12/'Page 277'!F11)","v":-7.851721112632741E-2},{"$f":"LN('Page 277'!G12/'Page 277'!G11)","v":-0.13405661191564541},{"$f":"LN('Page 277'!H12/'Page 277'!H11)","v":-3.3768422473594267E-2},{"$f":"LN('Page 277'!I12/'Page 277'!I11)","v":-5.7805035265647606E-2},{"$f":"LN('Page 277'!J12/'Page 277'!J11)","v":4.0549728912370551E-3},{"$f":"LN('Page 277'!K12/'Page 277'!K11)","v":-0.17024274989813087},{"$f":"LN('Page 277'!L12/'Page 277'!L11)","v":5.9403672104483787E-2},{"$f":"LN('Page 277'!M12/'Page 277'!M11)","v":-4.7121678894988021E-2},{"$f":"LN('Page 277'!N12/'Page 277'!N11)","v":-4.2547037621728657E-2},{"$f":"LN('Page 277'!O12/'Page 277'!O11)","v":-4.8136005780311027E-2},{"$f":"LN('Page 277'!P12/'Page 277'!P11)","v":-0.2164329507618839},{"$f":"LN('Page 277'!Q12/'Page 277'!Q11)","v":-6.0795110266255288E-2},{"$f":"LN('Page 277'!R12/'Page 277'!R11)","v":-1.6807118316381289E-2},{"$f":"LN('Page 277'!S12/'Page 277'!S11)","v":-1.5479186848460088E-2},{"$f":"LN('Page 277'!T12/'Page 277'!T11)","v":6.0401874349266242E-2},{"$f":"LN('Page 277'!U12/'Page 277'!U11)","v":2.2875568599075361E-2},{"$f":"LN('Page 277'!V12/'Page 277'!V11)","v":8.9769043074332422E-2},{"$f":"LN('Page 277'!W12/'Page 277'!W11)","v":3.2858600979075607E-2},{"$f":"LN('Page 277'!X12/'Page 277'!X11)","v":-5.7817008524070991E-2},{"$f":"LN('Page 277'!Y12/'Page 277'!Y11)","v":-0.14321815601433052},{"$f":"LN('Page 277'!Z12/'Page 277'!Z11)","v":-8.8934551832093325E-2},{"$f":"LN('Page 277'!AA12/'Page 277'!AA11)","v":6.0525544896669753E-3},{"$f":"LN('Page 277'!AB12/'Page 277'!AB11)","v":-0.17965132823807586},{"$f":"LN('Page 277'!AC12/'Page 277'!AC11)","v":-5.6006339979803317E-2},{"$f":"LN('Page 277'!AD12/'Page 277'!AD11)","v":-0.1304485675204701},{"$f":"LN('Page 277'!AE12/'Page 277'!AE11)","v":-9.2970362870169576E-2},{"$f":"LN('Page 277'!AF12/'Page 277'!AF11)","v":-8.7217853469251205E-2}]
["2002-05-01",{"$f":"LN('Page 277'!B13/'Page 277'!B12)","v":-9.122942297125956E-3},{"$f":"LN('Page 277'!C13/'Page 277'!C12)","v":3.1979929622318874E-2},{"$f":"LN('Page 277'!D13/'Page 277'!D12)","v":-3.1543618535442949E-2},{"$f":"LN('Page 277'!E13/'Page 277'!E12)","v":3.5829820688122127E-2},{"$f":"LN('Page 277'!F13/'Page 277'!F12)","v":-4.0942833140425211E-2},{"$f":"LN('Page 277'!G13/'Page 277'!G12)","v":1.1201345332493495E-3},{"$f":"LN('Page 277'!H13/'Page 277'!H12)","v":-4.4088772984649124E-2},{"$f":"LN('Page 277'!I13/'Page 277'!I12)","v":4.1059999829931984E-2},{"$f":"LN('Page 277'!J13/'Page 277'!J12)","v":-1.1759520406906249E-2},{"$f":"LN('Page 277'!K13/'Page 277'!K12)","v":-1.2857319975237317E-2},{"$f":"LN('Page 277'!L13/'Page 277'!L12)","v":-2.4291106210459393E-2},{"$f":"LN('Page 277'!M13/'Page 277'!M12)","v":-0.10645826538135635},{"$f":"LN('Page 277'!N13/'Page 277'!N12)","v":7.1344465925884379E-2},{"$f":"LN('Page 277'!O13/'Page 277'!O12)","v":0.11040395588041478},{"$f":"LN('Page 277'!P13/'Page 277'!P12)","v":-3.8378858051192878E-2},{"$f":"LN('Page 277'!Q13/'Page 277'!Q12)","v":-3.4651457972541773E-2},{"$f":"LN('Page 277'!R13/'Page 277'!R12)","v":-3.6769482587011189E-2},{"$f":"LN('Page 277'!S13/'Page 277'!S12)","v":2.4082075655727977E-2},{"$f":"LN('Page 277'!T13/'Page 277'!T12)","v":7.9176567873402574E-4},{"$f":"LN('Page 277'!U13/'Page 277'!U12)","v":5.2856339064220076E-2},{"$f":"LN('Page 277'!V13/'Page 277'!V12)","v":1.9022919701089634E-3},{"$f":"LN('Page 277'!W13/'Page 277'!W12)","v":5.0513531487687044E-2},{"$f":"LN('Page 277'!X13/'Page 277'!X12)","v":4.9387260129633438E-2},{"$f":"LN('Page 277'!Y13/'Page 277'!Y12)","v":-2.6299710583961015E-2},{"$f":"LN('Page 277'!Z13/'Page 277'!Z12)","v":-4.6028024943851012E-2},{"$f":"LN('Page 277'!AA13/'Page 277'!AA12)","v":-7.7538551795234053E-3},{"$f":"LN('Page 277'!AB13/'Page 277'!AB12)","v":9.8939947854903648E-2},{"$f":"LN('Page 277'!AC13/'Page 277'!AC12)","v":-1.5047113320115641E-2},{"$f":"LN('Page 277'!AD13/'Page 277'!AD12)","v":6.9593291799195392E-2},{"$f":"LN('Page 277'!AE13/'Page 277'!AE12)","v":-3.198910026780194E-2},{"$f":"LN('Page 277'!AF13/'Page 277'!AF12)","v":-2.7536830684811583E-4}]
["2002-06-03",{"$f":"LN('Page 277'!B14/'Page 277'!B13)","v":-7.5214343275906148E-2},{"$f":"LN('Page 277'!C14/'Page 277'!C13)","v":-5.3772953432492283E-2},{"$f":"LN('Page 277'!D14/'Page 277'!D13)","v":1.9195027491194547E-2},{"$f":"LN('Page 277'!E14/'Page 277'!E13)","v":-0.15727473524384245},{"$f":"LN('Page 277'!F14/'Page 277'!F13)","v":5.3669622760008306E-2},{"$f":"LN('Page 277'!G14/'Page 277'!G13)","v":-0.10806965833025482},{"$f":"LN('Page 277'!H14/'Page 277'!H13)","v":-6.5540692592752997E-2},{"$f":"LN('Page 277'!I14/'Page 277'!I13)","v":-3.5641330914068861E-2},{"$f":"LN('Page 277'!J14/'Page 277'!J13)","v":-0.19256492420871571},{"$f":"LN('Page 277'!K14/'Page 277'!K13)","v":-6.3436803784259463E-2},{"$f":"LN('Page 277'!L14/'Page 277'!L13)","v":-0.15081827824135915},{"$f":"LN('Page 277'!M14/'Page 277'!M13)","v":-0.12536286334612179},{"$f":"LN('Page 277'!N14/'Page 277'!N13)","v":-0.10667297483188079},{"$f":"LN('Page 277'!O14/'Page 277'!O13)","v":-0.21840354522772715},{"$f":"LN('Page 277'!P14/'Page 277'!P13)","v":-0.1109531307938864},{"$f":"LN('Page 277'!Q14/'Page 277'!Q13)","v":-0.4129952641719174},{"$f":"LN('Page 277'!R14/'Page 277'!R13)","v":-0.16044204263381684},{"$f":"LN('Page 277'!S14/'Page 277'!S13)","v":-5.812932395766944E-2},{"$f":"LN('Page 277'!T14/'Page 277'!T13)","v":1.1606307131859832E-2},{"$f":"LN('Page 277'!U14/'Page 277'!U13)","v":-5.0973453928769133E-2},{"$f":"LN('Page 277'!V14/'Page 277'!V13)","v":-1.9540049471441244E-2},{"$f":"LN('Page 277'!W14/'Page 277'!W13)","v":-0.25818816652428989},{"$f":"LN('Page 277'!X14/'Page 277'!X13)","v":-0.11366735780091598},{"$f":"LN('Page 277'!Y14/'Page 277'!Y13)","v":7.18793970343755E-2},{"$f":"LN('Page 277'!Z14/'Page 277'!Z13)","v":1.1392528281094841E-2},{"$f":"LN('Page 277'!AA14/'Page 277'!AA13)","v":4.8532004988862043E-3},{"$f":"LN('Page 277'!AB14/'Page 277'!AB13)","v":-0.11710391848257479},{"$f":"LN('Page 277'!AC14/'Page 277'!AC13)","v":-1.4334929170992232E-2},{"$f":"LN('Page 277'!AD14/'Page 277'!AD13)","v":-6.8692796465945172E-2},{"$f":"LN('Page 277'!AE14/'Page 277'!AE13)","v":1.7918893474271808E-2},{"$f":"LN('Page 277'!AF14/'Page 277'!AF13)","v":2.4484356932286747E-2}]
["2002-07-01",{"$f":"LN('Page 277'!B15/'Page 277'!B14)","v":-8.2299871837899052E-2},{"$f":"LN('Page 277'!C15/'Page 277'!C14)","v":-0.19749695818804633},{"$f":"LN('Page 277'!D15/'Page 277'!D14)","v":-6.5257342301863905E-2},{"$f":"LN('Page 277'!E15/'Page 277'!E14)","v":-2.7507948197920899E-2},{"$f":"LN('Page 277'!F15/'Page 277'!F14)","v":-8.0718988156795304E-2},{"$f":"LN('Page 277'!G15/'Page 277'!G14)","v":-0.14432487806645969},{"$f":"LN('Page 277'!H15/'Page 277'!H14)","v":-8.2645616963003099E-2},{"$f":"LN('Page 277'!I15/'Page 277'!I14)","v":-5.7461205582103388E-2},{"$f":"LN('Page 277'!J15/'Page 277'!J14)","v":-6.3766618358989155E-2},{"$f":"LN('Page 277'!K15/'Page 277'!K14)","v":0.10290633849230048},{"$f":"LN('Page 277'!L15/'Page 277'!L14)","v":-0.13825282112290918},{"$f":"LN('Page 277'!M15/'Page 277'!M14)","v":-0.17353177741703407},{"$f":"LN('Page 277'!N15/'Page 277'!N14)","v":-8.5136962195279428E-2},{"$f":"LN('Page 277'!O15/'Page 277'!O14)","v":-7.6571687180657641E-2},{"$f":"LN('Page 277'!P15/'Page 277'!P14)","v":-2.2541491041347252E-2},{"$f":"LN('Page 277'!Q15/'Page 277'!Q14)","v":2.7950394108345294E-2},{"$f":"LN('Page 277'!R15/'Page 277'!R14)","v":6.5843859281792382E-3},{"$f":"LN('Page 277'!S15/'Page 277'!S14)","v":-0.30691996347822859},{"$f":"LN('Page 277'!T15/'Page 277'!T14)","v":-0.11446369257156745},{"$f":"LN('Page 277'!U15/'Page 277'!U14)","v":-0.13946100948092249},{"$f":"LN('Page 277'!V15/'Page 277'!V14)","v":2.2817327092116615E-2},{"$f":"LN('Page 277'!W15/'Page 277'!W14)","v":5.3027117760512429E-2},{"$f":"LN('Page 277'!X15/'Page 277'!X14)","v":-2.0639553296548048E-2},{"$f":"LN('Page 277'!Y15/'Page 277'!Y14)","v":-0.13143187474223988},{"$f":"LN('Page 277'!Z15/'Page 277'!Z14)","v":-7.8522990362838732E-2},{"$f":"LN('Page 277'!AA15/'Page 277'!AA14)","v":1.6930709087237886E-3},{"$f":"LN('Page 277'!AB15/'Page 277'!AB14)","v":-8.8975904930232483E-2},{"$f":"LN('Page 277'!AC15/'Page 277'!AC14)","v":2.3267685319325215E-2},{"$f":"LN('Page 277'!AD15/'Page 277'!AD14)","v":-0.18610909852081367},{"$f":"LN('Page 277'!AE15/'Page 277'!AE14)","v":-0.11203724675971019},{"$f":"LN('Page 277'!AF15/'Page 277'!AF14)","v":-0.10712384192652391}]
["2002-08-01",{"$f":"LN('Page 277'!B16/'Page 277'!B15)","v":4.8695443903156652E-3},{"$f":"LN('Page 277'!C16/'Page 277'!C15)","v":-7.5279762968983976E-2},{"$f":"LN('Page 277'!D16/'Page 277'!D15)","v":-1.757117827535767E-2},{"$f":"LN('Page 277'!E16/'Page 277'!E15)","v":2.2592323028594059E-2},{"$f":"LN('Page 277'!F16/'Page 277'!F15)","v":-0.10864232186784364},{"$f":"LN('Page 277'!G16/'Page 277'!G15)","v":5.1257270683949648E-2},{"$f":"LN('Page 277'!H16/'Page 277'!H15)","v":-2.4003111725371958E-2},{"$f":"LN('Page 277'!I16/'Page 277'!I15)","v":-3.0720556129501569E-2},{"$f":"LN('Page 277'!J16/'Page 277'!J15)","v":-0.12242341521288569},{"$f":"LN('Page 277'!K16/'Page 277'!K15)","v":-6.5690993317682592E-2},{"$f":"LN('Page 277'!L16/'Page 277'!L15)","v":3.9200346761899596E-2},{"$f":"LN('Page 277'!M16/'Page 277'!M15)","v":6.4517484228313049E-2},{"$f":"LN('Page 277'!N16/'Page 277'!N15)","v":-7.1622913914725195E-2},{"$f":"LN('Page 277'!O16/'Page 277'!O15)","v":-5.2400276393531675E-2},{"$f":"LN('Page 277'!P16/'Page 277'!P15)","v":7.0550710227707661E-2},{"$f":"LN('Page 277'!Q16/'Page 277'!Q15)","v":-0.11867924749810754},{"$f":"LN('Page 277'!R16/'Page 277'!R15)","v":3.5656914690746486E-2},{"$f":"LN('Page 277'!S16/'Page 277'!S15)","v":5.5989744211750223E-2},{"$f":"LN('Page 277'!T16/'Page 277'!T15)","v":2.1048840473945431E-2},{"$f":"LN('Page 277'!U16/'Page 277'!U15)","v":-4.0605754925943018E-2},{"$f":"LN('Page 277'!V16/'Page 277'!V15)","v":-2.2411870427542419E-3},{"$f":"LN('Page 277'!W16/'Page 277'!W15)","v":8.2160633720963452E-2},{"$f":"LN('Page 277'!X16/'Page 277'!X15)","v":1.8448438603733165E-2},{"$f":"LN('Page 277'!Y16/'Page 277'!Y15)","v":2.2749796300981041E-2},{"$f":"LN('Page 277'!Z16/'Page 277'!Z15)","v":2.6202372394024117E-2},{"$f":"LN('Page 277'!AA16/'Page 277'!AA15)","v":-3.8740968550840995E-3},{"$f":"LN('Page 277'!AB16/'Page 277'!AB15)","v":-0.11201165448676881},{"$f":"LN('Page 277'!AC16/'Page 277'!AC15)","v":-0.15312902056389266},{"$f":"LN('Page 277'!AD16/'Page 277'!AD15)","v":-6.2636945145435732E-2},{"$f":"LN('Page 277'!AE16/'Page 277'!AE15)","v":8.3871767743412165E-2},{"$f":"LN('Page 277'!AF16/'Page 277'!AF15)","v":-2.9753257281908193E-2}]
["2002-09-03",{"$f":"LN('Page 277'!B17/'Page 277'!B16)","v":-0.11656116844786664},{"$f":"LN('Page 277'!C17/'Page 277'!C16)","v":-0.26223468323067284},{"$f":"LN('Page 277'!D17/'Page 277'!D16)","v":-0.13732549188862203},{"$f":"LN('Page 277'!E17/'Page 277'!E16)","v":-0.1454284265363687},{"$f":"LN('Page 277'!F17/'Page 277'!F16)","v":-8.261714518565047E-2},{"$f":"LN('Page 277'!G17/'Page 277'!G16)","v":-9.9597248018244988E-2},{"$f":"LN('Page 277'!H17/'Page 277'!H16)","v":-0.15928696814671314},{"$f":"LN('Page 277'!I17/'Page 277'!I16)","v":-0.11106032126150675},{"$f":"LN('Page 277'!J17/'Page 277'!J16)","v":-3.5162513612693271E-2},{"$f":"LN('Page 277'!K17/'Page 277'!K16)","v":-0.19449871944121414},{"$f":"LN('Page 277'!L17/'Page 277'!L16)","v":-0.20716947675957453},{"$f":"LN('Page 277'!M17/'Page 277'!M16)","v":-0.23114327715708133},{"$f":"LN('Page 277'!N17/'Page 277'!N16)","v":-0.32367950510123739},{"$f":"LN('Page 277'!O17/'Page 277'!O16)","v":-0.13443596075494954},{"$f":"LN('Page 277'!P17/'Page 277'!P16)","v":-0.25673321878146271},{"$f":"LN('Page 277'!Q17/'Page 277'!Q16)","v":-0.18269406564534726},{"$f":"LN('Page 277'!R17/'Page 277'!R16)","v":-4.1646069116321278E-3},{"$f":"LN('Page 277'!S17/'Page 277'!S16)","v":-0.32915250533907781},{"$f":"LN('Page 277'!T17/'Page 277'!T16)","v":-5.7448973801567112E-2},{"$f":"LN('Page 277'!U17/'Page 277'!U16)","v":-0.29673190797169874},{"$f":"LN('Page 277'!V17/'Page 277'!V16)","v":-0.12777845727413992},{"$f":"LN('Page 277'!W17/'Page 277'!W16)","v":-0.24010943692820372},{"$f":"LN('Page 277'!X17/'Page 277'!X16)","v":-9.2632802033608533E-2},{"$f":"LN('Page 277'!Y17/'Page 277'!Y16)","v":-0.11509218875636305},{"$f":"LN('Page 277'!Z17/'Page 277'!Z16)","v":-0.13088238445294573},{"$f":"LN('Page 277'!AA17/'Page 277'!AA16)","v":8.2145907687138243E-3},{"$f":"LN('Page 277'!AB17/'Page 277'!AB16)","v":-0.20733294528756743},{"$f":"LN('Page 277'!AC17/'Page 277'!AC16)","v":-5.0202884247737375E-2},{"$f":"LN('Page 277'!AD17/'Page 277'!AD16)","v":-0.12178294460612428},{"$f":"LN('Page 277'!AE17/'Page 277'!AE16)","v":-8.1128281797661156E-2},{"$f":"LN('Page 277'!AF17/'Page 277'!AF16)","v":-0.10553173387586309}]
["2002-10-01",{"$f":"LN('Page 277'!B18/'Page 277'!B17)","v":8.2914421028757151E-2},{"$f":"LN('Page 277'!C18/'Page 277'!C17)","v":0.13332081458703388},{"$f":"LN('Page 277'!D18/'Page 277'!D17)","v":0.1340676294208841},{"$f":"LN('Page 277'!E18/'Page 277'!E17)","v":0.15621108287683391},{"$f":"LN('Page 277'!F18/'Page 277'!F17)","v":-0.13743143118889126},{"$f":"LN('Page 277'!G18/'Page 277'!G17)","v":0.22518305800749616},{"$f":"LN('Page 277'!H18/'Page 277'!H17)","v":0.10215771775330279},{"$f":"LN('Page 277'!I18/'Page 277'!I17)","v":0.13412010121115972},{"$f":"LN('Page 277'!J18/'Page 277'!J17)","v":9.7622464058021677E-2},{"$f":"LN('Page 277'!K18/'Page 277'!K17)","v":2.391610889577276E-2},{"$f":"LN('Page 277'!L18/'Page 277'!L17)","v":-0.15702567200644355},{"$f":"LN('Page 277'!M18/'Page 277'!M17)","v":0.10125667899205118},{"$f":"LN('Page 277'!N18/'Page 277'!N17)","v":9.9987156553826395E-2},{"$f":"LN('Page 277'!O18/'Page 277'!O17)","v":0.3029495445825694},{"$f":"LN('Page 277'!P18/'Page 277'!P17)","v":0.30293545067486211},{"$f":"LN('Page 277'!Q18/'Page 277'!Q17)","v":0.2198594761130197},{"$f":"LN('Page 277'!R18/'Page 277'!R17)","v":8.2729568107736864E-2},{"$f":"LN('Page 277'!S18/'Page 277'!S17)","v":8.8461776103578138E-2},{"$f":"LN('Page 277'!T18/'Page 277'!T17)","v":-3.1418615680898078E-2},{"$f":"LN('Page 277'!U18/'Page 277'!U17)","v":2.5135973271542454E-2},{"$f":"LN('Page 277'!V18/'Page 277'!V17)","v":0.14353220773826222},{"$f":"LN('Page 277'!W18/'Page 277'!W17)","v":4.8924461459066891E-2},{"$f":"LN('Page 277'!X18/'Page 277'!X17)","v":0.17111821308396172},{"$f":"LN('Page 277'!Y18/'Page 277'!Y17)","v":0.20081407491612102},{"$f":"LN('Page 277'!Z18/'Page 277'!Z17)","v":9.0626653094449311E-2},{"$f":"LN('Page 277'!AA18/'Page 277'!AA17)","v":-6.033564822353424E-3},{"$f":"LN('Page 277'!AB18/'Page 277'!AB17)","v":0.25688169094605989},{"$f":"LN('Page 277'!AC18/'Page 277'!AC17)","v":8.7731398308322481E-2},{"$f":"LN('Page 277'!AD18/'Page 277'!AD17)","v":0.33105621815288383},{"$f":"LN('Page 277'!AE18/'Page 277'!AE17)","v":8.3845147431580211E-2},{"$f":"LN('Page 277'!AF18/'Page 277'!AF17)","v":5.3670603334340393E-2}]
["2002-11-01",{"$f":"LN('Page 277'!B19/'Page 277'!B18)","v":5.550058467611222E-2},{"$f":"LN('Page 277'!C19/'Page 277'!C18)","v":0.15323766224092053},{"$f":"LN('Page 277'!D19/'Page 277'!D18)","v":4.076325564391297E-2},{"$f":"LN('Page 277'!E19/'Page 277'!E18)","v":6.8147535415543706E-2},{"$f":"LN('Page 277'!F19/'Page 277'!F18)","v":0.14055838808326743},{"$f":"LN('Page 277'!G19/'Page 277'!G18)","v":5.0900823780070249E-2},{"$f":"LN('Page 277'!H19/'Page 277'!H18)","v":0.20052752129052717},{"$f":"LN('Page 277'!I19/'Page 277'!I18)","v":8.6759582955818135E-2},{"$f":"LN('Page 277'!J19/'Page 277'!J18)","v":0.1716531154770311},{"$f":"LN('Page 277'!K19/'Page 277'!K18)","v":7.1760736900315869E-2},{"$f":"LN('Page 277'!L19/'Page 277'!L18)","v":0.19180375767263116},{"$f":"LN('Page 277'!M19/'Page 277'!M18)","v":-8.97918370658779E-2},{"$f":"LN('Page 277'!N19/'Page 277'!N18)","v":9.0892217381434673E-2},{"$f":"LN('Page 277'!O19/'Page 277'!O18)","v":0.20968439794020491},{"$f":"LN('Page 277'!P19/'Page 277'!P18)","v":9.8149656349915612E-2},{"$f":"LN('Page 277'!Q19/'Page 277'!Q18)","v":0.18907699675060363},{"$f":"LN('Page 277'!R19/'Page 277'!R18)","v":-2.6510033315255976E-2},{"$f":"LN('Page 277'!S19/'Page 277'!S18)","v":0.19334722773861415},{"$f":"LN('Page 277'!T19/'Page 277'!T18)","v":-1.3943272094966194E-2},{"$f":"LN('Page 277'!U19/'Page 277'!U18)","v":3.48467313301681E-2},{"$f":"LN('Page 277'!V19/'Page 277'!V18)","v":2.748162223146906E-2},{"$f":"LN('Page 277'!W19/'Page 277'!W18)","v":-7.7211744000826268E-2},{"$f":"LN('Page 277'!X19/'Page 277'!X18)","v":9.1040353552916189E-2},{"$f":"LN('Page 277'!Y19/'Page 277'!Y18)","v":7.5765583731354544E-2},{"$f":"LN('Page 277'!Z19/'Page 277'!Z18)","v":-3.8042584355342203E-3},{"$f":"LN('Page 277'!AA19/'Page 277'!AA18)","v":-4.5310386843392496E-2},{"$f":"LN('Page 277'!AB19/'Page 277'!AB18)","v":0.10517092422679099},{"$f":"LN('Page 277'!AC19/'Page 277'!AC18)","v":1.7065260554186931E-2},{"$f":"LN('Page 277'!AD19/'Page 277'!AD18)","v":0.10367370052634674},{"$f":"LN('Page 277'!AE19/'Page 277'!AE18)","v":6.5675337470852153E-3},{"$f":"LN('Page 277'!AF19/'Page 277'!AF18)","v":3.9769834572830502E-2}]
["2002-12-02",{"$f":"LN('Page 277'!B20/'Page 277'!B19)","v":-6.2229277129875436E-2},{"$f":"LN('Page 277'!C20/'Page 277'!C19)","v":-0.11467866863723777},{"$f":"LN('Page 277'!D20/'Page 277'!D19)","v":-0.11807678180307767},{"$f":"LN('Page 277'!E20/'Page 277'!E19)","v":-9.4157232075042577E-2},{"$f":"LN('Page 277'!F20/'Page 277'!F19)","v":-3.1718485160777944E-2},{"$f":"LN('Page 277'!G20/'Page 277'!G19)","v":-9.976645110465264E-2},{"$f":"LN('Page 277'!H20/'Page 277'!H19)","v":-8.7480090379978032E-2},{"$f":"LN('Page 277'!I20/'Page 277'!I19)","v":-5.0882505202755855E-2},{"$f":"LN('Page 277'!J20/'Page 277'!J19)","v":-0.18295267073096441},{"$f":"LN('Page 277'!K20/'Page 277'!K19)","v":-0.10016921633419347},{"$f":"LN('Page 277'!L20/'Page 277'!L19)","v":-7.4061437799726737E-2},{"$f":"LN('Page 277'!M20/'Page 277'!M19)","v":-9.2170459799657226E-2},{"$f":"LN('Page 277'!N20/'Page 277'!N19)","v":-8.0425682697801315E-2},{"$f":"LN('Page 277'!O20/'Page 277'!O19)","v":-0.11109811255449942},{"$f":"LN('Page 277'!P20/'Page 277'!P19)","v":-0.11477711781040728},{"$f":"LN('Page 277'!Q20/'Page 277'!Q19)","v":-0.29364038203541154},{"$f":"LN('Page 277'!R20/'Page 277'!R19)","v":-5.9803054454518605E-2},{"$f":"LN('Page 277'!S20/'Page 277'!S19)","v":-4.7793832399136003E-2},{"$f":"LN('Page 277'!T20/'Page 277'!T19)","v":-4.00587605520051E-2},{"$f":"LN('Page 277'!U20/'Page 277'!U19)","v":-0.14007591860117491},{"$f":"LN('Page 277'!V20/'Page 277'!V19)","v":-5.1728360742031007E-2},{"$f":"LN('Page 277'!W20/'Page 277'!W19)","v":8.7602218956596464E-2},{"$f":"LN('Page 277'!X20/'Page 277'!X19)","v":-4.2014160672714566E-2},{"$f":"LN('Page 277'!Y20/'Page 277'!Y19)","v":-0.10944469073922956},{"$f":"LN('Page 277'!Z20/'Page 277'!Z19)","v":-3.0966584108389622E-2},{"$f":"LN('Page 277'!AA20/'Page 277'!AA19)","v":1.6579128802911264E-2},{"$f":"LN('Page 277'!AB20/'Page 277'!AB19)","v":-4.9857286242738795E-2},{"$f":"LN('Page 277'!AC20/'Page 277'!AC19)","v":-8.8375830124651066E-3},{"$f":"LN('Page 277'!AD20/'Page 277'!AD19)","v":-7.7794252538525996E-2},{"$f":"LN('Page 277'!AE20/'Page 277'!AE19)","v":-6.3589158037542184E-2},{"$f":"LN('Page 277'!AF20/'Page 277'!AF19)","v":4.0466981293098385E-3}]
["2003-01-02",{"$f":"LN('Page 277'!B21/'Page 277'!B20)","v":-2.7797493671422965E-2},{"$f":"LN('Page 277'!C21/'Page 277'!C20)","v":-0.14146552029994253},{"$f":"LN('Page 277'!D21/'Page 277'!D20)","v":-6.6691374498672157E-2},{"$f":"LN('Page 277'!E21/'Page 277'!E20)","v":4.9908604677582208E-3},{"$f":"LN('Page 277'!F21/'Page 277'!F20)","v":-4.3470788985772571E-2},{"$f":"LN('Page 277'!G21/'Page 277'!G20)","v":-1.8554595002110815E-2},{"$f":"LN('Page 277'!H21/'Page 277'!H20)","v":-3.1431158789582109E-2},{"$f":"LN('Page 277'!I21/'Page 277'!I20)","v":-0.11292601069443486},{"$f":"LN('Page 277'!J21/'Page 277'!J20)","v":7.0674957669936367E-2},{"$f":"LN('Page 277'!K21/'Page 277'!K20)","v":-5.1269597424315243E-2},{"$f":"LN('Page 277'!L21/'Page 277'!L20)","v":-1.443594623294148E-2},{"$f":"LN('Page 277'!M21/'Page 277'!M20)","v":-0.1389648463475181},{"$f":"LN('Page 277'!N21/'Page 277'!N20)","v":1.7945748539198343E-2},{"$f":"LN('Page 277'!O21/'Page 277'!O20)","v":3.0238910250769192E-3},{"$f":"LN('Page 277'!P21/'Page 277'!P20)","v":9.0078765138604609E-3},{"$f":"LN('Page 277'!Q21/'Page 277'!Q20)","v":5.9583095836306249E-3},{"$f":"LN('Page 277'!R21/'Page 277'!R20)","v":-1.7965869689177784E-3},{"$f":"LN('Page 277'!S21/'Page 277'!S20)","v":-2.7953627346028617E-2},{"$f":"LN('Page 277'!T21/'Page 277'!T20)","v":-8.0166569691407036E-2},{"$f":"LN('Page 277'!U21/'Page 277'!U20)","v":-0.12131849668740595},{"$f":"LN('Page 277'!V21/'Page 277'!V20)","v":1.0045113907752113E-2},{"$f":"LN('Page 277'!W21/'Page 277'!W20)","v":-6.7812233805536068E-2},{"$f":"LN('Page 277'!X21/'Page 277'!X20)","v":-2.1907393864309101E-2},{"$f":"LN('Page 277'!Y21/'Page 277'!Y20)","v":-8.53950844121283E-2},{"$f":"LN('Page 277'!Z21/'Page 277'!Z20)","v":-1.7885892802497201E-3},{"$f":"LN('Page 277'!AA21/'Page 277'!AA20)","v":4.9813201528147724E-4},{"$f":"LN('Page 277'!AB21/'Page 277'!AB20)","v":-9.4951499743090681E-2},{"$f":"LN('Page 277'!AC21/'Page 277'!AC20)","v":2.6281836160795637E-2},{"$f":"LN('Page 277'!AD21/'Page 277'!AD20)","v":-3.3511074772559768E-3},{"$f":"LN('Page 277'!AE21/'Page 277'!AE20)","v":-5.5036550627331024E-2},{"$f":"LN('Page 277'!AF21/'Page 277'!AF20)","v":-2.2938947680584975E-2}]
["2003-02-03",{"$f":"LN('Page 277'!B22/'Page 277'!B21)","v":-1.7149844258839787E-2},{"$f":"LN('Page 277'!C22/'Page 277'!C21)","v":4.3693684262947743E-2},{"$f":"LN('Page 277'!D22/'Page 277'!D21)","v":-9.3559310982810992E-2},{"$f":"LN('Page 277'!E22/'Page 277'!E21)","v":-5.6319266598434774E-2},{"$f":"LN('Page 277'!F22/'Page 277'!F21)","v":-0.13108211777781725},{"$f":"LN('Page 277'!G22/'Page 277'!G21)","v":-2.9823609660282947E-2},{"$f":"LN('Page 277'!H22/'Page 277'!H21)","v":6.6441643738348766E-2},{"$f":"LN('Page 277'!I22/'Page 277'!I21)","v":-2.2803268297453029E-2},{"$f":"LN('Page 277'!J22/'Page 277'!J21)","v":-2.5619512617744512E-2},{"$f":"LN('Page 277'!K22/'Page 277'!K21)","v":4.6756954387334002E-2},{"$f":"LN('Page 277'!L22/'Page 277'!L21)","v":-5.9221112814114754E-2},{"$f":"LN('Page 277'!M22/'Page 277'!M21)","v":0.11497241960429672},{"$f":"LN('Page 277'!N22/'Page 277'!N21)","v":-5.7184569597486232E-2},{"$f":"LN('Page 277'!O22/'Page 277'!O21)","v":-9.3620786377303575E-2},{"$f":"LN('Page 277'!P22/'Page 277'!P21)","v":-1.1875702391953846E-3},{"$f":"LN('Page 277'!Q22/'Page 277'!Q21)","v":9.8006810651924278E-2},{"$f":"LN('Page 277'!R22/'Page 277'!R21)","v":-1.7738824337381519E-2},{"$f":"LN('Page 277'!S22/'Page 277'!S21)","v":-2.8757559295052533E-2},{"$f":"LN('Page 277'!T22/'Page 277'!T21)","v":-6.1919702479209951E-3},{"$f":"LN('Page 277'!U22/'Page 277'!U21)","v":-4.5496853268568518E-2},{"$f":"LN('Page 277'!V22/'Page 277'!V21)","v":1.1820266103743152E-2},{"$f":"LN('Page 277'!W22/'Page 277'!W21)","v":2.0335441870730667E-2},{"$f":"LN('Page 277'!X22/'Page 277'!X21)","v":-4.8757269973609955E-2},{"$f":"LN('Page 277'!Y22/'Page 277'!Y21)","v":1.9361090268664007E-3},{"$f":"LN('Page 277'!Z22/'Page 277'!Z21)","v":-1.8064075007573496E-2},{"$f":"LN('Page 277'!AA22/'Page 277'!AA21)","v":-4.429331804306301E-2},{"$f":"LN('Page 277'!AB22/'Page 277'!AB21)","v":-0.1612434930677005},{"$f":"LN('Page 277'!AC22/'Page 277'!AC21)","v":-7.8132328754564259E-2},{"$f":"LN('Page 277'!AD22/'Page 277'!AD21)","v":-0.10173910138070855},{"$f":"LN('Page 277'!AE22/'Page 277'!AE21)","v":5.4048342576563692E-3},{"$f":"LN('Page 277'!AF22/'Page 277'!AF21)","v":2.8566913570903974E-3}]
["2003-03-03",{"$f":"LN('Page 277'!B23/'Page 277'!B22)","v":8.3228742528296627E-3},{"$f":"LN('Page 277'!C23/'Page 277'!C22)","v":-5.5748624768301544E-2},{"$f":"LN('Page 277'!D23/'Page 277'!D22)","v":4.3357144414625601E-3},{"$f":"LN('Page 277'!E23/'Page 277'!E22)","v":-1.0589580073240927E-2},{"$f":"LN('Page 277'!F23/'Page 277'!F22)","v":-9.4926523555613498E-2},{"$f":"LN('Page 277'!G23/'Page 277'!G22)","v":3.2725433395712572E-2},{"$f":"LN('Page 277'!H23/'Page 277'!H22)","v":4.5573026372150868E-2},{"$f":"LN('Page 277'!I23/'Page 277'!I22)","v":5.8068470022885253E-2},{"$f":"LN('Page 277'!J23/'Page 277'!J22)","v":-2.4169196055386566E-3},{"$f":"LN('Page 277'!K23/'Page 277'!K22)","v":5.8413969839456993E-2},{"$f":"LN('Page 277'!L23/'Page 277'!L22)","v":-4.5686250612152913E-3},{"$f":"LN('Page 277'!M23/'Page 277'!M22)","v":4.0663041490540751E-2},{"$f":"LN('Page 277'!N23/'Page 277'!N22)","v":-6.9194667471896065E-2},{"$f":"LN('Page 277'!O23/'Page 277'!O22)","v":-1.4023602107746367E-2},{"$f":"LN('Page 277'!P23/'Page 277'!P22)","v":6.0550402189520243E-3},{"$f":"LN('Page 277'!Q23/'Page 277'!Q22)","v":-5.7897941632355364E-2},{"$f":"LN('Page 277'!R23/'Page 277'!R22)","v":9.8319310996720991E-2},{"$f":"LN('Page 277'!S23/'Page 277'!S22)","v":4.4757900641493625E-2},{"$f":"LN('Page 277'!T23/'Page 277'!T22)","v":1.2345835822299362E-2},{"$f":"LN('Page 277'!U23/'Page 277'!U22)","v":6.0944015882983212E-2},{"$f":"LN('Page 277'!V23/'Page 277'!V22)","v":3.6616980542133158E-2},{"$f":"LN('Page 277'!W23/'Page 277'!W22)","v":-0.23686375406622115},{"$f":"LN('Page 277'!X23/'Page 277'!X22)","v":4.4802090130681892E-2},{"$f":"LN('Page 277'!Y23/'Page 277'!Y22)","v":2.1053409197832482E-2},{"$f":"LN('Page 277'!Z23/'Page 277'!Z22)","v":4.386511745051392E-2},{"$f":"LN('Page 277'!AA23/'Page 277'!AA22)","v":8.4078919119413342E-2},{"$f":"LN('Page 277'!AB23/'Page 277'!AB22)","v":-3.5981469228829284E-2},{"$f":"LN('Page 277'!AC23/'Page 277'!AC22)","v":-1.3758363296361585E-2},{"$f":"LN('Page 277'!AD23/'Page 277'!AD22)","v":2.205234703019511E-2},{"$f":"LN('Page 277'!AE23/'Page 277'!AE22)","v":8.1136745278307804E-2},{"$f":"LN('Page 277'!AF23/'Page 277'!AF22)","v":2.7201927320307937E-2}]
["2003-04-01",{"$f":"LN('Page 277'!B24/'Page 277'!B23)","v":7.7927350029476733E-2},{"$f":"LN('Page 277'!C24/'Page 277'!C23)","v":0.17457387000312879},{"$f":"LN('Page 277'!D24/'Page 277'!D23)","v":0.15855558519653012},{"$f":"LN('Page 277'!E24/'Page 277'!E23)","v":0.13273263509370303},{"$f":"LN('Page 277'!F24/'Page 277'!F23)","v":8.489944378648627E-2},{"$f":"LN('Page 277'!G24/'Page 277'!G23)","v":0.13050847663683099},{"$f":"LN('Page 277'!H24/'Page 277'!H23)","v":7.3366224066801822E-2},{"$f":"LN('Page 277'!I24/'Page 277'!I23)","v":9.0299207840725426E-2},{"$f":"LN('Page 277'!J24/'Page 277'!J23)","v":9.2391112933826666E-2},{"$f":"LN('Page 277'!K24/'Page 277'!K23)","v":0.14398213891739789},{"$f":"LN('Page 277'!L24/'Page 277'!L23)","v":7.0049023671026195E-2},{"$f":"LN('Page 277'!M24/'Page 277'!M23)","v":0.14386358786172787},{"$f":"LN('Page 277'!N24/'Page 277'!N23)","v":9.9795107920613191E-2},{"$f":"LN('Page 277'!O24/'Page 277'!O23)","v":4.6642279970538637E-2},{"$f":"LN('Page 277'!P24/'Page 277'!P23)","v":7.9315611180039547E-2},{"$f":"LN('Page 277'!Q24/'Page 277'!Q23)","v":0.12221202106771634},{"$f":"LN('Page 277'!R24/'Page 277'!R23)","v":-2.6523781244344454E-2},{"$f":"LN('Page 277'!S24/'Page 277'!S23)","v":0.22746321245872628},{"$f":"LN('Page 277'!T24/'Page 277'!T23)","v":-1.868909901877089E-3},{"$f":"LN('Page 277'!U24/'Page 277'!U23)","v":0.16761540940425926},{"$f":"LN('Page 277'!V24/'Page 277'!V23)","v":-3.1182184556176201E-2},{"$f":"LN('Page 277'!W24/'Page 277'!W23)","v":2.6337695885035418E-2},{"$f":"LN('Page 277'!X24/'Page 277'!X23)","v":6.0028697403467925E-2},{"$f":"LN('Page 277'!Y24/'Page 277'!Y23)","v":5.4814549606380256E-2},{"$f":"LN('Page 277'!Z24/'Page 277'!Z23)","v":-1.2994037086550041E-2},{"$f":"LN('Page 277'!AA24/'Page 277'!AA23)","v":1.3547444273381792E-2},{"$f":"LN('Page 277'!AB24/'Page 277'!AB23)","v":0.16719267519765466},{"$f":"LN('Page 277'!AC24/'Page 277'!AC23)","v":6.7655241324593704E-2},{"$f":"LN('Page 277'!AD24/'Page 277'!AD23)","v":6.6787312586699746E-2},{"$f":"LN('Page 277'!AE24/'Page 277'!AE23)","v":7.9094100677571888E-2},{"$f":"LN('Page 277'!AF24/'Page 277'!AF23)","v":7.0693394149099822E-3}]
["2003-05-01",{"$f":"LN('Page 277'!B25/'Page 277'!B24)","v":4.9645665489287727E-2},{"$f":"LN('Page 277'!C25/'Page 277'!C24)","v":7.0596523221486157E-2},{"$f":"LN('Page 277'!D25/'Page 277'!D24)","v":-1.2314189259499126E-3},{"$f":"LN('Page 277'!E25/'Page 277'!E24)","v":9.5649124559575222E-2},{"$f":"LN('Page 277'!F25/'Page 277'!F24)","v":0.1227662919520584},{"$f":"LN('Page 277'!G25/'Page 277'!G24)","v":4.9072689951788817E-2},{"$f":"LN('Page 277'!H25/'Page 277'!H24)","v":-8.4763373297132502E-3},{"$f":"LN('Page 277'!I25/'Page 277'!I24)","v":-1.047120514525356E-3},{"$f":"LN('Page 277'!J25/'Page 277'!J24)","v":5.1596612970896613E-2},{"$f":"LN('Page 277'!K25/'Page 277'!K24)","v":-2.5819956337041317E-2},{"$f":"LN('Page 277'!L25/'Page 277'!L24)","v":-6.2592857956961399E-3},{"$f":"LN('Page 277'!M25/'Page 277'!M24)","v":0.14434822979500392},{"$f":"LN('Page 277'!N25/'Page 277'!N24)","v":0.11177823414162132},{"$f":"LN('Page 277'!O25/'Page 277'!O24)","v":0.17932176881484305},{"$f":"LN('Page 277'!P25/'Page 277'!P24)","v":3.817575173109395E-2},{"$f":"LN('Page 277'!Q25/'Page 277'!Q24)","v":0.12486601028208288},{"$f":"LN('Page 277'!R25/'Page 277'!R24)","v":-3.1925788359223974E-2},{"$f":"LN('Page 277'!S25/'Page 277'!S24)","v":0.11291809199390565},{"$f":"LN('Page 277'!T25/'Page 277'!T24)","v":0.12045183894846385},{"$f":"LN('Page 277'!U25/'Page 277'!U24)","v":9.0810734643094984E-2},{"$f":"LN('Page 277'!V25/'Page 277'!V24)","v":8.6011155090919712E-3},{"$f":"LN('Page 277'!W25/'Page 277'!W24)","v":0.29453924217791788},{"$f":"LN('Page 277'!X25/'Page 277'!X24)","v":-4.5602217693244643E-2},{"$f":"LN('Page 277'!Y25/'Page 277'!Y24)","v":-3.8378396553751505E-2},{"$f":"LN('Page 277'!Z25/'Page 277'!Z24)","v":1.2994037086550106E-2},{"$f":"LN('Page 277'!AA25/'Page 277'!AA24)","v":2.1717140720683405E-2},{"$f":"LN('Page 277'!AB25/'Page 277'!AB24)","v":8.6121753749918539E-2},{"$f":"LN('Page 277'!AC25/'Page 277'!AC24)","v":0.1031775555167863},{"$f":"LN('Page 277'!AD25/'Page 277'!AD24)","v":1.2594238037958991E-2},{"$f":"LN('Page 277'!AE25/'Page 277'!AE24)","v":-6.8022417789291759E-2},{"$f":"LN('Page 277'!AF25/'Page 277'!AF24)","v":4.0515668893721414E-2}]
["2003-06-02",{"$f":"LN('Page 277'!B26/'Page 277'!B25)","v":1.125862601085219E-2},{"$f":"LN('Page 277'!C26/'Page 277'!C25)","v":3.5596978740231759E-2},{"$f":"LN('Page 277'!D26/'Page 277'!D25)","v":-4.6846973296788781E-2},{"$f":"LN('Page 277'!E26/'Page 277'!E25)","v":3.6645566026929938E-3},{"$f":"LN('Page 277'!F26/'Page 277'!F25)","v":0.11239774621627627},{"$f":"LN('Page 277'!G26/'Page 277'!G25)","v":4.266049714271504E-2},{"$f":"LN('Page 277'!H26/'Page 277'!H25)","v":6.5121042966952508E-2},{"$f":"LN('Page 277'!I26/'Page 277'!I25)","v":-1.212136053234485E-2},{"$f":"LN('Page 277'!J26/'Page 277'!J25)","v":5.224672281952304E-3},{"$f":"LN('Page 277'!K26/'Page 277'!K25)","v":6.046881614892907E-3},{"$f":"LN('Page 277'!L26/'Page 277'!L25)","v":1.8661533537849079E-2},{"$f":"LN('Page 277'!M26/'Page 277'!M25)","v":2.1066649233051005E-2},{"$f":"LN('Page 277'!N26/'Page 277'!N25)","v":2.4602975173661945E-2},{"$f":"LN('Page 277'!O26/'Page 277'!O25)","v":9.2183956078058613E-2},{"$f":"LN('Page 277'!P26/'Page 277'!P25)","v":-6.5083204651018176E-2},{"$f":"LN('Page 277'!Q26/'Page 277'!Q25)","v":-4.9541739928333941E-4},{"$f":"LN('Page 277'!R26/'Page 277'!R25)","v":-5.0090598971637451E-2},{"$f":"LN('Page 277'!S26/'Page 277'!S25)","v":3.9260200606148342E-2},{"$f":"LN('Page 277'!T26/'Page 277'!T25)","v":2.295182717820227E-2},{"$f":"LN('Page 277'!U26/'Page 277'!U25)","v":0.16392718208933182},{"$f":"LN('Page 277'!V26/'Page 277'!V25)","v":1.9786163816293573E-2},{"$f":"LN('Page 277'!W26/'Page 277'!W25)","v":0.11041605200128428},{"$f":"LN('Page 277'!X26/'Page 277'!X25)","v":9.1990281094654625E-2},{"$f":"LN('Page 277'!Y26/'Page 277'!Y25)","v":4.1064163611348611E-2},{"$f":"LN('Page 277'!Z26/'Page 277'!Z25)","v":9.6071166587196374E-2},{"$f":"LN('Page 277'!AA26/'Page 277'!AA25)","v":-2.9300115445138851E-2},{"$f":"LN('Page 277'!AB26/'Page 277'!AB25)","v":3.7226660022456914E-3},{"$f":"LN('Page 277'!AC26/'Page 277'!AC25)","v":3.7102732606584705E-2},{"$f":"LN('Page 277'!AD26/'Page 277'!AD25)","v":4.1261458381425947E-2},{"$f":"LN('Page 277'!AE26/'Page 277'!AE25)","v":2.1589869026376819E-2},{"$f":"LN('Page 277'!AF26/'Page 277'!AF25)","v":-1.3323661198470655E-2}]
["2003-07-01",{"$f":"LN('Page 277'!B27/'Page 277'!B26)","v":1.6093506478773681E-2},{"$f":"LN('Page 277'!C27/'Page 277'!C26)","v":8.5344709937160576E-2},{"$f":"LN('Page 277'!D27/'Page 277'!D26)","v":0.1513798274033131},{"$f":"LN('Page 277'!E27/'Page 277'!E26)","v":5.7408491990673653E-2},{"$f":"LN('Page 277'!F27/'Page 277'!F26)","v":-3.5550984264318866E-2},{"$f":"LN('Page 277'!G27/'Page 277'!G26)","v":5.3456459631549977E-2},{"$f":"LN('Page 277'!H27/'Page 277'!H26)","v":0.19845853459320464},{"$f":"LN('Page 277'!I27/'Page 277'!I26)","v":5.392767924696916E-2},{"$f":"LN('Page 277'!J27/'Page 277'!J26)","v":0.10384816888577954},{"$f":"LN('Page 277'!K27/'Page 277'!K26)","v":-8.703933851860135E-3},{"$f":"LN('Page 277'!L27/'Page 277'!L26)","v":3.8808941468620115E-2},{"$f":"LN('Page 277'!M27/'Page 277'!M26)","v":-5.9944237275739262E-2},{"$f":"LN('Page 277'!N27/'Page 277'!N26)","v":5.2010168845747329E-2},{"$f":"LN('Page 277'!O27/'Page 277'!O26)","v":-5.8881426252225975E-3},{"$f":"LN('Page 277'!P27/'Page 277'!P26)","v":-1.5183176421390006E-2},{"$f":"LN('Page 277'!Q27/'Page 277'!Q26)","v":0.17917820074392266},{"$f":"LN('Page 277'!R27/'Page 277'!R26)","v":1.8474807677078544E-3},{"$f":"LN('Page 277'!S27/'Page 277'!S26)","v":3.5238816620500768E-2},{"$f":"LN('Page 277'!T27/'Page 277'!T26)","v":-3.151719003712531E-2},{"$f":"LN('Page 277'!U27/'Page 277'!U26)","v":4.2160810824278118E-2},{"$f":"LN('Page 277'!V27/'Page 277'!V26)","v":8.3355266807444053E-2},{"$f":"LN('Page 277'!W27/'Page 277'!W26)","v":-0.12735830936629924},{"$f":"LN('Page 277'!X27/'Page 277'!X26)","v":-9.1122602081432233E-2},{"$f":"LN('Page 277'!Y27/'Page 277'!Y26)","v":2.951106032565216E-2},{"$f":"LN('Page 277'!Z27/'Page 277'!Z26)","v":-2.3409759095252527E-2},{"$f":"LN('Page 277'!AA27/'Page 277'!AA26)","v":-9.5603022619822255E-3},{"$f":"LN('Page 277'!AB27/'Page 277'!AB26)","v":-7.5216163948547937E-2},{"$f":"LN('Page 277'!AC27/'Page 277'!AC26)","v":6.0049633779510309E-2},{"$f":"LN('Page 277'!AD27/'Page 277'!AD26)","v":-0.10979655920348243},{"$f":"LN('Page 277'!AE27/'Page 277'!AE26)","v":4.072193178853617E-2},{"$f":"LN('Page 277'!AF27/'Page 277'!AF26)","v":-9.2828934304432006E-3}]
["2003-08-01",{"$f":"LN('Page 277'!B28/'Page 277'!B27)","v":1.7715343790636197E-2},{"$f":"LN('Page 277'!C28/'Page 277'!C27)","v":3.3825096153643881E-2},{"$f":"LN('Page 277'!D28/'Page 277'!D27)","v":-7.4876644523636238E-2},{"$f":"LN('Page 277'!E28/'Page 277'!E27)","v":1.9729694295527435E-2},{"$f":"LN('Page 277'!F28/'Page 277'!F27)","v":0.12656272330842924},{"$f":"LN('Page 277'!G28/'Page 277'!G27)","v":-3.3042379965386455E-2},{"$f":"LN('Page 277'!H28/'Page 277'!H27)","v":6.2473169586022267E-2},{"$f":"LN('Page 277'!I28/'Page 277'!I27)","v":2.6033452377250046E-2},{"$f":"LN('Page 277'!J28/'Page 277'!J27)","v":-6.6513226748935797E-2},{"$f":"LN('Page 277'!K28/'Page 277'!K27)","v":3.9132997702148328E-2},{"$f":"LN('Page 277'!L28/'Page 277'!L27)","v":0.10701281600412117},{"$f":"LN('Page 277'!M28/'Page 277'!M27)","v":3.0260971781809479E-2},{"$f":"LN('Page 277'!N28/'Page 277'!N27)","v":3.1275817991775902E-2},{"$f":"LN('Page 277'!O28/'Page 277'!O27)","v":-6.0347839258119644E-2},{"$f":"LN('Page 277'!P28/'Page 277'!P27)","v":1.1315182329404493E-2},{"$f":"LN('Page 277'!Q28/'Page 277'!Q27)","v":0.13936562452305809},{"$f":"LN('Page 277'!R28/'Page 277'!R27)","v":-3.8892629160837099E-2},{"$f":"LN('Page 277'!S28/'Page 277'!S27)","v":-2.4113047406809193E-2},{"$f":"LN('Page 277'!T28/'Page 277'!T27)","v":-3.2789822822990956E-2},{"$f":"LN('Page 277'!U28/'Page 277'!U27)","v":-2.6023773421305359E-2},{"$f":"LN('Page 277'!V28/'Page 277'!V27)","v":2.0687291493214577E-2},{"$f":"LN('Page 277'!W28/'Page 277'!W27)","v":2.9674074558462916E-2},{"$f":"LN('Page 277'!X28/'Page 277'!X27)","v":-3.8908532918691993E-2},{"$f":"LN('Page 277'!Y28/'Page 277'!Y27)","v":4.3308859378401489E-3},{"$f":"LN('Page 277'!Z28/'Page 277'!Z27)","v":-0.1042075285732616},{"$f":"LN('Page 277'!AA28/'Page 277'!AA27)","v":-6.5052632734480583E-3},{"$f":"LN('Page 277'!AB28/'Page 277'!AB27)","v":-3.9320868393987976E-2},{"$f":"LN('Page 277'!AC28/'Page 277'!AC27)","v":6.8174540835719555E-2},{"$f":"LN('Page 277'!AD28/'Page 277'!AD27)","v":9.1116803512558131E-3},{"$f":"LN('Page 277'!AE28/'Page 277'!AE27)","v":5.6737527611599781E-2},{"$f":"LN('Page 277'!AF28/'Page 277'!AF27)","v":6.465133065881444E-2}]
["2003-09-02",{"$f":"LN('Page 277'!B29/'Page 277'!B28)","v":-1.2016232567985653E-2},{"$f":"LN('Page 277'!C29/'Page 277'!C28)","v":-8.8019746541645447E-2},{"$f":"LN('Page 277'!D29/'Page 277'!D28)","v":-3.071291979041154E-2},{"$f":"LN('Page 277'!E29/'Page 277'!E28)","v":0},{"$f":"LN('Page 277'!F29/'Page 277'!F28)","v":-8.5512183478071768E-2},{"$f":"LN('Page 277'!G29/'Page 277'!G28)","v":4.8561605112987349E-2},{"$f":"LN('Page 277'!H29/'Page 277'!H28)","v":-4.2432418702576156E-2},{"$f":"LN('Page 277'!I29/'Page 277'!I28)","v":-0.11174403843961539},{"$f":"LN('Page 277'!J29/'Page 277'!J28)","v":-1.6705020200002887E-2},{"$f":"LN('Page 277'!K29/'Page 277'!K28)","v":1.4153747438093766E-2},{"$f":"LN('Page 277'!L29/'Page 277'!L28)","v":-4.2140812468307665E-3},{"$f":"LN('Page 277'!M29/'Page 277'!M28)","v":-7.3991008303252196E-3},{"$f":"LN('Page 277'!N29/'Page 277'!N28)","v":-9.5310179804324893E-2},{"$f":"LN('Page 277'!O29/'Page 277'!O28)","v":-2.5411637362336956E-2},{"$f":"LN('Page 277'!P29/'Page 277'!P28)","v":7.4188336113208256E-2},{"$f":"LN('Page 277'!Q29/'Page 277'!Q28)","v":-3.8197813070573967E-2},{"$f":"LN('Page 277'!R29/'Page 277'!R28)","v":-1.2801367227169426E-3},{"$f":"LN('Page 277'!S29/'Page 277'!S28)","v":3.2488657556656369E-3},{"$f":"LN('Page 277'!T29/'Page 277'!T28)","v":-8.1815257413026046E-3},{"$f":"LN('Page 277'!U29/'Page 277'!U28)","v":4.8700482092335171E-2},{"$f":"LN('Page 277'!V29/'Page 277'!V28)","v":-3.0887577848030593E-2},{"$f":"LN('Page 277'!W29/'Page 277'!W28)","v":7.7335818616388816E-2},{"$f":"LN('Page 277'!X29/'Page 277'!X28)","v":1.321259843546308E-2},{"$f":"LN('Page 277'!Y29/'Page 277'!Y28)","v":4.7266181750373705E-2},{"$f":"LN('Page 277'!Z29/'Page 277'!Z28)","v":1.5365676625359811E-2},{"$f":"LN('Page 277'!AA29/'Page 277'!AA28)","v":6.1406354887308355E-2},{"$f":"LN('Page 277'!AB29/'Page 277'!AB28)","v":-9.4192219164916397E-3},{"$f":"LN('Page 277'!AC29/'Page 277'!AC28)","v":-3.7690236064165793E-2},{"$f":"LN('Page 277'!AD29/'Page 277'!AD28)","v":-8.5157808340306826E-2},{"$f":"LN('Page 277'!AE29/'Page 277'!AE28)","v":-5.7661656685777822E-2},{"$f":"LN('Page 277'!AF29/'Page 277'!AF28)","v":-2.9477023295629484E-2}]
["2003-10-01",{"$f":"LN('Page 277'!B30/'Page 277'!B29)","v":5.3504268464946513E-2},{"$f":"LN('Page 277'!C30/'Page 277'!C29)","v":0.18815599644086031},{"$f":"LN('Page 277'!D30/'Page 277'!D29)","v":5.2684396840289915E-2},{"$f":"LN('Page 277'!E30/'Page 277'!E29)","v":4.3080447763902879E-2},{"$f":"LN('Page 277'!F30/'Page 277'!F29)","v":0.11445975951294031},{"$f":"LN('Page 277'!G30/'Page 277'!G29)","v":4.8148315623648345E-2},{"$f":"LN('Page 277'!H30/'Page 277'!H29)","v":6.7282007083321993E-2},{"$f":"LN('Page 277'!I30/'Page 277'!I29)","v":9.8040000966208348E-3},{"$f":"LN('Page 277'!J30/'Page 277'!J29)","v":0.11556857261022038},{"$f":"LN('Page 277'!K30/'Page 277'!K29)","v":-2.7028672387919259E-2},{"$f":"LN('Page 277'!L30/'Page 277'!L29)","v":4.1632476801552E-2},{"$f":"LN('Page 277'!M30/'Page 277'!M29)","v":0.15188786974584667},{"$f":"LN('Page 277'!N30/'Page 277'!N29)","v":0.14987889592550058},{"$f":"LN('Page 277'!O30/'Page 277'!O29)","v":0.14220678904379266},{"$f":"LN('Page 277'!P30/'Page 277'!P29)","v":1.2916798201281145E-2},{"$f":"LN('Page 277'!Q30/'Page 277'!Q29)","v":0.18007268028393869},{"$f":"LN('Page 277'!R30/'Page 277'!R29)","v":1.6305284476910688E-2},{"$f":"LN('Page 277'!S30/'Page 277'!S29)","v":5.4596299236280781E-2},{"$f":"LN('Page 277'!T30/'Page 277'!T29)","v":7.7108551439068529E-2},{"$f":"LN('Page 277'!U30/'Page 277'!U29)","v":6.0044131549731733E-2},{"$f":"LN('Page 277'!V30/'Page 277'!V29)","v":0.1326511277227809},{"$f":"LN('Page 277'!W30/'Page 277'!W29)","v":5.98436768333633E-2},{"$f":"LN('Page 277'!X30/'Page 277'!X29)","v":-0.13458072734726104},{"$f":"LN('Page 277'!Y30/'Page 277'!Y29)","v":-5.5946791814679479E-2},{"$f":"LN('Page 277'!Z30/'Page 277'!Z29)","v":3.9288905045291686E-2},{"$f":"LN('Page 277'!AA30/'Page 277'!AA29)","v":6.1920867562972624E-2},{"$f":"LN('Page 277'!AB30/'Page 277'!AB29)","v":9.1862891127566265E-2},{"$f":"LN('Page 277'!AC30/'Page 277'!AC29)","v":9.1442084266058724E-2},{"$f":"LN('Page 277'!AD30/'Page 277'!AD29)","v":4.6520015634892699E-2},{"$f":"LN('Page 277'!AE30/'Page 277'!AE29)","v":5.5564853541171258E-2},{"$f":"LN('Page 277'!AF30/'Page 277'!AF29)","v":-5.8105754104343711E-4}]
["2003-11-03",{"$f":"LN('Page 277'!B31/'Page 277'!B30)","v":7.1032253560451564E-3},{"$f":"LN('Page 277'!C31/'Page 277'!C30)","v":4.3186298653130631E-2},{"$f":"LN('Page 277'!D31/'Page 277'!D30)","v":-4.8464239354893759E-2},{"$f":"LN('Page 277'!E31/'Page 277'!E30)","v":-2.6546875584085701E-2},{"$f":"LN('Page 277'!F31/'Page 277'!F30)","v":1.9003670711680138E-3},{"$f":"LN('Page 277'!G31/'Page 277'!G30)","v":-7.8269276178815211E-3},{"$f":"LN('Page 277'!H31/'Page 277'!H30)","v":3.6979003241087431E-2},{"$f":"LN('Page 277'!I31/'Page 277'!I30)","v":3.4362150190943297E-2},{"$f":"LN('Page 277'!J31/'Page 277'!J30)","v":1.9811543965447154E-2},{"$f":"LN('Page 277'!K31/'Page 277'!K30)","v":-1.191820438809145E-2},{"$f":"LN('Page 277'!L31/'Page 277'!L30)","v":1.4477464660356284E-2},{"$f":"LN('Page 277'!M31/'Page 277'!M30)","v":-8.3565945909413047E-3},{"$f":"LN('Page 277'!N31/'Page 277'!N30)","v":-2.4241482153972871E-2},{"$f":"LN('Page 277'!O31/'Page 277'!O30)","v":-2.5914288765470354E-2},{"$f":"LN('Page 277'!P31/'Page 277'!P30)","v":1.3656750320074559E-2},{"$f":"LN('Page 277'!Q31/'Page 277'!Q30)","v":1.8280911882333842E-2},{"$f":"LN('Page 277'!R31/'Page 277'!R30)","v":-1.5878390126777799E-2},{"$f":"LN('Page 277'!S31/'Page 277'!S30)","v":-1.4228510998369416E-2},{"$f":"LN('Page 277'!T31/'Page 277'!T30)","v":6.8902431530850385E-3},{"$f":"LN('Page 277'!U31/'Page 277'!U30)","v":4.0551687720393262E-2},{"$f":"LN('Page 277'!V31/'Page 277'!V30)","v":6.4119909770771703E-3},{"$f":"LN('Page 277'!W31/'Page 277'!W30)","v":0.11166413544612598},{"$f":"LN('Page 277'!X31/'Page 277'!X30)","v":-8.6063169839410369E-2},{"$f":"LN('Page 277'!Y31/'Page 277'!Y30)","v":-1.6703685071366603E-2},{"$f":"LN('Page 277'!Z31/'Page 277'!Z30)","v":6.5326652348954573E-2},{"$f":"LN('Page 277'!AA31/'Page 277'!AA30)","v":-2.1162525898251516E-2},{"$f":"LN('Page 277'!AB31/'Page 277'!AB30)","v":-2.9693103825545863E-2},{"$f":"LN('Page 277'!AC31/'Page 277'!AC30)","v":1.5918053751249654E-2},{"$f":"LN('Page 277'!AD31/'Page 277'!AD30)","v":-2.2817267772115294E-2},{"$f":"LN('Page 277'!AE31/'Page 277'!AE30)","v":-5.7786253936324757E-2},{"$f":"LN('Page 277'!AF31/'Page 277'!AF30)","v":-3.493453334559977E-3}]
["2003-12-01",{"$f":"LN('Page 277'!B32/'Page 277'!B31)","v":4.9518899306471208E-2},{"$f":"LN('Page 277'!C32/'Page 277'!C31)","v":0.1468508746690195},{"$f":"LN('Page 277'!D32/'Page 277'!D31)","v":0.13550347731826642},{"$f":"LN('Page 277'!E32/'Page 277'!E31)","v":5.5805262571967003E-2},{"$f":"LN('Page 277'!F32/'Page 277'!F31)","v":9.3162746641721098E-2},{"$f":"LN('Page 277'!G32/'Page 277'!G31)","v":3.1618692175218219E-2},{"$f":"LN('Page 277'!H32/'Page 277'!H31)","v":8.7881918383866761E-2},{"$f":"LN('Page 277'!I32/'Page 277'!I31)","v":0.10150391334127384},{"$f":"LN('Page 277'!J32/'Page 277'!J31)","v":1.9863817979480232E-2},{"$f":"LN('Page 277'!K32/'Page 277'!K31)","v":8.4040814620105708E-2},{"$f":"LN('Page 277'!L32/'Page 277'!L31)","v":0.22159857351561749},{"$f":"LN('Page 277'!M32/'Page 277'!M31)","v":-3.3274788884872321E-2},{"$f":"LN('Page 277'!N32/'Page 277'!N31)","v":0.11857298751040188},{"$f":"LN('Page 277'!O32/'Page 277'!O31)","v":5.8403991538189343E-2},{"$f":"LN('Page 277'!P32/'Page 277'!P31)","v":2.3349102959578361E-2},{"$f":"LN('Page 277'!Q32/'Page 277'!Q31)","v":-4.5540919977951212E-2},{"$f":"LN('Page 277'!R32/'Page 277'!R31)","v":4.6694601720825395E-2},{"$f":"LN('Page 277'!S32/'Page 277'!S31)","v":3.7001622069618184E-2},{"$f":"LN('Page 277'!T32/'Page 277'!T31)","v":8.7602489346788368E-2},{"$f":"LN('Page 277'!U32/'Page 277'!U31)","v":-3.1722536398480015E-2},{"$f":"LN('Page 277'!V32/'Page 277'!V31)","v":7.3032636721528266E-2},{"$f":"LN('Page 277'!W32/'Page 277'!W31)","v":5.8326808890349982E-2},{"$f":"LN('Page 277'!X32/'Page 277'!X31)","v":0.13813244202968306},{"$f":"LN('Page 277'!Y32/'Page 277'!Y31)","v":6.2291983603303888E-2},{"$f":"LN('Page 277'!Z32/'Page 277'!Z31)","v":5.1053725610202091E-2},{"$f":"LN('Page 277'!AA32/'Page 277'!AA31)","v":3.72713947972316E-2},{"$f":"LN('Page 277'!AB32/'Page 277'!AB31)","v":0.11338162010017296},{"$f":"LN('Page 277'!AC32/'Page 277'!AC31)","v":0.10068487885222685},{"$f":"LN('Page 277'!AD32/'Page 277'!AD31)","v":6.5979955075818969E-2},{"$f":"LN('Page 277'!AE32/'Page 277'!AE31)","v":-4.5884826115336126E-2},{"$f":"LN('Page 277'!AF32/'Page 277'!AF31)","v":0.12433937726874698}]
["2004-01-02",{"$f":"LN('Page 277'!B33/'Page 277'!B32)","v":1.7128882262967212E-2},{"$f":"LN('Page 277'!C33/'Page 277'!C32)","v":-0.10606730547874653},{"$f":"LN('Page 277'!D33/'Page 277'!D32)","v":4.6701093045980621E-2},{"$f":"LN('Page 277'!E33/'Page 277'!E32)","v":7.220231871767574E-2},{"$f":"LN('Page 277'!F33/'Page 277'!F32)","v":-9.1846245752505943E-3},{"$f":"LN('Page 277'!G33/'Page 277'!G32)","v":2.7386870654487638E-2},{"$f":"LN('Page 277'!H33/'Page 277'!H32)","v":-5.6477063555120791E-2},{"$f":"LN('Page 277'!I33/'Page 277'!I32)","v":-4.4258220426428019E-2},{"$f":"LN('Page 277'!J33/'Page 277'!J32)","v":2.843793532053341E-2},{"$f":"LN('Page 277'!K33/'Page 277'!K32)","v":8.1975177732644747E-2},{"$f":"LN('Page 277'!L33/'Page 277'!L32)","v":-7.2059445965976701E-2},{"$f":"LN('Page 277'!M33/'Page 277'!M32)","v":-5.7853631928948075E-4},{"$f":"LN('Page 277'!N33/'Page 277'!N32)","v":7.746394453664722E-2},{"$f":"LN('Page 277'!O33/'Page 277'!O32)","v":3.4951578022813505E-2},{"$f":"LN('Page 277'!P33/'Page 277'!P32)","v":6.8285907866131368E-2},{"$f":"LN('Page 277'!Q33/'Page 277'!Q32)","v":-4.8725898882304684E-2},{"$f":"LN('Page 277'!R33/'Page 277'!R32)","v":3.3446594158827996E-2},{"$f":"LN('Page 277'!S33/'Page 277'!S32)","v":6.6487985652396456E-2},{"$f":"LN('Page 277'!T33/'Page 277'!T32)","v":-3.0227929391224644E-2},{"$f":"LN('Page 277'!U33/'Page 277'!U32)","v":3.5769486478677309E-2},{"$f":"LN('Page 277'!V33/'Page 277'!V32)","v":-7.2367079292633765E-2},{"$f":"LN('Page 277'!W33/'Page 277'!W32)","v":2.1277398447284879E-2},{"$f":"LN('Page 277'!X33/'Page 277'!X32)","v":2.9753474096948125E-2},{"$f":"LN('Page 277'!Y33/'Page 277'!Y32)","v":1.0358493282742128E-2},{"$f":"LN('Page 277'!Z33/'Page 277'!Z32)","v":3.606410797185268E-2},{"$f":"LN('Page 277'!AA33/'Page 277'!AA32)","v":1.6474150076722295E-2},{"$f":"LN('Page 277'!AB33/'Page 277'!AB32)","v":-1.064311598732076E-2},{"$f":"LN('Page 277'!AC33/'Page 277'!AC32)","v":8.0954385886665547E-3},{"$f":"LN('Page 277'!AD33/'Page 277'!AD32)","v":6.0074363275915192E-2},{"$f":"LN('Page 277'!AE33/'Page 277'!AE32)","v":1.4829352158300783E-2},{"$f":"LN('Page 277'!AF33/'Page 277'!AF32)","v":-4.9051343992586203E-3}]
["2004-02-02",{"$f":"LN('Page 277'!B34/'Page 277'!B33)","v":1.2135100829125884E-2},{"$f":"LN('Page 277'!C34/'Page 277'!C33)","v":9.634365614730557E-2},{"$f":"LN('Page 277'!D34/'Page 277'!D33)","v":6.3459407369262477E-2},{"$f":"LN('Page 277'!E34/'Page 277'!E33)","v":2.9978929861486769E-2},{"$f":"LN('Page 277'!F34/'Page 277'!F33)","v":4.1998359687963879E-2},{"$f":"LN('Page 277'!G34/'Page 277'!G33)","v":1.5564516541111548E-2},{"$f":"LN('Page 277'!H34/'Page 277'!H33)","v":-3.0854951048047748E-2},{"$f":"LN('Page 277'!I34/'Page 277'!I33)","v":3.4511322865583019E-2},{"$f":"LN('Page 277'!J34/'Page 277'!J33)","v":0.10016437125222855},{"$f":"LN('Page 277'!K34/'Page 277'!K33)","v":-2.7346082325515195E-2},{"$f":"LN('Page 277'!L34/'Page 277'!L33)","v":-2.1780286365647616E-2},{"$f":"LN('Page 277'!M34/'Page 277'!M33)","v":2.3449744795784353E-2},{"$f":"LN('Page 277'!N34/'Page 277'!N33)","v":-2.4860706226230728E-2},{"$f":"LN('Page 277'!O34/'Page 277'!O33)","v":-4.6271599287819744E-2},{"$f":"LN('Page 277'!P34/'Page 277'!P33)","v":-2.6333810103692061E-2},{"$f":"LN('Page 277'!Q34/'Page 277'!Q33)","v":-4.3087829943006355E-2},{"$f":"LN('Page 277'!R34/'Page 277'!R33)","v":1.3693484705360101E-2},{"$f":"LN('Page 277'!S34/'Page 277'!S33)","v":5.3327740352158766E-2},{"$f":"LN('Page 277'!T34/'Page 277'!T33)","v":1.4376387503969058E-2},{"$f":"LN('Page 277'!U34/'Page 277'!U33)","v":9.5089858869272931E-2},{"$f":"LN('Page 277'!V34/'Page 277'!V33)","v":-9.0897564764294558E-3},{"$f":"LN('Page 277'!W34/'Page 277'!W33)","v":3.4616545669163876E-2},{"$f":"LN('Page 277'!X34/'Page 277'!X33)","v":1.0033919208430145E-2},{"$f":"LN('Page 277'!Y34/'Page 277'!Y33)","v":-4.1234280652667023E-2},{"$f":"LN('Page 277'!Z34/'Page 277'!Z33)","v":4.9642385492316065E-3},{"$f":"LN('Page 277'!AA34/'Page 277'!AA33)","v":1.4170069728652691E-2},{"$f":"LN('Page 277'!AB34/'Page 277'!AB33)","v":-6.017888969405611E-2},{"$f":"LN('Page 277'!AC34/'Page 277'!AC33)","v":-3.2782559102731333E-2},{"$f":"LN('Page 277'!AD34/'Page 277'!AD33)","v":3.9010454885268518E-2},{"$f":"LN('Page 277'!AE34/'Page 277'!AE33)","v":0.10083874216546934},{"$f":"LN('Page 277'!AF34/'Page 277'!AF33)","v":3.9330199116792378E-2}]
["2004-03-01",{"$f":"LN('Page 277'!B35/'Page 277'!B34)","v":-1.6494220669989047E-2},{"$f":"LN('Page 277'!C35/'Page 277'!C34)","v":-7.7162066365471571E-2},{"$f":"LN('Page 277'!D35/'Page 277'!D34)","v":-3.5625755369347686E-2},{"$f":"LN('Page 277'!E35/'Page 277'!E34)","v":-2.7727183807602505E-2},{"$f":"LN('Page 277'!F35/'Page 277'!F34)","v":-5.4545575740052671E-2},{"$f":"LN('Page 277'!G35/'Page 277'!G34)","v":2.8337696551702485E-2},{"$f":"LN('Page 277'!H35/'Page 277'!H34)","v":4.3040532294163519E-2},{"$f":"LN('Page 277'!I35/'Page 277'!I34)","v":-6.5653970221436778E-2},{"$f":"LN('Page 277'!J35/'Page 277'!J34)","v":-5.9784275544337961E-2},{"$f":"LN('Page 277'!K35/'Page 277'!K34)","v":-6.3625695880211552E-2},{"$f":"LN('Page 277'!L35/'Page 277'!L34)","v":-1.8201660757083821E-2},{"$f":"LN('Page 277'!M35/'Page 277'!M34)","v":3.03433160889496E-2},{"$f":"LN('Page 277'!N35/'Page 277'!N34)","v":-3.4759596935936145E-2},{"$f":"LN('Page 277'!O35/'Page 277'!O34)","v":9.0662452377530418E-3},{"$f":"LN('Page 277'!P35/'Page 277'!P34)","v":-4.9489264900183773E-2},{"$f":"LN('Page 277'!Q35/'Page 277'!Q34)","v":-7.0780812180571473E-2},{"$f":"LN('Page 277'!R35/'Page 277'!R34)","v":-6.1086162154750691E-2},{"$f":"LN('Page 277'!S35/'Page 277'!S34)","v":2.2384081383537435E-2},{"$f":"LN('Page 277'!T35/'Page 277'!T34)","v":1.1859520617718222E-2},{"$f":"LN('Page 277'!U35/'Page 277'!U34)","v":9.5029954914861142E-3},{"$f":"LN('Page 277'!V35/'Page 277'!V34)","v":4.8105729904370467E-2},{"$f":"LN('Page 277'!W35/'Page 277'!W34)","v":-4.3767600886521159E-2},{"$f":"LN('Page 277'!X35/'Page 277'!X34)","v":-7.6450375170201493E-2},{"$f":"LN('Page 277'!Y35/'Page 277'!Y34)","v":-6.2478788174560609E-2},{"$f":"LN('Page 277'!Z35/'Page 277'!Z34)","v":-4.4372322885373093E-2},{"$f":"LN('Page 277'!AA35/'Page 277'!AA34)","v":2.2780946868205625E-2},{"$f":"LN('Page 277'!AB35/'Page 277'!AB34)","v":2.2009785688655227E-2},{"$f":"LN('Page 277'!AC35/'Page 277'!AC34)","v":-6.5124146309160968E-2},{"$f":"LN('Page 277'!AD35/'Page 277'!AD34)","v":-4.78560211776351E-2},{"$f":"LN('Page 277'!AE35/'Page 277'!AE34)","v":4.4835391540929857E-3},{"$f":"LN('Page 277'!AF35/'Page 277'!AF34)","v":-1.3779498999322442E-2}]
["2004-04-01",{"$f":"LN('Page 277'!B36/'Page 277'!B35)","v":-1.6933393494544095E-2},{"$f":"LN('Page 277'!C36/'Page 277'!C35)","v":-0.12034965592245828},{"$f":"LN('Page 277'!D36/'Page 277'!D35)","v":4.2577413171854105E-3},{"$f":"LN('Page 277'!E36/'Page 277'!E35)","v":-5.7634831190551052E-2},{"$f":"LN('Page 277'!F36/'Page 277'!F35)","v":3.8637792705413919E-2},{"$f":"LN('Page 277'!G36/'Page 277'!G35)","v":-6.4149383628143999E-2},{"$f":"LN('Page 277'!H36/'Page 277'!H35)","v":-1.2718772407774559E-2},{"$f":"LN('Page 277'!I36/'Page 277'!I35)","v":1.7198198297220822E-2},{"$f":"LN('Page 277'!J36/'Page 277'!J35)","v":-8.1573867060109426E-2},{"$f":"LN('Page 277'!K36/'Page 277'!K35)","v":-1.8593764938415306E-2},{"$f":"LN('Page 277'!L36/'Page 277'!L35)","v":3.5718575896427612E-3},{"$f":"LN('Page 277'!M36/'Page 277'!M35)","v":-5.9887986152230469E-2},{"$f":"LN('Page 277'!N36/'Page 277'!N35)","v":2.1182679981522696E-2},{"$f":"LN('Page 277'!O36/'Page 277'!O35)","v":-0.14755395425582776},{"$f":"LN('Page 277'!P36/'Page 277'!P35)","v":-4.0761730796912123E-2},{"$f":"LN('Page 277'!Q36/'Page 277'!Q35)","v":-5.5580653265543241E-2},{"$f":"LN('Page 277'!R36/'Page 277'!R35)","v":6.3221048943286159E-2},{"$f":"LN('Page 277'!S36/'Page 277'!S35)","v":-0.10160599861202289},{"$f":"LN('Page 277'!T36/'Page 277'!T35)","v":5.4587580437511036E-3},{"$f":"LN('Page 277'!U36/'Page 277'!U35)","v":-4.8062891410103142E-2},{"$f":"LN('Page 277'!V36/'Page 277'!V35)","v":5.4780934697511344E-2},{"$f":"LN('Page 277'!W36/'Page 277'!W35)","v":1.7014791677571944E-2},{"$f":"LN('Page 277'!X36/'Page 277'!X35)","v":6.1479335318415811E-2},{"$f":"LN('Page 277'!Y36/'Page 277'!Y35)","v":4.7330262181136555E-2},{"$f":"LN('Page 277'!Z36/'Page 277'!Z35)","v":1.9898154246793115E-2},{"$f":"LN('Page 277'!AA36/'Page 277'!AA35)","v":1.3462883998407262E-2},{"$f":"LN('Page 277'!AB36/'Page 277'!AB35)","v":2.6960737395505058E-2},{"$f":"LN('Page 277'!AC36/'Page 277'!AC35)","v":-4.8076924002949875E-4},{"$f":"LN('Page 277'!AD36/'Page 277'!AD35)","v":4.258514513863592E-2},{"$f":"LN('Page 277'!AE36/'Page 277'!AE35)","v":-4.6126817949693283E-2},{"$f":"LN('Page 277'!AF36/'Page 277'!AF35)","v":2.2697071099634526E-2}]
["2004-05-03",{"$f":"LN('Page 277'!B37/'Page 277'!B36)","v":1.2011024205564368E-2},{"$f":"LN('Page 277'!C37/'Page 277'!C36)","v":2.2533322655801786E-2},{"$f":"LN('Page 277'!D37/'Page 277'!D36)","v":2.2683694534500053E-2},{"$f":"LN('Page 277'!E37/'Page 277'!E36)","v":3.5115967655201141E-2},{"$f":"LN('Page 277'!F37/'Page 277'!F36)","v":7.48712515163176E-2},{"$f":"LN('Page 277'!G37/'Page 277'!G36)","v":-3.5067499984439081E-2},{"$f":"LN('Page 277'!H37/'Page 277'!H36)","v":-3.1146728996836709E-2},{"$f":"LN('Page 277'!I37/'Page 277'!I36)","v":1.4191698410863171E-2},{"$f":"LN('Page 277'!J37/'Page 277'!J36)","v":1.8856072813824742E-2},{"$f":"LN('Page 277'!K37/'Page 277'!K36)","v":3.8212360089794326E-2},{"$f":"LN('Page 277'!L37/'Page 277'!L36)","v":-3.2615525360162281E-2},{"$f":"LN('Page 277'!M37/'Page 277'!M36)","v":2.0458860824730089E-2},{"$f":"LN('Page 277'!N37/'Page 277'!N36)","v":-1.9942369744998568E-2},{"$f":"LN('Page 277'!O37/'Page 277'!O36)","v":7.5041487279112279E-2},{"$f":"LN('Page 277'!P37/'Page 277'!P36)","v":6.8141396654091352E-3},{"$f":"LN('Page 277'!Q37/'Page 277'!Q36)","v":0.10536051565782635},{"$f":"LN('Page 277'!R37/'Page 277'!R36)","v":3.5799710257574294E-2},{"$f":"LN('Page 277'!S37/'Page 277'!S36)","v":-2.0385097273633575E-2},{"$f":"LN('Page 277'!T37/'Page 277'!T36)","v":1.5169122032914359E-2},{"$f":"LN('Page 277'!U37/'Page 277'!U36)","v":-3.1010236742560322E-2},{"$f":"LN('Page 277'!V37/'Page 277'!V36)","v":-1.809340312427337E-2},{"$f":"LN('Page 277'!W37/'Page 277'!W36)","v":-0.14359534999433954},{"$f":"LN('Page 277'!X37/'Page 277'!X36)","v":6.3432610203455345E-3},{"$f":"LN('Page 277'!Y37/'Page 277'!Y36)","v":3.4828071774614566E-3},{"$f":"LN('Page 277'!Z37/'Page 277'!Z36)","v":-7.189965066239163E-3},{"$f":"LN('Page 277'!AA37/'Page 277'!AA36)","v":1.889605263939495E-2},{"$f":"LN('Page 277'!AB37/'Page 277'!AB36)","v":-4.9444120061991732E-2},{"$f":"LN('Page 277'!AC37/'Page 277'!AC36)","v":-1.5019662196040701E-2},{"$f":"LN('Page 277'!AD37/'Page 277'!AD36)","v":-8.7385118951854163E-2},{"$f":"LN('Page 277'!AE37/'Page 277'!AE36)","v":-2.0202707317519466E-2},{"$f":"LN('Page 277'!AF37/'Page 277'!AF36)","v":2.29166537833548E-2}]
["2004-06-01",{"$f":"LN('Page 277'!B38/'Page 277'!B37)","v":1.7829189249312503E-2},{"$f":"LN('Page 277'!C38/'Page 277'!C37)","v":5.3734608594666534E-2},{"$f":"LN('Page 277'!D38/'Page 277'!D37)","v":-2.6941435851685513E-2},{"$f":"LN('Page 277'!E38/'Page 277'!E37)","v":1.5295355827889769E-2},{"$f":"LN('Page 277'!F38/'Page 277'!F37)","v":0.10943246648162849},{"$f":"LN('Page 277'!G38/'Page 277'!G37)","v":1.3805800628164918E-3},{"$f":"LN('Page 277'!H38/'Page 277'!H37)","v":5.3038675412935263E-2},{"$f":"LN('Page 277'!I38/'Page 277'!I37)","v":2.7793110250319549E-2},{"$f":"LN('Page 277'!J38/'Page 277'!J37)","v":8.2512421574464201E-2},{"$f":"LN('Page 277'!K38/'Page 277'!K37)","v":4.6287603427557625E-2},{"$f":"LN('Page 277'!L38/'Page 277'!L37)","v":2.6176967288443334E-2},{"$f":"LN('Page 277'!M38/'Page 277'!M37)","v":-1.7842199933558494E-2},{"$f":"LN('Page 277'!N38/'Page 277'!N37)","v":8.3208058088216297E-2},{"$f":"LN('Page 277'!O38/'Page 277'!O37)","v":-2.9154539601240195E-3},{"$f":"LN('Page 277'!P38/'Page 277'!P37)","v":-4.961644056325697E-3},{"$f":"LN('Page 277'!Q38/'Page 277'!Q37)","v":-3.3653505041642676E-2},{"$f":"LN('Page 277'!R38/'Page 277'!R37)","v":-1.8707323971865403E-4},{"$f":"LN('Page 277'!S38/'Page 277'!S37)","v":5.1043189562901777E-2},{"$f":"LN('Page 277'!T38/'Page 277'!T37)","v":-1.2242086700391435E-2},{"$f":"LN('Page 277'!U38/'Page 277'!U37)","v":-1.5473429134963119E-2},{"$f":"LN('Page 277'!V38/'Page 277'!V37)","v":6.2408200320793056E-2},{"$f":"LN('Page 277'!W38/'Page 277'!W37)","v":5.656571433412301E-2},{"$f":"LN('Page 277'!X38/'Page 277'!X37)","v":1.1873029709262878E-2},{"$f":"LN('Page 277'!Y38/'Page 277'!Y37)","v":8.5344045420647704E-2},{"$f":"LN('Page 277'!Z38/'Page 277'!Z37)","v":-3.0217467700911011E-2},{"$f":"LN('Page 277'!AA38/'Page 277'!AA37)","v":9.7936452501524059E-3},{"$f":"LN('Page 277'!AB38/'Page 277'!AB37)","v":2.2946452829890128E-2},{"$f":"LN('Page 277'!AC38/'Page 277'!AC37)","v":7.7918826376327063E-2},{"$f":"LN('Page 277'!AD38/'Page 277'!AD37)","v":4.5718669330290854E-2},{"$f":"LN('Page 277'!AE38/'Page 277'!AE37)","v":-5.9659836406335875E-2},{"$f":"LN('Page 277'!AF38/'Page 277'!AF37)","v":2.6401818930548101E-2}]
["2004-07-01",{"$f":"LN('Page 277'!B39/'Page 277'!B38)","v":-3.4892238215330364E-2},{"$f":"LN('Page 277'!C39/'Page 277'!C38)","v":-3.0722416261153792E-2},{"$f":"LN('Page 277'!D39/'Page 277'!D38)","v":-8.857200760642548E-3},{"$f":"LN('Page 277'!E39/'Page 277'!E38)","v":-2.2220591261204157E-2},{"$f":"LN('Page 277'!F39/'Page 277'!F38)","v":-6.6903442659606771E-3},{"$f":"LN('Page 277'!G39/'Page 277'!G38)","v":-4.3950205644058764E-2},{"$f":"LN('Page 277'!H39/'Page 277'!H38)","v":-7.2764276789855115E-2},{"$f":"LN('Page 277'!I39/'Page 277'!I38)","v":-3.548641038662833E-2},{"$f":"LN('Page 277'!J39/'Page 277'!J38)","v":-9.9157571533218483E-2},{"$f":"LN('Page 277'!K39/'Page 277'!K38)","v":2.6017205392498965E-2},{"$f":"LN('Page 277'!L39/'Page 277'!L38)","v":-7.705673949497438E-2},{"$f":"LN('Page 277'!M39/'Page 277'!M38)","v":-4.3014194319039925E-2},{"$f":"LN('Page 277'!N39/'Page 277'!N38)","v":2.645061350869702E-2},{"$f":"LN('Page 277'!O39/'Page 277'!O38)","v":-4.5801932653874042E-2},{"$f":"LN('Page 277'!P39/'Page 277'!P38)","v":-1.2337214209784713E-2},{"$f":"LN('Page 277'!Q39/'Page 277'!Q38)","v":-0.12422112647342679},{"$f":"LN('Page 277'!R39/'Page 277'!R38)","v":-7.7002915934472173E-3},{"$f":"LN('Page 277'!S39/'Page 277'!S38)","v":-2.8929981260125266E-2},{"$f":"LN('Page 277'!T39/'Page 277'!T38)","v":-0.14053468345138126},{"$f":"LN('Page 277'!U39/'Page 277'!U38)","v":5.6358413797281806E-2},{"$f":"LN('Page 277'!V39/'Page 277'!V38)","v":-8.8783080819304527E-2},{"$f":"LN('Page 277'!W39/'Page 277'!W38)","v":-5.0325083887515769E-2},{"$f":"LN('Page 277'!X39/'Page 277'!X38)","v":-4.6178442300736068E-2},{"$f":"LN('Page 277'!Y39/'Page 277'!Y38)","v":-2.3971245997214037E-3},{"$f":"LN('Page 277'!Z39/'Page 277'!Z38)","v":-7.0277506982231563E-2},{"$f":"LN('Page 277'!AA39/'Page 277'!AA38)","v":-3.8372611207969982E-2},{"$f":"LN('Page 277'!AB39/'Page 277'!AB38)","v":5.7132693344570398E-2},{"$f":"LN('Page 277'!AC39/'Page 277'!AC38)","v":2.1885643512760396E-2},{"$f":"LN('Page 277'!AD39/'Page 277'!AD38)","v":7.3451847203997306E-2},{"$f":"LN('Page 277'!AE39/'Page 277'!AE38)","v":9.7106997293494781E-3},{"$f":"LN('Page 277'!AF39/'Page 277'!AF38)","v":4.1610416028686148E-2}]
["2004-08-02",{"$f":"LN('Page 277'!B40/'Page 277'!B39)","v":2.284720571713859E-3},{"$f":"LN('Page 277'!C40/'Page 277'!C39)","v":1.5479186848460032E-2},{"$f":"LN('Page 277'!D40/'Page 277'!D39)","v":8.2881297536787617E-3},{"$f":"LN('Page 277'!E40/'Page 277'!E39)","v":-4.6436117804824987E-3},{"$f":"LN('Page 277'!F40/'Page 277'!F39)","v":3.2619200115319526E-2},{"$f":"LN('Page 277'!G40/'Page 277'!G39)","v":5.4926762227230426E-2},{"$f":"LN('Page 277'!H40/'Page 277'!H39)","v":-1.0719425632884512E-2},{"$f":"LN('Page 277'!I40/'Page 277'!I39)","v":-5.9970194723744019E-3},{"$f":"LN('Page 277'!J40/'Page 277'!J39)","v":-2.7767122040448365E-2},{"$f":"LN('Page 277'!K40/'Page 277'!K39)","v":-1.4048762349703836E-2},{"$f":"LN('Page 277'!L40/'Page 277'!L39)","v":-3.1232035941940295E-2},{"$f":"LN('Page 277'!M40/'Page 277'!M39)","v":8.3139081805139362E-2},{"$f":"LN('Page 277'!N40/'Page 277'!N39)","v":-3.8787593966549384E-2},{"$f":"LN('Page 277'!O40/'Page 277'!O39)","v":-0.11886614875644017},{"$f":"LN('Page 277'!P40/'Page 277'!P39)","v":-2.5621138161511021E-2},{"$f":"LN('Page 277'!Q40/'Page 277'!Q39)","v":-0.13365175129350101},{"$f":"LN('Page 277'!R40/'Page 277'!R39)","v":5.5019375591199203E-2},{"$f":"LN('Page 277'!S40/'Page 277'!S39)","v":5.8404639376304954E-2},{"$f":"LN('Page 277'!T40/'Page 277'!T39)","v":1.9274838248745246E-2},{"$f":"LN('Page 277'!U40/'Page 277'!U39)","v":-1.7922310033410844E-2},{"$f":"LN('Page 277'!V40/'Page 277'!V39)","v":4.549483393577248E-3},{"$f":"LN('Page 277'!W40/'Page 277'!W39)","v":2.7946837534819531E-2},{"$f":"LN('Page 277'!X40/'Page 277'!X39)","v":-8.5189757017985705E-3},{"$f":"LN('Page 277'!Y40/'Page 277'!Y39)","v":-3.9989008216363281E-2},{"$f":"LN('Page 277'!Z40/'Page 277'!Z39)","v":2.7542724637582183E-2},{"$f":"LN('Page 277'!AA40/'Page 277'!AA39)","v":7.0712334909070834E-2},{"$f":"LN('Page 277'!AB40/'Page 277'!AB39)","v":1.7338969279510518E-2},{"$f":"LN('Page 277'!AC40/'Page 277'!AC39)","v":8.1399635460075882E-3},{"$f":"LN('Page 277'!AD40/'Page 277'!AD39)","v":1.8318111193365155E-2},{"$f":"LN('Page 277'!AE40/'Page 277'!AE39)","v":-4.0670144177501911E-3},{"$f":"LN('Page 277'!AF40/'Page 277'!AF39)","v":1.7997755139396077E-3}]
["2004-09-01",{"$f":"LN('Page 277'!B41/'Page 277'!B40)","v":9.3203368022064838E-3},{"$f":"LN('Page 277'!C41/'Page 277'!C40)","v":3.6756140125119671E-2},{"$f":"LN('Page 277'!D41/'Page 277'!D40)","v":-4.5564973652217386E-2},{"$f":"LN('Page 277'!E41/'Page 277'!E40)","v":2.8448810051248098E-2},{"$f":"LN('Page 277'!F41/'Page 277'!F40)","v":-1.1684458115470036E-2},{"$f":"LN('Page 277'!G41/'Page 277'!G40)","v":-5.4446339445950599E-2},{"$f":"LN('Page 277'!H41/'Page 277'!H40)","v":0.10132515822524112},{"$f":"LN('Page 277'!I41/'Page 277'!I40)","v":1.2700955194564387E-2},{"$f":"LN('Page 277'!J41/'Page 277'!J40)","v":4.5310453596001023E-3},{"$f":"LN('Page 277'!K41/'Page 277'!K40)","v":2.9777303014969857E-2},{"$f":"LN('Page 277'!L41/'Page 277'!L40)","v":2.7867208126340609E-2},{"$f":"LN('Page 277'!M41/'Page 277'!M40)","v":6.9755017056462379E-2},{"$f":"LN('Page 277'!N41/'Page 277'!N40)","v":-3.4702174790071059E-3},{"$f":"LN('Page 277'!O41/'Page 277'!O40)","v":5.0891607296389224E-2},{"$f":"LN('Page 277'!P41/'Page 277'!P40)","v":1.2299396792866651E-2},{"$f":"LN('Page 277'!Q41/'Page 277'!Q40)","v":-5.9511856480036096E-2},{"$f":"LN('Page 277'!R41/'Page 277'!R40)","v":-3.0989160905374558E-2},{"$f":"LN('Page 277'!S41/'Page 277'!S40)","v":3.7930145718724729E-3},{"$f":"LN('Page 277'!T41/'Page 277'!T40)","v":-0.10423511150591219},{"$f":"LN('Page 277'!U41/'Page 277'!U40)","v":3.701328849823983E-2},{"$f":"LN('Page 277'!V41/'Page 277'!V40)","v":-2.9428940544069474E-2},{"$f":"LN('Page 277'!W41/'Page 277'!W40)","v":-2.4955923076972433E-2},{"$f":"LN('Page 277'!X41/'Page 277'!X40)","v":-0.30088710337205904},{"$f":"LN('Page 277'!Y41/'Page 277'!Y40)","v":1.2823340143593657E-2},{"$f":"LN('Page 277'!Z41/'Page 277'!Z40)","v":-6.5487656201705671E-2},{"$f":"LN('Page 277'!AA41/'Page 277'!AA40)","v":-3.3678283992750885E-2},{"$f":"LN('Page 277'!AB41/'Page 277'!AB40)","v":6.4253808553710948E-3},{"$f":"LN('Page 277'!AC41/'Page 277'!AC40)","v":-5.7130456421792203E-3},{"$f":"LN('Page 277'!AD41/'Page 277'!AD40)","v":3.3454171150860247E-3},{"$f":"LN('Page 277'!AE41/'Page 277'!AE40)","v":9.8484913041715812E-3},{"$f":"LN('Page 277'!AF41/'Page 277'!AF40)","v":4.7194097224286406E-2}]
["2004-10-01",{"$f":"LN('Page 277'!B42/'Page 277'!B41)","v":1.391695587821374E-2},{"$f":"LN('Page 277'!C42/'Page 277'!C41)","v":-3.2923494104943316E-2},{"$f":"LN('Page 277'!D42/'Page 277'!D41)","v":-0.11326911007836554},{"$f":"LN('Page 277'!E42/'Page 277'!E41)","v":3.2928447737028202E-2},{"$f":"LN('Page 277'!F42/'Page 277'!F41)","v":-3.3832863280558734E-2},{"$f":"LN('Page 277'!G42/'Page 277'!G41)","v":1.5016370831930394E-2},{"$f":"LN('Page 277'!H42/'Page 277'!H41)","v":6.1318536533496162E-3},{"$f":"LN('Page 277'!I42/'Page 277'!I41)","v":1.7307458888278151E-3},{"$f":"LN('Page 277'!J42/'Page 277'!J41)","v":0.11153490487919067},{"$f":"LN('Page 277'!K42/'Page 277'!K41)","v":1.5792246454419762E-2},{"$f":"LN('Page 277'!L42/'Page 277'!L41)","v":-9.7126710730722793E-2},{"$f":"LN('Page 277'!M42/'Page 277'!M41)","v":4.7004715101164184E-2},{"$f":"LN('Page 277'!N42/'Page 277'!N41)","v":-6.2763349907697177E-2},{"$f":"LN('Page 277'!O42/'Page 277'!O41)","v":-4.9193867998182173E-3},{"$f":"LN('Page 277'!P42/'Page 277'!P41)","v":4.5699706461875163E-2},{"$f":"LN('Page 277'!Q42/'Page 277'!Q41)","v":0.10377520248221568},{"$f":"LN('Page 277'!R42/'Page 277'!R41)","v":3.5795578703095556E-2},{"$f":"LN('Page 277'!S42/'Page 277'!S41)","v":-2.0213744784200117E-2},{"$f":"LN('Page 277'!T42/'Page 277'!T41)","v":1.5057397672493665E-2},{"$f":"LN('Page 277'!U42/'Page 277'!U41)","v":3.8906925014750675E-2},{"$f":"LN('Page 277'!V42/'Page 277'!V41)","v":-3.0455191412387114E-2},{"$f":"LN('Page 277'!W42/'Page 277'!W41)","v":2.9650242639753112E-2},{"$f":"LN('Page 277'!X42/'Page 277'!X41)","v":-5.2545555578049831E-2},{"$f":"LN('Page 277'!Y42/'Page 277'!Y41)","v":1.1442707607533258E-2},{"$f":"LN('Page 277'!Z42/'Page 277'!Z41)","v":-5.5372554123491194E-2},{"$f":"LN('Page 277'!AA42/'Page 277'!AA41)","v":-5.1031480012445875E-2},{"$f":"LN('Page 277'!AB42/'Page 277'!AB41)","v":-1.5490843328658405E-2},{"$f":"LN('Page 277'!AC42/'Page 277'!AC41)","v":-5.9675279313911363E-3},{"$f":"LN('Page 277'!AD42/'Page 277'!AD41)","v":2.2240765353565015E-3},{"$f":"LN('Page 277'!AE42/'Page 277'!AE41)","v":1.3551118711871384E-2},{"$f":"LN('Page 277'!AF42/'Page 277'!AF41)","v":1.8271168998358657E-2}]
["2004-11-01",{"$f":"LN('Page 277'!B43/'Page 277'!B42)","v":3.7868779461133012E-2},{"$f":"LN('Page 277'!C43/'Page 277'!C42)","v":4.9139238745929577E-2},{"$f":"LN('Page 277'!D43/'Page 277'!D42)","v":4.2615214763532409E-2},{"$f":"LN('Page 277'!E43/'Page 277'!E42)","v":4.8696359938792462E-2},{"$f":"LN('Page 277'!F43/'Page 277'!F42)","v":7.4814207653752379E-2},{"$f":"LN('Page 277'!G43/'Page 277'!G42)","v":8.4806161984203529E-3},{"$f":"LN('Page 277'!H43/'Page 277'!H42)","v":0.12820008979286365},{"$f":"LN('Page 277'!I43/'Page 277'!I42)","v":6.3410785680541745E-2},{"$f":"LN('Page 277'!J43/'Page 277'!J42)","v":6.3830628100981515E-2},{"$f":"LN('Page 277'!K43/'Page 277'!K42)","v":3.590670846324405E-2},{"$f":"LN('Page 277'!L43/'Page 277'!L42)","v":1.4184634991956381E-2},{"$f":"LN('Page 277'!M43/'Page 277'!M42)","v":1.820020725083887E-2},{"$f":"LN('Page 277'!N43/'Page 277'!N42)","v":5.3157687343679837E-2},{"$f":"LN('Page 277'!O43/'Page 277'!O42)","v":6.9832701379484413E-2},{"$f":"LN('Page 277'!P43/'Page 277'!P42)","v":5.0731912352342388E-2},{"$f":"LN('Page 277'!Q43/'Page 277'!Q42)","v":7.3428507984759864E-3},{"$f":"LN('Page 277'!R43/'Page 277'!R42)","v":3.7299548651550371E-2},{"$f":"LN('Page 277'!S43/'Page 277'!S42)","v":-2.4865088832196861E-2},{"$f":"LN('Page 277'!T43/'Page 277'!T42)","v":-2.7427604103515132E-2},{"$f":"LN('Page 277'!U43/'Page 277'!U42)","v":7.1557340765303637E-2},{"$f":"LN('Page 277'!V43/'Page 277'!V42)","v":3.006555571682842E-2},{"$f":"LN('Page 277'!W43/'Page 277'!W42)","v":0.17095779814363948},{"$f":"LN('Page 277'!X43/'Page 277'!X42)","v":-0.11106185171340001},{"$f":"LN('Page 277'!Y43/'Page 277'!Y42)","v":6.6035774338825293E-2},{"$f":"LN('Page 277'!Z43/'Page 277'!Z42)","v":-3.5664998410538912E-2},{"$f":"LN('Page 277'!AA43/'Page 277'!AA42)","v":4.3926313299627887E-2},{"$f":"LN('Page 277'!AB43/'Page 277'!AB42)","v":-3.4752424203033146E-3},{"$f":"LN('Page 277'!AC43/'Page 277'!AC42)","v":5.3728809817069866E-2},{"$f":"LN('Page 277'!AD43/'Page 277'!AD42)","v":5.2999696582927081E-2},{"$f":"LN('Page 277'!AE43/'Page 277'!AE42)","v":-3.5111631459662673E-2},{"$f":"LN('Page 277'!AF43/'Page 277'!AF42)","v":4.5677555601914867E-2}]
["2004-12-01",{"$f":"LN('Page 277'!B44/'Page 277'!B43)","v":3.1942491193192112E-2},{"$f":"LN('Page 277'!C44/'Page 277'!C43)","v":-7.8576913481500574E-2},{"$f":"LN('Page 277'!D44/'Page 277'!D43)","v":3.7183670283339881E-2},{"$f":"LN('Page 277'!E44/'Page 277'!E43)","v":1.1812384784482806E-2},{"$f":"LN('Page 277'!F44/'Page 277'!F43)","v":-3.4231269110829042E-2},{"$f":"LN('Page 277'!G44/'Page 277'!G43)","v":7.3688997629623151E-2},{"$f":"LN('Page 277'!H44/'Page 277'!H43)","v":6.2954811984739401E-2},{"$f":"LN('Page 277'!I44/'Page 277'!I43)","v":7.9096996758603308E-2},{"$f":"LN('Page 277'!J44/'Page 277'!J43)","v":4.2701865302176713E-2},{"$f":"LN('Page 277'!K44/'Page 277'!K43)","v":3.7520760091573076E-2},{"$f":"LN('Page 277'!L44/'Page 277'!L43)","v":3.7322922153975452E-2},{"$f":"LN('Page 277'!M44/'Page 277'!M43)","v":2.3366111829273544E-2},{"$f":"LN('Page 277'!N44/'Page 277'!N43)","v":2.3371322353075985E-3},{"$f":"LN('Page 277'!O44/'Page 277'!O43)","v":5.0807739631713138E-2},{"$f":"LN('Page 277'!P44/'Page 277'!P43)","v":4.5093492359046861E-2},{"$f":"LN('Page 277'!Q44/'Page 277'!Q43)","v":4.4272823677988037E-2},{"$f":"LN('Page 277'!R44/'Page 277'!R43)","v":5.0214868784261207E-2},{"$f":"LN('Page 277'!S44/'Page 277'!S43)","v":3.5296146903782737E-2},{"$f":"LN('Page 277'!T44/'Page 277'!T43)","v":5.7629112836636423E-2},{"$f":"LN('Page 277'!U44/'Page 277'!U43)","v":4.2255229895782231E-2},{"$f":"LN('Page 277'!V44/'Page 277'!V43)","v":3.0700799499319052E-2},{"$f":"LN('Page 277'!W44/'Page 277'!W43)","v":7.2845091274365475E-2},{"$f":"LN('Page 277'!X44/'Page 277'!X43)","v":0.15064395501804845},{"$f":"LN('Page 277'!Y44/'Page 277'!Y43)","v":-3.0476214064748372E-3},{"$f":"LN('Page 277'!Z44/'Page 277'!Z43)","v":-3.2285663497968721E-2},{"$f":"LN('Page 277'!AA44/'Page 277'!AA43)","v":2.9433435848742025E-2},{"$f":"LN('Page 277'!AB44/'Page 277'!AB43)","v":2.3651930318661592E-2},{"$f":"LN('Page 277'!AC44/'Page 277'!AC43)","v":5.7356806857164953E-2},{"$f":"LN('Page 277'!AD44/'Page 277'!AD43)","v":-1.7534987010644373E-2},{"$f":"LN('Page 277'!AE44/'Page 277'!AE43)","v":1.6938008368924173E-2},{"$f":"LN('Page 277'!AF44/'Page 277'!AF43)","v":2.0110608413675824E-4}]
["2005-01-03",{"$f":"LN('Page 277'!B45/'Page 277'!B44)","v":-2.5615747968515911E-2},{"$f":"LN('Page 277'!C45/'Page 277'!C44)","v":-6.230857333871094E-2},{"$f":"LN('Page 277'!D45/'Page 277'!D44)","v":9.3508767502730773E-3},{"$f":"LN('Page 277'!E45/'Page 277'!E44)","v":-5.2877616444773394E-2},{"$f":"LN('Page 277'!F45/'Page 277'!F44)","v":-2.2814677766171399E-2},{"$f":"LN('Page 277'!G45/'Page 277'!G44)","v":1.7925110113229552E-2},{"$f":"LN('Page 277'!H45/'Page 277'!H44)","v":-8.5845329852435093E-2},{"$f":"LN('Page 277'!I45/'Page 277'!I44)","v":-3.0892167212963981E-2},{"$f":"LN('Page 277'!J45/'Page 277'!J44)","v":2.9371738905941854E-2},{"$f":"LN('Page 277'!K45/'Page 277'!K44)","v":-1.0041685297054388E-2},{"$f":"LN('Page 277'!L45/'Page 277'!L44)","v":-8.4621241930356389E-2},{"$f":"LN('Page 277'!M45/'Page 277'!M44)","v":-3.5380477259514341E-2},{"$f":"LN('Page 277'!N45/'Page 277'!N44)","v":1.5921598453525445E-2},{"$f":"LN('Page 277'!O45/'Page 277'!O44)","v":-6.7814075802137774E-2},{"$f":"LN('Page 277'!P45/'Page 277'!P44)","v":-5.3752492235068984E-2},{"$f":"LN('Page 277'!Q45/'Page 277'!Q44)","v":-4.1077203519580364E-2},{"$f":"LN('Page 277'!R45/'Page 277'!R44)","v":1.9974890936536489E-2},{"$f":"LN('Page 277'!S45/'Page 277'!S44)","v":-3.5296146903782771E-2},{"$f":"LN('Page 277'!T45/'Page 277'!T44)","v":-3.7570488777121766E-3},{"$f":"LN('Page 277'!U45/'Page 277'!U44)","v":1.0133082270787906E-2},{"$f":"LN('Page 277'!V45/'Page 277'!V44)","v":2.7582814615142014E-2},{"$f":"LN('Page 277'!W45/'Page 277'!W44)","v":4.3767669233827577E-2},{"$f":"LN('Page 277'!X45/'Page 277'!X44)","v":-0.13597187714720946},{"$f":"LN('Page 277'!Y45/'Page 277'!Y44)","v":-1.6929992671041276E-2},{"$f":"LN('Page 277'!Z45/'Page 277'!Z44)","v":-0.1070981355563671},{"$f":"LN('Page 277'!AA45/'Page 277'!AA44)","v":-2.9626169780147062E-2},{"$f":"LN('Page 277'!AB45/'Page 277'!AB44)","v":-6.8598316342752333E-2},{"$f":"LN('Page 277'!AC45/'Page 277'!AC44)","v":-2.6126888043386216E-2},{"$f":"LN('Page 277'!AD45/'Page 277'!AD44)","v":-0.11972810485004924},{"$f":"LN('Page 277'!AE45/'Page 277'!AE44)","v":-7.9465482612990947E-3},{"$f":"LN('Page 277'!AF45/'Page 277'!AF44)","v":6.6139132769810005E-3}]
["2005-02-01",{"$f":"LN('Page 277'!B46/'Page 277'!B45)","v":1.8726934874337724E-2},{"$f":"LN('Page 277'!C46/'Page 277'!C45)","v":8.9831761210009339E-2},{"$f":"LN('Page 277'!D46/'Page 277'!D45)","v":7.5999757812586811E-3},{"$f":"LN('Page 277'!E46/'Page 277'!E45)","v":1.487577285865291E-2},{"$f":"LN('Page 277'!F46/'Page 277'!F45)","v":8.755104241017489E-2},{"$f":"LN('Page 277'!G46/'Page 277'!G45)","v":-1.8579061090213268E-2},{"$f":"LN('Page 277'!H46/'Page 277'!H45)","v":6.4796397100662775E-2},{"$f":"LN('Page 277'!I46/'Page 277'!I45)","v":0.12096939095894733},{"$f":"LN('Page 277'!J46/'Page 277'!J45)","v":-2.4295585874081371E-2},{"$f":"LN('Page 277'!K46/'Page 277'!K45)","v":-1.9802627296179754E-2},{"$f":"LN('Page 277'!L46/'Page 277'!L45)","v":-1.8781294338486465E-2},{"$f":"LN('Page 277'!M46/'Page 277'!M45)","v":-3.0301554580135844E-2},{"$f":"LN('Page 277'!N46/'Page 277'!N45)","v":5.9103040431050836E-2},{"$f":"LN('Page 277'!O46/'Page 277'!O45)","v":6.0012963591970378E-2},{"$f":"LN('Page 277'!P46/'Page 277'!P45)","v":-7.2005547854782619E-3},{"$f":"LN('Page 277'!Q46/'Page 277'!Q45)","v":6.9964747892186846E-2},{"$f":"LN('Page 277'!R46/'Page 277'!R45)","v":1.8175134839673361E-2},{"$f":"LN('Page 277'!S46/'Page 277'!S45)","v":-2.1155734695328915E-2},{"$f":"LN('Page 277'!T46/'Page 277'!T45)","v":3.1128995673563007E-2},{"$f":"LN('Page 277'!U46/'Page 277'!U45)","v":2.1197801209267085E-2},{"$f":"LN('Page 277'!V46/'Page 277'!V45)","v":0},{"$f":"LN('Page 277'!W46/'Page 277'!W45)","v":2.8040761814603344E-2},{"$f":"LN('Page 277'!X46/'Page 277'!X45)","v":0.1224991236785478},{"$f":"LN('Page 277'!Y46/'Page 277'!Y45)","v":-4.0385535649574408E-2},{"$f":"LN('Page 277'!Z46/'Page 277'!Z45)","v":9.2143114607623741E-2},{"$f":"LN('Page 277'!AA46/'Page 277'!AA45)","v":-2.7021826903600847E-3},{"$f":"LN('Page 277'!AB46/'Page 277'!AB45)","v":1.2664122215730326E-2},{"$f":"LN('Page 277'!AC46/'Page 277'!AC45)","v":-3.6719747501210774E-3},{"$f":"LN('Page 277'!AD46/'Page 277'!AD45)","v":1.0518504191220317E-2},{"$f":"LN('Page 277'!AE46/'Page 277'!AE45)","v":-1.5294415778151649E-2},{"$f":"LN('Page 277'!AF46/'Page 277'!AF45)","v":0.20938574149133185}]
["2005-03-01",{"$f":"LN('Page 277'!B47/'Page 277'!B46)","v":-1.930275225452871E-2},{"$f":"LN('Page 277'!C47/'Page 277'!C46)","v":-5.5487726498661551E-2},{"$f":"LN('Page 277'!D47/'Page 277'!D46)","v":-0.18511163563429758},{"$f":"LN('Page 277'!E47/'Page 277'!E46)","v":-5.0471439764517609E-2},{"$f":"LN('Page 277'!F47/'Page 277'!F46)","v":6.1496993851172195E-2},{"$f":"LN('Page 277'!G47/'Page 277'!G46)","v":-5.9984290457148703E-2},{"$f":"LN('Page 277'!H47/'Page 277'!H46)","v":-3.8773885621271417E-2},{"$f":"LN('Page 277'!I47/'Page 277'!I46)","v":-3.9533996363863642E-2},{"$f":"LN('Page 277'!J47/'Page 277'!J46)","v":2.7819197694564632E-2},{"$f":"LN('Page 277'!K47/'Page 277'!K46)","v":2.4118559761748433E-2},{"$f":"LN('Page 277'!L47/'Page 277'!L46)","v":-0.19291006897247834},{"$f":"LN('Page 277'!M47/'Page 277'!M46)","v":-4.3123564739768361E-2},{"$f":"LN('Page 277'!N47/'Page 277'!N46)","v":-2.0235855939368382E-2},{"$f":"LN('Page 277'!O47/'Page 277'!O46)","v":5.7076831135436719E-2},{"$f":"LN('Page 277'!P47/'Page 277'!P46)","v":-1.3004371054261266E-2},{"$f":"LN('Page 277'!Q47/'Page 277'!Q46)","v":-3.2393244720235054E-2},{"$f":"LN('Page 277'!R47/'Page 277'!R46)","v":2.337386807319905E-2},{"$f":"LN('Page 277'!S47/'Page 277'!S46)","v":-5.4629194936529513E-2},{"$f":"LN('Page 277'!T47/'Page 277'!T46)","v":-2.014810170653111E-2},{"$f":"LN('Page 277'!U47/'Page 277'!U46)","v":-6.0721017578951812E-2},{"$f":"LN('Page 277'!V47/'Page 277'!V46)","v":2.061928720273561E-2},{"$f":"LN('Page 277'!W47/'Page 277'!W46)","v":7.2927962795744389E-3},{"$f":"LN('Page 277'!X47/'Page 277'!X46)","v":3.2691370170432756E-2},{"$f":"LN('Page 277'!Y47/'Page 277'!Y46)","v":-3.9980597752063453E-2},{"$f":"LN('Page 277'!Z47/'Page 277'!Z46)","v":-7.9333601939587397E-4},{"$f":"LN('Page 277'!AA47/'Page 277'!AA46)","v":-1.5473890901887063E-3},{"$f":"LN('Page 277'!AB47/'Page 277'!AB46)","v":-1.5398855004874062E-2},{"$f":"LN('Page 277'!AC47/'Page 277'!AC46)","v":1.7624278729574932E-2},{"$f":"LN('Page 277'!AD47/'Page 277'!AD46)","v":-1.324124070913597E-2},{"$f":"LN('Page 277'!AE47/'Page 277'!AE46)","v":-2.642796450870024E-2},{"$f":"LN('Page 277'!AF47/'Page 277'!AF46)","v":-6.0270261407945912E-2}]
["2005-04-01",{"$f":"LN('Page 277'!B48/'Page 277'!B47)","v":-2.031351934767037E-2},{"$f":"LN('Page 277'!C48/'Page 277'!C47)","v":-4.594142352617691E-2},{"$f":"LN('Page 277'!D48/'Page 277'!D47)","v":-8.5753223660070765E-2},{"$f":"LN('Page 277'!E48/'Page 277'!E47)","v":2.5554106869720993E-2},{"$f":"LN('Page 277'!F48/'Page 277'!F47)","v":1.7974904970744807E-2},{"$f":"LN('Page 277'!G48/'Page 277'!G47)","v":5.3421151606371717E-2},{"$f":"LN('Page 277'!H48/'Page 277'!H47)","v":-3.3154717026338883E-2},{"$f":"LN('Page 277'!I48/'Page 277'!I47)","v":-8.4090263411085331E-2},{"$f":"LN('Page 277'!J48/'Page 277'!J47)","v":-8.4743621254678075E-2},{"$f":"LN('Page 277'!K48/'Page 277'!K47)","v":3.7254664094249785E-3},{"$f":"LN('Page 277'!L48/'Page 277'!L47)","v":-9.6880755578711189E-2},{"$f":"LN('Page 277'!M48/'Page 277'!M47)","v":-7.8097869719647564E-2},{"$f":"LN('Page 277'!N48/'Page 277'!N47)","v":-3.9729129667874785E-2},{"$f":"LN('Page 277'!O48/'Page 277'!O47)","v":-6.9389225039504426E-2},{"$f":"LN('Page 277'!P48/'Page 277'!P47)","v":-0.1793310245768219},{"$f":"LN('Page 277'!Q48/'Page 277'!Q47)","v":1.2216556821876676E-2},{"$f":"LN('Page 277'!R48/'Page 277'!R47)","v":2.1792629990852578E-2},{"$f":"LN('Page 277'!S48/'Page 277'!S47)","v":3.537539129398188E-2},{"$f":"LN('Page 277'!T48/'Page 277'!T47)","v":4.156631908011249E-2},{"$f":"LN('Page 277'!U48/'Page 277'!U47)","v":-6.046075454855495E-2},{"$f":"LN('Page 277'!V48/'Page 277'!V47)","v":-0.11379938430369087},{"$f":"LN('Page 277'!W48/'Page 277'!W47)","v":-6.1548623195070394E-3},{"$f":"LN('Page 277'!X48/'Page 277'!X47)","v":4.6176847292534448E-2},{"$f":"LN('Page 277'!Y48/'Page 277'!Y47)","v":4.5621225116864943E-2},{"$f":"LN('Page 277'!Z48/'Page 277'!Z47)","v":3.355757717932132E-2},{"$f":"LN('Page 277'!AA48/'Page 277'!AA47)","v":2.6551077392297673E-2},{"$f":"LN('Page 277'!AB48/'Page 277'!AB47)","v":1.7643524858697884E-2},{"$f":"LN('Page 277'!AC48/'Page 277'!AC47)","v":6.0222826270591909E-4},{"$f":"LN('Page 277'!AD48/'Page 277'!AD47)","v":1.9796687307881516E-2},{"$f":"LN('Page 277'!AE48/'Page 277'!AE47)","v":-6.128420224573547E-2},{"$f":"LN('Page 277'!AF48/'Page 277'!AF47)","v":-4.415456483047743E-2}]
["2005-05-02",{"$f":"LN('Page 277'!B49/'Page 277'!B48)","v":2.9512223385105795E-2},{"$f":"LN('Page 277'!C49/'Page 277'!C48)","v":-6.3478637625527953E-2},{"$f":"LN('Page 277'!D49/'Page 277'!D48)","v":8.8300995738869445E-2},{"$f":"LN('Page 277'!E49/'Page 277'!E48)","v":2.1702240638656743E-2},{"$f":"LN('Page 277'!F49/'Page 277'!F48)","v":7.5208526210292018E-2},{"$f":"LN('Page 277'!G49/'Page 277'!G48)","v":3.0681593211776266E-3},{"$f":"LN('Page 277'!H49/'Page 277'!H48)","v":6.6542399816643685E-2},{"$f":"LN('Page 277'!I49/'Page 277'!I48)","v":-4.8856415191471511E-3},{"$f":"LN('Page 277'!J49/'Page 277'!J48)","v":3.8675741971714132E-2},{"$f":"LN('Page 277'!K49/'Page 277'!K48)","v":7.6934415658113531E-3},{"$f":"LN('Page 277'!L49/'Page 277'!L48)","v":0.18352710244930318},{"$f":"LN('Page 277'!M49/'Page 277'!M48)","v":0.10662263503826326},{"$f":"LN('Page 277'!N49/'Page 277'!N48)","v":1.8793263814285963E-2},{"$f":"LN('Page 277'!O49/'Page 277'!O48)","v":9.5400273952770856E-2},{"$f":"LN('Page 277'!P49/'Page 277'!P48)","v":-8.2623071303056482E-3},{"$f":"LN('Page 277'!Q49/'Page 277'!Q48)","v":0.14017665330873544},{"$f":"LN('Page 277'!R49/'Page 277'!R48)","v":-1.767017205696865E-2},{"$f":"LN('Page 277'!S49/'Page 277'!S48)","v":7.3367900638543083E-3},{"$f":"LN('Page 277'!T49/'Page 277'!T48)","v":2.7012799246068551E-2},{"$f":"LN('Page 277'!U49/'Page 277'!U48)","v":5.4213816594147521E-2},{"$f":"LN('Page 277'!V49/'Page 277'!V48)","v":7.7717127067817651E-3},{"$f":"LN('Page 277'!W49/'Page 277'!W48)","v":3.260637264885393E-2},{"$f":"LN('Page 277'!X49/'Page 277'!X48)","v":-4.4209633543365608E-2},{"$f":"LN('Page 277'!Y49/'Page 277'!Y48)","v":2.2642476749759752E-2},{"$f":"LN('Page 277'!Z49/'Page 277'!Z48)","v":3.3581725658307145E-2},{"$f":"LN('Page 277'!AA49/'Page 277'!AA48)","v":1.8304582795982412E-2},{"$f":"LN('Page 277'!AB49/'Page 277'!AB48)","v":-1.7643524858697926E-2},{"$f":"LN('Page 277'!AC49/'Page 277'!AC48)","v":5.2005462970895373E-2},{"$f":"LN('Page 277'!AD49/'Page 277'!AD48)","v":-1.165061721997525E-2},{"$f":"LN('Page 277'!AE49/'Page 277'!AE48)","v":5.1635226600492837E-3},{"$f":"LN('Page 277'!AF49/'Page 277'!AF48)","v":-9.5780979821466408E-3}]
["2005-06-01",{"$f":"LN('Page 277'!B50/'Page 277'!B49)","v":-1.4268747689802155E-4},{"$f":"LN('Page 277'!C50/'Page 277'!C49)","v":-3.6437396202430979E-2},{"$f":"LN('Page 277'!D50/'Page 277'!D49)","v":4.7213737480265194E-2},{"$f":"LN('Page 277'!E50/'Page 277'!E49)","v":-9.4910117105872979E-3},{"$f":"LN('Page 277'!F50/'Page 277'!F49)","v":3.235921258011671E-2},{"$f":"LN('Page 277'!G50/'Page 277'!G49)","v":-1.8774709395353945E-2},{"$f":"LN('Page 277'!H50/'Page 277'!H49)","v":1.2665190225578091E-2},{"$f":"LN('Page 277'!I50/'Page 277'!I49)","v":-7.8226311422276262E-2},{"$f":"LN('Page 277'!J50/'Page 277'!J49)","v":-8.570635246069197E-2},{"$f":"LN('Page 277'!K50/'Page 277'!K49)","v":-4.5290759180162989E-2},{"$f":"LN('Page 277'!L50/'Page 277'!L49)","v":7.5398017484211849E-2},{"$f":"LN('Page 277'!M50/'Page 277'!M49)","v":-8.810629682154807E-3},{"$f":"LN('Page 277'!N50/'Page 277'!N49)","v":1.0941335128593244E-2},{"$f":"LN('Page 277'!O50/'Page 277'!O49)","v":4.6642858212284775E-2},{"$f":"LN('Page 277'!P50/'Page 277'!P49)","v":-1.8093931385227312E-2},{"$f":"LN('Page 277'!Q50/'Page 277'!Q49)","v":-3.5683816664131493E-2},{"$f":"LN('Page 277'!R50/'Page 277'!R49)","v":-3.1891247537313885E-2},{"$f":"LN('Page 277'!S50/'Page 277'!S49)","v":-1.2356732688905492E-2},{"$f":"LN('Page 277'!T50/'Page 277'!T49)","v":-6.0421861377198391E-2},{"$f":"LN('Page 277'!U50/'Page 277'!U49)","v":-0.1089583021297915},{"$f":"LN('Page 277'!V50/'Page 277'!V49)","v":-5.839972287312481E-2},{"$f":"LN('Page 277'!W50/'Page 277'!W49)","v":-2.7097609528046317E-2},{"$f":"LN('Page 277'!X50/'Page 277'!X49)","v":-4.0098923757426963E-2},{"$f":"LN('Page 277'!Y50/'Page 277'!Y49)","v":-3.7619482061249911E-2},{"$f":"LN('Page 277'!Z50/'Page 277'!Z49)","v":-1.1569451682817729E-2},{"$f":"LN('Page 277'!AA50/'Page 277'!AA49)","v":-4.4468588381628066E-2},{"$f":"LN('Page 277'!AB50/'Page 277'!AB49)","v":1.5848192240023713E-2},{"$f":"LN('Page 277'!AC50/'Page 277'!AC49)","v":-3.8253377781918056E-2},{"$f":"LN('Page 277'!AD50/'Page 277'!AD49)","v":-2.3716526617316044E-2},{"$f":"LN('Page 277'!AE50/'Page 277'!AE49)","v":2.0391530690980819E-2},{"$f":"LN('Page 277'!AF50/'Page 277'!AF49)","v":2.2444608575396804E-2}]
["2005-07-01",{"$f":"LN('Page 277'!B51/'Page 277'!B50)","v":3.5336451864729147E-2},{"$f":"LN('Page 277'!C51/'Page 277'!C50)","v":7.086611586863184E-2},{"$f":"LN('Page 277'!D51/'Page 277'!D50)","v":3.5426047847868215E-2},{"$f":"LN('Page 277'!E51/'Page 277'!E50)","v":3.2831770011486773E-2},{"$f":"LN('Page 277'!F51/'Page 277'!F50)","v":1.5381065938180444E-4},{"$f":"LN('Page 277'!G51/'Page 277'!G50)","v":-5.0999961834334188E-2},{"$f":"LN('Page 277'!H51/'Page 277'!H50)","v":0.12796988096337655},{"$f":"LN('Page 277'!I51/'Page 277'!I50)","v":-7.7332429856533293E-3},{"$f":"LN('Page 277'!J51/'Page 277'!J50)","v":1.7896679691938006E-2},{"$f":"LN('Page 277'!K51/'Page 277'!K50)","v":-4.1666726948459453E-3},{"$f":"LN('Page 277'!L51/'Page 277'!L50)","v":7.961287744985443E-2},{"$f":"LN('Page 277'!M51/'Page 277'!M50)","v":0.111924040446493},{"$f":"LN('Page 277'!N51/'Page 277'!N50)","v":6.9773816470022842E-2},{"$f":"LN('Page 277'!O51/'Page 277'!O50)","v":4.6207295751177817E-2},{"$f":"LN('Page 277'!P51/'Page 277'!P50)","v":0.11761648380916553},{"$f":"LN('Page 277'!Q51/'Page 277'!Q50)","v":4.2071213920687058E-2},{"$f":"LN('Page 277'!R51/'Page 277'!R50)","v":-1.6015564711261688E-2},{"$f":"LN('Page 277'!S51/'Page 277'!S50)","v":4.725348426426074E-3},{"$f":"LN('Page 277'!T51/'Page 277'!T50)","v":4.7124103313094759E-2},{"$f":"LN('Page 277'!U51/'Page 277'!U50)","v":0.11618804114610691},{"$f":"LN('Page 277'!V51/'Page 277'!V50)","v":3.6675870532732226E-2},{"$f":"LN('Page 277'!W51/'Page 277'!W50)","v":3.492972976486533E-2},{"$f":"LN('Page 277'!X51/'Page 277'!X50)","v":8.487574293294043E-3},{"$f":"LN('Page 277'!Y51/'Page 277'!Y50)","v":3.0524458210646015E-2},{"$f":"LN('Page 277'!Z51/'Page 277'!Z50)","v":-3.9821494186671608E-2},{"$f":"LN('Page 277'!AA51/'Page 277'!AA50)","v":5.8254304360585818E-2},{"$f":"LN('Page 277'!AB51/'Page 277'!AB50)","v":4.265320093491904E-2},{"$f":"LN('Page 277'!AC51/'Page 277'!AC50)","v":-1.2749176670454627E-2},{"$f":"LN('Page 277'!AD51/'Page 277'!AD50)","v":2.1515299524503405E-3},{"$f":"LN('Page 277'!AE51/'Page 277'!AE50)","v":2.3481598372028376E-2},{"$f":"LN('Page 277'!AF51/'Page 277'!AF50)","v":2.1951886837931294E-2}]
["2005-08-01",{"$f":"LN('Page 277'!B52/'Page 277'!B51)","v":-1.1285467972359155E-2},{"$f":"LN('Page 277'!C52/'Page 277'!C51)","v":-4.0852320064980054E-2},{"$f":"LN('Page 277'!D52/'Page 277'!D51)","v":-1.4155949230132298E-2},{"$f":"LN('Page 277'!E52/'Page 277'!E51)","v":4.3946915974237147E-3},{"$f":"LN('Page 277'!F52/'Page 277'!F51)","v":1.8891481995990719E-2},{"$f":"LN('Page 277'!G52/'Page 277'!G51)","v":6.3150718583181633E-3},{"$f":"LN('Page 277'!H52/'Page 277'!H51)","v":2.9041160489105523E-2},{"$f":"LN('Page 277'!I52/'Page 277'!I51)","v":-6.6967475452974504E-2},{"$f":"LN('Page 277'!J52/'Page 277'!J51)","v":-1.7495476075724006E-2},{"$f":"LN('Page 277'!K52/'Page 277'!K51)","v":-2.6289472935818216E-2},{"$f":"LN('Page 277'!L52/'Page 277'!L51)","v":-5.9944142589560705E-2},{"$f":"LN('Page 277'!M52/'Page 277'!M51)","v":-7.3624746343640385E-2},{"$f":"LN('Page 277'!N52/'Page 277'!N51)","v":-2.0239881347746316E-2},{"$f":"LN('Page 277'!O52/'Page 277'!O51)","v":0.12015205726548621},{"$f":"LN('Page 277'!P52/'Page 277'!P51)","v":-3.2127817082959545E-2},{"$f":"LN('Page 277'!Q52/'Page 277'!Q51)","v":-5.0702103119962205E-2},{"$f":"LN('Page 277'!R52/'Page 277'!R51)","v":-3.843694674562827E-3},{"$f":"LN('Page 277'!S52/'Page 277'!S51)","v":-3.6302171292991139E-2},{"$f":"LN('Page 277'!T52/'Page 277'!T51)","v":5.3870606915213462E-3},{"$f":"LN('Page 277'!U52/'Page 277'!U51)","v":4.0428989995644933E-2},{"$f":"LN('Page 277'!V52/'Page 277'!V51)","v":-4.6773375085093986E-2},{"$f":"LN('Page 277'!W52/'Page 277'!W51)","v":5.4354604727998697E-2},{"$f":"LN('Page 277'!X52/'Page 277'!X51)","v":-8.2044936173400654E-2},{"$f":"LN('Page 277'!Y52/'Page 277'!Y51)","v":6.9520158606998589E-2},{"$f":"LN('Page 277'!Z52/'Page 277'!Z51)","v":-3.2152005438417744E-2},{"$f":"LN('Page 277'!AA52/'Page 277'!AA51)","v":-2.7419814273057968E-3},{"$f":"LN('Page 277'!AB52/'Page 277'!AB51)","v":-1.5618538747627968E-2},{"$f":"LN('Page 277'!AC52/'Page 277'!AC51)","v":-9.669696617958936E-3},{"$f":"LN('Page 277'!AD52/'Page 277'!AD51)","v":-4.5219634834625322E-2},{"$f":"LN('Page 277'!AE52/'Page 277'!AE51)","v":-8.9984481022414978E-2},{"$f":"LN('Page 277'!AF52/'Page 277'!AF51)","v":2.4196804699411927E-2}]
["2005-09-01",{"$f":"LN('Page 277'!B53/'Page 277'!B52)","v":6.9249074268589216E-3},{"$f":"LN('Page 277'!C53/'Page 277'!C52)","v":-9.2471150737398339E-2},{"$f":"LN('Page 277'!D53/'Page 277'!D52)","v":4.5616997408971932E-2},{"$f":"LN('Page 277'!E53/'Page 277'!E52)","v":3.8907446299573378E-2},{"$f":"LN('Page 277'!F53/'Page 277'!F52)","v":1.3789187312396822E-2},{"$f":"LN('Page 277'!G53/'Page 277'!G52)","v":3.9095160497229303E-2},{"$f":"LN('Page 277'!H53/'Page 277'!H52)","v":5.7046992662719183E-2},{"$f":"LN('Page 277'!I53/'Page 277'!I52)","v":-1.0168253429252682E-2},{"$f":"LN('Page 277'!J53/'Page 277'!J52)","v":-4.3030609011065264E-2},{"$f":"LN('Page 277'!K53/'Page 277'!K52)","v":8.5366372071751795E-3},{"$f":"LN('Page 277'!L53/'Page 277'!L52)","v":-0.11058139743583054},{"$f":"LN('Page 277'!M53/'Page 277'!M52)","v":-5.5627110165963341E-2},{"$f":"LN('Page 277'!N53/'Page 277'!N52)","v":-2.0658011620421985E-2},{"$f":"LN('Page 277'!O53/'Page 277'!O52)","v":5.3166311674076518E-2},{"$f":"LN('Page 277'!P53/'Page 277'!P52)","v":-5.0163135036327879E-3},{"$f":"LN('Page 277'!Q53/'Page 277'!Q52)","v":-4.2662405188275292E-2},{"$f":"LN('Page 277'!R53/'Page 277'!R52)","v":-1.766643035564452E-3},{"$f":"LN('Page 277'!S53/'Page 277'!S52)","v":1.2213741976343732E-3},{"$f":"LN('Page 277'!T53/'Page 277'!T52)","v":-1.222106867245757E-2},{"$f":"LN('Page 277'!U53/'Page 277'!U52)","v":3.1571795875813574E-2},{"$f":"LN('Page 277'!V53/'Page 277'!V52)","v":3.0546396365180008E-2},{"$f":"LN('Page 277'!W53/'Page 277'!W52)","v":5.2814229686611279E-2},{"$f":"LN('Page 277'!X53/'Page 277'!X52)","v":-3.6625917411804654E-2},{"$f":"LN('Page 277'!Y53/'Page 277'!Y52)","v":-6.2032438894289652E-2},{"$f":"LN('Page 277'!Z53/'Page 277'!Z52)","v":-2.0375603033017994E-2},{"$f":"LN('Page 277'!AA53/'Page 277'!AA52)","v":6.9297907636100012E-2},{"$f":"LN('Page 277'!AB53/'Page 277'!AB52)","v":-4.3821279590416148E-3},{"$f":"LN('Page 277'!AC53/'Page 277'!AC52)","v":3.6179656577502474E-2},{"$f":"LN('Page 277'!AD53/'Page 277'!AD52)","v":-6.4267354397108223E-4},{"$f":"LN('Page 277'!AE53/'Page 277'!AE52)","v":-2.5721231324919751E-2},{"$f":"LN('Page 277'!AF53/'Page 277'!AF52)","v":5.908752662314206E-2}]
["2005-10-03",{"$f":"LN('Page 277'!B54/'Page 277'!B53)","v":-1.7899994313773929E-2},{"$f":"LN('Page 277'!C54/'Page 277'!C53)","v":-5.4200674693391446E-3},{"$f":"LN('Page 277'!D54/'Page 277'!D53)","v":4.4712584018884359E-2},{"$f":"LN('Page 277'!E54/'Page 277'!E53)","v":-7.6613277964327677E-3},{"$f":"LN('Page 277'!F54/'Page 277'!F53)","v":-4.9899740521956448E-2},{"$f":"LN('Page 277'!G54/'Page 277'!G53)","v":5.8126700660439141E-3},{"$f":"LN('Page 277'!H54/'Page 277'!H53)","v":-0.10618361611297575},{"$f":"LN('Page 277'!I54/'Page 277'!I53)","v":6.2472709572152785E-2},{"$f":"LN('Page 277'!J54/'Page 277'!J53)","v":9.5854036686783221E-3},{"$f":"LN('Page 277'!K54/'Page 277'!K53)","v":6.9581282094668068E-3},{"$f":"LN('Page 277'!L54/'Page 277'!L53)","v":-0.1109657416650736},{"$f":"LN('Page 277'!M54/'Page 277'!M53)","v":7.3256368722335555E-2},{"$f":"LN('Page 277'!N54/'Page 277'!N53)","v":-9.1927455517847478E-2},{"$f":"LN('Page 277'!O54/'Page 277'!O53)","v":-4.0505625285962132E-2},{"$f":"LN('Page 277'!P54/'Page 277'!P53)","v":2.0532047094810383E-2},{"$f":"LN('Page 277'!Q54/'Page 277'!Q53)","v":-4.7577905830525957E-2},{"$f":"LN('Page 277'!R54/'Page 277'!R53)","v":-1.0503449556249871E-2},{"$f":"LN('Page 277'!S54/'Page 277'!S53)","v":8.6197293297574903E-2},{"$f":"LN('Page 277'!T54/'Page 277'!T53)","v":-9.5035165254536737E-3},{"$f":"LN('Page 277'!U54/'Page 277'!U53)","v":-5.8342036940418444E-2},{"$f":"LN('Page 277'!V54/'Page 277'!V53)","v":3.5010045623190378E-2},{"$f":"LN('Page 277'!W54/'Page 277'!W53)","v":1.8058554362292371E-2},{"$f":"LN('Page 277'!X54/'Page 277'!X53)","v":3.6258877583862995E-2},{"$f":"LN('Page 277'!Y54/'Page 277'!Y53)","v":-1.1785505194441416E-3},{"$f":"LN('Page 277'!Z54/'Page 277'!Z53)","v":-0.13842483752179424},{"$f":"LN('Page 277'!AA54/'Page 277'!AA53)","v":-5.4940550608893871E-2},{"$f":"LN('Page 277'!AB54/'Page 277'!AB53)","v":8.7451366253586318E-3},{"$f":"LN('Page 277'!AC54/'Page 277'!AC53)","v":-1.0796061283560747E-2},{"$f":"LN('Page 277'!AD54/'Page 277'!AD53)","v":-2.4074031851888247E-2},{"$f":"LN('Page 277'!AE54/'Page 277'!AE53)","v":7.675606534817557E-2},{"$f":"LN('Page 277'!AF54/'Page 277'!AF53)","v":-0.12387475055085766}]
["2005-11-01",{"$f":"LN('Page 277'!B55/'Page 277'!B54)","v":3.4581237676988605E-2},{"$f":"LN('Page 277'!C55/'Page 277'!C54)","v":0.12703037360806441},{"$f":"LN('Page 277'!D55/'Page 277'!D54)","v":3.5492263906324352E-2},{"$f":"LN('Page 277'!E55/'Page 277'!E54)","v":3.2456806178875773E-2},{"$f":"LN('Page 277'!F55/'Page 277'!F54)","v":5.7167106581943863E-2},{"$f":"LN('Page 277'!G55/'Page 277'!G54)","v":6.8487468119720521E-2},{"$f":"LN('Page 277'!H55/'Page 277'!H54)","v":9.4055955342796926E-2},{"$f":"LN('Page 277'!I55/'Page 277'!I54)","v":3.3885139264615775E-2},{"$f":"LN('Page 277'!J55/'Page 277'!J54)","v":2.296123834818568E-2},{"$f":"LN('Page 277'!K55/'Page 277'!K54)","v":5.198645174694938E-2},{"$f":"LN('Page 277'!L55/'Page 277'!L54)","v":-0.20545063730561666},{"$f":"LN('Page 277'!M55/'Page 277'!M54)","v":2.0222397007998206E-2},{"$f":"LN('Page 277'!N55/'Page 277'!N54)","v":7.1663892514036848E-2},{"$f":"LN('Page 277'!O55/'Page 277'!O54)","v":5.6599107365378584E-2},{"$f":"LN('Page 277'!P55/'Page 277'!P54)","v":8.4627291677561431E-2},{"$f":"LN('Page 277'!Q55/'Page 277'!Q54)","v":0.13040014782673898},{"$f":"LN('Page 277'!R55/'Page 277'!R54)","v":-8.8106296821549197E-3},{"$f":"LN('Page 277'!S55/'Page 277'!S54)","v":4.3550631224768349E-2},{"$f":"LN('Page 277'!T55/'Page 277'!T54)","v":4.5254334705107646E-3},{"$f":"LN('Page 277'!U55/'Page 277'!U54)","v":8.9242950636757717E-2},{"$f":"LN('Page 277'!V55/'Page 277'!V54)","v":3.7700662364008368E-2},{"$f":"LN('Page 277'!W55/'Page 277'!W54)","v":-3.0612495948348563E-2},{"$f":"LN('Page 277'!X55/'Page 277'!X54)","v":5.3951285962047978E-2},{"$f":"LN('Page 277'!Y55/'Page 277'!Y54)","v":7.7135728882227236E-2},{"$f":"LN('Page 277'!Z55/'Page 277'!Z54)","v":-1.6686918785014597E-2},{"$f":"LN('Page 277'!AA55/'Page 277'!AA54)","v":2.1068445774304875E-2},{"$f":"LN('Page 277'!AB55/'Page 277'!AB54)","v":4.3448060150596282E-2},{"$f":"LN('Page 277'!AC55/'Page 277'!AC54)","v":5.2851188193996486E-2},{"$f":"LN('Page 277'!AD55/'Page 277'!AD54)","v":1.470855083431217E-2},{"$f":"LN('Page 277'!AE55/'Page 277'!AE54)","v":2.6134258710418995E-2},{"$f":"LN('Page 277'!AF55/'Page 277'!AF54)","v":3.815563541679072E-2}]
["2005-12-01",{"$f":"LN('Page 277'!B56/'Page 277'!B55)","v":-9.528500142413687E-4},{"$f":"LN('Page 277'!C56/'Page 277'!C55)","v":7.5842213332526193E-2},{"$f":"LN('Page 277'!D56/'Page 277'!D55)","v":1.6180862197089498E-2},{"$f":"LN('Page 277'!E56/'Page 277'!E55)","v":7.8339212780407738E-4},{"$f":"LN('Page 277'!F56/'Page 277'!F55)","v":2.9700829254173194E-2},{"$f":"LN('Page 277'!G56/'Page 277'!G55)","v":-4.1640641867552982E-4},{"$f":"LN('Page 277'!H56/'Page 277'!H55)","v":-1.7432232241474714E-4},{"$f":"LN('Page 277'!I56/'Page 277'!I55)","v":-5.9673169077704346E-3},{"$f":"LN('Page 277'!J56/'Page 277'!J55)","v":-2.8784882094972462E-2},{"$f":"LN('Page 277'!K56/'Page 277'!K55)","v":-1.1803793304009404E-2},{"$f":"LN('Page 277'!L56/'Page 277'!L55)","v":-0.12029317970226346},{"$f":"LN('Page 277'!M56/'Page 277'!M55)","v":-3.1608658636442653E-2},{"$f":"LN('Page 277'!N56/'Page 277'!N55)","v":1.9178670030572068E-2},{"$f":"LN('Page 277'!O56/'Page 277'!O55)","v":-3.3152207316900509E-2},{"$f":"LN('Page 277'!P56/'Page 277'!P55)","v":-7.8365376685959193E-2},{"$f":"LN('Page 277'!Q56/'Page 277'!Q55)","v":-6.6508666504689312E-2},{"$f":"LN('Page 277'!R56/'Page 277'!R55)","v":-2.7075817260754826E-2},{"$f":"LN('Page 277'!S56/'Page 277'!S55)","v":3.7094875175309655E-2},{"$f":"LN('Page 277'!T56/'Page 277'!T55)","v":-5.7465998602946933E-2},{"$f":"LN('Page 277'!U56/'Page 277'!U55)","v":-3.8478662246293838E-3},{"$f":"LN('Page 277'!V56/'Page 277'!V55)","v":-1.2583677756234533E-2},{"$f":"LN('Page 277'!W56/'Page 277'!W55)","v":3.6651493165116622E-2},{"$f":"LN('Page 277'!X56/'Page 277'!X55)","v":7.8570051941829144E-2},{"$f":"LN('Page 277'!Y56/'Page 277'!Y55)","v":-5.6901575518259327E-2},{"$f":"LN('Page 277'!Z56/'Page 277'!Z55)","v":9.5310179804324741E-2},{"$f":"LN('Page 277'!AA56/'Page 277'!AA55)","v":1.2117103211349229E-2},{"$f":"LN('Page 277'!AB56/'Page 277'!AB55)","v":-1.7238181742378345E-2},{"$f":"LN('Page 277'!AC56/'Page 277'!AC55)","v":3.7657126385328331E-2},{"$f":"LN('Page 277'!AD56/'Page 277'!AD55)","v":-5.9834051855431142E-2},{"$f":"LN('Page 277'!AE56/'Page 277'!AE55)","v":-3.4066554563606195E-2},{"$f":"LN('Page 277'!AF56/'Page 277'!AF55)","v":-3.2563485910827014E-2}]
["2006-01-03",{"$f":"LN('Page 277'!B57/'Page 277'!B56)","v":2.5147961230518261E-2},{"$f":"LN('Page 277'!C57/'Page 277'!C56)","v":6.3151040259666502E-2},{"$f":"LN('Page 277'!D57/'Page 277'!D56)","v":-4.1490995554845825E-2},{"$f":"LN('Page 277'!E57/'Page 277'!E56)","v":2.1497874490983376E-2},{"$f":"LN('Page 277'!F57/'Page 277'!F56)","v":-2.7929088055432878E-2},{"$f":"LN('Page 277'!G57/'Page 277'!G56)","v":-4.1021584060690279E-2},{"$f":"LN('Page 277'!H57/'Page 277'!H56)","v":0.16559126222915135},{"$f":"LN('Page 277'!I57/'Page 277'!I56)","v":-8.2039752711578345E-2},{"$f":"LN('Page 277'!J57/'Page 277'!J56)","v":5.4396526110739675E-2},{"$f":"LN('Page 277'!K57/'Page 277'!K56)","v":-6.7690505338030463E-2},{"$f":"LN('Page 277'!L57/'Page 277'!L56)","v":0.21458520228304806},{"$f":"LN('Page 277'!M57/'Page 277'!M56)","v":1.7410774202929755E-3},{"$f":"LN('Page 277'!N57/'Page 277'!N56)","v":3.099366436581167E-2},{"$f":"LN('Page 277'!O57/'Page 277'!O56)","v":8.5430071204617777E-2},{"$f":"LN('Page 277'!P57/'Page 277'!P56)","v":-1.1077036338907607E-2},{"$f":"LN('Page 277'!Q57/'Page 277'!Q56)","v":-0.1607120724610995},{"$f":"LN('Page 277'!R57/'Page 277'!R56)","v":-4.3533755804915142E-2},{"$f":"LN('Page 277'!S57/'Page 277'!S56)","v":1.0021926359046567E-2},{"$f":"LN('Page 277'!T57/'Page 277'!T56)","v":2.6330383502959478E-2},{"$f":"LN('Page 277'!U57/'Page 277'!U56)","v":3.7542601832919666E-2},{"$f":"LN('Page 277'!V57/'Page 277'!V56)","v":-6.3181739632142964E-2},{"$f":"LN('Page 277'!W57/'Page 277'!W56)","v":-3.240219498645891E-2},{"$f":"LN('Page 277'!X57/'Page 277'!X56)","v":8.1179829888370206E-2},{"$f":"LN('Page 277'!Y57/'Page 277'!Y56)","v":7.3860307765218847E-2},{"$f":"LN('Page 277'!Z57/'Page 277'!Z56)","v":9.6580828005780536E-2},{"$f":"LN('Page 277'!AA57/'Page 277'!AA56)","v":2.7715002237054608E-2},{"$f":"LN('Page 277'!AB57/'Page 277'!AB56)","v":7.1590568904359053E-2},{"$f":"LN('Page 277'!AC57/'Page 277'!AC56)","v":4.3047747170555171E-2},{"$f":"LN('Page 277'!AD57/'Page 277'!AD56)","v":6.2749978107486393E-2},{"$f":"LN('Page 277'!AE57/'Page 277'!AE56)","v":-1.47444128178424E-2},{"$f":"LN('Page 277'!AF57/'Page 277'!AF56)","v":0.11090367760583343}]
["2006-02-01",{"$f":"LN('Page 277'!B58/'Page 277'!B57)","v":4.529940641520396E-4},{"$f":"LN('Page 277'!C58/'Page 277'!C57)","v":-6.6912371416664659E-2},{"$f":"LN('Page 277'!D58/'Page 277'!D57)","v":1.3719727397480003E-2},{"$f":"LN('Page 277'!E58/'Page 277'!E57)","v":2.6844712184124434E-2},{"$f":"LN('Page 277'!F58/'Page 277'!F57)","v":6.6343941572338291E-2},{"$f":"LN('Page 277'!G58/'Page 277'!G57)","v":6.056691670952419E-3},{"$f":"LN('Page 277'!H58/'Page 277'!H57)","v":7.3464074120697526E-2},{"$f":"LN('Page 277'!I58/'Page 277'!I57)","v":3.6488293263136684E-2},{"$f":"LN('Page 277'!J58/'Page 277'!J57)","v":0.10064772897032936},{"$f":"LN('Page 277'!K58/'Page 277'!K57)","v":1.1094104541358792E-2},{"$f":"LN('Page 277'!L58/'Page 277'!L57)","v":-0.1583331549988253},{"$f":"LN('Page 277'!M58/'Page 277'!M57)","v":3.8752259662623204E-2},{"$f":"LN('Page 277'!N58/'Page 277'!N57)","v":6.9361127797502531E-2},{"$f":"LN('Page 277'!O58/'Page 277'!O57)","v":5.090637234751344E-2},{"$f":"LN('Page 277'!P58/'Page 277'!P57)","v":-1.057552624708641E-2},{"$f":"LN('Page 277'!Q58/'Page 277'!Q57)","v":-2.6963597877582197E-2},{"$f":"LN('Page 277'!R58/'Page 277'!R57)","v":7.5339821976327277E-3},{"$f":"LN('Page 277'!S58/'Page 277'!S57)","v":3.4429836211787378E-2},{"$f":"LN('Page 277'!T58/'Page 277'!T57)","v":1.4119027143852922E-2},{"$f":"LN('Page 277'!U58/'Page 277'!U57)","v":-2.8604138496296457E-3},{"$f":"LN('Page 277'!V58/'Page 277'!V57)","v":1.7780083852863355E-2},{"$f":"LN('Page 277'!W58/'Page 277'!W57)","v":-6.0962831464255992E-3},{"$f":"LN('Page 277'!X58/'Page 277'!X57)","v":1.0616437076253071E-2},{"$f":"LN('Page 277'!Y58/'Page 277'!Y57)","v":-4.3135342068847039E-2},{"$f":"LN('Page 277'!Z58/'Page 277'!Z57)","v":2.8942184370920315E-2},{"$f":"LN('Page 277'!AA58/'Page 277'!AA57)","v":1.1814483413763056E-2},{"$f":"LN('Page 277'!AB58/'Page 277'!AB57)","v":6.1251442809923673E-2},{"$f":"LN('Page 277'!AC58/'Page 277'!AC57)","v":6.025670293590032E-3},{"$f":"LN('Page 277'!AD58/'Page 277'!AD57)","v":6.2392901627301156E-2},{"$f":"LN('Page 277'!AE58/'Page 277'!AE57)","v":-1.6518380210940327E-2},{"$f":"LN('Page 277'!AF58/'Page 277'!AF57)","v":-5.0183825252067778E-2}]
["2006-03-01",{"$f":"LN('Page 277'!B59/'Page 277'!B58)","v":1.1034733969458945E-2},{"$f":"LN('Page 277'!C59/'Page 277'!C58)","v":4.1602779042856315E-2},{"$f":"LN('Page 277'!D59/'Page 277'!D58)","v":-1.8184578431258707E-3},{"$f":"LN('Page 277'!E59/'Page 277'!E58)","v":-2.5121729083425172E-2},{"$f":"LN('Page 277'!F59/'Page 277'!F58)","v":6.9581691288308697E-2},{"$f":"LN('Page 277'!G59/'Page 277'!G58)","v":1.8376585504656297E-2},{"$f":"LN('Page 277'!H59/'Page 277'!H58)","v":-1.7586827303334048E-2},{"$f":"LN('Page 277'!I59/'Page 277'!I58)","v":4.7942660970409473E-2},{"$f":"LN('Page 277'!J59/'Page 277'!J58)","v":-3.5791018879645156E-3},{"$f":"LN('Page 277'!K59/'Page 277'!K58)","v":5.6306755609997976E-2},{"$f":"LN('Page 277'!L59/'Page 277'!L58)","v":4.6158302921268657E-2},{"$f":"LN('Page 277'!M59/'Page 277'!M58)","v":7.1462905368182526E-3},{"$f":"LN('Page 277'!N59/'Page 277'!N58)","v":4.3469444220723227E-2},{"$f":"LN('Page 277'!O59/'Page 277'!O58)","v":5.1948168771041511E-3},{"$f":"LN('Page 277'!P59/'Page 277'!P58)","v":2.7388832663133186E-2},{"$f":"LN('Page 277'!Q59/'Page 277'!Q58)","v":-5.6727880402377404E-2},{"$f":"LN('Page 277'!R59/'Page 277'!R58)","v":2.6865745285799249E-2},{"$f":"LN('Page 277'!S59/'Page 277'!S58)","v":1.2032066579569562E-2},{"$f":"LN('Page 277'!T59/'Page 277'!T58)","v":4.8227727912260052E-3},{"$f":"LN('Page 277'!U59/'Page 277'!U58)","v":-1.588022400088996E-2},{"$f":"LN('Page 277'!V59/'Page 277'!V58)","v":2.815190289476506E-2},{"$f":"LN('Page 277'!W59/'Page 277'!W58)","v":-3.7042356075807268E-3},{"$f":"LN('Page 277'!X59/'Page 277'!X58)","v":2.1474998228097959E-2},{"$f":"LN('Page 277'!Y59/'Page 277'!Y58)","v":1.225187035339419E-2},{"$f":"LN('Page 277'!Z59/'Page 277'!Z58)","v":-4.9387875531209637E-2},{"$f":"LN('Page 277'!AA59/'Page 277'!AA58)","v":-3.9180445507657986E-2},{"$f":"LN('Page 277'!AB59/'Page 277'!AB58)","v":-2.0255756308274839E-2},{"$f":"LN('Page 277'!AC59/'Page 277'!AC58)","v":-9.1387824584463293E-3},{"$f":"LN('Page 277'!AD59/'Page 277'!AD58)","v":1.0582109330537008E-2},{"$f":"LN('Page 277'!AE59/'Page 277'!AE58)","v":4.4306921099570601E-2},{"$f":"LN('Page 277'!AF59/'Page 277'!AF58)","v":2.4911427810049402E-2}]
["2006-04-03",{"$f":"LN('Page 277'!B60/'Page 277'!B59)","v":1.2082373675144375E-2},{"$f":"LN('Page 277'!C60/'Page 277'!C59)","v":9.9989561843298519E-2},{"$f":"LN('Page 277'!D60/'Page 277'!D59)","v":-1.2822645540912345E-2},{"$f":"LN('Page 277'!E60/'Page 277'!E59)","v":2.6053956241456868E-2},{"$f":"LN('Page 277'!F60/'Page 277'!F59)","v":6.8546381577074961E-2},{"$f":"LN('Page 277'!G60/'Page 277'!G59)","v":5.5993221186536851E-2},{"$f":"LN('Page 277'!H60/'Page 277'!H59)","v":5.6490717135769065E-2},{"$f":"LN('Page 277'!I60/'Page 277'!I59)","v":4.3693435217569923E-2},{"$f":"LN('Page 277'!J60/'Page 277'!J59)","v":2.5067157262118516E-3},{"$f":"LN('Page 277'!K60/'Page 277'!K59)","v":-5.5192587456266489E-3},{"$f":"LN('Page 277'!L60/'Page 277'!L59)","v":7.3225748894030954E-2},{"$f":"LN('Page 277'!M60/'Page 277'!M59)","v":-5.7647216771325914E-2},{"$f":"LN('Page 277'!N60/'Page 277'!N59)","v":-6.3656940173461869E-3},{"$f":"LN('Page 277'!O60/'Page 277'!O59)","v":-1.3192398723521168E-2},{"$f":"LN('Page 277'!P60/'Page 277'!P59)","v":-1.5833387389166198E-3},{"$f":"LN('Page 277'!Q60/'Page 277'!Q59)","v":2.6505119379997093E-2},{"$f":"LN('Page 277'!R60/'Page 277'!R59)","v":-1.0247741260475809E-2},{"$f":"LN('Page 277'!S60/'Page 277'!S59)","v":9.4044595746061499E-2},{"$f":"LN('Page 277'!T60/'Page 277'!T59)","v":2.1626825682798628E-3},{"$f":"LN('Page 277'!U60/'Page 277'!U59)","v":6.0931568174785091E-3},{"$f":"LN('Page 277'!V60/'Page 277'!V59)","v":0.12106861082463452},{"$f":"LN('Page 277'!W60/'Page 277'!W59)","v":3.2025208754611109E-2},{"$f":"LN('Page 277'!X60/'Page 277'!X59)","v":-2.3236595865095331E-2},{"$f":"LN('Page 277'!Y60/'Page 277'!Y59)","v":-0.11898301733912256},{"$f":"LN('Page 277'!Z60/'Page 277'!Z59)","v":1.6071057021242771E-2},{"$f":"LN('Page 277'!AA60/'Page 277'!AA59)","v":1.5582032719997961E-2},{"$f":"LN('Page 277'!AB60/'Page 277'!AB59)","v":-1.874218180974075E-2},{"$f":"LN('Page 277'!AC60/'Page 277'!AC59)","v":8.0189267840077974E-2},{"$f":"LN('Page 277'!AD60/'Page 277'!AD59)","v":-1.8822656496633863E-2},{"$f":"LN('Page 277'!AE60/'Page 277'!AE59)","v":-4.7866435425159011E-2},{"$f":"LN('Page 277'!AF60/'Page 277'!AF59)","v":3.5683318735638396E-2}]
["2006-05-01",{"$f":"LN('Page 277'!B61/'Page 277'!B60)","v":-3.1404913585891703E-2},{"$f":"LN('Page 277'!C61/'Page 277'!C60)","v":-5.8471128985531085E-2},{"$f":"LN('Page 277'!D61/'Page 277'!D60)","v":-6.8181138612174702E-2},{"$f":"LN('Page 277'!E61/'Page 277'!E60)","v":1.0197548274768733E-2},{"$f":"LN('Page 277'!F61/'Page 277'!F60)","v":9.614229799570056E-4},{"$f":"LN('Page 277'!G61/'Page 277'!G60)","v":-1.3098424045918254E-2},{"$f":"LN('Page 277'!H61/'Page 277'!H60)","v":-3.7532147504853987E-2},{"$f":"LN('Page 277'!I61/'Page 277'!I60)","v":-2.8053305983079591E-2},{"$f":"LN('Page 277'!J61/'Page 277'!J60)","v":8.6951766247756454E-2},{"$f":"LN('Page 277'!K61/'Page 277'!K60)","v":-9.3650084504965578E-3},{"$f":"LN('Page 277'!L61/'Page 277'!L60)","v":0.17263965122364733},{"$f":"LN('Page 277'!M61/'Page 277'!M60)","v":-4.6316484975888444E-2},{"$f":"LN('Page 277'!N61/'Page 277'!N60)","v":-2.6361459402393532E-2},{"$f":"LN('Page 277'!O61/'Page 277'!O60)","v":-2.7833634793053221E-3},{"$f":"LN('Page 277'!P61/'Page 277'!P60)","v":-2.6431080431950901E-2},{"$f":"LN('Page 277'!Q61/'Page 277'!Q60)","v":-9.8231949048236122E-2},{"$f":"LN('Page 277'!R61/'Page 277'!R60)","v":3.3260430607777773E-2},{"$f":"LN('Page 277'!S61/'Page 277'!S60)","v":-6.2334035820444104E-2},{"$f":"LN('Page 277'!T61/'Page 277'!T60)","v":4.803547304239731E-2},{"$f":"LN('Page 277'!U61/'Page 277'!U60)","v":-4.1340400974572103E-2},{"$f":"LN('Page 277'!V61/'Page 277'!V60)","v":-1.5654968672613196E-2},{"$f":"LN('Page 277'!W61/'Page 277'!W60)","v":-1.1120492693080124E-2},{"$f":"LN('Page 277'!X61/'Page 277'!X60)","v":-2.1985436925880866E-2},{"$f":"LN('Page 277'!Y61/'Page 277'!Y60)","v":-6.0390858617489745E-2},{"$f":"LN('Page 277'!Z61/'Page 277'!Z60)","v":-5.8683501828090179E-2},{"$f":"LN('Page 277'!AA61/'Page 277'!AA60)","v":-7.0454168863075234E-2},{"$f":"LN('Page 277'!AB61/'Page 277'!AB60)","v":-5.8083415957469022E-3},{"$f":"LN('Page 277'!AC61/'Page 277'!AC60)","v":-4.7973135964421665E-4},{"$f":"LN('Page 277'!AD61/'Page 277'!AD60)","v":-5.6743868707170436E-2},{"$f":"LN('Page 277'!AE61/'Page 277'!AE60)","v":7.6762918348883477E-2},{"$f":"LN('Page 277'!AF61/'Page 277'!AF60)","v":-2.992056301643866E-2}]
["2006-06-01",{"$f":"LN('Page 277'!B62/'Page 277'!B61)","v":8.6604285391806066E-5},{"$f":"LN('Page 277'!C62/'Page 277'!C61)","v":1.9975695423643827E-2},{"$f":"LN('Page 277'!D62/'Page 277'!D61)","v":-2.9205246328750052E-2},{"$f":"LN('Page 277'!E62/'Page 277'!E61)","v":-2.1253596432443251E-2},{"$f":"LN('Page 277'!F62/'Page 277'!F61)","v":-1.6227045333042631E-2},{"$f":"LN('Page 277'!G62/'Page 277'!G61)","v":-2.152825326364944E-2},{"$f":"LN('Page 277'!H62/'Page 277'!H61)","v":2.0756358000016913E-2},{"$f":"LN('Page 277'!I62/'Page 277'!I61)","v":-2.2109541998324524E-2},{"$f":"LN('Page 277'!J62/'Page 277'!J61)","v":-1.6529301951210582E-2},{"$f":"LN('Page 277'!K62/'Page 277'!K61)","v":-3.135989397783303E-2},{"$f":"LN('Page 277'!L62/'Page 277'!L61)","v":0.10093185990168346},{"$f":"LN('Page 277'!M62/'Page 277'!M61)","v":-5.9127849465776476E-2},{"$f":"LN('Page 277'!N62/'Page 277'!N61)","v":-2.1601232647006138E-2},{"$f":"LN('Page 277'!O62/'Page 277'!O61)","v":-1.9072017823958738E-2},{"$f":"LN('Page 277'!P62/'Page 277'!P61)","v":-3.9310829854470403E-2},{"$f":"LN('Page 277'!Q62/'Page 277'!Q61)","v":5.2956726986248565E-2},{"$f":"LN('Page 277'!R62/'Page 277'!R61)","v":-4.9941838446236455E-3},{"$f":"LN('Page 277'!S62/'Page 277'!S61)","v":-1.5009215651571376E-2},{"$f":"LN('Page 277'!T62/'Page 277'!T61)","v":-1.5911785035639055E-2},{"$f":"LN('Page 277'!U62/'Page 277'!U61)","v":1.2880214010197425E-2},{"$f":"LN('Page 277'!V62/'Page 277'!V61)","v":-3.5155356559847424E-2},{"$f":"LN('Page 277'!W62/'Page 277'!W61)","v":2.6075837632647349E-2},{"$f":"LN('Page 277'!X62/'Page 277'!X61)","v":9.0135559433538959E-2},{"$f":"LN('Page 277'!Y62/'Page 277'!Y61)","v":2.8293508642611997E-2},{"$f":"LN('Page 277'!Z62/'Page 277'!Z61)","v":-8.0628486873086311E-3},{"$f":"LN('Page 277'!AA62/'Page 277'!AA61)","v":2.4580208835967805E-2},{"$f":"LN('Page 277'!AB62/'Page 277'!AB61)","v":6.7930819035712534E-2},{"$f":"LN('Page 277'!AC62/'Page 277'!AC61)","v":1.4292763556925473E-2},{"$f":"LN('Page 277'!AD62/'Page 277'!AD61)","v":7.0440628257431664E-2},{"$f":"LN('Page 277'!AE62/'Page 277'!AE61)","v":-5.7959176946458012E-3},{"$f":"LN('Page 277'!AF62/'Page 277'!AF61)","v":7.1978063085272413E-3}]
["2006-07-03",{"$f":"LN('Page 277'!B63/'Page 277'!B62)","v":-3.7228715386083515E-3},{"$f":"LN('Page 277'!C63/'Page 277'!C62)","v":3.61137712273999E-2},{"$f":"LN('Page 277'!D63/'Page 277'!D62)","v":-1.3557026309584757E-3},{"$f":"LN('Page 277'!E63/'Page 277'!E62)","v":-2.075276762645941E-2},{"$f":"LN('Page 277'!F63/'Page 277'!F62)","v":-2.3719456666780159E-2},{"$f":"LN('Page 277'!G63/'Page 277'!G62)","v":1.7055792057715624E-2},{"$f":"LN('Page 277'!H63/'Page 277'!H62)","v":-2.5841231183887443E-2},{"$f":"LN('Page 277'!I63/'Page 277'!I62)","v":-2.5811026243363643E-2},{"$f":"LN('Page 277'!J63/'Page 277'!J62)","v":-5.6827831354982683E-3},{"$f":"LN('Page 277'!K63/'Page 277'!K62)","v":1.0262691945127161E-2},{"$f":"LN('Page 277'!L63/'Page 277'!L62)","v":-1.0460699404055022E-2},{"$f":"LN('Page 277'!M63/'Page 277'!M62)","v":-1.1804521560545289E-2},{"$f":"LN('Page 277'!N63/'Page 277'!N62)","v":-3.3815990178302856E-2},{"$f":"LN('Page 277'!O63/'Page 277'!O62)","v":3.6266177984394569E-2},{"$f":"LN('Page 277'!P63/'Page 277'!P62)","v":-5.2205808990046848E-3},{"$f":"LN('Page 277'!Q63/'Page 277'!Q62)","v":-2.3430251808385996E-2},{"$f":"LN('Page 277'!R63/'Page 277'!R62)","v":1.1614532420693083E-2},{"$f":"LN('Page 277'!S63/'Page 277'!S62)","v":1.7842747653673507E-2},{"$f":"LN('Page 277'!T63/'Page 277'!T62)","v":3.7123012470772396E-3},{"$f":"LN('Page 277'!U63/'Page 277'!U62)","v":-1.2578782206860185E-2},{"$f":"LN('Page 277'!V63/'Page 277'!V62)","v":-8.6190077152163702E-2},{"$f":"LN('Page 277'!W63/'Page 277'!W62)","v":5.7808859720826763E-2},{"$f":"LN('Page 277'!X63/'Page 277'!X62)","v":1.4714161928068082E-2},{"$f":"LN('Page 277'!Y63/'Page 277'!Y62)","v":0},{"$f":"LN('Page 277'!Z63/'Page 277'!Z62)","v":8.9078001528727357E-3},{"$f":"LN('Page 277'!AA63/'Page 277'!AA62)","v":1.6057436895858469E-2},{"$f":"LN('Page 277'!AB63/'Page 277'!AB62)","v":6.5099687412276657E-3},{"$f":"LN('Page 277'!AC63/'Page 277'!AC62)","v":-5.058499563033835E-3},{"$f":"LN('Page 277'!AD63/'Page 277'!AD62)","v":-1.1248028605197994E-2},{"$f":"LN('Page 277'!AE63/'Page 277'!AE62)","v":-4.6095024153034472E-2},{"$f":"LN('Page 277'!AF63/'Page 277'!AF62)","v":2.3996642230499975E-2}]
[]
[]
[]
[]
[]
[]
["Average alpha",{"$f":"AVERAGE(C6:AF6)","v":6.1966988468731233E-4},{"$f":"getformula(B75)","v":"<--  =AVERAGE(C6:AF6)"}]
["Average beta",{"$f":"AVERAGE(C5:AF5)","v":1.1184851771493745},{"$f":"getformula(B76)","v":"<--  =AVERAGE(C5:AF5)"}]
["Average r-squared",{"$f":"AVERAGE(C7:AF7)","v":0.35095346425124219},{"$f":"getformula(B77)","v":"<--  =AVERAGE(C7:AF7)"}]
[]
["Average R2 for best regressions"]
[null,{"$f":"SUMIF(C7:AF7,\">\"&TEXT(B84,\"0.00\"))","v":9.8257516253064772},{"$f":"getformula(B80)","v":"<--  =SUMIF(C7:AF7,\">\"&TEXT(B84,\"0.00\"))"}]
[null,{"$f":"COUNTIF(C7:AF7,\">\"&TEXT(B84,\"0.00\"))","v":23},{"$f":"getformula(B81)","v":"<--  =COUNTIF(C7:AF7,\">\"&TEXT(B84,\"0.00\"))"}]
["Average R2",{"$f":"B80/B81","v":0.42720659240462944},{"$f":"getformula(B82)","v":"<--  =B80/B81"}]
[]
["Sum if R2 > ??",0.2]

{"sheet":"Page 278","index":2,"n_rows":34,"n_cols":18,"rows_kept":34,"cut":false,"hidden":false,"merged":[[0,0,0,7]]}
["THE SECOND-PASS REGRESSION"]
["Stock","Average\nmonthly\nreturn","Beta","Alpha"]
[{"$f":"TRANSPOSE('Page 277 bottom'!C2:AF2)","v":"Alcoa \nAA"},{"$f":"TRANSPOSE('Page 277 bottom'!C4:AF6)","v":-8.8045232999497481E-4},1.9027983836619957,-2.2699748020782295E-3,null,"Second-pass regression, regressing monthly returns on Beta",null,null,null,"SUMMARY OUTPUT"]
["American International Group \nAIG",-5.3560524791288885E-3,0.99357597429546707,-6.0816133981730618E-3,null,"Intercept",{"$f":"INTERCEPT(B3:B32,C3:C32)","v":3.6425889567742002E-3},{"$f":"getformula(G4)","v":"<--  =INTERCEPT(B3:B32,C3:C32)"}]
["American Express AXP",7.2078563356630853E-3,1.3784130266948689,6.201267359736644E-3,null,"Slope",{"$f":"SLOPE(B3:B32,C3:C32)","v":-1.9724382524452431E-3},{"$f":"getformula(G5)","v":"<--  =SLOPE(B3:B32,C3:C32)"},null,"Regression Statistics"]
["Boeing BA",6.6601094741208884E-3,1.1514634616640862,5.819250889468424E-3,null,"R-squared",{"$f":"RSQ(B3:B32,C3:C32)","v":2.3752424923938472E-2},{"$f":"getformula(G6)","v":"<--  =RSQ(B3:B32,C3:C32)"},null,"Multiple R",0.15411821736556217]
["Citigroup C",3.010192138065507E-3,1.2951646980207125,2.0643954270733529E-3,null,null,null,null,null,"R Square",2.3752424923938666E-2]
["Caterpillar CAT",1.7944538670859995E-2,1.3903214616252038,1.692925353558997E-2,null,"t-statistic, intercept",{"$f":"tintercept(B3:B32,C3:C32)","v":1.2381299713814959},{"$f":"getformula(G8)","v":"<--  =tintercept(B3:B32,C3:C32)"},null,"Adjusted R Square",-1.111355990020638E-2]
["DuPont DD",1.8457819966479114E-3,1.0009466005598446,1.1148386624642162E-3,null,"t-statistic, slope",{"$f":"tslope(B3:B32,C3:C32)","v":-0.82537822771998082},{"$f":"getformula(G9)","v":"<--  =tslope(B3:B32,C3:C32)"},null,"Standard Error",6.7329517785267136E-3]
["Disney DIS",2.9306515581315239E-3,1.2805379702174076,1.9955360454997672E-3,null,null,null,null,null,"Observations",30]
["General Electric GE",-2.3445913734344336E-3,0.84198822730205147,-2.9594550253648688E-3]
["General Motors GM",-8.7115866553562366E-3,1.4059650700066386,-9.738295568141063E-3,null,null,null,null,null,"ANOVA"]
["Home Depot HD",-5.1789842829916052E-3,1.552790870242573,-6.3129130413791994E-3,null,null,null,null,null,null,"df","SS","MS","F","Significance F"]
["Honeywell HON",2.8938752782178977E-3,1.6639716851986359,1.6787564987684491E-3,null,null,null,null,null,"Regression",1,3.0882825348780077E-5,3.0882825348780077E-5,0.68124921879418332,0.41613399202165169]
["Hewlitt Packard HPQ",6.0646047398152676E-3,1.9594245248915774,4.6337309104776334E-3,null,null,null,null,null,"Residual",28,1.2693139102550488E-3,4.533263965196603E-5]
["IBM",-4.651234583685872E-3,1.5764137929690809,-5.8024140304630562E-3,null,null,null,null,null,"Total",29,1.3001967356038289E-3]
["Intel \nINTC",-7.2648065901253448E-3,2.2648399177150527,-8.9187106444685409E-3]
["Johnson & Johnson JNJ",3.3741700376054302E-3,0.24707693477970649,3.1937415927645622E-3,null,null,null,null,null,null,"Coefficients","Standard Error","t Stat","P-value","Lower 95%","Upper 95%","Lower 95.0%","Upper 95.0%"]
["JP Morgan JPM",1.8475201624128701E-3,1.7916694423015864,5.3914983059049379E-4,null,null,null,null,null,"Intercept",3.6425889567741981E-3,2.9420085459281996E-3,1.2381299713814959,0.22594900624871861,-2.3838422801041388E-3,9.6690201936525354E-3,-2.3838422801041388E-3,9.6690201936525354E-3]
["Coca Cola \nKO",1.1711236870348115E-3,0.35903260375546042,9.0893938237471543E-4,null,null,null,null,null,"X Variable 1",-1.9724382524452409E-3,2.3897386509623485E-3,-0.82537822771998082,0.41613399202165302,-6.8675959072614038E-3,2.922719402370922E-3,-6.8675959072614038E-3,2.922719402370922E-3]
["McDonalds \nMCD",3.4537024601776645E-3,1.2645943445894277,2.5302298132781798E-3]
["3M \nMMM",6.3742097805926674E-3,0.65043868573479957,5.8992255792705015E-3]
["Altria\nMO",1.3025248898244331E-2,0.66329440207335677,1.2540876783362572E-2]
["Merck \nMRK",-6.3084472440219719E-3,0.60992724226830031,-6.7538478796040323E-3]
["Microsoft \nMSFT",-3.5204556814594479E-3,1.1219401416299413,-4.3397548003323589E-3]
["Pfizer \nPFE",-7.4336132638093003E-3,0.55717127351603968,-7.8404887436275064E-3]
["Proctor Gamble \nPG",9.4023212973838102E-3,0.16872571999704272,9.2791089898858845E-3]
["AT&T \nT",-4.1344123560427496E-3,1.127501815122895,-4.9577728985363686E-3]
["United Technologies UTX",1.0325623468400351E-2,1.0659180109233315,9.5472346268427929E-3]
["Verizon \nVZ",-4.91148259418305E-3,1.0231125023839318,-5.658612624215879E-3]
["Walmart \nWMT",-2.5204525972353053E-3,0.6000114438168378,-2.9586122004014994E-3]
["Exxon Mobil \nXOM",8.7784223052485757E-3,0.6455250865233817,8.3070262699568732E-3]
[]
["Average",{"$f":"AVERAGE(B3:B31)","v":1.1832744121346491E-3},{"$f":"AVERAGE(C3:C31)","v":1.1347941457916499},{"$f":"AVERAGE(D3:D31)","v":3.5458863002284463E-4}]

{"sheet":"Page 281","index":4,"n_rows":27,"n_cols":31,"rows_kept":27,"cut":false,"hidden":false,"merged":[[0,0,0,8]]}
["OUR SML EXERCISE:  WHAT DID WE LEARN?"]
["Average alpha",{"$f":"AVERAGE('Page 277 bottom'!C6:AF6)","v":6.1966988468731233E-4},{"$f":"getformula(B2)","v":"<--  =AVERAGE('Page 277 bottom'!C6:AF6)"}]
["Average beta",{"$f":"AVERAGE('Page 277 bottom'!C5:AF5)","v":1.1184851771493745},{"$f":"getformula(B3)","v":"<--  =AVERAGE('Page 277 bottom'!C5:AF5)"}]
["Average r-squared",{"$f":"AVERAGE('Page 277 bottom'!C7:AF7)","v":0.35095346425124219},{"$f":"getformula(B4)","v":"<--  =AVERAGE('Page 277 bottom'!C7:AF7)"}]
[]
["Average R2 for best regressions"]
["Cutoff for R2",0.2,"<-- Below we count all R2 which are greater than this number"]
[null,{"$f":"SUMIF('Page 277 bottom'!C7:AF7,\">\"&TEXT(B7,\"0.00\"))","v":9.8257516253064772},{"$f":"getformula(B8)","v":"<--  =SUMIF('Page 277 bottom'!C7:AF7,\">\"&TEXT(B7,\"0.00\"))"}]
[null,{"$f":"COUNTIF('Page 277 bottom'!C7:AF7,\">\"&TEXT(B7,\"0.00\"))","v":23},{"$f":"getformula(B9)","v":"<--  =COUNTIF('Page 277 bottom'!C7:AF7,\">\"&TEXT(B7,\"0.00\"))"}]
["Average R2",{"$f":"B8/B9","v":0.42720659240462944},{"$f":"getformula(B10)","v":"<--  =B8/B9"}]
[]
["T-statistics for intercept and slope"]
[null,"Alcoa \nAA","American International Group \nAIG","American Express \nAXP","Boeing BA","Citigroup C","Caterpillar CAT","DuPont DD","Disney DIS","General Electric GE","General Motors GM","Home Depot HD","Honeywell HON","Hewlitt Packard HPQ","IBM","Intel \nINTC","Johnson & Johnson JNJ","JP Morgan JPM","Coca Cola \nKO","McDonalds \nMCD","3M \nMMM","Altria\nMO","Merck \nMRK","Microsoft \nMSFT","Pfizer \nPFE","Proctor Gamble \nPG","AT&T \nT","United Technologies UTX","Verizon \nVZ","Walmart \nWMT","Exxon Mobil \nXOM"]
["t-stat for intercept",{"$f":"tintercept('Page 277 bottom'!$B$9:$B$68,'Page 277 bottom'!C9:C68)","v":0.314441405190025},{"$f":"tintercept('Page 277 bottom'!$B$9:$B$68,'Page 277 bottom'!D9:D68)","v":0.63242855113360263},{"$f":"tintercept('Page 277 bottom'!$B$9:$B$68,'Page 277 bottom'!E9:E68)","v":-1.052511880961202},{"$f":"tintercept('Page 277 bottom'!$B$9:$B$68,'Page 277 bottom'!F9:F68)","v":-0.15843536417409368},{"$f":"tintercept('Page 277 bottom'!$B$9:$B$68,'Page 277 bottom'!G9:G68)","v":-0.2013097442366687},{"$f":"tintercept('Page 277 bottom'!$B$9:$B$68,'Page 277 bottom'!H9:H68)","v":-1.6119730232394618},{"$f":"tintercept('Page 277 bottom'!$B$9:$B$68,'Page 277 bottom'!I9:I68)","v":-1.9206439722831141E-2},{"$f":"tintercept('Page 277 bottom'!$B$9:$B$68,'Page 277 bottom'!J9:J68)","v":-3.7114497459220901E-2},{"$f":"tintercept('Page 277 bottom'!$B$9:$B$68,'Page 277 bottom'!K9:K68)","v":0.38397974692516962},{"$f":"tintercept('Page 277 bottom'!$B$9:$B$68,'Page 277 bottom'!L9:L68)","v":0.52872280247413483},{"$f":"tintercept('Page 277 bottom'!$B$9:$B$68,'Page 277 bottom'!M9:M68)","v":0.70509803366655555},{"$f":"tintercept('Page 277 bottom'!$B$9:$B$68,'Page 277 bottom'!N9:N68)","v":-6.4028324545132201E-2},{"$f":"tintercept('Page 277 bottom'!$B$9:$B$68,'Page 277 bottom'!O9:O68)","v":-0.24743110329858442},{"$f":"tintercept('Page 277 bottom'!$B$9:$B$68,'Page 277 bottom'!P9:P68)","v":0.67706576958528242},{"$f":"tintercept('Page 277 bottom'!$B$9:$B$68,'Page 277 bottom'!Q9:Q68)","v":0.61642087587339622},{"$f":"tintercept('Page 277 bottom'!$B$9:$B$68,'Page 277 bottom'!R9:R68)","v":-8.5919688760844465E-3},{"$f":"tintercept('Page 277 bottom'!$B$9:$B$68,'Page 277 bottom'!S9:S68)","v":3.5619849836343698E-2},{"$f":"tintercept('Page 277 bottom'!$B$9:$B$68,'Page 277 bottom'!T9:T68)","v":9.4619798245049E-2},{"$f":"tintercept('Page 277 bottom'!$B$9:$B$68,'Page 277 bottom'!U9:U68)","v":-0.12456631574058956},{"$f":"tintercept('Page 277 bottom'!$B$9:$B$68,'Page 277 bottom'!V9:V68)","v":-0.27245205362749991},{"$f":"tintercept('Page 277 bottom'!$B$9:$B$68,'Page 277 bottom'!W9:W68)","v":-0.2106800818724695},{"$f":"tintercept('Page 277 bottom'!$B$9:$B$68,'Page 277 bottom'!X9:X68)","v":0.33466607729596565},{"$f":"tintercept('Page 277 bottom'!$B$9:$B$68,'Page 277 bottom'!Y9:Y68)","v":0.5066435774671797},{"$f":"tintercept('Page 277 bottom'!$B$9:$B$68,'Page 277 bottom'!Z9:Z68)","v":0.59129257932299772},{"$f":"tintercept('Page 277 bottom'!$B$9:$B$68,'Page 277 bottom'!AA9:AA68)","v":-0.27061805980129161},{"$f":"tintercept('Page 277 bottom'!$B$9:$B$68,'Page 277 bottom'!AB9:AB68)","v":0.40666071386869362},{"$f":"tintercept('Page 277 bottom'!$B$9:$B$68,'Page 277 bottom'!AC9:AC68)","v":-0.56175534649971737},{"$f":"tintercept('Page 277 bottom'!$B$9:$B$68,'Page 277 bottom'!AD9:AD68)","v":0.48212944046054462},{"$f":"tintercept('Page 277 bottom'!$B$9:$B$68,'Page 277 bottom'!AE9:AE68)","v":0.3312989049857723},{"$f":"tintercept('Page 277 bottom'!$B$9:$B$68,'Page 277 bottom'!AF9:AF68)","v":-0.51182401325994775}]
["t-stat for slope",{"$f":"tslope('Page 277 bottom'!$B$9:$B$68,'Page 277 bottom'!C9:C68)","v":9.4941925082864511},{"$f":"tslope('Page 277 bottom'!$B$9:$B$68,'Page 277 bottom'!D9:D68)","v":5.6111672442878522},{"$f":"tslope('Page 277 bottom'!$B$9:$B$68,'Page 277 bottom'!E9:E68)","v":11.77832269212548},{"$f":"tslope('Page 277 bottom'!$B$9:$B$68,'Page 277 bottom'!F9:F68)","v":4.3814622445905309},{"$f":"tslope('Page 277 bottom'!$B$9:$B$68,'Page 277 bottom'!G9:G68)","v":9.2728829928106578},{"$f":"tslope('Page 277 bottom'!$B$9:$B$68,'Page 277 bottom'!H9:H68)","v":7.8606766385470328},{"$f":"tslope('Page 277 bottom'!$B$9:$B$68,'Page 277 bottom'!I9:I68)","v":6.6993224131804805},{"$f":"tslope('Page 277 bottom'!$B$9:$B$68,'Page 277 bottom'!J9:J68)","v":6.019925431557259},{"$f":"tslope('Page 277 bottom'!$B$9:$B$68,'Page 277 bottom'!K9:K68)","v":5.249283835552812},{"$f":"tslope('Page 277 bottom'!$B$9:$B$68,'Page 277 bottom'!L9:L68)","v":4.5221126428784721},{"$f":"tslope('Page 277 bottom'!$B$9:$B$68,'Page 277 bottom'!M9:M68)","v":8.0671541156744375},{"$f":"tslope('Page 277 bottom'!$B$9:$B$68,'Page 277 bottom'!N9:N68)","v":8.3744094961276065},{"$f":"tslope('Page 277 bottom'!$B$9:$B$68,'Page 277 bottom'!O9:O68)","v":7.9416352451631633},{"$f":"tslope('Page 277 bottom'!$B$9:$B$68,'Page 277 bottom'!P9:P68)","v":8.3773014504801697},{"$f":"tslope('Page 277 bottom'!$B$9:$B$68,'Page 277 bottom'!Q9:Q68)","v":7.3702097011448497},{"$f":"tslope('Page 277 bottom'!$B$9:$B$68,'Page 277 bottom'!R9:R68)","v":1.8658747580625026},{"$f":"tslope('Page 277 bottom'!$B$9:$B$68,'Page 277 bottom'!S9:S68)","v":9.2333472562887149},{"$f":"tslope('Page 277 bottom'!$B$9:$B$68,'Page 277 bottom'!T9:T68)","v":2.2582859981472065},{"$f":"tslope('Page 277 bottom'!$B$9:$B$68,'Page 277 bottom'!U9:U68)","v":6.7873518658754186},{"$f":"tslope('Page 277 bottom'!$B$9:$B$68,'Page 277 bottom'!V9:V68)","v":3.8430784754387139},{"$f":"tslope('Page 277 bottom'!$B$9:$B$68,'Page 277 bottom'!W9:W68)","v":2.4008811191708648},{"$f":"tslope('Page 277 bottom'!$B$9:$B$68,'Page 277 bottom'!X9:X68)","v":2.376345107087936},{"$f":"tslope('Page 277 bottom'!$B$9:$B$68,'Page 277 bottom'!Y9:Y68)","v":6.3135168430740389},{"$f":"tslope('Page 277 bottom'!$B$9:$B$68,'Page 277 bottom'!Z9:Z68)","v":3.28007262699247},{"$f":"tslope('Page 277 bottom'!$B$9:$B$68,'Page 277 bottom'!AA9:AA68)","v":1.5245298483799854},{"$f":"tslope('Page 277 bottom'!$B$9:$B$68,'Page 277 bottom'!AB9:AB68)","v":4.7965276725690069},{"$f":"tslope('Page 277 bottom'!$B$9:$B$68,'Page 277 bottom'!AC9:AC68)","v":5.262059721785417},{"$f":"tslope('Page 277 bottom'!$B$9:$B$68,'Page 277 bottom'!AD9:AD68)","v":4.8129100731822829},{"$f":"tslope('Page 277 bottom'!$B$9:$B$68,'Page 277 bottom'!AE9:AE68)","v":3.7038150657931515},{"$f":"tslope('Page 277 bottom'!$B$9:$B$68,'Page 277 bottom'!AF9:AF68)","v":4.1182277230013922}]
[]
["Average absolute\nt-stat for intercept",{"$f":"AVERAGE(ABS(B14:AE14))","v":0.39978621145485038},{"$f":"getformula(B17)","v":"<--  {=AVERAGE(ABS(B14:AE14))}"}]
["Average t-stat\nfor slope",{"$f":"AVERAGE(B15:AE15)","v":5.7865627602418783},{"$f":"getformula(B18)","v":"<--  =AVERAGE(B15:AE15)"}]
[]
[]
[]
[]
[]
["Numbers",1,-2,-3]
["Average number",{"$f":"AVERAGE(B24:D24)","v":-1.3333333333333333},{"$f":"getformula(B25)","v":"<--  =AVERAGE(B24:D24)"}]
["Average absolute number",{"$f":"AVERAGE(ABS(B24:D24))","v":2},{"$f":"getformula(B26)","v":"<--  {=AVERAGE(ABS(B24:D24))}"}]
["The above, but not\nas array function",{"$f":"AVERAGE(ABS(B24:D24))","v":1},{"$f":"getformula(B27)","v":"<--  =AVERAGE(ABS(B24:D24))"}]

{"sheet":"Page 282","index":5,"n_rows":7,"n_cols":6,"rows_kept":7,"cut":false,"hidden":false,"merged":[[0,0,0,5]]}
["USING ABS FUNCTION IN ARRAY\nThe Excel \"Abs\" function computes the absolute value\nIf we use it as an array function, it can be applied to a range of numbers"]
[]
["Numbers",1,-2,-3,-6,8]
[]
["Average number",{"$f":"AVERAGE(B3:F3)","v":-0.4},{"$f":"getformula(B5)","v":"<--  =AVERAGE(B3:F3)"}]
["Average absolute number",{"$f":"AVERAGE(ABS(B3:F3))","v":4},{"$f":"getformula(B6)","v":"<--  {=AVERAGE(ABS(B3:F3))}"}]
["The above, but not\nas array function",{"$f":"AVERAGE(ABS(B3:F3))","v":1},{"$f":"getformula(B7)","v":"<--  =AVERAGE(ABS(B3:F3))"}]

{"sheet":"Page 283","index":6,"n_rows":87,"n_cols":32,"rows_kept":87,"cut":false,"hidden":false,"merged":[[0,0,0,13]]}
["RETURN DATA FOR THE DOW-JONES INDUSTRIAL STOCKS AND THE STANDARD AND POORS 500\nJuly 2001 - July 2006"]
["Date","Mysterious portfolio","Alcoa \nAA","American International Group \nAIG","American Express \nAXP","Boeing \nBA","Citigroup C","Caterpillar CAT","DuPont DD","Disney \nDIS","General Electric GE","General Motors GM","Home Depot \nHD","Honeywell HON","Hewlitt Packard HPQ","IBM","Intel \nINTC","Johnson & Johnson JNJ","JP Morgan JPM","Coca Cola \nKO","McDonalds \nMCD","3M \nMMM","Altria\nMO","Merck \nMRK","Microsoft \nMSFT","Pfizer \nPFE","Proctor Gamble \nPG","AT&T \nT","United Technologies UTX","Verizon \nVZ","Walmart \nWMT","Exxon Mobil \nXOM"]
[]
["Average return",{"$f":"AVERAGE(B15:B74)","v":4.5462859604027496E-2},{"$f":"AVERAGE(C15:C74)","v":-8.8045232999497481E-4},{"$f":"AVERAGE(D15:D74)","v":-5.3560524791288885E-3},{"$f":"AVERAGE(E15:E74)","v":7.2078563356630853E-3},6.6601094741208884E-3,3.010192138065507E-3,1.7944538670859995E-2,1.8457819966479114E-3,2.9306515581315239E-3,-2.3445913734344336E-3,-8.7115866553562366E-3,-5.1789842829916052E-3,2.8938752782178977E-3,6.0646047398152676E-3,-4.651234583685872E-3,-7.2648065901253448E-3,3.3741700376054302E-3,1.8475201624128701E-3,1.1711236870348115E-3,3.4537024601776645E-3,6.3742097805926674E-3,1.3025248898244331E-2,-6.3084472440219719E-3,-3.5204556814594479E-3,-7.4336132638093003E-3,9.4023212973838102E-3,-4.1344123560427496E-3,1.0325623468400351E-2,-4.91148259418305E-3,-2.5204525972353053E-3,8.7784223052485757E-3]
["Beta",null,{"$f":"SLOPE(C15:C74,$B$15:$B$74)","v":-9.1384620964787222E-2},{"$f":"SLOPE(D15:D74,$B$15:$B$74)","v":-0.19678496825344149},{"$f":"SLOPE(E15:E74,$B$15:$B$74)","v":9.9094982648412544E-2},8.6195548492304069E-2,2.4002476895181119E-4,0.35194376474453254,-2.7181824637233166E-2,-1.6331552447293723E-3,-0.12586508358771775,-0.27580777094544695,-0.19261501366751829,-2.4992363390452829E-3,7.2171416819148099E-2,-0.18018651252023099,-0.24173611211883267,8.8117013572477434E-3,-2.7140890847536469E-2,-4.3070022368247016E-2,1.0684689265124121E-2,7.9462613023655176E-2,0.23609453041390202,-0.21921385725842873,-0.15355667852480134,-0.24571150791784388,0.15077461473594619,-0.168015353242156,0.17251837339060114,-0.18631535106111161,-0.13000661398488866,0.13608179852071228]
["Alpha",null,{"$f":"INTERCEPT(C15:C74,$B$15:$B$74)","v":3.2741538628944145E-3},3.5903549047603305E-3,2.7027150520547646E-3,2.7414133545231242E-3,2.9992799256931615E-3,1.944168705766431E-3,3.0815454739117386E-3,3.0048994657342364E-3,3.3775952507631643E-3,3.8274233128363921E-3,3.5778450410026159E-3,3.007497709017197E-3,2.7834857495425891E-3,3.5405595375607316E-3,3.7252083363565943E-3,2.9735648959282575E-3,3.0814226725426556E-3,3.1292100671047492E-3,2.9679459322046668E-3,2.7616121609290653E-3,2.2917164087583042E-3,3.6576415717752978E-3,3.4606700355743797E-3,3.7371345237535271E-3,2.5476761557921531E-3,3.504046059726474E-3,2.4824448798282574E-3,3.5589460531833626E-3,3.3900198419546854E-3,2.5917546044378764E-3]
["R-squared",null,{"$f":"RSQ(C15:C74,$B$15:$B$74)","v":2.4604008113944214E-3},{"$f":"RSQ(D15:D74,$B$15:$B$74)","v":2.4195658815039222E-2},{"$f":"RSQ(E15:E74,$B$15:$B$74)","v":6.3891621222652477E-3},2.4429041952410079E-3,3.5955959435774977E-8,5.7944882030853406E-2,5.6397890360495749E-4,1.0965282046443293E-6,1.2616934875512832E-2,1.7585593895638778E-2,1.426302742020171E-2,2.1646037662742226E-6,1.2389643290248102E-3,1.2539939890858588E-2,9.6585342025469166E-3,1.2626305202852799E-4,2.394100768263274E-4,2.0389777352030438E-3,5.5399364663986957E-5,5.3103616557960299E-3,2.0078160795084361E-2,2.009192133041483E-2,1.3376234469973559E-2,5.3347277018335047E-2,5.3935508578434606E-2,1.1055975695794838E-2,1.483914048244497E-2,1.6592145294091414E-2,1.5742775548326829E-2,1.7626524099168903E-2]
[]
["SML--regressing the average returns on the betas"]
["Intercept",{"$f":"INTERCEPT(C4:AF4,C5:AF5)","v":3.0000000000000265E-3},{"$f":"getformula(B10)","v":"<--  =INTERCEPT(C4:AF4,C5:AF5)"}]
["Slope",{"$f":"SLOPE(C4:AF4,C5:AF5)","v":4.2462859604027479E-2},{"$f":"getformula(B11)","v":"<--  =SLOPE(C4:AF4,C5:AF5)"}]
["R-squared",{"$f":"RSQ(C4:AF4,C5:AF5)","v":0.99999999999999956},{"$f":"getformula(B12)","v":"<--  =RSQ(C4:AF4,C5:AF5)"}]
[]
[]
["2001-08-01",{"$f":"MMULT(C15:AF74,'Page 284-85'!B107:B136)","v":-1.0130588300278543E-2},{"$f":"LN('Page 277'!C4/'Page 277'!C3)","v":-2.4904679180075117E-2},{"$f":"LN('Page 277'!D4/'Page 277'!D3)","v":-6.2016699505352997E-2},{"$f":"LN('Page 277'!E4/'Page 277'!E3)","v":-0.10197330160654307},{"$f":"LN('Page 277'!F4/'Page 277'!F3)","v":-0.13087167511426126},{"$f":"LN('Page 277'!G4/'Page 277'!G3)","v":-8.8765860810958969E-2},{"$f":"LN('Page 277'!H4/'Page 277'!H3)","v":-9.6726467345061545E-2},{"$f":"LN('Page 277'!I4/'Page 277'!I3)","v":-3.5908486258404655E-2},{"$f":"LN('Page 277'!J4/'Page 277'!J3)","v":-3.5805289369379566E-2},{"$f":"LN('Page 277'!K4/'Page 277'!K3)","v":-6.1603446652326505E-2},{"$f":"LN('Page 277'!L4/'Page 277'!L3)","v":-0.14195662568150003},{"$f":"LN('Page 277'!M4/'Page 277'!M3)","v":-9.1050718822688559E-2},{"$f":"LN('Page 277'!N4/'Page 277'!N3)","v":1.5753127949124486E-2},{"$f":"LN('Page 277'!O4/'Page 277'!O3)","v":-6.0953190901040094E-2},{"$f":"LN('Page 277'!P4/'Page 277'!P3)","v":-4.9929201063659778E-2},{"$f":"LN('Page 277'!Q4/'Page 277'!Q3)","v":-6.3656215942067843E-2},{"$f":"LN('Page 277'!R4/'Page 277'!R3)","v":-2.2674855650745698E-2},{"$f":"LN('Page 277'!S4/'Page 277'!S3)","v":-9.4414901023194581E-2},{"$f":"LN('Page 277'!T4/'Page 277'!T3)","v":8.7487454123115801E-2},{"$f":"LN('Page 277'!U4/'Page 277'!U3)","v":2.9951106602773683E-2},{"$f":"LN('Page 277'!V4/'Page 277'!V3)","v":-6.645264996859318E-2},{"$f":"LN('Page 277'!W4/'Page 277'!W3)","v":4.0990472323703141E-2},{"$f":"LN('Page 277'!X4/'Page 277'!X3)","v":-3.8139415787459788E-2},{"$f":"LN('Page 277'!Y4/'Page 277'!Y3)","v":-0.14843390375551219},{"$f":"LN('Page 277'!Z4/'Page 277'!Z3)","v":-7.0558225315588641E-2},{"$f":"LN('Page 277'!AA4/'Page 277'!AA3)","v":4.2935503108324086E-2},{"$f":"LN('Page 277'!AB4/'Page 277'!AB3)","v":-9.5872926020639057E-2},{"$f":"LN('Page 277'!AC4/'Page 277'!AC3)","v":-6.7290636104445939E-2},{"$f":"LN('Page 277'!AD4/'Page 277'!AD3)","v":-7.98340166398534E-2},{"$f":"LN('Page 277'!AE4/'Page 277'!AE3)","v":-0.15144457077138077},{"$f":"LN('Page 277'!AF4/'Page 277'!AF3)","v":-3.3706437881910779E-2}]
["2001-09-04",3.9936241687036217E-3,{"$f":"LN('Page 277'!C5/'Page 277'!C4)","v":-0.2066142493629993},{"$f":"LN('Page 277'!D5/'Page 277'!D4)","v":-2.4890299088461518E-3},{"$f":"LN('Page 277'!E5/'Page 277'!E4)","v":-0.22593799712051296},{"$f":"LN('Page 277'!F5/'Page 277'!F4)","v":-0.42423342136280745},{"$f":"LN('Page 277'!G5/'Page 277'!G4)","v":-0.12303151411594927},{"$f":"LN('Page 277'!H5/'Page 277'!H4)","v":-0.11007341040370261},{"$f":"LN('Page 277'!I5/'Page 277'!I4)","v":-8.7712721261510654E-2},{"$f":"LN('Page 277'!J5/'Page 277'!J4)","v":-0.31143615845988804},{"$f":"LN('Page 277'!K5/'Page 277'!K4)","v":-9.0245336351864242E-2},{"$f":"LN('Page 277'!L5/'Page 277'!L4)","v":-0.24369402424121561},{"$f":"LN('Page 277'!M5/'Page 277'!M4)","v":-0.18032627225751421},{"$f":"LN('Page 277'!N5/'Page 277'!N4)","v":-0.34468137308234564},{"$f":"LN('Page 277'!O5/'Page 277'!O4)","v":-0.36441967486504917},{"$f":"LN('Page 277'!P5/'Page 277'!P4)","v":-8.6009136046455131E-2},{"$f":"LN('Page 277'!Q5/'Page 277'!Q4)","v":-0.31313001417247327},{"$f":"LN('Page 277'!R5/'Page 277'!R4)","v":4.977354511208764E-2},{"$f":"LN('Page 277'!S5/'Page 277'!S4)","v":-0.14292269372705024},{"$f":"LN('Page 277'!T5/'Page 277'!T4)","v":-3.8283296985651298E-2},{"$f":"LN('Page 277'!U5/'Page 277'!U4)","v":-0.10141007058491872},{"$f":"LN('Page 277'!V5/'Page 277'!V4)","v":-5.6313105251997946E-2},{"$f":"LN('Page 277'!W5/'Page 277'!W4)","v":1.8427547748008123E-2},{"$f":"LN('Page 277'!X5/'Page 277'!X4)","v":2.2832042042645689E-2},{"$f":"LN('Page 277'!Y5/'Page 277'!Y4)","v":-0.1089047890914604},{"$f":"LN('Page 277'!Z5/'Page 277'!Z4)","v":4.5649314665648928E-2},{"$f":"LN('Page 277'!AA5/'Page 277'!AA4)","v":-1.8349138668196541E-2},{"$f":"LN('Page 277'!AB5/'Page 277'!AB4)","v":0.1412415310504902},{"$f":"LN('Page 277'!AC5/'Page 277'!AC4)","v":-0.38612576550871208},{"$f":"LN('Page 277'!AD5/'Page 277'!AD4)","v":7.9150723138720805E-2},{"$f":"LN('Page 277'!AE5/'Page 277'!AE4)","v":3.125254350410453E-2},{"$f":"LN('Page 277'!AF5/'Page 277'!AF4)","v":-1.8849904023634231E-2}]
["2001-10-01",4.7138434697281212E-2,{"$f":"LN('Page 277'!C6/'Page 277'!C5)","v":4.4606698040520781E-2},{"$f":"LN('Page 277'!D6/'Page 277'!D5)","v":7.5787635718121277E-3},{"$f":"LN('Page 277'!E6/'Page 277'!E5)","v":1.5516848690684155E-2},{"$f":"LN('Page 277'!F6/'Page 277'!F5)","v":-2.6993080607837172E-2},{"$f":"LN('Page 277'!G6/'Page 277'!G5)","v":0.11687764854157089},{"$f":"LN('Page 277'!H6/'Page 277'!H5)","v":5.9494473950934216E-3},{"$f":"LN('Page 277'!I6/'Page 277'!I5)","v":6.3719663982381269E-2},{"$f":"LN('Page 277'!J6/'Page 277'!J5)","v":-1.6982738301917076E-3},{"$f":"LN('Page 277'!K6/'Page 277'!K5)","v":-2.1486400560926558E-2},{"$f":"LN('Page 277'!L6/'Page 277'!L5)","v":-3.7672075585455093E-2},{"$f":"LN('Page 277'!M6/'Page 277'!M5)","v":-3.5398267051240623E-3},{"$f":"LN('Page 277'!N6/'Page 277'!N5)","v":0.11263143034112882},{"$f":"LN('Page 277'!O6/'Page 277'!O5)","v":4.7768322210547512E-2},{"$f":"LN('Page 277'!P6/'Page 277'!P5)","v":0.1640487181753901},{"$f":"LN('Page 277'!Q6/'Page 277'!Q5)","v":0.17774023037939196},{"$f":"LN('Page 277'!R6/'Page 277'!R5)","v":4.4220968681573464E-2},{"$f":"LN('Page 277'!S6/'Page 277'!S5)","v":3.4791825493663948E-2},{"$f":"LN('Page 277'!T6/'Page 277'!T5)","v":2.1757788941804957E-2},{"$f":"LN('Page 277'!U6/'Page 277'!U5)","v":-4.0224801310508873E-2},{"$f":"LN('Page 277'!V6/'Page 277'!V5)","v":5.9057749643601151E-2},{"$f":"LN('Page 277'!W6/'Page 277'!W5)","v":-3.1176940570674497E-2},{"$f":"LN('Page 277'!X6/'Page 277'!X5)","v":-4.2854092948531319E-2},{"$f":"LN('Page 277'!Y6/'Page 277'!Y5)","v":0.12806705206962446},{"$f":"LN('Page 277'!Z6/'Page 277'!Z5)","v":4.3921399259542193E-2},{"$f":"LN('Page 277'!AA6/'Page 277'!AA5)","v":1.8945086242449422E-2},{"$f":"LN('Page 277'!AB6/'Page 277'!AB5)","v":-0.20648205291889096},{"$f":"LN('Page 277'!AC6/'Page 277'!AC5)","v":0.14750878505953929},{"$f":"LN('Page 277'!AD6/'Page 277'!AD5)","v":-7.5949932519783436E-2},{"$f":"LN('Page 277'!AE6/'Page 277'!AE5)","v":3.7841794169327356E-2},{"$f":"LN('Page 277'!AF6/'Page 277'!AF5)","v":1.1353960913165304E-3}]
["2001-11-01",-1.3258218293052815E-2,{"$f":"LN('Page 277'!C7/'Page 277'!C6)","v":0.17896441688028816},{"$f":"LN('Page 277'!D7/'Page 277'!D6)","v":4.7288932505549441E-2},{"$f":"LN('Page 277'!E7/'Page 277'!E6)","v":0.11182257368591726},{"$f":"LN('Page 277'!F7/'Page 277'!F6)","v":7.888703899065469E-2},{"$f":"LN('Page 277'!G7/'Page 277'!G6)","v":5.4321447787470847E-2},{"$f":"LN('Page 277'!H7/'Page 277'!H6)","v":5.8557994194371764E-2},{"$f":"LN('Page 277'!I7/'Page 277'!I6)","v":0.11145658377136383},{"$f":"LN('Page 277'!J7/'Page 277'!J6)","v":9.6082480010043034E-2},{"$f":"LN('Page 277'!K7/'Page 277'!K6)","v":5.5813006133768522E-2},{"$f":"LN('Page 277'!L7/'Page 277'!L6)","v":0.19650186606800416},{"$f":"LN('Page 277'!M7/'Page 277'!M6)","v":0.20007536875904985},{"$f":"LN('Page 277'!N7/'Page 277'!N6)","v":0.12089502773851651},{"$f":"LN('Page 277'!O7/'Page 277'!O6)","v":0.2675119655026485},{"$f":"LN('Page 277'!P7/'Page 277'!P6)","v":6.853078206442742E-2},{"$f":"LN('Page 277'!Q7/'Page 277'!Q6)","v":0.2918189120825071},{"$f":"LN('Page 277'!R7/'Page 277'!R6)","v":8.9871415604602708E-3},{"$f":"LN('Page 277'!S7/'Page 277'!S6)","v":6.4639322508555266E-2},{"$f":"LN('Page 277'!T7/'Page 277'!T6)","v":-1.5627140171750719E-2},{"$f":"LN('Page 277'!U7/'Page 277'!U6)","v":3.9029343905735078E-2},{"$f":"LN('Page 277'!V7/'Page 277'!V6)","v":9.8314880494626E-2},{"$f":"LN('Page 277'!W7/'Page 277'!W6)","v":7.8858328439283774E-3},{"$f":"LN('Page 277'!X7/'Page 277'!X6)","v":5.9827362497400234E-2},{"$f":"LN('Page 277'!Y7/'Page 277'!Y6)","v":9.8934217212298003E-2},{"$f":"LN('Page 277'!Z7/'Page 277'!Z6)","v":3.5694814613013971E-2},{"$f":"LN('Page 277'!AA7/'Page 277'!AA6)","v":4.8548990076035255E-2},{"$f":"LN('Page 277'!AB7/'Page 277'!AB6)","v":-1.9353290061030263E-2},{"$f":"LN('Page 277'!AC7/'Page 277'!AC6)","v":0.11471288707917753},{"$f":"LN('Page 277'!AD7/'Page 277'!AD6)","v":-5.7939562167652871E-2},{"$f":"LN('Page 277'!AE7/'Page 277'!AE6)","v":7.0317751022094518E-2},{"$f":"LN('Page 277'!AF7/'Page 277'!AF6)","v":-4.7344401277808229E-2}]
["2001-12-03",8.1125250154873305E-2,{"$f":"LN('Page 277'!C8/'Page 277'!C7)","v":-8.2229955942229177E-2},{"$f":"LN('Page 277'!D8/'Page 277'!D7)","v":-3.6671197122498625E-2},{"$f":"LN('Page 277'!E8/'Page 277'!E7)","v":8.1045549141503123E-2},{"$f":"LN('Page 277'!F8/'Page 277'!F7)","v":9.9701610997635887E-2},{"$f":"LN('Page 277'!G8/'Page 277'!G7)","v":5.2487294046720416E-2},{"$f":"LN('Page 277'!H8/'Page 277'!H7)","v":9.6792445824790518E-2},{"$f":"LN('Page 277'!I8/'Page 277'!I7)","v":-4.2229684668085556E-2},{"$f":"LN('Page 277'!J8/'Page 277'!J7)","v":2.2895937839079176E-2},{"$f":"LN('Page 277'!K8/'Page 277'!K7)","v":4.4477277656629913E-2},{"$f":"LN('Page 277'!L8/'Page 277'!L7)","v":-2.2455651402987761E-2},{"$f":"LN('Page 277'!M8/'Page 277'!M7)","v":8.9446254543617196E-2},{"$f":"LN('Page 277'!N8/'Page 277'!N7)","v":2.0283322139941669E-2},{"$f":"LN('Page 277'!O8/'Page 277'!O7)","v":-6.4636325431257524E-2},{"$f":"LN('Page 277'!P8/'Page 277'!P7)","v":4.5416438707813464E-2},{"$f":"LN('Page 277'!Q8/'Page 277'!Q7)","v":-3.786247433876231E-2},{"$f":"LN('Page 277'!R8/'Page 277'!R7)","v":1.4434003369401132E-2},{"$f":"LN('Page 277'!S8/'Page 277'!S7)","v":-3.6961398564456335E-2},{"$f":"LN('Page 277'!T8/'Page 277'!T7)","v":4.2223848798482611E-3},{"$f":"LN('Page 277'!U8/'Page 277'!U7)","v":-1.4053634231395062E-2},{"$f":"LN('Page 277'!V8/'Page 277'!V7)","v":3.1229023846079226E-2},{"$f":"LN('Page 277'!W8/'Page 277'!W7)","v":-1.5834346666626219E-2},{"$f":"LN('Page 277'!X8/'Page 277'!X7)","v":-0.13630942941438459},{"$f":"LN('Page 277'!Y8/'Page 277'!Y7)","v":3.1379271202265246E-2},{"$f":"LN('Page 277'!Z8/'Page 277'!Z7)","v":-8.3225824899923431E-2},{"$f":"LN('Page 277'!AA8/'Page 277'!AA7)","v":2.1337137388131106E-2},{"$f":"LN('Page 277'!AB8/'Page 277'!AB7)","v":4.6734400886008887E-2},{"$f":"LN('Page 277'!AC8/'Page 277'!AC7)","v":7.0868710524937178E-2},{"$f":"LN('Page 277'!AD8/'Page 277'!AD7)","v":9.5917780098590637E-3},{"$f":"LN('Page 277'!AE8/'Page 277'!AE7)","v":4.3851258293732528E-2},{"$f":"LN('Page 277'!AF8/'Page 277'!AF7)","v":4.9328247755289843E-2}]
["2002-01-02",6.727834351051204E-2,{"$f":"LN('Page 277'!C9/'Page 277'!C8)","v":8.3192591965755795E-3},{"$f":"LN('Page 277'!D9/'Page 277'!D8)","v":-6.8358274917308073E-2},{"$f":"LN('Page 277'!E9/'Page 277'!E8)","v":6.6600312776022262E-3},{"$f":"LN('Page 277'!F9/'Page 277'!F8)","v":5.4316907328075453E-2},{"$f":"LN('Page 277'!G9/'Page 277'!G8)","v":-5.9630181559100652E-2},{"$f":"LN('Page 277'!H9/'Page 277'!H8)","v":-3.0943594733412221E-2},{"$f":"LN('Page 277'!I9/'Page 277'!I8)","v":3.8296285077280327E-2},{"$f":"LN('Page 277'!J9/'Page 277'!J8)","v":1.646333018710169E-2},{"$f":"LN('Page 277'!K9/'Page 277'!K8)","v":-7.5771740215046443E-2},{"$f":"LN('Page 277'!L9/'Page 277'!L8)","v":5.0815761031806052E-2},{"$f":"LN('Page 277'!M9/'Page 277'!M8)","v":-1.8133610424654605E-2},{"$f":"LN('Page 277'!N9/'Page 277'!N8)","v":-6.2737534488792801E-3},{"$f":"LN('Page 277'!O9/'Page 277'!O8)","v":7.3884383555808855E-2},{"$f":"LN('Page 277'!P9/'Page 277'!P8)","v":-0.11433228046124953},{"$f":"LN('Page 277'!Q9/'Page 277'!Q8)","v":0.10806135060548314},{"$f":"LN('Page 277'!R9/'Page 277'!R8)","v":-2.7189756889673386E-2},{"$f":"LN('Page 277'!S9/'Page 277'!S8)","v":-6.5480288590633914E-2},{"$f":"LN('Page 277'!T9/'Page 277'!T8)","v":-7.4828485190152172E-2},{"$f":"LN('Page 277'!U9/'Page 277'!U8)","v":2.6338314183262136E-2},{"$f":"LN('Page 277'!V9/'Page 277'!V8)","v":-6.2872933633058056E-2},{"$f":"LN('Page 277'!W9/'Page 277'!W8)","v":8.8683982175134984E-2},{"$f":"LN('Page 277'!X9/'Page 277'!X8)","v":6.3384957619382039E-3},{"$f":"LN('Page 277'!Y9/'Page 277'!Y8)","v":-3.9290135903144265E-2},{"$f":"LN('Page 277'!Z9/'Page 277'!Z8)","v":4.4608973409030986E-2},{"$f":"LN('Page 277'!AA9/'Page 277'!AA8)","v":3.6546199657466596E-2},{"$f":"LN('Page 277'!AB9/'Page 277'!AB8)","v":-3.8346497320580909E-2},{"$f":"LN('Page 277'!AC9/'Page 277'!AC8)","v":6.1503365074926306E-2},{"$f":"LN('Page 277'!AD9/'Page 277'!AD8)","v":-1.5863029292099467E-2},{"$f":"LN('Page 277'!AE9/'Page 277'!AE8)","v":4.1314270146626794E-2},{"$f":"LN('Page 277'!AF9/'Page 277'!AF8)","v":-6.2482452639390828E-3}]
["2002-02-01",9.3753948011172733E-2,{"$f":"LN('Page 277'!C10/'Page 277'!C9)","v":5.1431364020888035E-2},{"$f":"LN('Page 277'!D10/'Page 277'!D9)","v":-1.7944652479050878E-3},{"$f":"LN('Page 277'!E10/'Page 277'!E9)","v":1.6784991730180783E-2},{"$f":"LN('Page 277'!F10/'Page 277'!F9)","v":0.11969034121265121},{"$f":"LN('Page 277'!G10/'Page 277'!G9)","v":-4.6373731257803565E-2},{"$f":"LN('Page 277'!H10/'Page 277'!H9)","v":9.8835564216469551E-2},{"$f":"LN('Page 277'!I10/'Page 277'!I9)","v":6.6572709312355663E-2},{"$f":"LN('Page 277'!J10/'Page 277'!J9)","v":8.8041688853115377E-2},{"$f":"LN('Page 277'!K10/'Page 277'!K9)","v":4.0349585041476566E-2},{"$f":"LN('Page 277'!L10/'Page 277'!L9)","v":4.5549580368746484E-2},{"$f":"LN('Page 277'!M10/'Page 277'!M9)","v":-1.8732443816804475E-3},{"$f":"LN('Page 277'!N10/'Page 277'!N9)","v":0.13141753363168499},{"$f":"LN('Page 277'!O10/'Page 277'!O9)","v":-9.4438466833245069E-2},{"$f":"LN('Page 277'!P10/'Page 277'!P9)","v":-9.3597801200443129E-2},{"$f":"LN('Page 277'!Q10/'Page 277'!Q9)","v":-0.20422941807914533},{"$f":"LN('Page 277'!R10/'Page 277'!R9)","v":6.0258087505275552E-2},{"$f":"LN('Page 277'!S10/'Page 277'!S9)","v":-0.15203120778614188},{"$f":"LN('Page 277'!T10/'Page 277'!T9)","v":7.9732172774681864E-2},{"$f":"LN('Page 277'!U10/'Page 277'!U9)","v":-4.0592271663461701E-2},{"$f":"LN('Page 277'!V10/'Page 277'!V9)","v":6.6016718006881941E-2},{"$f":"LN('Page 277'!W10/'Page 277'!W9)","v":4.9617249460301077E-2},{"$f":"LN('Page 277'!X10/'Page 277'!X9)","v":3.5788285136419642E-2},{"$f":"LN('Page 277'!Y10/'Page 277'!Y9)","v":-8.7865039582102275E-2},{"$f":"LN('Page 277'!Z10/'Page 277'!Z9)","v":-1.3930040413445774E-2},{"$f":"LN('Page 277'!AA10/'Page 277'!AA9)","v":3.7323648908988684E-2},{"$f":"LN('Page 277'!AB10/'Page 277'!AB9)","v":1.0304229446724666E-2},{"$f":"LN('Page 277'!AC10/'Page 277'!AC9)","v":6.3229888861985634E-2},{"$f":"LN('Page 277'!AD10/'Page 277'!AD9)","v":9.6518291994588824E-3},{"$f":"LN('Page 277'!AE10/'Page 277'!AE9)","v":3.3310791837118298E-2},{"$f":"LN('Page 277'!AF10/'Page 277'!AF9)","v":6.1864007641756563E-2}]
["2002-03-01",6.9306459897189934E-2,{"$f":"LN('Page 277'!C11/'Page 277'!C10)","v":4.6525236584155066E-3},{"$f":"LN('Page 277'!D11/'Page 277'!D10)","v":-2.5183199888472337E-2},{"$f":"LN('Page 277'!E11/'Page 277'!E10)","v":0.11662193247804178},{"$f":"LN('Page 277'!F11/'Page 277'!F10)","v":4.8522103586135346E-2},{"$f":"LN('Page 277'!G11/'Page 277'!G10)","v":9.0201955226984876E-2},{"$f":"LN('Page 277'!H11/'Page 277'!H10)","v":2.3833908023618247E-2},{"$f":"LN('Page 277'!I11/'Page 277'!I10)","v":6.6152391187194043E-3},{"$f":"LN('Page 277'!J11/'Page 277'!J10)","v":3.6182762224996126E-3},{"$f":"LN('Page 277'!K11/'Page 277'!K10)","v":-2.8910568075509839E-2},{"$f":"LN('Page 277'!L11/'Page 277'!L10)","v":0.13197757299470086},{"$f":"LN('Page 277'!M11/'Page 277'!M10)","v":-2.7242736393874256E-2},{"$f":"LN('Page 277'!N11/'Page 277'!N10)","v":4.0579765831008459E-3},{"$f":"LN('Page 277'!O11/'Page 277'!O10)","v":-0.11081852635959275},{"$f":"LN('Page 277'!P11/'Page 277'!P10)","v":5.8221028970948878E-2},{"$f":"LN('Page 277'!Q11/'Page 277'!Q10)","v":6.2971389688850923E-2},{"$f":"LN('Page 277'!R11/'Page 277'!R10)","v":6.436075916039001E-2},{"$f":"LN('Page 277'!S11/'Page 277'!S10)","v":0.19786574412994123},{"$f":"LN('Page 277'!T11/'Page 277'!T10)","v":0.10200057969557871},{"$f":"LN('Page 277'!U11/'Page 277'!U10)","v":6.1637475497447559E-2},{"$f":"LN('Page 277'!V11/'Page 277'!V10)","v":-2.5242061885177698E-2},{"$f":"LN('Page 277'!W11/'Page 277'!W10)","v":1.1436865190946199E-2},{"$f":"LN('Page 277'!X11/'Page 277'!X10)","v":-5.7505127535623791E-2},{"$f":"LN('Page 277'!Y11/'Page 277'!Y10)","v":3.3336420267591711E-2},{"$f":"LN('Page 277'!Z11/'Page 277'!Z10)","v":-3.0400807559221411E-2},{"$f":"LN('Page 277'!AA11/'Page 277'!AA10)","v":6.0563914577078028E-2},{"$f":"LN('Page 277'!AB11/'Page 277'!AB10)","v":-1.0638398205055643E-2},{"$f":"LN('Page 277'!AC11/'Page 277'!AC10)","v":1.7149090522259349E-2},{"$f":"LN('Page 277'!AD11/'Page 277'!AD10)","v":-1.5171622423056794E-2},{"$f":"LN('Page 277'!AE11/'Page 277'!AE10)","v":-1.0301534991240572E-2},{"$f":"LN('Page 277'!AF11/'Page 277'!AF10)","v":5.9521269088767141E-2}]
["2002-04-01",9.4653927768018079E-2,{"$f":"LN('Page 277'!C12/'Page 277'!C11)","v":-0.10352485502932729},{"$f":"LN('Page 277'!D12/'Page 277'!D11)","v":-4.269514666027549E-2},{"$f":"LN('Page 277'!E12/'Page 277'!E11)","v":3.1897953681000808E-3},{"$f":"LN('Page 277'!F12/'Page 277'!F11)","v":-7.851721112632741E-2},{"$f":"LN('Page 277'!G12/'Page 277'!G11)","v":-0.13405661191564541},{"$f":"LN('Page 277'!H12/'Page 277'!H11)","v":-3.3768422473594267E-2},{"$f":"LN('Page 277'!I12/'Page 277'!I11)","v":-5.7805035265647606E-2},{"$f":"LN('Page 277'!J12/'Page 277'!J11)","v":4.0549728912370551E-3},{"$f":"LN('Page 277'!K12/'Page 277'!K11)","v":-0.17024274989813087},{"$f":"LN('Page 277'!L12/'Page 277'!L11)","v":5.9403672104483787E-2},{"$f":"LN('Page 277'!M12/'Page 277'!M11)","v":-4.7121678894988021E-2},{"$f":"LN('Page 277'!N12/'Page 277'!N11)","v":-4.2547037621728657E-2},{"$f":"LN('Page 277'!O12/'Page 277'!O11)","v":-4.8136005780311027E-2},{"$f":"LN('Page 277'!P12/'Page 277'!P11)","v":-0.2164329507618839},{"$f":"LN('Page 277'!Q12/'Page 277'!Q11)","v":-6.0795110266255288E-2},{"$f":"LN('Page 277'!R12/'Page 277'!R11)","v":-1.6807118316381289E-2},{"$f":"LN('Page 277'!S12/'Page 277'!S11)","v":-1.5479186848460088E-2},{"$f":"LN('Page 277'!T12/'Page 277'!T11)","v":6.0401874349266242E-2},{"$f":"LN('Page 277'!U12/'Page 277'!U11)","v":2.2875568599075361E-2},{"$f":"LN('Page 277'!V12/'Page 277'!V11)","v":8.9769043074332422E-2},{"$f":"LN('Page 277'!W12/'Page 277'!W11)","v":3.2858600979075607E-2},{"$f":"LN('Page 277'!X12/'Page 277'!X11)","v":-5.7817008524070991E-2},{"$f":"LN('Page 277'!Y12/'Page 277'!Y11)","v":-0.14321815601433052},{"$f":"LN('Page 277'!Z12/'Page 277'!Z11)","v":-8.8934551832093325E-2},{"$f":"LN('Page 277'!AA12/'Page 277'!AA11)","v":6.0525544896669753E-3},{"$f":"LN('Page 277'!AB12/'Page 277'!AB11)","v":-0.17965132823807586},{"$f":"LN('Page 277'!AC12/'Page 277'!AC11)","v":-5.6006339979803317E-2},{"$f":"LN('Page 277'!AD12/'Page 277'!AD11)","v":-0.1304485675204701},{"$f":"LN('Page 277'!AE12/'Page 277'!AE11)","v":-9.2970362870169576E-2},{"$f":"LN('Page 277'!AF12/'Page 277'!AF11)","v":-8.7217853469251205E-2}]
["2002-05-01",3.5415720373696405E-2,{"$f":"LN('Page 277'!C13/'Page 277'!C12)","v":3.1979929622318874E-2},{"$f":"LN('Page 277'!D13/'Page 277'!D12)","v":-3.1543618535442949E-2},{"$f":"LN('Page 277'!E13/'Page 277'!E12)","v":3.5829820688122127E-2},{"$f":"LN('Page 277'!F13/'Page 277'!F12)","v":-4.0942833140425211E-2},{"$f":"LN('Page 277'!G13/'Page 277'!G12)","v":1.1201345332493495E-3},{"$f":"LN('Page 277'!H13/'Page 277'!H12)","v":-4.4088772984649124E-2},{"$f":"LN('Page 277'!I13/'Page 277'!I12)","v":4.1059999829931984E-2},{"$f":"LN('Page 277'!J13/'Page 277'!J12)","v":-1.1759520406906249E-2},{"$f":"LN('Page 277'!K13/'Page 277'!K12)","v":-1.2857319975237317E-2},{"$f":"LN('Page 277'!L13/'Page 277'!L12)","v":-2.4291106210459393E-2},{"$f":"LN('Page 277'!M13/'Page 277'!M12)","v":-0.10645826538135635},{"$f":"LN('Page 277'!N13/'Page 277'!N12)","v":7.1344465925884379E-2},{"$f":"LN('Page 277'!O13/'Page 277'!O12)","v":0.11040395588041478},{"$f":"LN('Page 277'!P13/'Page 277'!P12)","v":-3.8378858051192878E-2},{"$f":"LN('Page 277'!Q13/'Page 277'!Q12)","v":-3.4651457972541773E-2},{"$f":"LN('Page 277'!R13/'Page 277'!R12)","v":-3.6769482587011189E-2},{"$f":"LN('Page 277'!S13/'Page 277'!S12)","v":2.4082075655727977E-2},{"$f":"LN('Page 277'!T13/'Page 277'!T12)","v":7.9176567873402574E-4},{"$f":"LN('Page 277'!U13/'Page 277'!U12)","v":5.2856339064220076E-2},{"$f":"LN('Page 277'!V13/'Page 277'!V12)","v":1.9022919701089634E-3},{"$f":"LN('Page 277'!W13/'Page 277'!W12)","v":5.0513531487687044E-2},{"$f":"LN('Page 277'!X13/'Page 277'!X12)","v":4.9387260129633438E-2},{"$f":"LN('Page 277'!Y13/'Page 277'!Y12)","v":-2.6299710583961015E-2},{"$f":"LN('Page 277'!Z13/'Page 277'!Z12)","v":-4.6028024943851012E-2},{"$f":"LN('Page 277'!AA13/'Page 277'!AA12)","v":-7.7538551795234053E-3},{"$f":"LN('Page 277'!AB13/'Page 277'!AB12)","v":9.8939947854903648E-2},{"$f":"LN('Page 277'!AC13/'Page 277'!AC12)","v":-1.5047113320115641E-2},{"$f":"LN('Page 277'!AD13/'Page 277'!AD12)","v":6.9593291799195392E-2},{"$f":"LN('Page 277'!AE13/'Page 277'!AE12)","v":-3.198910026780194E-2},{"$f":"LN('Page 277'!AF13/'Page 277'!AF12)","v":-2.7536830684811583E-4}]
["2002-06-03",-2.9188780756395145E-2,{"$f":"LN('Page 277'!C14/'Page 277'!C13)","v":-5.3772953432492283E-2},{"$f":"LN('Page 277'!D14/'Page 277'!D13)","v":1.9195027491194547E-2},{"$f":"LN('Page 277'!E14/'Page 277'!E13)","v":-0.15727473524384245},{"$f":"LN('Page 277'!F14/'Page 277'!F13)","v":5.3669622760008306E-2},{"$f":"LN('Page 277'!G14/'Page 277'!G13)","v":-0.10806965833025482},{"$f":"LN('Page 277'!H14/'Page 277'!H13)","v":-6.5540692592752997E-2},{"$f":"LN('Page 277'!I14/'Page 277'!I13)","v":-3.5641330914068861E-2},{"$f":"LN('Page 277'!J14/'Page 277'!J13)","v":-0.19256492420871571},{"$f":"LN('Page 277'!K14/'Page 277'!K13)","v":-6.3436803784259463E-2},{"$f":"LN('Page 277'!L14/'Page 277'!L13)","v":-0.15081827824135915},{"$f":"LN('Page 277'!M14/'Page 277'!M13)","v":-0.12536286334612179},{"$f":"LN('Page 277'!N14/'Page 277'!N13)","v":-0.10667297483188079},{"$f":"LN('Page 277'!O14/'Page 277'!O13)","v":-0.21840354522772715},{"$f":"LN('Page 277'!P14/'Page 277'!P13)","v":-0.1109531307938864},{"$f":"LN('Page 277'!Q14/'Page 277'!Q13)","v":-0.4129952641719174},{"$f":"LN('Page 277'!R14/'Page 277'!R13)","v":-0.16044204263381684},{"$f":"LN('Page 277'!S14/'Page 277'!S13)","v":-5.812932395766944E-2},{"$f":"LN('Page 277'!T14/'Page 277'!T13)","v":1.1606307131859832E-2},{"$f":"LN('Page 277'!U14/'Page 277'!U13)","v":-5.0973453928769133E-2},{"$f":"LN('Page 277'!V14/'Page 277'!V13)","v":-1.9540049471441244E-2},{"$f":"LN('Page 277'!W14/'Page 277'!W13)","v":-0.25818816652428989},{"$f":"LN('Page 277'!X14/'Page 277'!X13)","v":-0.11366735780091598},{"$f":"LN('Page 277'!Y14/'Page 277'!Y13)","v":7.18793970343755E-2},{"$f":"LN('Page 277'!Z14/'Page 277'!Z13)","v":1.1392528281094841E-2},{"$f":"LN('Page 277'!AA14/'Page 277'!AA13)","v":4.8532004988862043E-3},{"$f":"LN('Page 277'!AB14/'Page 277'!AB13)","v":-0.11710391848257479},{"$f":"LN('Page 277'!AC14/'Page 277'!AC13)","v":-1.4334929170992232E-2},{"$f":"LN('Page 277'!AD14/'Page 277'!AD13)","v":-6.8692796465945172E-2},{"$f":"LN('Page 277'!AE14/'Page 277'!AE13)","v":1.7918893474271808E-2},{"$f":"LN('Page 277'!AF14/'Page 277'!AF13)","v":2.4484356932286747E-2}]
["2002-07-01",3.3750607111974612E-2,{"$f":"LN('Page 277'!C15/'Page 277'!C14)","v":-0.19749695818804633},{"$f":"LN('Page 277'!D15/'Page 277'!D14)","v":-6.5257342301863905E-2},{"$f":"LN('Page 277'!E15/'Page 277'!E14)","v":-2.7507948197920899E-2},{"$f":"LN('Page 277'!F15/'Page 277'!F14)","v":-8.0718988156795304E-2},{"$f":"LN('Page 277'!G15/'Page 277'!G14)","v":-0.14432487806645969},{"$f":"LN('Page 277'!H15/'Page 277'!H14)","v":-8.2645616963003099E-2},{"$f":"LN('Page 277'!I15/'Page 277'!I14)","v":-5.7461205582103388E-2},{"$f":"LN('Page 277'!J15/'Page 277'!J14)","v":-6.3766618358989155E-2},{"$f":"LN('Page 277'!K15/'Page 277'!K14)","v":0.10290633849230048},{"$f":"LN('Page 277'!L15/'Page 277'!L14)","v":-0.13825282112290918},{"$f":"LN('Page 277'!M15/'Page 277'!M14)","v":-0.17353177741703407},{"$f":"LN('Page 277'!N15/'Page 277'!N14)","v":-8.5136962195279428E-2},{"$f":"LN('Page 277'!O15/'Page 277'!O14)","v":-7.6571687180657641E-2},{"$f":"LN('Page 277'!P15/'Page 277'!P14)","v":-2.2541491041347252E-2},{"$f":"LN('Page 277'!Q15/'Page 277'!Q14)","v":2.7950394108345294E-2},{"$f":"LN('Page 277'!R15/'Page 277'!R14)","v":6.5843859281792382E-3},{"$f":"LN('Page 277'!S15/'Page 277'!S14)","v":-0.30691996347822859},{"$f":"LN('Page 277'!T15/'Page 277'!T14)","v":-0.11446369257156745},{"$f":"LN('Page 277'!U15/'Page 277'!U14)","v":-0.13946100948092249},{"$f":"LN('Page 277'!V15/'Page 277'!V14)","v":2.2817327092116615E-2},{"$f":"LN('Page 277'!W15/'Page 277'!W14)","v":5.3027117760512429E-2},{"$f":"LN('Page 277'!X15/'Page 277'!X14)","v":-2.0639553296548048E-2},{"$f":"LN('Page 277'!Y15/'Page 277'!Y14)","v":-0.13143187474223988},{"$f":"LN('Page 277'!Z15/'Page 277'!Z14)","v":-7.8522990362838732E-2},{"$f":"LN('Page 277'!AA15/'Page 277'!AA14)","v":1.6930709087237886E-3},{"$f":"LN('Page 277'!AB15/'Page 277'!AB14)","v":-8.8975904930232483E-2},{"$f":"LN('Page 277'!AC15/'Page 277'!AC14)","v":2.3267685319325215E-2},{"$f":"LN('Page 277'!AD15/'Page 277'!AD14)","v":-0.18610909852081367},{"$f":"LN('Page 277'!AE15/'Page 277'!AE14)","v":-0.11203724675971019},{"$f":"LN('Page 277'!AF15/'Page 277'!AF14)","v":-0.10712384192652391}]
["2002-08-01",4.9343762021480927E-2,{"$f":"LN('Page 277'!C16/'Page 277'!C15)","v":-7.5279762968983976E-2},{"$f":"LN('Page 277'!D16/'Page 277'!D15)","v":-1.757117827535767E-2},{"$f":"LN('Page 277'!E16/'Page 277'!E15)","v":2.2592323028594059E-2},{"$f":"LN('Page 277'!F16/'Page 277'!F15)","v":-0.10864232186784364},{"$f":"LN('Page 277'!G16/'Page 277'!G15)","v":5.1257270683949648E-2},{"$f":"LN('Page 277'!H16/'Page 277'!H15)","v":-2.4003111725371958E-2},{"$f":"LN('Page 277'!I16/'Page 277'!I15)","v":-3.0720556129501569E-2},{"$f":"LN('Page 277'!J16/'Page 277'!J15)","v":-0.12242341521288569},{"$f":"LN('Page 277'!K16/'Page 277'!K15)","v":-6.5690993317682592E-2},{"$f":"LN('Page 277'!L16/'Page 277'!L15)","v":3.9200346761899596E-2},{"$f":"LN('Page 277'!M16/'Page 277'!M15)","v":6.4517484228313049E-2},{"$f":"LN('Page 277'!N16/'Page 277'!N15)","v":-7.1622913914725195E-2},{"$f":"LN('Page 277'!O16/'Page 277'!O15)","v":-5.2400276393531675E-2},{"$f":"LN('Page 277'!P16/'Page 277'!P15)","v":7.0550710227707661E-2},{"$f":"LN('Page 277'!Q16/'Page 277'!Q15)","v":-0.11867924749810754},{"$f":"LN('Page 277'!R16/'Page 277'!R15)","v":3.5656914690746486E-2},{"$f":"LN('Page 277'!S16/'Page 277'!S15)","v":5.5989744211750223E-2},{"$f":"LN('Page 277'!T16/'Page 277'!T15)","v":2.1048840473945431E-2},{"$f":"LN('Page 277'!U16/'Page 277'!U15)","v":-4.0605754925943018E-2},{"$f":"LN('Page 277'!V16/'Page 277'!V15)","v":-2.2411870427542419E-3},{"$f":"LN('Page 277'!W16/'Page 277'!W15)","v":8.2160633720963452E-2},{"$f":"LN('Page 277'!X16/'Page 277'!X15)","v":1.8448438603733165E-2},{"$f":"LN('Page 277'!Y16/'Page 277'!Y15)","v":2.2749796300981041E-2},{"$f":"LN('Page 277'!Z16/'Page 277'!Z15)","v":2.6202372394024117E-2},{"$f":"LN('Page 277'!AA16/'Page 277'!AA15)","v":-3.8740968550840995E-3},{"$f":"LN('Page 277'!AB16/'Page 277'!AB15)","v":-0.11201165448676881},{"$f":"LN('Page 277'!AC16/'Page 277'!AC15)","v":-0.15312902056389266},{"$f":"LN('Page 277'!AD16/'Page 277'!AD15)","v":-6.2636945145435732E-2},{"$f":"LN('Page 277'!AE16/'Page 277'!AE15)","v":8.3871767743412165E-2},{"$f":"LN('Page 277'!AF16/'Page 277'!AF15)","v":-2.9753257281908193E-2}]
["2002-09-03",4.845105668232174E-2,{"$f":"LN('Page 277'!C17/'Page 277'!C16)","v":-0.26223468323067284},{"$f":"LN('Page 277'!D17/'Page 277'!D16)","v":-0.13732549188862203},{"$f":"LN('Page 277'!E17/'Page 277'!E16)","v":-0.1454284265363687},{"$f":"LN('Page 277'!F17/'Page 277'!F16)","v":-8.261714518565047E-2},{"$f":"LN('Page 277'!G17/'Page 277'!G16)","v":-9.9597248018244988E-2},{"$f":"LN('Page 277'!H17/'Page 277'!H16)","v":-0.15928696814671314},{"$f":"LN('Page 277'!I17/'Page 277'!I16)","v":-0.11106032126150675},{"$f":"LN('Page 277'!J17/'Page 277'!J16)","v":-3.5162513612693271E-2},{"$f":"LN('Page 277'!K17/'Page 277'!K16)","v":-0.19449871944121414},{"$f":"LN('Page 277'!L17/'Page 277'!L16)","v":-0.20716947675957453},{"$f":"LN('Page 277'!M17/'Page 277'!M16)","v":-0.23114327715708133},{"$f":"LN('Page 277'!N17/'Page 277'!N16)","v":-0.32367950510123739},{"$f":"LN('Page 277'!O17/'Page 277'!O16)","v":-0.13443596075494954},{"$f":"LN('Page 277'!P17/'Page 277'!P16)","v":-0.25673321878146271},{"$f":"LN('Page 277'!Q17/'Page 277'!Q16)","v":-0.18269406564534726},{"$f":"LN('Page 277'!R17/'Page 277'!R16)","v":-4.1646069116321278E-3},{"$f":"LN('Page 277'!S17/'Page 277'!S16)","v":-0.32915250533907781},{"$f":"LN('Page 277'!T17/'Page 277'!T16)","v":-5.7448973801567112E-2},{"$f":"LN('Page 277'!U17/'Page 277'!U16)","v":-0.29673190797169874},{"$f":"LN('Page 277'!V17/'Page 277'!V16)","v":-0.12777845727413992},{"$f":"LN('Page 277'!W17/'Page 277'!W16)","v":-0.24010943692820372},{"$f":"LN('Page 277'!X17/'Page 277'!X16)","v":-9.2632802033608533E-2},{"$f":"LN('Page 277'!Y17/'Page 277'!Y16)","v":-0.11509218875636305},{"$f":"LN('Page 277'!Z17/'Page 277'!Z16)","v":-0.13088238445294573},{"$f":"LN('Page 277'!AA17/'Page 277'!AA16)","v":8.2145907687138243E-3},{"$f":"LN('Page 277'!AB17/'Page 277'!AB16)","v":-0.20733294528756743},{"$f":"LN('Page 277'!AC17/'Page 277'!AC16)","v":-5.0202884247737375E-2},{"$f":"LN('Page 277'!AD17/'Page 277'!AD16)","v":-0.12178294460612428},{"$f":"LN('Page 277'!AE17/'Page 277'!AE16)","v":-8.1128281797661156E-2},{"$f":"LN('Page 277'!AF17/'Page 277'!AF16)","v":-0.10553173387586309}]
["2002-10-01",8.2203112390939054E-4,{"$f":"LN('Page 277'!C18/'Page 277'!C17)","v":0.13332081458703388},{"$f":"LN('Page 277'!D18/'Page 277'!D17)","v":0.1340676294208841},{"$f":"LN('Page 277'!E18/'Page 277'!E17)","v":0.15621108287683391},{"$f":"LN('Page 277'!F18/'Page 277'!F17)","v":-0.13743143118889126},{"$f":"LN('Page 277'!G18/'Page 277'!G17)","v":0.22518305800749616},{"$f":"LN('Page 277'!H18/'Page 277'!H17)","v":0.10215771775330279},{"$f":"LN('Page 277'!I18/'Page 277'!I17)","v":0.13412010121115972},{"$f":"LN('Page 277'!J18/'Page 277'!J17)","v":9.7622464058021677E-2},{"$f":"LN('Page 277'!K18/'Page 277'!K17)","v":2.391610889577276E-2},{"$f":"LN('Page 277'!L18/'Page 277'!L17)","v":-0.15702567200644355},{"$f":"LN('Page 277'!M18/'Page 277'!M17)","v":0.10125667899205118},{"$f":"LN('Page 277'!N18/'Page 277'!N17)","v":9.9987156553826395E-2},{"$f":"LN('Page 277'!O18/'Page 277'!O17)","v":0.3029495445825694},{"$f":"LN('Page 277'!P18/'Page 277'!P17)","v":0.30293545067486211},{"$f":"LN('Page 277'!Q18/'Page 277'!Q17)","v":0.2198594761130197},{"$f":"LN('Page 277'!R18/'Page 277'!R17)","v":8.2729568107736864E-2},{"$f":"LN('Page 277'!S18/'Page 277'!S17)","v":8.8461776103578138E-2},{"$f":"LN('Page 277'!T18/'Page 277'!T17)","v":-3.1418615680898078E-2},{"$f":"LN('Page 277'!U18/'Page 277'!U17)","v":2.5135973271542454E-2},{"$f":"LN('Page 277'!V18/'Page 277'!V17)","v":0.14353220773826222},{"$f":"LN('Page 277'!W18/'Page 277'!W17)","v":4.8924461459066891E-2},{"$f":"LN('Page 277'!X18/'Page 277'!X17)","v":0.17111821308396172},{"$f":"LN('Page 277'!Y18/'Page 277'!Y17)","v":0.20081407491612102},{"$f":"LN('Page 277'!Z18/'Page 277'!Z17)","v":9.0626653094449311E-2},{"$f":"LN('Page 277'!AA18/'Page 277'!AA17)","v":-6.033564822353424E-3},{"$f":"LN('Page 277'!AB18/'Page 277'!AB17)","v":0.25688169094605989},{"$f":"LN('Page 277'!AC18/'Page 277'!AC17)","v":8.7731398308322481E-2},{"$f":"LN('Page 277'!AD18/'Page 277'!AD17)","v":0.33105621815288383},{"$f":"LN('Page 277'!AE18/'Page 277'!AE17)","v":8.3845147431580211E-2},{"$f":"LN('Page 277'!AF18/'Page 277'!AF17)","v":5.3670603334340393E-2}]
["2002-11-01",4.2181005156819877E-2,{"$f":"LN('Page 277'!C19/'Page 277'!C18)","v":0.15323766224092053},{"$f":"LN('Page 277'!D19/'Page 277'!D18)","v":4.076325564391297E-2},{"$f":"LN('Page 277'!E19/'Page 277'!E18)","v":6.8147535415543706E-2},{"$f":"LN('Page 277'!F19/'Page 277'!F18)","v":0.14055838808326743},{"$f":"LN('Page 277'!G19/'Page 277'!G18)","v":5.0900823780070249E-2},{"$f":"LN('Page 277'!H19/'Page 277'!H18)","v":0.20052752129052717},{"$f":"LN('Page 277'!I19/'Page 277'!I18)","v":8.6759582955818135E-2},{"$f":"LN('Page 277'!J19/'Page 277'!J18)","v":0.1716531154770311},{"$f":"LN('Page 277'!K19/'Page 277'!K18)","v":7.1760736900315869E-2},{"$f":"LN('Page 277'!L19/'Page 277'!L18)","v":0.19180375767263116},{"$f":"LN('Page 277'!M19/'Page 277'!M18)","v":-8.97918370658779E-2},{"$f":"LN('Page 277'!N19/'Page 277'!N18)","v":9.0892217381434673E-2},{"$f":"LN('Page 277'!O19/'Page 277'!O18)","v":0.20968439794020491},{"$f":"LN('Page 277'!P19/'Page 277'!P18)","v":9.8149656349915612E-2},{"$f":"LN('Page 277'!Q19/'Page 277'!Q18)","v":0.18907699675060363},{"$f":"LN('Page 277'!R19/'Page 277'!R18)","v":-2.6510033315255976E-2},{"$f":"LN('Page 277'!S19/'Page 277'!S18)","v":0.19334722773861415},{"$f":"LN('Page 277'!T19/'Page 277'!T18)","v":-1.3943272094966194E-2},{"$f":"LN('Page 277'!U19/'Page 277'!U18)","v":3.48467313301681E-2},{"$f":"LN('Page 277'!V19/'Page 277'!V18)","v":2.748162223146906E-2},{"$f":"LN('Page 277'!W19/'Page 277'!W18)","v":-7.7211744000826268E-2},{"$f":"LN('Page 277'!X19/'Page 277'!X18)","v":9.1040353552916189E-2},{"$f":"LN('Page 277'!Y19/'Page 277'!Y18)","v":7.5765583731354544E-2},{"$f":"LN('Page 277'!Z19/'Page 277'!Z18)","v":-3.8042584355342203E-3},{"$f":"LN('Page 277'!AA19/'Page 277'!AA18)","v":-4.5310386843392496E-2},{"$f":"LN('Page 277'!AB19/'Page 277'!AB18)","v":0.10517092422679099},{"$f":"LN('Page 277'!AC19/'Page 277'!AC18)","v":1.7065260554186931E-2},{"$f":"LN('Page 277'!AD19/'Page 277'!AD18)","v":0.10367370052634674},{"$f":"LN('Page 277'!AE19/'Page 277'!AE18)","v":6.5675337470852153E-3},{"$f":"LN('Page 277'!AF19/'Page 277'!AF18)","v":3.9769834572830502E-2}]
["2002-12-02",0.16076799900798622,{"$f":"LN('Page 277'!C20/'Page 277'!C19)","v":-0.11467866863723777},{"$f":"LN('Page 277'!D20/'Page 277'!D19)","v":-0.11807678180307767},{"$f":"LN('Page 277'!E20/'Page 277'!E19)","v":-9.4157232075042577E-2},{"$f":"LN('Page 277'!F20/'Page 277'!F19)","v":-3.1718485160777944E-2},{"$f":"LN('Page 277'!G20/'Page 277'!G19)","v":-9.976645110465264E-2},{"$f":"LN('Page 277'!H20/'Page 277'!H19)","v":-8.7480090379978032E-2},{"$f":"LN('Page 277'!I20/'Page 277'!I19)","v":-5.0882505202755855E-2},{"$f":"LN('Page 277'!J20/'Page 277'!J19)","v":-0.18295267073096441},{"$f":"LN('Page 277'!K20/'Page 277'!K19)","v":-0.10016921633419347},{"$f":"LN('Page 277'!L20/'Page 277'!L19)","v":-7.4061437799726737E-2},{"$f":"LN('Page 277'!M20/'Page 277'!M19)","v":-9.2170459799657226E-2},{"$f":"LN('Page 277'!N20/'Page 277'!N19)","v":-8.0425682697801315E-2},{"$f":"LN('Page 277'!O20/'Page 277'!O19)","v":-0.11109811255449942},{"$f":"LN('Page 277'!P20/'Page 277'!P19)","v":-0.11477711781040728},{"$f":"LN('Page 277'!Q20/'Page 277'!Q19)","v":-0.29364038203541154},{"$f":"LN('Page 277'!R20/'Page 277'!R19)","v":-5.9803054454518605E-2},{"$f":"LN('Page 277'!S20/'Page 277'!S19)","v":-4.7793832399136003E-2},{"$f":"LN('Page 277'!T20/'Page 277'!T19)","v":-4.00587605520051E-2},{"$f":"LN('Page 277'!U20/'Page 277'!U19)","v":-0.14007591860117491},{"$f":"LN('Page 277'!V20/'Page 277'!V19)","v":-5.1728360742031007E-2},{"$f":"LN('Page 277'!W20/'Page 277'!W19)","v":8.7602218956596464E-2},{"$f":"LN('Page 277'!X20/'Page 277'!X19)","v":-4.2014160672714566E-2},{"$f":"LN('Page 277'!Y20/'Page 277'!Y19)","v":-0.10944469073922956},{"$f":"LN('Page 277'!Z20/'Page 277'!Z19)","v":-3.0966584108389622E-2},{"$f":"LN('Page 277'!AA20/'Page 277'!AA19)","v":1.6579128802911264E-2},{"$f":"LN('Page 277'!AB20/'Page 277'!AB19)","v":-4.9857286242738795E-2},{"$f":"LN('Page 277'!AC20/'Page 277'!AC19)","v":-8.8375830124651066E-3},{"$f":"LN('Page 277'!AD20/'Page 277'!AD19)","v":-7.7794252538525996E-2},{"$f":"LN('Page 277'!AE20/'Page 277'!AE19)","v":-6.3589158037542184E-2},{"$f":"LN('Page 277'!AF20/'Page 277'!AF19)","v":4.0466981293098385E-3}]
["2003-01-02",1.3456453469697302E-2,{"$f":"LN('Page 277'!C21/'Page 277'!C20)","v":-0.14146552029994253},{"$f":"LN('Page 277'!D21/'Page 277'!D20)","v":-6.6691374498672157E-2},{"$f":"LN('Page 277'!E21/'Page 277'!E20)","v":4.9908604677582208E-3},{"$f":"LN('Page 277'!F21/'Page 277'!F20)","v":-4.3470788985772571E-2},{"$f":"LN('Page 277'!G21/'Page 277'!G20)","v":-1.8554595002110815E-2},{"$f":"LN('Page 277'!H21/'Page 277'!H20)","v":-3.1431158789582109E-2},{"$f":"LN('Page 277'!I21/'Page 277'!I20)","v":-0.11292601069443486},{"$f":"LN('Page 277'!J21/'Page 277'!J20)","v":7.0674957669936367E-2},{"$f":"LN('Page 277'!K21/'Page 277'!K20)","v":-5.1269597424315243E-2},{"$f":"LN('Page 277'!L21/'Page 277'!L20)","v":-1.443594623294148E-2},{"$f":"LN('Page 277'!M21/'Page 277'!M20)","v":-0.1389648463475181},{"$f":"LN('Page 277'!N21/'Page 277'!N20)","v":1.7945748539198343E-2},{"$f":"LN('Page 277'!O21/'Page 277'!O20)","v":3.0238910250769192E-3},{"$f":"LN('Page 277'!P21/'Page 277'!P20)","v":9.0078765138604609E-3},{"$f":"LN('Page 277'!Q21/'Page 277'!Q20)","v":5.9583095836306249E-3},{"$f":"LN('Page 277'!R21/'Page 277'!R20)","v":-1.7965869689177784E-3},{"$f":"LN('Page 277'!S21/'Page 277'!S20)","v":-2.7953627346028617E-2},{"$f":"LN('Page 277'!T21/'Page 277'!T20)","v":-8.0166569691407036E-2},{"$f":"LN('Page 277'!U21/'Page 277'!U20)","v":-0.12131849668740595},{"$f":"LN('Page 277'!V21/'Page 277'!V20)","v":1.0045113907752113E-2},{"$f":"LN('Page 277'!W21/'Page 277'!W20)","v":-6.7812233805536068E-2},{"$f":"LN('Page 277'!X21/'Page 277'!X20)","v":-2.1907393864309101E-2},{"$f":"LN('Page 277'!Y21/'Page 277'!Y20)","v":-8.53950844121283E-2},{"$f":"LN('Page 277'!Z21/'Page 277'!Z20)","v":-1.7885892802497201E-3},{"$f":"LN('Page 277'!AA21/'Page 277'!AA20)","v":4.9813201528147724E-4},{"$f":"LN('Page 277'!AB21/'Page 277'!AB20)","v":-9.4951499743090681E-2},{"$f":"LN('Page 277'!AC21/'Page 277'!AC20)","v":2.6281836160795637E-2},{"$f":"LN('Page 277'!AD21/'Page 277'!AD20)","v":-3.3511074772559768E-3},{"$f":"LN('Page 277'!AE21/'Page 277'!AE20)","v":-5.5036550627331024E-2},{"$f":"LN('Page 277'!AF21/'Page 277'!AF20)","v":-2.2938947680584975E-2}]
["2003-02-03",2.7411611397934466E-2,{"$f":"LN('Page 277'!C22/'Page 277'!C21)","v":4.3693684262947743E-2},{"$f":"LN('Page 277'!D22/'Page 277'!D21)","v":-9.3559310982810992E-2},{"$f":"LN('Page 277'!E22/'Page 277'!E21)","v":-5.6319266598434774E-2},{"$f":"LN('Page 277'!F22/'Page 277'!F21)","v":-0.13108211777781725},{"$f":"LN('Page 277'!G22/'Page 277'!G21)","v":-2.9823609660282947E-2},{"$f":"LN('Page 277'!H22/'Page 277'!H21)","v":6.6441643738348766E-2},{"$f":"LN('Page 277'!I22/'Page 277'!I21)","v":-2.2803268297453029E-2},{"$f":"LN('Page 277'!J22/'Page 277'!J21)","v":-2.5619512617744512E-2},{"$f":"LN('Page 277'!K22/'Page 277'!K21)","v":4.6756954387334002E-2},{"$f":"LN('Page 277'!L22/'Page 277'!L21)","v":-5.9221112814114754E-2},{"$f":"LN('Page 277'!M22/'Page 277'!M21)","v":0.11497241960429672},{"$f":"LN('Page 277'!N22/'Page 277'!N21)","v":-5.7184569597486232E-2},{"$f":"LN('Page 277'!O22/'Page 277'!O21)","v":-9.3620786377303575E-2},{"$f":"LN('Page 277'!P22/'Page 277'!P21)","v":-1.1875702391953846E-3},{"$f":"LN('Page 277'!Q22/'Page 277'!Q21)","v":9.8006810651924278E-2},{"$f":"LN('Page 277'!R22/'Page 277'!R21)","v":-1.7738824337381519E-2},{"$f":"LN('Page 277'!S22/'Page 277'!S21)","v":-2.8757559295052533E-2},{"$f":"LN('Page 277'!T22/'Page 277'!T21)","v":-6.1919702479209951E-3},{"$f":"LN('Page 277'!U22/'Page 277'!U21)","v":-4.5496853268568518E-2},{"$f":"LN('Page 277'!V22/'Page 277'!V21)","v":1.1820266103743152E-2},{"$f":"LN('Page 277'!W22/'Page 277'!W21)","v":2.0335441870730667E-2},{"$f":"LN('Page 277'!X22/'Page 277'!X21)","v":-4.8757269973609955E-2},{"$f":"LN('Page 277'!Y22/'Page 277'!Y21)","v":1.9361090268664007E-3},{"$f":"LN('Page 277'!Z22/'Page 277'!Z21)","v":-1.8064075007573496E-2},{"$f":"LN('Page 277'!AA22/'Page 277'!AA21)","v":-4.429331804306301E-2},{"$f":"LN('Page 277'!AB22/'Page 277'!AB21)","v":-0.1612434930677005},{"$f":"LN('Page 277'!AC22/'Page 277'!AC21)","v":-7.8132328754564259E-2},{"$f":"LN('Page 277'!AD22/'Page 277'!AD21)","v":-0.10173910138070855},{"$f":"LN('Page 277'!AE22/'Page 277'!AE21)","v":5.4048342576563692E-3},{"$f":"LN('Page 277'!AF22/'Page 277'!AF21)","v":2.8566913570903974E-3}]
["2003-03-03",6.8909426237768384E-2,{"$f":"LN('Page 277'!C23/'Page 277'!C22)","v":-5.5748624768301544E-2},{"$f":"LN('Page 277'!D23/'Page 277'!D22)","v":4.3357144414625601E-3},{"$f":"LN('Page 277'!E23/'Page 277'!E22)","v":-1.0589580073240927E-2},{"$f":"LN('Page 277'!F23/'Page 277'!F22)","v":-9.4926523555613498E-2},{"$f":"LN('Page 277'!G23/'Page 277'!G22)","v":3.2725433395712572E-2},{"$f":"LN('Page 277'!H23/'Page 277'!H22)","v":4.5573026372150868E-2},{"$f":"LN('Page 277'!I23/'Page 277'!I22)","v":5.8068470022885253E-2},{"$f":"LN('Page 277'!J23/'Page 277'!J22)","v":-2.4169196055386566E-3},{"$f":"LN('Page 277'!K23/'Page 277'!K22)","v":5.8413969839456993E-2},{"$f":"LN('Page 277'!L23/'Page 277'!L22)","v":-4.5686250612152913E-3},{"$f":"LN('Page 277'!M23/'Page 277'!M22)","v":4.0663041490540751E-2},{"$f":"LN('Page 277'!N23/'Page 277'!N22)","v":-6.9194667471896065E-2},{"$f":"LN('Page 277'!O23/'Page 277'!O22)","v":-1.4023602107746367E-2},{"$f":"LN('Page 277'!P23/'Page 277'!P22)","v":6.0550402189520243E-3},{"$f":"LN('Page 277'!Q23/'Page 277'!Q22)","v":-5.7897941632355364E-2},{"$f":"LN('Page 277'!R23/'Page 277'!R22)","v":9.8319310996720991E-2},{"$f":"LN('Page 277'!S23/'Page 277'!S22)","v":4.4757900641493625E-2},{"$f":"LN('Page 277'!T23/'Page 277'!T22)","v":1.2345835822299362E-2},{"$f":"LN('Page 277'!U23/'Page 277'!U22)","v":6.0944015882983212E-2},{"$f":"LN('Page 277'!V23/'Page 277'!V22)","v":3.6616980542133158E-2},{"$f":"LN('Page 277'!W23/'Page 277'!W22)","v":-0.23686375406622115},{"$f":"LN('Page 277'!X23/'Page 277'!X22)","v":4.4802090130681892E-2},{"$f":"LN('Page 277'!Y23/'Page 277'!Y22)","v":2.1053409197832482E-2},{"$f":"LN('Page 277'!Z23/'Page 277'!Z22)","v":4.386511745051392E-2},{"$f":"LN('Page 277'!AA23/'Page 277'!AA22)","v":8.4078919119413342E-2},{"$f":"LN('Page 277'!AB23/'Page 277'!AB22)","v":-3.5981469228829284E-2},{"$f":"LN('Page 277'!AC23/'Page 277'!AC22)","v":-1.3758363296361585E-2},{"$f":"LN('Page 277'!AD23/'Page 277'!AD22)","v":2.205234703019511E-2},{"$f":"LN('Page 277'!AE23/'Page 277'!AE22)","v":8.1136745278307804E-2},{"$f":"LN('Page 277'!AF23/'Page 277'!AF22)","v":2.7201927320307937E-2}]
["2003-04-01",-2.8425215518136135E-2,{"$f":"LN('Page 277'!C24/'Page 277'!C23)","v":0.17457387000312879},{"$f":"LN('Page 277'!D24/'Page 277'!D23)","v":0.15855558519653012},{"$f":"LN('Page 277'!E24/'Page 277'!E23)","v":0.13273263509370303},{"$f":"LN('Page 277'!F24/'Page 277'!F23)","v":8.489944378648627E-2},{"$f":"LN('Page 277'!G24/'Page 277'!G23)","v":0.13050847663683099},{"$f":"LN('Page 277'!H24/'Page 277'!H23)","v":7.3366224066801822E-2},{"$f":"LN('Page 277'!I24/'Page 277'!I23)","v":9.0299207840725426E-2},{"$f":"LN('Page 277'!J24/'Page 277'!J23)","v":9.2391112933826666E-2},{"$f":"LN('Page 277'!K24/'Page 277'!K23)","v":0.14398213891739789},{"$f":"LN('Page 277'!L24/'Page 277'!L23)","v":7.0049023671026195E-2},{"$f":"LN('Page 277'!M24/'Page 277'!M23)","v":0.14386358786172787},{"$f":"LN('Page 277'!N24/'Page 277'!N23)","v":9.9795107920613191E-2},{"$f":"LN('Page 277'!O24/'Page 277'!O23)","v":4.6642279970538637E-2},{"$f":"LN('Page 277'!P24/'Page 277'!P23)","v":7.9315611180039547E-2},{"$f":"LN('Page 277'!Q24/'Page 277'!Q23)","v":0.12221202106771634},{"$f":"LN('Page 277'!R24/'Page 277'!R23)","v":-2.6523781244344454E-2},{"$f":"LN('Page 277'!S24/'Page 277'!S23)","v":0.22746321245872628},{"$f":"LN('Page 277'!T24/'Page 277'!T23)","v":-1.868909901877089E-3},{"$f":"LN('Page 277'!U24/'Page 277'!U23)","v":0.16761540940425926},{"$f":"LN('Page 277'!V24/'Page 277'!V23)","v":-3.1182184556176201E-2},{"$f":"LN('Page 277'!W24/'Page 277'!W23)","v":2.6337695885035418E-2},{"$f":"LN('Page 277'!X24/'Page 277'!X23)","v":6.0028697403467925E-2},{"$f":"LN('Page 277'!Y24/'Page 277'!Y23)","v":5.4814549606380256E-2},{"$f":"LN('Page 277'!Z24/'Page 277'!Z23)","v":-1.2994037086550041E-2},{"$f":"LN('Page 277'!AA24/'Page 277'!AA23)","v":1.3547444273381792E-2},{"$f":"LN('Page 277'!AB24/'Page 277'!AB23)","v":0.16719267519765466},{"$f":"LN('Page 277'!AC24/'Page 277'!AC23)","v":6.7655241324593704E-2},{"$f":"LN('Page 277'!AD24/'Page 277'!AD23)","v":6.6787312586699746E-2},{"$f":"LN('Page 277'!AE24/'Page 277'!AE23)","v":7.9094100677571888E-2},{"$f":"LN('Page 277'!AF24/'Page 277'!AF23)","v":7.0693394149099822E-3}]
["2003-05-01",5.5161529201216968E-2,{"$f":"LN('Page 277'!C25/'Page 277'!C24)","v":7.0596523221486157E-2},{"$f":"LN('Page 277'!D25/'Page 277'!D24)","v":-1.2314189259499126E-3},{"$f":"LN('Page 277'!E25/'Page 277'!E24)","v":9.5649124559575222E-2},{"$f":"LN('Page 277'!F25/'Page 277'!F24)","v":0.1227662919520584},{"$f":"LN('Page 277'!G25/'Page 277'!G24)","v":4.9072689951788817E-2},{"$f":"LN('Page 277'!H25/'Page 277'!H24)","v":-8.4763373297132502E-3},{"$f":"LN('Page 277'!I25/'Page 277'!I24)","v":-1.047120514525356E-3},{"$f":"LN('Page 277'!J25/'Page 277'!J24)","v":5.1596612970896613E-2},{"$f":"LN('Page 277'!K25/'Page 277'!K24)","v":-2.5819956337041317E-2},{"$f":"LN('Page 277'!L25/'Page 277'!L24)","v":-6.2592857956961399E-3},{"$f":"LN('Page 277'!M25/'Page 277'!M24)","v":0.14434822979500392},{"$f":"LN('Page 277'!N25/'Page 277'!N24)","v":0.11177823414162132},{"$f":"LN('Page 277'!O25/'Page 277'!O24)","v":0.17932176881484305},{"$f":"LN('Page 277'!P25/'Page 277'!P24)","v":3.817575173109395E-2},{"$f":"LN('Page 277'!Q25/'Page 277'!Q24)","v":0.12486601028208288},{"$f":"LN('Page 277'!R25/'Page 277'!R24)","v":-3.1925788359223974E-2},{"$f":"LN('Page 277'!S25/'Page 277'!S24)","v":0.11291809199390565},{"$f":"LN('Page 277'!T25/'Page 277'!T24)","v":0.12045183894846385},{"$f":"LN('Page 277'!U25/'Page 277'!U24)","v":9.0810734643094984E-2},{"$f":"LN('Page 277'!V25/'Page 277'!V24)","v":8.6011155090919712E-3},{"$f":"LN('Page 277'!W25/'Page 277'!W24)","v":0.29453924217791788},{"$f":"LN('Page 277'!X25/'Page 277'!X24)","v":-4.5602217693244643E-2},{"$f":"LN('Page 277'!Y25/'Page 277'!Y24)","v":-3.8378396553751505E-2},{"$f":"LN('Page 277'!Z25/'Page 277'!Z24)","v":1.2994037086550106E-2},{"$f":"LN('Page 277'!AA25/'Page 277'!AA24)","v":2.1717140720683405E-2},{"$f":"LN('Page 277'!AB25/'Page 277'!AB24)","v":8.6121753749918539E-2},{"$f":"LN('Page 277'!AC25/'Page 277'!AC24)","v":0.1031775555167863},{"$f":"LN('Page 277'!AD25/'Page 277'!AD24)","v":1.2594238037958991E-2},{"$f":"LN('Page 277'!AE25/'Page 277'!AE24)","v":-6.8022417789291759E-2},{"$f":"LN('Page 277'!AF25/'Page 277'!AF24)","v":4.0515668893721414E-2}]
["2003-06-02",1.8682839619259851E-2,{"$f":"LN('Page 277'!C26/'Page 277'!C25)","v":3.5596978740231759E-2},{"$f":"LN('Page 277'!D26/'Page 277'!D25)","v":-4.6846973296788781E-2},{"$f":"LN('Page 277'!E26/'Page 277'!E25)","v":3.6645566026929938E-3},{"$f":"LN('Page 277'!F26/'Page 277'!F25)","v":0.11239774621627627},{"$f":"LN('Page 277'!G26/'Page 277'!G25)","v":4.266049714271504E-2},{"$f":"LN('Page 277'!H26/'Page 277'!H25)","v":6.5121042966952508E-2},{"$f":"LN('Page 277'!I26/'Page 277'!I25)","v":-1.212136053234485E-2},{"$f":"LN('Page 277'!J26/'Page 277'!J25)","v":5.224672281952304E-3},{"$f":"LN('Page 277'!K26/'Page 277'!K25)","v":6.046881614892907E-3},{"$f":"LN('Page 277'!L26/'Page 277'!L25)","v":1.8661533537849079E-2},{"$f":"LN('Page 277'!M26/'Page 277'!M25)","v":2.1066649233051005E-2},{"$f":"LN('Page 277'!N26/'Page 277'!N25)","v":2.4602975173661945E-2},{"$f":"LN('Page 277'!O26/'Page 277'!O25)","v":9.2183956078058613E-2},{"$f":"LN('Page 277'!P26/'Page 277'!P25)","v":-6.5083204651018176E-2},{"$f":"LN('Page 277'!Q26/'Page 277'!Q25)","v":-4.9541739928333941E-4},{"$f":"LN('Page 277'!R26/'Page 277'!R25)","v":-5.0090598971637451E-2},{"$f":"LN('Page 277'!S26/'Page 277'!S25)","v":3.9260200606148342E-2},{"$f":"LN('Page 277'!T26/'Page 277'!T25)","v":2.295182717820227E-2},{"$f":"LN('Page 277'!U26/'Page 277'!U25)","v":0.16392718208933182},{"$f":"LN('Page 277'!V26/'Page 277'!V25)","v":1.9786163816293573E-2},{"$f":"LN('Page 277'!W26/'Page 277'!W25)","v":0.11041605200128428},{"$f":"LN('Page 277'!X26/'Page 277'!X25)","v":9.1990281094654625E-2},{"$f":"LN('Page 277'!Y26/'Page 277'!Y25)","v":4.1064163611348611E-2},{"$f":"LN('Page 277'!Z26/'Page 277'!Z25)","v":9.6071166587196374E-2},{"$f":"LN('Page 277'!AA26/'Page 277'!AA25)","v":-2.9300115445138851E-2},{"$f":"LN('Page 277'!AB26/'Page 277'!AB25)","v":3.7226660022456914E-3},{"$f":"LN('Page 277'!AC26/'Page 277'!AC25)","v":3.7102732606584705E-2},{"$f":"LN('Page 277'!AD26/'Page 277'!AD25)","v":4.1261458381425947E-2},{"$f":"LN('Page 277'!AE26/'Page 277'!AE25)","v":2.1589869026376819E-2},{"$f":"LN('Page 277'!AF26/'Page 277'!AF25)","v":-1.3323661198470655E-2}]
["2003-07-01",0.12084212124570062,{"$f":"LN('Page 277'!C27/'Page 277'!C26)","v":8.5344709937160576E-2},{"$f":"LN('Page 277'!D27/'Page 277'!D26)","v":0.1513798274033131},{"$f":"LN('Page 277'!E27/'Page 277'!E26)","v":5.7408491990673653E-2},{"$f":"LN('Page 277'!F27/'Page 277'!F26)","v":-3.5550984264318866E-2},{"$f":"LN('Page 277'!G27/'Page 277'!G26)","v":5.3456459631549977E-2},{"$f":"LN('Page 277'!H27/'Page 277'!H26)","v":0.19845853459320464},{"$f":"LN('Page 277'!I27/'Page 277'!I26)","v":5.392767924696916E-2},{"$f":"LN('Page 277'!J27/'Page 277'!J26)","v":0.10384816888577954},{"$f":"LN('Page 277'!K27/'Page 277'!K26)","v":-8.703933851860135E-3},{"$f":"LN('Page 277'!L27/'Page 277'!L26)","v":3.8808941468620115E-2},{"$f":"LN('Page 277'!M27/'Page 277'!M26)","v":-5.9944237275739262E-2},{"$f":"LN('Page 277'!N27/'Page 277'!N26)","v":5.2010168845747329E-2},{"$f":"LN('Page 277'!O27/'Page 277'!O26)","v":-5.8881426252225975E-3},{"$f":"LN('Page 277'!P27/'Page 277'!P26)","v":-1.5183176421390006E-2},{"$f":"LN('Page 277'!Q27/'Page 277'!Q26)","v":0.17917820074392266},{"$f":"LN('Page 277'!R27/'Page 277'!R26)","v":1.8474807677078544E-3},{"$f":"LN('Page 277'!S27/'Page 277'!S26)","v":3.5238816620500768E-2},{"$f":"LN('Page 277'!T27/'Page 277'!T26)","v":-3.151719003712531E-2},{"$f":"LN('Page 277'!U27/'Page 277'!U26)","v":4.2160810824278118E-2},{"$f":"LN('Page 277'!V27/'Page 277'!V26)","v":8.3355266807444053E-2},{"$f":"LN('Page 277'!W27/'Page 277'!W26)","v":-0.12735830936629924},{"$f":"LN('Page 277'!X27/'Page 277'!X26)","v":-9.1122602081432233E-2},{"$f":"LN('Page 277'!Y27/'Page 277'!Y26)","v":2.951106032565216E-2},{"$f":"LN('Page 277'!Z27/'Page 277'!Z26)","v":-2.3409759095252527E-2},{"$f":"LN('Page 277'!AA27/'Page 277'!AA26)","v":-9.5603022619822255E-3},{"$f":"LN('Page 277'!AB27/'Page 277'!AB26)","v":-7.5216163948547937E-2},{"$f":"LN('Page 277'!AC27/'Page 277'!AC26)","v":6.0049633779510309E-2},{"$f":"LN('Page 277'!AD27/'Page 277'!AD26)","v":-0.10979655920348243},{"$f":"LN('Page 277'!AE27/'Page 277'!AE26)","v":4.072193178853617E-2},{"$f":"LN('Page 277'!AF27/'Page 277'!AF26)","v":-9.2828934304432006E-3}]
["2003-08-01",6.7748416748628928E-2,{"$f":"LN('Page 277'!C28/'Page 277'!C27)","v":3.3825096153643881E-2},{"$f":"LN('Page 277'!D28/'Page 277'!D27)","v":-7.4876644523636238E-2},{"$f":"LN('Page 277'!E28/'Page 277'!E27)","v":1.9729694295527435E-2},{"$f":"LN('Page 277'!F28/'Page 277'!F27)","v":0.12656272330842924},{"$f":"LN('Page 277'!G28/'Page 277'!G27)","v":-3.3042379965386455E-2},{"$f":"LN('Page 277'!H28/'Page 277'!H27)","v":6.2473169586022267E-2},{"$f":"LN('Page 277'!I28/'Page 277'!I27)","v":2.6033452377250046E-2},{"$f":"LN('Page 277'!J28/'Page 277'!J27)","v":-6.6513226748935797E-2},{"$f":"LN('Page 277'!K28/'Page 277'!K27)","v":3.9132997702148328E-2},{"$f":"LN('Page 277'!L28/'Page 277'!L27)","v":0.10701281600412117},{"$f":"LN('Page 277'!M28/'Page 277'!M27)","v":3.0260971781809479E-2},{"$f":"LN('Page 277'!N28/'Page 277'!N27)","v":3.1275817991775902E-2},{"$f":"LN('Page 277'!O28/'Page 277'!O27)","v":-6.0347839258119644E-2},{"$f":"LN('Page 277'!P28/'Page 277'!P27)","v":1.1315182329404493E-2},{"$f":"LN('Page 277'!Q28/'Page 277'!Q27)","v":0.13936562452305809},{"$f":"LN('Page 277'!R28/'Page 277'!R27)","v":-3.8892629160837099E-2},{"$f":"LN('Page 277'!S28/'Page 277'!S27)","v":-2.4113047406809193E-2},{"$f":"LN('Page 277'!T28/'Page 277'!T27)","v":-3.2789822822990956E-2},{"$f":"LN('Page 277'!U28/'Page 277'!U27)","v":-2.6023773421305359E-2},{"$f":"LN('Page 277'!V28/'Page 277'!V27)","v":2.0687291493214577E-2},{"$f":"LN('Page 277'!W28/'Page 277'!W27)","v":2.9674074558462916E-2},{"$f":"LN('Page 277'!X28/'Page 277'!X27)","v":-3.8908532918691993E-2},{"$f":"LN('Page 277'!Y28/'Page 277'!Y27)","v":4.3308859378401489E-3},{"$f":"LN('Page 277'!Z28/'Page 277'!Z27)","v":-0.1042075285732616},{"$f":"LN('Page 277'!AA28/'Page 277'!AA27)","v":-6.5052632734480583E-3},{"$f":"LN('Page 277'!AB28/'Page 277'!AB27)","v":-3.9320868393987976E-2},{"$f":"LN('Page 277'!AC28/'Page 277'!AC27)","v":6.8174540835719555E-2},{"$f":"LN('Page 277'!AD28/'Page 277'!AD27)","v":9.1116803512558131E-3},{"$f":"LN('Page 277'!AE28/'Page 277'!AE27)","v":5.6737527611599781E-2},{"$f":"LN('Page 277'!AF28/'Page 277'!AF27)","v":6.465133065881444E-2}]
["2003-09-02",1.129911735197245E-2,{"$f":"LN('Page 277'!C29/'Page 277'!C28)","v":-8.8019746541645447E-2},{"$f":"LN('Page 277'!D29/'Page 277'!D28)","v":-3.071291979041154E-2},{"$f":"LN('Page 277'!E29/'Page 277'!E28)","v":0},{"$f":"LN('Page 277'!F29/'Page 277'!F28)","v":-8.5512183478071768E-2},{"$f":"LN('Page 277'!G29/'Page 277'!G28)","v":4.8561605112987349E-2},{"$f":"LN('Page 277'!H29/'Page 277'!H28)","v":-4.2432418702576156E-2},{"$f":"LN('Page 277'!I29/'Page 277'!I28)","v":-0.11174403843961539},{"$f":"LN('Page 277'!J29/'Page 277'!J28)","v":-1.6705020200002887E-2},{"$f":"LN('Page 277'!K29/'Page 277'!K28)","v":1.4153747438093766E-2},{"$f":"LN('Page 277'!L29/'Page 277'!L28)","v":-4.2140812468307665E-3},{"$f":"LN('Page 277'!M29/'Page 277'!M28)","v":-7.3991008303252196E-3},{"$f":"LN('Page 277'!N29/'Page 277'!N28)","v":-9.5310179804324893E-2},{"$f":"LN('Page 277'!O29/'Page 277'!O28)","v":-2.5411637362336956E-2},{"$f":"LN('Page 277'!P29/'Page 277'!P28)","v":7.4188336113208256E-2},{"$f":"LN('Page 277'!Q29/'Page 277'!Q28)","v":-3.8197813070573967E-2},{"$f":"LN('Page 277'!R29/'Page 277'!R28)","v":-1.2801367227169426E-3},{"$f":"LN('Page 277'!S29/'Page 277'!S28)","v":3.2488657556656369E-3},{"$f":"LN('Page 277'!T29/'Page 277'!T28)","v":-8.1815257413026046E-3},{"$f":"LN('Page 277'!U29/'Page 277'!U28)","v":4.8700482092335171E-2},{"$f":"LN('Page 277'!V29/'Page 277'!V28)","v":-3.0887577848030593E-2},{"$f":"LN('Page 277'!W29/'Page 277'!W28)","v":7.7335818616388816E-2},{"$f":"LN('Page 277'!X29/'Page 277'!X28)","v":1.321259843546308E-2},{"$f":"LN('Page 277'!Y29/'Page 277'!Y28)","v":4.7266181750373705E-2},{"$f":"LN('Page 277'!Z29/'Page 277'!Z28)","v":1.5365676625359811E-2},{"$f":"LN('Page 277'!AA29/'Page 277'!AA28)","v":6.1406354887308355E-2},{"$f":"LN('Page 277'!AB29/'Page 277'!AB28)","v":-9.4192219164916397E-3},{"$f":"LN('Page 277'!AC29/'Page 277'!AC28)","v":-3.7690236064165793E-2},{"$f":"LN('Page 277'!AD29/'Page 277'!AD28)","v":-8.5157808340306826E-2},{"$f":"LN('Page 277'!AE29/'Page 277'!AE28)","v":-5.7661656685777822E-2},{"$f":"LN('Page 277'!AF29/'Page 277'!AF28)","v":-2.9477023295629484E-2}]
["2003-10-01",1.4207597349639065E-2,{"$f":"LN('Page 277'!C30/'Page 277'!C29)","v":0.18815599644086031},{"$f":"LN('Page 277'!D30/'Page 277'!D29)","v":5.2684396840289915E-2},{"$f":"LN('Page 277'!E30/'Page 277'!E29)","v":4.3080447763902879E-2},{"$f":"LN('Page 277'!F30/'Page 277'!F29)","v":0.11445975951294031},{"$f":"LN('Page 277'!G30/'Page 277'!G29)","v":4.8148315623648345E-2},{"$f":"LN('Page 277'!H30/'Page 277'!H29)","v":6.7282007083321993E-2},{"$f":"LN('Page 277'!I30/'Page 277'!I29)","v":9.8040000966208348E-3},{"$f":"LN('Page 277'!J30/'Page 277'!J29)","v":0.11556857261022038},{"$f":"LN('Page 277'!K30/'Page 277'!K29)","v":-2.7028672387919259E-2},{"$f":"LN('Page 277'!L30/'Page 277'!L29)","v":4.1632476801552E-2},{"$f":"LN('Page 277'!M30/'Page 277'!M29)","v":0.15188786974584667},{"$f":"LN('Page 277'!N30/'Page 277'!N29)","v":0.14987889592550058},{"$f":"LN('Page 277'!O30/'Page 277'!O29)","v":0.14220678904379266},{"$f":"LN('Page 277'!P30/'Page 277'!P29)","v":1.2916798201281145E-2},{"$f":"LN('Page 277'!Q30/'Page 277'!Q29)","v":0.18007268028393869},{"$f":"LN('Page 277'!R30/'Page 277'!R29)","v":1.6305284476910688E-2},{"$f":"LN('Page 277'!S30/'Page 277'!S29)","v":5.4596299236280781E-2},{"$f":"LN('Page 277'!T30/'Page 277'!T29)","v":7.7108551439068529E-2},{"$f":"LN('Page 277'!U30/'Page 277'!U29)","v":6.0044131549731733E-2},{"$f":"LN('Page 277'!V30/'Page 277'!V29)","v":0.1326511277227809},{"$f":"LN('Page 277'!W30/'Page 277'!W29)","v":5.98436768333633E-2},{"$f":"LN('Page 277'!X30/'Page 277'!X29)","v":-0.13458072734726104},{"$f":"LN('Page 277'!Y30/'Page 277'!Y29)","v":-5.5946791814679479E-2},{"$f":"LN('Page 277'!Z30/'Page 277'!Z29)","v":3.9288905045291686E-2},{"$f":"LN('Page 277'!AA30/'Page 277'!AA29)","v":6.1920867562972624E-2},{"$f":"LN('Page 277'!AB30/'Page 277'!AB29)","v":9.1862891127566265E-2},{"$f":"LN('Page 277'!AC30/'Page 277'!AC29)","v":9.1442084266058724E-2},{"$f":"LN('Page 277'!AD30/'Page 277'!AD29)","v":4.6520015634892699E-2},{"$f":"LN('Page 277'!AE30/'Page 277'!AE29)","v":5.5564853541171258E-2},{"$f":"LN('Page 277'!AF30/'Page 277'!AF29)","v":-5.8105754104343711E-4}]
["2003-11-03",-4.1909925591177885E-2,{"$f":"LN('Page 277'!C31/'Page 277'!C30)","v":4.3186298653130631E-2},{"$f":"LN('Page 277'!D31/'Page 277'!D30)","v":-4.8464239354893759E-2},{"$f":"LN('Page 277'!E31/'Page 277'!E30)","v":-2.6546875584085701E-2},{"$f":"LN('Page 277'!F31/'Page 277'!F30)","v":1.9003670711680138E-3},{"$f":"LN('Page 277'!G31/'Page 277'!G30)","v":-7.8269276178815211E-3},{"$f":"LN('Page 277'!H31/'Page 277'!H30)","v":3.6979003241087431E-2},{"$f":"LN('Page 277'!I31/'Page 277'!I30)","v":3.4362150190943297E-2},{"$f":"LN('Page 277'!J31/'Page 277'!J30)","v":1.9811543965447154E-2},{"$f":"LN('Page 277'!K31/'Page 277'!K30)","v":-1.191820438809145E-2},{"$f":"LN('Page 277'!L31/'Page 277'!L30)","v":1.4477464660356284E-2},{"$f":"LN('Page 277'!M31/'Page 277'!M30)","v":-8.3565945909413047E-3},{"$f":"LN('Page 277'!N31/'Page 277'!N30)","v":-2.4241482153972871E-2},{"$f":"LN('Page 277'!O31/'Page 277'!O30)","v":-2.5914288765470354E-2},{"$f":"LN('Page 277'!P31/'Page 277'!P30)","v":1.3656750320074559E-2},{"$f":"LN('Page 277'!Q31/'Page 277'!Q30)","v":1.8280911882333842E-2},{"$f":"LN('Page 277'!R31/'Page 277'!R30)","v":-1.5878390126777799E-2},{"$f":"LN('Page 277'!S31/'Page 277'!S30)","v":-1.4228510998369416E-2},{"$f":"LN('Page 277'!T31/'Page 277'!T30)","v":6.8902431530850385E-3},{"$f":"LN('Page 277'!U31/'Page 277'!U30)","v":4.0551687720393262E-2},{"$f":"LN('Page 277'!V31/'Page 277'!V30)","v":6.4119909770771703E-3},{"$f":"LN('Page 277'!W31/'Page 277'!W30)","v":0.11166413544612598},{"$f":"LN('Page 277'!X31/'Page 277'!X30)","v":-8.6063169839410369E-2},{"$f":"LN('Page 277'!Y31/'Page 277'!Y30)","v":-1.6703685071366603E-2},{"$f":"LN('Page 277'!Z31/'Page 277'!Z30)","v":6.5326652348954573E-2},{"$f":"LN('Page 277'!AA31/'Page 277'!AA30)","v":-2.1162525898251516E-2},{"$f":"LN('Page 277'!AB31/'Page 277'!AB30)","v":-2.9693103825545863E-2},{"$f":"LN('Page 277'!AC31/'Page 277'!AC30)","v":1.5918053751249654E-2},{"$f":"LN('Page 277'!AD31/'Page 277'!AD30)","v":-2.2817267772115294E-2},{"$f":"LN('Page 277'!AE31/'Page 277'!AE30)","v":-5.7786253936324757E-2},{"$f":"LN('Page 277'!AF31/'Page 277'!AF30)","v":-3.493453334559977E-3}]
["2003-12-01",1.7540795122725109E-2,{"$f":"LN('Page 277'!C32/'Page 277'!C31)","v":0.1468508746690195},{"$f":"LN('Page 277'!D32/'Page 277'!D31)","v":0.13550347731826642},{"$f":"LN('Page 277'!E32/'Page 277'!E31)","v":5.5805262571967003E-2},{"$f":"LN('Page 277'!F32/'Page 277'!F31)","v":9.3162746641721098E-2},{"$f":"LN('Page 277'!G32/'Page 277'!G31)","v":3.1618692175218219E-2},{"$f":"LN('Page 277'!H32/'Page 277'!H31)","v":8.7881918383866761E-2},{"$f":"LN('Page 277'!I32/'Page 277'!I31)","v":0.10150391334127384},{"$f":"LN('Page 277'!J32/'Page 277'!J31)","v":1.9863817979480232E-2},{"$f":"LN('Page 277'!K32/'Page 277'!K31)","v":8.4040814620105708E-2},{"$f":"LN('Page 277'!L32/'Page 277'!L31)","v":0.22159857351561749},{"$f":"LN('Page 277'!M32/'Page 277'!M31)","v":-3.3274788884872321E-2},{"$f":"LN('Page 277'!N32/'Page 277'!N31)","v":0.11857298751040188},{"$f":"LN('Page 277'!O32/'Page 277'!O31)","v":5.8403991538189343E-2},{"$f":"LN('Page 277'!P32/'Page 277'!P31)","v":2.3349102959578361E-2},{"$f":"LN('Page 277'!Q32/'Page 277'!Q31)","v":-4.5540919977951212E-2},{"$f":"LN('Page 277'!R32/'Page 277'!R31)","v":4.6694601720825395E-2},{"$f":"LN('Page 277'!S32/'Page 277'!S31)","v":3.7001622069618184E-2},{"$f":"LN('Page 277'!T32/'Page 277'!T31)","v":8.7602489346788368E-2},{"$f":"LN('Page 277'!U32/'Page 277'!U31)","v":-3.1722536398480015E-2},{"$f":"LN('Page 277'!V32/'Page 277'!V31)","v":7.3032636721528266E-2},{"$f":"LN('Page 277'!W32/'Page 277'!W31)","v":5.8326808890349982E-2},{"$f":"LN('Page 277'!X32/'Page 277'!X31)","v":0.13813244202968306},{"$f":"LN('Page 277'!Y32/'Page 277'!Y31)","v":6.2291983603303888E-2},{"$f":"LN('Page 277'!Z32/'Page 277'!Z31)","v":5.1053725610202091E-2},{"$f":"LN('Page 277'!AA32/'Page 277'!AA31)","v":3.72713947972316E-2},{"$f":"LN('Page 277'!AB32/'Page 277'!AB31)","v":0.11338162010017296},{"$f":"LN('Page 277'!AC32/'Page 277'!AC31)","v":0.10068487885222685},{"$f":"LN('Page 277'!AD32/'Page 277'!AD31)","v":6.5979955075818969E-2},{"$f":"LN('Page 277'!AE32/'Page 277'!AE31)","v":-4.5884826115336126E-2},{"$f":"LN('Page 277'!AF32/'Page 277'!AF31)","v":0.12433937726874698}]
["2004-01-02",-2.5653487525426413E-3,{"$f":"LN('Page 277'!C33/'Page 277'!C32)","v":-0.10606730547874653},{"$f":"LN('Page 277'!D33/'Page 277'!D32)","v":4.6701093045980621E-2},{"$f":"LN('Page 277'!E33/'Page 277'!E32)","v":7.220231871767574E-2},{"$f":"LN('Page 277'!F33/'Page 277'!F32)","v":-9.1846245752505943E-3},{"$f":"LN('Page 277'!G33/'Page 277'!G32)","v":2.7386870654487638E-2},{"$f":"LN('Page 277'!H33/'Page 277'!H32)","v":-5.6477063555120791E-2},{"$f":"LN('Page 277'!I33/'Page 277'!I32)","v":-4.4258220426428019E-2},{"$f":"LN('Page 277'!J33/'Page 277'!J32)","v":2.843793532053341E-2},{"$f":"LN('Page 277'!K33/'Page 277'!K32)","v":8.1975177732644747E-2},{"$f":"LN('Page 277'!L33/'Page 277'!L32)","v":-7.2059445965976701E-2},{"$f":"LN('Page 277'!M33/'Page 277'!M32)","v":-5.7853631928948075E-4},{"$f":"LN('Page 277'!N33/'Page 277'!N32)","v":7.746394453664722E-2},{"$f":"LN('Page 277'!O33/'Page 277'!O32)","v":3.4951578022813505E-2},{"$f":"LN('Page 277'!P33/'Page 277'!P32)","v":6.8285907866131368E-2},{"$f":"LN('Page 277'!Q33/'Page 277'!Q32)","v":-4.8725898882304684E-2},{"$f":"LN('Page 277'!R33/'Page 277'!R32)","v":3.3446594158827996E-2},{"$f":"LN('Page 277'!S33/'Page 277'!S32)","v":6.6487985652396456E-2},{"$f":"LN('Page 277'!T33/'Page 277'!T32)","v":-3.0227929391224644E-2},{"$f":"LN('Page 277'!U33/'Page 277'!U32)","v":3.5769486478677309E-2},{"$f":"LN('Page 277'!V33/'Page 277'!V32)","v":-7.2367079292633765E-2},{"$f":"LN('Page 277'!W33/'Page 277'!W32)","v":2.1277398447284879E-2},{"$f":"LN('Page 277'!X33/'Page 277'!X32)","v":2.9753474096948125E-2},{"$f":"LN('Page 277'!Y33/'Page 277'!Y32)","v":1.0358493282742128E-2},{"$f":"LN('Page 277'!Z33/'Page 277'!Z32)","v":3.606410797185268E-2},{"$f":"LN('Page 277'!AA33/'Page 277'!AA32)","v":1.6474150076722295E-2},{"$f":"LN('Page 277'!AB33/'Page 277'!AB32)","v":-1.064311598732076E-2},{"$f":"LN('Page 277'!AC33/'Page 277'!AC32)","v":8.0954385886665547E-3},{"$f":"LN('Page 277'!AD33/'Page 277'!AD32)","v":6.0074363275915192E-2},{"$f":"LN('Page 277'!AE33/'Page 277'!AE32)","v":1.4829352158300783E-2},{"$f":"LN('Page 277'!AF33/'Page 277'!AF32)","v":-4.9051343992586203E-3}]
["2004-02-02",3.501226328759461E-2,{"$f":"LN('Page 277'!C34/'Page 277'!C33)","v":9.634365614730557E-2},{"$f":"LN('Page 277'!D34/'Page 277'!D33)","v":6.3459407369262477E-2},{"$f":"LN('Page 277'!E34/'Page 277'!E33)","v":2.9978929861486769E-2},{"$f":"LN('Page 277'!F34/'Page 277'!F33)","v":4.1998359687963879E-2},{"$f":"LN('Page 277'!G34/'Page 277'!G33)","v":1.5564516541111548E-2},{"$f":"LN('Page 277'!H34/'Page 277'!H33)","v":-3.0854951048047748E-2},{"$f":"LN('Page 277'!I34/'Page 277'!I33)","v":3.4511322865583019E-2},{"$f":"LN('Page 277'!J34/'Page 277'!J33)","v":0.10016437125222855},{"$f":"LN('Page 277'!K34/'Page 277'!K33)","v":-2.7346082325515195E-2},{"$f":"LN('Page 277'!L34/'Page 277'!L33)","v":-2.1780286365647616E-2},{"$f":"LN('Page 277'!M34/'Page 277'!M33)","v":2.3449744795784353E-2},{"$f":"LN('Page 277'!N34/'Page 277'!N33)","v":-2.4860706226230728E-2},{"$f":"LN('Page 277'!O34/'Page 277'!O33)","v":-4.6271599287819744E-2},{"$f":"LN('Page 277'!P34/'Page 277'!P33)","v":-2.6333810103692061E-2},{"$f":"LN('Page 277'!Q34/'Page 277'!Q33)","v":-4.3087829943006355E-2},{"$f":"LN('Page 277'!R34/'Page 277'!R33)","v":1.3693484705360101E-2},{"$f":"LN('Page 277'!S34/'Page 277'!S33)","v":5.3327740352158766E-2},{"$f":"LN('Page 277'!T34/'Page 277'!T33)","v":1.4376387503969058E-2},{"$f":"LN('Page 277'!U34/'Page 277'!U33)","v":9.5089858869272931E-2},{"$f":"LN('Page 277'!V34/'Page 277'!V33)","v":-9.0897564764294558E-3},{"$f":"LN('Page 277'!W34/'Page 277'!W33)","v":3.4616545669163876E-2},{"$f":"LN('Page 277'!X34/'Page 277'!X33)","v":1.0033919208430145E-2},{"$f":"LN('Page 277'!Y34/'Page 277'!Y33)","v":-4.1234280652667023E-2},{"$f":"LN('Page 277'!Z34/'Page 277'!Z33)","v":4.9642385492316065E-3},{"$f":"LN('Page 277'!AA34/'Page 277'!AA33)","v":1.4170069728652691E-2},{"$f":"LN('Page 277'!AB34/'Page 277'!AB33)","v":-6.017888969405611E-2},{"$f":"LN('Page 277'!AC34/'Page 277'!AC33)","v":-3.2782559102731333E-2},{"$f":"LN('Page 277'!AD34/'Page 277'!AD33)","v":3.9010454885268518E-2},{"$f":"LN('Page 277'!AE34/'Page 277'!AE33)","v":0.10083874216546934},{"$f":"LN('Page 277'!AF34/'Page 277'!AF33)","v":3.9330199116792378E-2}]
["2004-03-01",6.0643526822830973E-2,{"$f":"LN('Page 277'!C35/'Page 277'!C34)","v":-7.7162066365471571E-2},{"$f":"LN('Page 277'!D35/'Page 277'!D34)","v":-3.5625755369347686E-2},{"$f":"LN('Page 277'!E35/'Page 277'!E34)","v":-2.7727183807602505E-2},{"$f":"LN('Page 277'!F35/'Page 277'!F34)","v":-5.4545575740052671E-2},{"$f":"LN('Page 277'!G35/'Page 277'!G34)","v":2.8337696551702485E-2},{"$f":"LN('Page 277'!H35/'Page 277'!H34)","v":4.3040532294163519E-2},{"$f":"LN('Page 277'!I35/'Page 277'!I34)","v":-6.5653970221436778E-2},{"$f":"LN('Page 277'!J35/'Page 277'!J34)","v":-5.9784275544337961E-2},{"$f":"LN('Page 277'!K35/'Page 277'!K34)","v":-6.3625695880211552E-2},{"$f":"LN('Page 277'!L35/'Page 277'!L34)","v":-1.8201660757083821E-2},{"$f":"LN('Page 277'!M35/'Page 277'!M34)","v":3.03433160889496E-2},{"$f":"LN('Page 277'!N35/'Page 277'!N34)","v":-3.4759596935936145E-2},{"$f":"LN('Page 277'!O35/'Page 277'!O34)","v":9.0662452377530418E-3},{"$f":"LN('Page 277'!P35/'Page 277'!P34)","v":-4.9489264900183773E-2},{"$f":"LN('Page 277'!Q35/'Page 277'!Q34)","v":-7.0780812180571473E-2},{"$f":"LN('Page 277'!R35/'Page 277'!R34)","v":-6.1086162154750691E-2},{"$f":"LN('Page 277'!S35/'Page 277'!S34)","v":2.2384081383537435E-2},{"$f":"LN('Page 277'!T35/'Page 277'!T34)","v":1.1859520617718222E-2},{"$f":"LN('Page 277'!U35/'Page 277'!U34)","v":9.5029954914861142E-3},{"$f":"LN('Page 277'!V35/'Page 277'!V34)","v":4.8105729904370467E-2},{"$f":"LN('Page 277'!W35/'Page 277'!W34)","v":-4.3767600886521159E-2},{"$f":"LN('Page 277'!X35/'Page 277'!X34)","v":-7.6450375170201493E-2},{"$f":"LN('Page 277'!Y35/'Page 277'!Y34)","v":-6.2478788174560609E-2},{"$f":"LN('Page 277'!Z35/'Page 277'!Z34)","v":-4.4372322885373093E-2},{"$f":"LN('Page 277'!AA35/'Page 277'!AA34)","v":2.2780946868205625E-2},{"$f":"LN('Page 277'!AB35/'Page 277'!AB34)","v":2.2009785688655227E-2},{"$f":"LN('Page 277'!AC35/'Page 277'!AC34)","v":-6.5124146309160968E-2},{"$f":"LN('Page 277'!AD35/'Page 277'!AD34)","v":-4.78560211776351E-2},{"$f":"LN('Page 277'!AE35/'Page 277'!AE34)","v":4.4835391540929857E-3},{"$f":"LN('Page 277'!AF35/'Page 277'!AF34)","v":-1.3779498999322442E-2}]
["2004-04-01",-4.5430354285225932E-2,{"$f":"LN('Page 277'!C36/'Page 277'!C35)","v":-0.12034965592245828},{"$f":"LN('Page 277'!D36/'Page 277'!D35)","v":4.2577413171854105E-3},{"$f":"LN('Page 277'!E36/'Page 277'!E35)","v":-5.7634831190551052E-2},{"$f":"LN('Page 277'!F36/'Page 277'!F35)","v":3.8637792705413919E-2},{"$f":"LN('Page 277'!G36/'Page 277'!G35)","v":-6.4149383628143999E-2},{"$f":"LN('Page 277'!H36/'Page 277'!H35)","v":-1.2718772407774559E-2},{"$f":"LN('Page 277'!I36/'Page 277'!I35)","v":1.7198198297220822E-2},{"$f":"LN('Page 277'!J36/'Page 277'!J35)","v":-8.1573867060109426E-2},{"$f":"LN('Page 277'!K36/'Page 277'!K35)","v":-1.8593764938415306E-2},{"$f":"LN('Page 277'!L36/'Page 277'!L35)","v":3.5718575896427612E-3},{"$f":"LN('Page 277'!M36/'Page 277'!M35)","v":-5.9887986152230469E-2},{"$f":"LN('Page 277'!N36/'Page 277'!N35)","v":2.1182679981522696E-2},{"$f":"LN('Page 277'!O36/'Page 277'!O35)","v":-0.14755395425582776},{"$f":"LN('Page 277'!P36/'Page 277'!P35)","v":-4.0761730796912123E-2},{"$f":"LN('Page 277'!Q36/'Page 277'!Q35)","v":-5.5580653265543241E-2},{"$f":"LN('Page 277'!R36/'Page 277'!R35)","v":6.3221048943286159E-2},{"$f":"LN('Page 277'!S36/'Page 277'!S35)","v":-0.10160599861202289},{"$f":"LN('Page 277'!T36/'Page 277'!T35)","v":5.4587580437511036E-3},{"$f":"LN('Page 277'!U36/'Page 277'!U35)","v":-4.8062891410103142E-2},{"$f":"LN('Page 277'!V36/'Page 277'!V35)","v":5.4780934697511344E-2},{"$f":"LN('Page 277'!W36/'Page 277'!W35)","v":1.7014791677571944E-2},{"$f":"LN('Page 277'!X36/'Page 277'!X35)","v":6.1479335318415811E-2},{"$f":"LN('Page 277'!Y36/'Page 277'!Y35)","v":4.7330262181136555E-2},{"$f":"LN('Page 277'!Z36/'Page 277'!Z35)","v":1.9898154246793115E-2},{"$f":"LN('Page 277'!AA36/'Page 277'!AA35)","v":1.3462883998407262E-2},{"$f":"LN('Page 277'!AB36/'Page 277'!AB35)","v":2.6960737395505058E-2},{"$f":"LN('Page 277'!AC36/'Page 277'!AC35)","v":-4.8076924002949875E-4},{"$f":"LN('Page 277'!AD36/'Page 277'!AD35)","v":4.258514513863592E-2},{"$f":"LN('Page 277'!AE36/'Page 277'!AE35)","v":-4.6126817949693283E-2},{"$f":"LN('Page 277'!AF36/'Page 277'!AF35)","v":2.2697071099634526E-2}]
["2004-05-03",-2.546775597677987E-2,{"$f":"LN('Page 277'!C37/'Page 277'!C36)","v":2.2533322655801786E-2},{"$f":"LN('Page 277'!D37/'Page 277'!D36)","v":2.2683694534500053E-2},{"$f":"LN('Page 277'!E37/'Page 277'!E36)","v":3.5115967655201141E-2},{"$f":"LN('Page 277'!F37/'Page 277'!F36)","v":7.48712515163176E-2},{"$f":"LN('Page 277'!G37/'Page 277'!G36)","v":-3.5067499984439081E-2},{"$f":"LN('Page 277'!H37/'Page 277'!H36)","v":-3.1146728996836709E-2},{"$f":"LN('Page 277'!I37/'Page 277'!I36)","v":1.4191698410863171E-2},{"$f":"LN('Page 277'!J37/'Page 277'!J36)","v":1.8856072813824742E-2},{"$f":"LN('Page 277'!K37/'Page 277'!K36)","v":3.8212360089794326E-2},{"$f":"LN('Page 277'!L37/'Page 277'!L36)","v":-3.2615525360162281E-2},{"$f":"LN('Page 277'!M37/'Page 277'!M36)","v":2.0458860824730089E-2},{"$f":"LN('Page 277'!N37/'Page 277'!N36)","v":-1.9942369744998568E-2},{"$f":"LN('Page 277'!O37/'Page 277'!O36)","v":7.5041487279112279E-2},{"$f":"LN('Page 277'!P37/'Page 277'!P36)","v":6.8141396654091352E-3},{"$f":"LN('Page 277'!Q37/'Page 277'!Q36)","v":0.10536051565782635},{"$f":"LN('Page 277'!R37/'Page 277'!R36)","v":3.5799710257574294E-2},{"$f":"LN('Page 277'!S37/'Page 277'!S36)","v":-2.0385097273633575E-2},{"$f":"LN('Page 277'!T37/'Page 277'!T36)","v":1.5169122032914359E-2},{"$f":"LN('Page 277'!U37/'Page 277'!U36)","v":-3.1010236742560322E-2},{"$f":"LN('Page 277'!V37/'Page 277'!V36)","v":-1.809340312427337E-2},{"$f":"LN('Page 277'!W37/'Page 277'!W36)","v":-0.14359534999433954},{"$f":"LN('Page 277'!X37/'Page 277'!X36)","v":6.3432610203455345E-3},{"$f":"LN('Page 277'!Y37/'Page 277'!Y36)","v":3.4828071774614566E-3},{"$f":"LN('Page 277'!Z37/'Page 277'!Z36)","v":-7.189965066239163E-3},{"$f":"LN('Page 277'!AA37/'Page 277'!AA36)","v":1.889605263939495E-2},{"$f":"LN('Page 277'!AB37/'Page 277'!AB36)","v":-4.9444120061991732E-2},{"$f":"LN('Page 277'!AC37/'Page 277'!AC36)","v":-1.5019662196040701E-2},{"$f":"LN('Page 277'!AD37/'Page 277'!AD36)","v":-8.7385118951854163E-2},{"$f":"LN('Page 277'!AE37/'Page 277'!AE36)","v":-2.0202707317519466E-2},{"$f":"LN('Page 277'!AF37/'Page 277'!AF36)","v":2.29166537833548E-2}]
["2004-06-01",6.017827661914369E-2,{"$f":"LN('Page 277'!C38/'Page 277'!C37)","v":5.3734608594666534E-2},{"$f":"LN('Page 277'!D38/'Page 277'!D37)","v":-2.6941435851685513E-2},{"$f":"LN('Page 277'!E38/'Page 277'!E37)","v":1.5295355827889769E-2},{"$f":"LN('Page 277'!F38/'Page 277'!F37)","v":0.10943246648162849},{"$f":"LN('Page 277'!G38/'Page 277'!G37)","v":1.3805800628164918E-3},{"$f":"LN('Page 277'!H38/'Page 277'!H37)","v":5.3038675412935263E-2},{"$f":"LN('Page 277'!I38/'Page 277'!I37)","v":2.7793110250319549E-2},{"$f":"LN('Page 277'!J38/'Page 277'!J37)","v":8.2512421574464201E-2},{"$f":"LN('Page 277'!K38/'Page 277'!K37)","v":4.6287603427557625E-2},{"$f":"LN('Page 277'!L38/'Page 277'!L37)","v":2.6176967288443334E-2},{"$f":"LN('Page 277'!M38/'Page 277'!M37)","v":-1.7842199933558494E-2},{"$f":"LN('Page 277'!N38/'Page 277'!N37)","v":8.3208058088216297E-2},{"$f":"LN('Page 277'!O38/'Page 277'!O37)","v":-2.9154539601240195E-3},{"$f":"LN('Page 277'!P38/'Page 277'!P37)","v":-4.961644056325697E-3},{"$f":"LN('Page 277'!Q38/'Page 277'!Q37)","v":-3.3653505041642676E-2},{"$f":"LN('Page 277'!R38/'Page 277'!R37)","v":-1.8707323971865403E-4},{"$f":"LN('Page 277'!S38/'Page 277'!S37)","v":5.1043189562901777E-2},{"$f":"LN('Page 277'!T38/'Page 277'!T37)","v":-1.2242086700391435E-2},{"$f":"LN('Page 277'!U38/'Page 277'!U37)","v":-1.5473429134963119E-2},{"$f":"LN('Page 277'!V38/'Page 277'!V37)","v":6.2408200320793056E-2},{"$f":"LN('Page 277'!W38/'Page 277'!W37)","v":5.656571433412301E-2},{"$f":"LN('Page 277'!X38/'Page 277'!X37)","v":1.1873029709262878E-2},{"$f":"LN('Page 277'!Y38/'Page 277'!Y37)","v":8.5344045420647704E-2},{"$f":"LN('Page 277'!Z38/'Page 277'!Z37)","v":-3.0217467700911011E-2},{"$f":"LN('Page 277'!AA38/'Page 277'!AA37)","v":9.7936452501524059E-3},{"$f":"LN('Page 277'!AB38/'Page 277'!AB37)","v":2.2946452829890128E-2},{"$f":"LN('Page 277'!AC38/'Page 277'!AC37)","v":7.7918826376327063E-2},{"$f":"LN('Page 277'!AD38/'Page 277'!AD37)","v":4.5718669330290854E-2},{"$f":"LN('Page 277'!AE38/'Page 277'!AE37)","v":-5.9659836406335875E-2},{"$f":"LN('Page 277'!AF38/'Page 277'!AF37)","v":2.6401818930548101E-2}]
["2004-07-01",1.9520092242357893E-2,{"$f":"LN('Page 277'!C39/'Page 277'!C38)","v":-3.0722416261153792E-2},{"$f":"LN('Page 277'!D39/'Page 277'!D38)","v":-8.857200760642548E-3},{"$f":"LN('Page 277'!E39/'Page 277'!E38)","v":-2.2220591261204157E-2},{"$f":"LN('Page 277'!F39/'Page 277'!F38)","v":-6.6903442659606771E-3},{"$f":"LN('Page 277'!G39/'Page 277'!G38)","v":-4.3950205644058764E-2},{"$f":"LN('Page 277'!H39/'Page 277'!H38)","v":-7.2764276789855115E-2},{"$f":"LN('Page 277'!I39/'Page 277'!I38)","v":-3.548641038662833E-2},{"$f":"LN('Page 277'!J39/'Page 277'!J38)","v":-9.9157571533218483E-2},{"$f":"LN('Page 277'!K39/'Page 277'!K38)","v":2.6017205392498965E-2},{"$f":"LN('Page 277'!L39/'Page 277'!L38)","v":-7.705673949497438E-2},{"$f":"LN('Page 277'!M39/'Page 277'!M38)","v":-4.3014194319039925E-2},{"$f":"LN('Page 277'!N39/'Page 277'!N38)","v":2.645061350869702E-2},{"$f":"LN('Page 277'!O39/'Page 277'!O38)","v":-4.5801932653874042E-2},{"$f":"LN('Page 277'!P39/'Page 277'!P38)","v":-1.2337214209784713E-2},{"$f":"LN('Page 277'!Q39/'Page 277'!Q38)","v":-0.12422112647342679},{"$f":"LN('Page 277'!R39/'Page 277'!R38)","v":-7.7002915934472173E-3},{"$f":"LN('Page 277'!S39/'Page 277'!S38)","v":-2.8929981260125266E-2},{"$f":"LN('Page 277'!T39/'Page 277'!T38)","v":-0.14053468345138126},{"$f":"LN('Page 277'!U39/'Page 277'!U38)","v":5.6358413797281806E-2},{"$f":"LN('Page 277'!V39/'Page 277'!V38)","v":-8.8783080819304527E-2},{"$f":"LN('Page 277'!W39/'Page 277'!W38)","v":-5.0325083887515769E-2},{"$f":"LN('Page 277'!X39/'Page 277'!X38)","v":-4.6178442300736068E-2},{"$f":"LN('Page 277'!Y39/'Page 277'!Y38)","v":-2.3971245997214037E-3},{"$f":"LN('Page 277'!Z39/'Page 277'!Z38)","v":-7.0277506982231563E-2},{"$f":"LN('Page 277'!AA39/'Page 277'!AA38)","v":-3.8372611207969982E-2},{"$f":"LN('Page 277'!AB39/'Page 277'!AB38)","v":5.7132693344570398E-2},{"$f":"LN('Page 277'!AC39/'Page 277'!AC38)","v":2.1885643512760396E-2},{"$f":"LN('Page 277'!AD39/'Page 277'!AD38)","v":7.3451847203997306E-2},{"$f":"LN('Page 277'!AE39/'Page 277'!AE38)","v":9.7106997293494781E-3},{"$f":"LN('Page 277'!AF39/'Page 277'!AF38)","v":4.1610416028686148E-2}]
["2004-08-02",3.8061710893695741E-2,{"$f":"LN('Page 277'!C40/'Page 277'!C39)","v":1.5479186848460032E-2},{"$f":"LN('Page 277'!D40/'Page 277'!D39)","v":8.2881297536787617E-3},{"$f":"LN('Page 277'!E40/'Page 277'!E39)","v":-4.6436117804824987E-3},{"$f":"LN('Page 277'!F40/'Page 277'!F39)","v":3.2619200115319526E-2},{"$f":"LN('Page 277'!G40/'Page 277'!G39)","v":5.4926762227230426E-2},{"$f":"LN('Page 277'!H40/'Page 277'!H39)","v":-1.0719425632884512E-2},{"$f":"LN('Page 277'!I40/'Page 277'!I39)","v":-5.9970194723744019E-3},{"$f":"LN('Page 277'!J40/'Page 277'!J39)","v":-2.7767122040448365E-2},{"$f":"LN('Page 277'!K40/'Page 277'!K39)","v":-1.4048762349703836E-2},{"$f":"LN('Page 277'!L40/'Page 277'!L39)","v":-3.1232035941940295E-2},{"$f":"LN('Page 277'!M40/'Page 277'!M39)","v":8.3139081805139362E-2},{"$f":"LN('Page 277'!N40/'Page 277'!N39)","v":-3.8787593966549384E-2},{"$f":"LN('Page 277'!O40/'Page 277'!O39)","v":-0.11886614875644017},{"$f":"LN('Page 277'!P40/'Page 277'!P39)","v":-2.5621138161511021E-2},{"$f":"LN('Page 277'!Q40/'Page 277'!Q39)","v":-0.13365175129350101},{"$f":"LN('Page 277'!R40/'Page 277'!R39)","v":5.5019375591199203E-2},{"$f":"LN('Page 277'!S40/'Page 277'!S39)","v":5.8404639376304954E-2},{"$f":"LN('Page 277'!T40/'Page 277'!T39)","v":1.9274838248745246E-2},{"$f":"LN('Page 277'!U40/'Page 277'!U39)","v":-1.7922310033410844E-2},{"$f":"LN('Page 277'!V40/'Page 277'!V39)","v":4.549483393577248E-3},{"$f":"LN('Page 277'!W40/'Page 277'!W39)","v":2.7946837534819531E-2},{"$f":"LN('Page 277'!X40/'Page 277'!X39)","v":-8.5189757017985705E-3},{"$f":"LN('Page 277'!Y40/'Page 277'!Y39)","v":-3.9989008216363281E-2},{"$f":"LN('Page 277'!Z40/'Page 277'!Z39)","v":2.7542724637582183E-2},{"$f":"LN('Page 277'!AA40/'Page 277'!AA39)","v":7.0712334909070834E-2},{"$f":"LN('Page 277'!AB40/'Page 277'!AB39)","v":1.7338969279510518E-2},{"$f":"LN('Page 277'!AC40/'Page 277'!AC39)","v":8.1399635460075882E-3},{"$f":"LN('Page 277'!AD40/'Page 277'!AD39)","v":1.8318111193365155E-2},{"$f":"LN('Page 277'!AE40/'Page 277'!AE39)","v":-4.0670144177501911E-3},{"$f":"LN('Page 277'!AF40/'Page 277'!AF39)","v":1.7997755139396077E-3}]
["2004-09-01",8.4603828168106937E-2,{"$f":"LN('Page 277'!C41/'Page 277'!C40)","v":3.6756140125119671E-2},{"$f":"LN('Page 277'!D41/'Page 277'!D40)","v":-4.5564973652217386E-2},{"$f":"LN('Page 277'!E41/'Page 277'!E40)","v":2.8448810051248098E-2},{"$f":"LN('Page 277'!F41/'Page 277'!F40)","v":-1.1684458115470036E-2},{"$f":"LN('Page 277'!G41/'Page 277'!G40)","v":-5.4446339445950599E-2},{"$f":"LN('Page 277'!H41/'Page 277'!H40)","v":0.10132515822524112},{"$f":"LN('Page 277'!I41/'Page 277'!I40)","v":1.2700955194564387E-2},{"$f":"LN('Page 277'!J41/'Page 277'!J40)","v":4.5310453596001023E-3},{"$f":"LN('Page 277'!K41/'Page 277'!K40)","v":2.9777303014969857E-2},{"$f":"LN('Page 277'!L41/'Page 277'!L40)","v":2.7867208126340609E-2},{"$f":"LN('Page 277'!M41/'Page 277'!M40)","v":6.9755017056462379E-2},{"$f":"LN('Page 277'!N41/'Page 277'!N40)","v":-3.4702174790071059E-3},{"$f":"LN('Page 277'!O41/'Page 277'!O40)","v":5.0891607296389224E-2},{"$f":"LN('Page 277'!P41/'Page 277'!P40)","v":1.2299396792866651E-2},{"$f":"LN('Page 277'!Q41/'Page 277'!Q40)","v":-5.9511856480036096E-2},{"$f":"LN('Page 277'!R41/'Page 277'!R40)","v":-3.0989160905374558E-2},{"$f":"LN('Page 277'!S41/'Page 277'!S40)","v":3.7930145718724729E-3},{"$f":"LN('Page 277'!T41/'Page 277'!T40)","v":-0.10423511150591219},{"$f":"LN('Page 277'!U41/'Page 277'!U40)","v":3.701328849823983E-2},{"$f":"LN('Page 277'!V41/'Page 277'!V40)","v":-2.9428940544069474E-2},{"$f":"LN('Page 277'!W41/'Page 277'!W40)","v":-2.4955923076972433E-2},{"$f":"LN('Page 277'!X41/'Page 277'!X40)","v":-0.30088710337205904},{"$f":"LN('Page 277'!Y41/'Page 277'!Y40)","v":1.2823340143593657E-2},{"$f":"LN('Page 277'!Z41/'Page 277'!Z40)","v":-6.5487656201705671E-2},{"$f":"LN('Page 277'!AA41/'Page 277'!AA40)","v":-3.3678283992750885E-2},{"$f":"LN('Page 277'!AB41/'Page 277'!AB40)","v":6.4253808553710948E-3},{"$f":"LN('Page 277'!AC41/'Page 277'!AC40)","v":-5.7130456421792203E-3},{"$f":"LN('Page 277'!AD41/'Page 277'!AD40)","v":3.3454171150860247E-3},{"$f":"LN('Page 277'!AE41/'Page 277'!AE40)","v":9.8484913041715812E-3},{"$f":"LN('Page 277'!AF41/'Page 277'!AF40)","v":4.7194097224286406E-2}]
["2004-10-01",2.2411806407577239E-2,{"$f":"LN('Page 277'!C42/'Page 277'!C41)","v":-3.2923494104943316E-2},{"$f":"LN('Page 277'!D42/'Page 277'!D41)","v":-0.11326911007836554},{"$f":"LN('Page 277'!E42/'Page 277'!E41)","v":3.2928447737028202E-2},{"$f":"LN('Page 277'!F42/'Page 277'!F41)","v":-3.3832863280558734E-2},{"$f":"LN('Page 277'!G42/'Page 277'!G41)","v":1.5016370831930394E-2},{"$f":"LN('Page 277'!H42/'Page 277'!H41)","v":6.1318536533496162E-3},{"$f":"LN('Page 277'!I42/'Page 277'!I41)","v":1.7307458888278151E-3},{"$f":"LN('Page 277'!J42/'Page 277'!J41)","v":0.11153490487919067},{"$f":"LN('Page 277'!K42/'Page 277'!K41)","v":1.5792246454419762E-2},{"$f":"LN('Page 277'!L42/'Page 277'!L41)","v":-9.7126710730722793E-2},{"$f":"LN('Page 277'!M42/'Page 277'!M41)","v":4.7004715101164184E-2},{"$f":"LN('Page 277'!N42/'Page 277'!N41)","v":-6.2763349907697177E-2},{"$f":"LN('Page 277'!O42/'Page 277'!O41)","v":-4.9193867998182173E-3},{"$f":"LN('Page 277'!P42/'Page 277'!P41)","v":4.5699706461875163E-2},{"$f":"LN('Page 277'!Q42/'Page 277'!Q41)","v":0.10377520248221568},{"$f":"LN('Page 277'!R42/'Page 277'!R41)","v":3.5795578703095556E-2},{"$f":"LN('Page 277'!S42/'Page 277'!S41)","v":-2.0213744784200117E-2},{"$f":"LN('Page 277'!T42/'Page 277'!T41)","v":1.5057397672493665E-2},{"$f":"LN('Page 277'!U42/'Page 277'!U41)","v":3.8906925014750675E-2},{"$f":"LN('Page 277'!V42/'Page 277'!V41)","v":-3.0455191412387114E-2},{"$f":"LN('Page 277'!W42/'Page 277'!W41)","v":2.9650242639753112E-2},{"$f":"LN('Page 277'!X42/'Page 277'!X41)","v":-5.2545555578049831E-2},{"$f":"LN('Page 277'!Y42/'Page 277'!Y41)","v":1.1442707607533258E-2},{"$f":"LN('Page 277'!Z42/'Page 277'!Z41)","v":-5.5372554123491194E-2},{"$f":"LN('Page 277'!AA42/'Page 277'!AA41)","v":-5.1031480012445875E-2},{"$f":"LN('Page 277'!AB42/'Page 277'!AB41)","v":-1.5490843328658405E-2},{"$f":"LN('Page 277'!AC42/'Page 277'!AC41)","v":-5.9675279313911363E-3},{"$f":"LN('Page 277'!AD42/'Page 277'!AD41)","v":2.2240765353565015E-3},{"$f":"LN('Page 277'!AE42/'Page 277'!AE41)","v":1.3551118711871384E-2},{"$f":"LN('Page 277'!AF42/'Page 277'!AF41)","v":1.8271168998358657E-2}]
["2004-11-01",0.15389295840116088,{"$f":"LN('Page 277'!C43/'Page 277'!C42)","v":4.9139238745929577E-2},{"$f":"LN('Page 277'!D43/'Page 277'!D42)","v":4.2615214763532409E-2},{"$f":"LN('Page 277'!E43/'Page 277'!E42)","v":4.8696359938792462E-2},{"$f":"LN('Page 277'!F43/'Page 277'!F42)","v":7.4814207653752379E-2},{"$f":"LN('Page 277'!G43/'Page 277'!G42)","v":8.4806161984203529E-3},{"$f":"LN('Page 277'!H43/'Page 277'!H42)","v":0.12820008979286365},{"$f":"LN('Page 277'!I43/'Page 277'!I42)","v":6.3410785680541745E-2},{"$f":"LN('Page 277'!J43/'Page 277'!J42)","v":6.3830628100981515E-2},{"$f":"LN('Page 277'!K43/'Page 277'!K42)","v":3.590670846324405E-2},{"$f":"LN('Page 277'!L43/'Page 277'!L42)","v":1.4184634991956381E-2},{"$f":"LN('Page 277'!M43/'Page 277'!M42)","v":1.820020725083887E-2},{"$f":"LN('Page 277'!N43/'Page 277'!N42)","v":5.3157687343679837E-2},{"$f":"LN('Page 277'!O43/'Page 277'!O42)","v":6.9832701379484413E-2},{"$f":"LN('Page 277'!P43/'Page 277'!P42)","v":5.0731912352342388E-2},{"$f":"LN('Page 277'!Q43/'Page 277'!Q42)","v":7.3428507984759864E-3},{"$f":"LN('Page 277'!R43/'Page 277'!R42)","v":3.7299548651550371E-2},{"$f":"LN('Page 277'!S43/'Page 277'!S42)","v":-2.4865088832196861E-2},{"$f":"LN('Page 277'!T43/'Page 277'!T42)","v":-2.7427604103515132E-2},{"$f":"LN('Page 277'!U43/'Page 277'!U42)","v":7.1557340765303637E-2},{"$f":"LN('Page 277'!V43/'Page 277'!V42)","v":3.006555571682842E-2},{"$f":"LN('Page 277'!W43/'Page 277'!W42)","v":0.17095779814363948},{"$f":"LN('Page 277'!X43/'Page 277'!X42)","v":-0.11106185171340001},{"$f":"LN('Page 277'!Y43/'Page 277'!Y42)","v":6.6035774338825293E-2},{"$f":"LN('Page 277'!Z43/'Page 277'!Z42)","v":-3.5664998410538912E-2},{"$f":"LN('Page 277'!AA43/'Page 277'!AA42)","v":4.3926313299627887E-2},{"$f":"LN('Page 277'!AB43/'Page 277'!AB42)","v":-3.4752424203033146E-3},{"$f":"LN('Page 277'!AC43/'Page 277'!AC42)","v":5.3728809817069866E-2},{"$f":"LN('Page 277'!AD43/'Page 277'!AD42)","v":5.2999696582927081E-2},{"$f":"LN('Page 277'!AE43/'Page 277'!AE42)","v":-3.5111631459662673E-2},{"$f":"LN('Page 277'!AF43/'Page 277'!AF42)","v":4.5677555601914867E-2}]
["2004-12-01",0.12294983762204732,{"$f":"LN('Page 277'!C44/'Page 277'!C43)","v":-7.8576913481500574E-2},{"$f":"LN('Page 277'!D44/'Page 277'!D43)","v":3.7183670283339881E-2},{"$f":"LN('Page 277'!E44/'Page 277'!E43)","v":1.1812384784482806E-2},{"$f":"LN('Page 277'!F44/'Page 277'!F43)","v":-3.4231269110829042E-2},{"$f":"LN('Page 277'!G44/'Page 277'!G43)","v":7.3688997629623151E-2},{"$f":"LN('Page 277'!H44/'Page 277'!H43)","v":6.2954811984739401E-2},{"$f":"LN('Page 277'!I44/'Page 277'!I43)","v":7.9096996758603308E-2},{"$f":"LN('Page 277'!J44/'Page 277'!J43)","v":4.2701865302176713E-2},{"$f":"LN('Page 277'!K44/'Page 277'!K43)","v":3.7520760091573076E-2},{"$f":"LN('Page 277'!L44/'Page 277'!L43)","v":3.7322922153975452E-2},{"$f":"LN('Page 277'!M44/'Page 277'!M43)","v":2.3366111829273544E-2},{"$f":"LN('Page 277'!N44/'Page 277'!N43)","v":2.3371322353075985E-3},{"$f":"LN('Page 277'!O44/'Page 277'!O43)","v":5.0807739631713138E-2},{"$f":"LN('Page 277'!P44/'Page 277'!P43)","v":4.5093492359046861E-2},{"$f":"LN('Page 277'!Q44/'Page 277'!Q43)","v":4.4272823677988037E-2},{"$f":"LN('Page 277'!R44/'Page 277'!R43)","v":5.0214868784261207E-2},{"$f":"LN('Page 277'!S44/'Page 277'!S43)","v":3.5296146903782737E-2},{"$f":"LN('Page 277'!T44/'Page 277'!T43)","v":5.7629112836636423E-2},{"$f":"LN('Page 277'!U44/'Page 277'!U43)","v":4.2255229895782231E-2},{"$f":"LN('Page 277'!V44/'Page 277'!V43)","v":3.0700799499319052E-2},{"$f":"LN('Page 277'!W44/'Page 277'!W43)","v":7.2845091274365475E-2},{"$f":"LN('Page 277'!X44/'Page 277'!X43)","v":0.15064395501804845},{"$f":"LN('Page 277'!Y44/'Page 277'!Y43)","v":-3.0476214064748372E-3},{"$f":"LN('Page 277'!Z44/'Page 277'!Z43)","v":-3.2285663497968721E-2},{"$f":"LN('Page 277'!AA44/'Page 277'!AA43)","v":2.9433435848742025E-2},{"$f":"LN('Page 277'!AB44/'Page 277'!AB43)","v":2.3651930318661592E-2},{"$f":"LN('Page 277'!AC44/'Page 277'!AC43)","v":5.7356806857164953E-2},{"$f":"LN('Page 277'!AD44/'Page 277'!AD43)","v":-1.7534987010644373E-2},{"$f":"LN('Page 277'!AE44/'Page 277'!AE43)","v":1.6938008368924173E-2},{"$f":"LN('Page 277'!AF44/'Page 277'!AF43)","v":2.0110608413675824E-4}]
["2005-01-03",5.317305918972369E-2,{"$f":"LN('Page 277'!C45/'Page 277'!C44)","v":-6.230857333871094E-2},{"$f":"LN('Page 277'!D45/'Page 277'!D44)","v":9.3508767502730773E-3},{"$f":"LN('Page 277'!E45/'Page 277'!E44)","v":-5.2877616444773394E-2},{"$f":"LN('Page 277'!F45/'Page 277'!F44)","v":-2.2814677766171399E-2},{"$f":"LN('Page 277'!G45/'Page 277'!G44)","v":1.7925110113229552E-2},{"$f":"LN('Page 277'!H45/'Page 277'!H44)","v":-8.5845329852435093E-2},{"$f":"LN('Page 277'!I45/'Page 277'!I44)","v":-3.0892167212963981E-2},{"$f":"LN('Page 277'!J45/'Page 277'!J44)","v":2.9371738905941854E-2},{"$f":"LN('Page 277'!K45/'Page 277'!K44)","v":-1.0041685297054388E-2},{"$f":"LN('Page 277'!L45/'Page 277'!L44)","v":-8.4621241930356389E-2},{"$f":"LN('Page 277'!M45/'Page 277'!M44)","v":-3.5380477259514341E-2},{"$f":"LN('Page 277'!N45/'Page 277'!N44)","v":1.5921598453525445E-2},{"$f":"LN('Page 277'!O45/'Page 277'!O44)","v":-6.7814075802137774E-2},{"$f":"LN('Page 277'!P45/'Page 277'!P44)","v":-5.3752492235068984E-2},{"$f":"LN('Page 277'!Q45/'Page 277'!Q44)","v":-4.1077203519580364E-2},{"$f":"LN('Page 277'!R45/'Page 277'!R44)","v":1.9974890936536489E-2},{"$f":"LN('Page 277'!S45/'Page 277'!S44)","v":-3.5296146903782771E-2},{"$f":"LN('Page 277'!T45/'Page 277'!T44)","v":-3.7570488777121766E-3},{"$f":"LN('Page 277'!U45/'Page 277'!U44)","v":1.0133082270787906E-2},{"$f":"LN('Page 277'!V45/'Page 277'!V44)","v":2.7582814615142014E-2},{"$f":"LN('Page 277'!W45/'Page 277'!W44)","v":4.3767669233827577E-2},{"$f":"LN('Page 277'!X45/'Page 277'!X44)","v":-0.13597187714720946},{"$f":"LN('Page 277'!Y45/'Page 277'!Y44)","v":-1.6929992671041276E-2},{"$f":"LN('Page 277'!Z45/'Page 277'!Z44)","v":-0.1070981355563671},{"$f":"LN('Page 277'!AA45/'Page 277'!AA44)","v":-2.9626169780147062E-2},{"$f":"LN('Page 277'!AB45/'Page 277'!AB44)","v":-6.8598316342752333E-2},{"$f":"LN('Page 277'!AC45/'Page 277'!AC44)","v":-2.6126888043386216E-2},{"$f":"LN('Page 277'!AD45/'Page 277'!AD44)","v":-0.11972810485004924},{"$f":"LN('Page 277'!AE45/'Page 277'!AE44)","v":-7.9465482612990947E-3},{"$f":"LN('Page 277'!AF45/'Page 277'!AF44)","v":6.6139132769810005E-3}]
["2005-02-01",4.8238639500110342E-2,{"$f":"LN('Page 277'!C46/'Page 277'!C45)","v":8.9831761210009339E-2},{"$f":"LN('Page 277'!D46/'Page 277'!D45)","v":7.5999757812586811E-3},{"$f":"LN('Page 277'!E46/'Page 277'!E45)","v":1.487577285865291E-2},{"$f":"LN('Page 277'!F46/'Page 277'!F45)","v":8.755104241017489E-2},{"$f":"LN('Page 277'!G46/'Page 277'!G45)","v":-1.8579061090213268E-2},{"$f":"LN('Page 277'!H46/'Page 277'!H45)","v":6.4796397100662775E-2},{"$f":"LN('Page 277'!I46/'Page 277'!I45)","v":0.12096939095894733},{"$f":"LN('Page 277'!J46/'Page 277'!J45)","v":-2.4295585874081371E-2},{"$f":"LN('Page 277'!K46/'Page 277'!K45)","v":-1.9802627296179754E-2},{"$f":"LN('Page 277'!L46/'Page 277'!L45)","v":-1.8781294338486465E-2},{"$f":"LN('Page 277'!M46/'Page 277'!M45)","v":-3.0301554580135844E-2},{"$f":"LN('Page 277'!N46/'Page 277'!N45)","v":5.9103040431050836E-2},{"$f":"LN('Page 277'!O46/'Page 277'!O45)","v":6.0012963591970378E-2},{"$f":"LN('Page 277'!P46/'Page 277'!P45)","v":-7.2005547854782619E-3},{"$f":"LN('Page 277'!Q46/'Page 277'!Q45)","v":6.9964747892186846E-2},{"$f":"LN('Page 277'!R46/'Page 277'!R45)","v":1.8175134839673361E-2},{"$f":"LN('Page 277'!S46/'Page 277'!S45)","v":-2.1155734695328915E-2},{"$f":"LN('Page 277'!T46/'Page 277'!T45)","v":3.1128995673563007E-2},{"$f":"LN('Page 277'!U46/'Page 277'!U45)","v":2.1197801209267085E-2},{"$f":"LN('Page 277'!V46/'Page 277'!V45)","v":0},{"$f":"LN('Page 277'!W46/'Page 277'!W45)","v":2.8040761814603344E-2},{"$f":"LN('Page 277'!X46/'Page 277'!X45)","v":0.1224991236785478},{"$f":"LN('Page 277'!Y46/'Page 277'!Y45)","v":-4.0385535649574408E-2},{"$f":"LN('Page 277'!Z46/'Page 277'!Z45)","v":9.2143114607623741E-2},{"$f":"LN('Page 277'!AA46/'Page 277'!AA45)","v":-2.7021826903600847E-3},{"$f":"LN('Page 277'!AB46/'Page 277'!AB45)","v":1.2664122215730326E-2},{"$f":"LN('Page 277'!AC46/'Page 277'!AC45)","v":-3.6719747501210774E-3},{"$f":"LN('Page 277'!AD46/'Page 277'!AD45)","v":1.0518504191220317E-2},{"$f":"LN('Page 277'!AE46/'Page 277'!AE45)","v":-1.5294415778151649E-2},{"$f":"LN('Page 277'!AF46/'Page 277'!AF45)","v":0.20938574149133185}]
["2005-03-01",0.1106173198189517,{"$f":"LN('Page 277'!C47/'Page 277'!C46)","v":-5.5487726498661551E-2},{"$f":"LN('Page 277'!D47/'Page 277'!D46)","v":-0.18511163563429758},{"$f":"LN('Page 277'!E47/'Page 277'!E46)","v":-5.0471439764517609E-2},{"$f":"LN('Page 277'!F47/'Page 277'!F46)","v":6.1496993851172195E-2},{"$f":"LN('Page 277'!G47/'Page 277'!G46)","v":-5.9984290457148703E-2},{"$f":"LN('Page 277'!H47/'Page 277'!H46)","v":-3.8773885621271417E-2},{"$f":"LN('Page 277'!I47/'Page 277'!I46)","v":-3.9533996363863642E-2},{"$f":"LN('Page 277'!J47/'Page 277'!J46)","v":2.7819197694564632E-2},{"$f":"LN('Page 277'!K47/'Page 277'!K46)","v":2.4118559761748433E-2},{"$f":"LN('Page 277'!L47/'Page 277'!L46)","v":-0.19291006897247834},{"$f":"LN('Page 277'!M47/'Page 277'!M46)","v":-4.3123564739768361E-2},{"$f":"LN('Page 277'!N47/'Page 277'!N46)","v":-2.0235855939368382E-2},{"$f":"LN('Page 277'!O47/'Page 277'!O46)","v":5.7076831135436719E-2},{"$f":"LN('Page 277'!P47/'Page 277'!P46)","v":-1.3004371054261266E-2},{"$f":"LN('Page 277'!Q47/'Page 277'!Q46)","v":-3.2393244720235054E-2},{"$f":"LN('Page 277'!R47/'Page 277'!R46)","v":2.337386807319905E-2},{"$f":"LN('Page 277'!S47/'Page 277'!S46)","v":-5.4629194936529513E-2},{"$f":"LN('Page 277'!T47/'Page 277'!T46)","v":-2.014810170653111E-2},{"$f":"LN('Page 277'!U47/'Page 277'!U46)","v":-6.0721017578951812E-2},{"$f":"LN('Page 277'!V47/'Page 277'!V46)","v":2.061928720273561E-2},{"$f":"LN('Page 277'!W47/'Page 277'!W46)","v":7.2927962795744389E-3},{"$f":"LN('Page 277'!X47/'Page 277'!X46)","v":3.2691370170432756E-2},{"$f":"LN('Page 277'!Y47/'Page 277'!Y46)","v":-3.9980597752063453E-2},{"$f":"LN('Page 277'!Z47/'Page 277'!Z46)","v":-7.9333601939587397E-4},{"$f":"LN('Page 277'!AA47/'Page 277'!AA46)","v":-1.5473890901887063E-3},{"$f":"LN('Page 277'!AB47/'Page 277'!AB46)","v":-1.5398855004874062E-2},{"$f":"LN('Page 277'!AC47/'Page 277'!AC46)","v":1.7624278729574932E-2},{"$f":"LN('Page 277'!AD47/'Page 277'!AD46)","v":-1.324124070913597E-2},{"$f":"LN('Page 277'!AE47/'Page 277'!AE46)","v":-2.642796450870024E-2},{"$f":"LN('Page 277'!AF47/'Page 277'!AF46)","v":-6.0270261407945912E-2}]
["2005-04-01",5.502292867407424E-2,{"$f":"LN('Page 277'!C48/'Page 277'!C47)","v":-4.594142352617691E-2},{"$f":"LN('Page 277'!D48/'Page 277'!D47)","v":-8.5753223660070765E-2},{"$f":"LN('Page 277'!E48/'Page 277'!E47)","v":2.5554106869720993E-2},{"$f":"LN('Page 277'!F48/'Page 277'!F47)","v":1.7974904970744807E-2},{"$f":"LN('Page 277'!G48/'Page 277'!G47)","v":5.3421151606371717E-2},{"$f":"LN('Page 277'!H48/'Page 277'!H47)","v":-3.3154717026338883E-2},{"$f":"LN('Page 277'!I48/'Page 277'!I47)","v":-8.4090263411085331E-2},{"$f":"LN('Page 277'!J48/'Page 277'!J47)","v":-8.4743621254678075E-2},{"$f":"LN('Page 277'!K48/'Page 277'!K47)","v":3.7254664094249785E-3},{"$f":"LN('Page 277'!L48/'Page 277'!L47)","v":-9.6880755578711189E-2},{"$f":"LN('Page 277'!M48/'Page 277'!M47)","v":-7.8097869719647564E-2},{"$f":"LN('Page 277'!N48/'Page 277'!N47)","v":-3.9729129667874785E-2},{"$f":"LN('Page 277'!O48/'Page 277'!O47)","v":-6.9389225039504426E-2},{"$f":"LN('Page 277'!P48/'Page 277'!P47)","v":-0.1793310245768219},{"$f":"LN('Page 277'!Q48/'Page 277'!Q47)","v":1.2216556821876676E-2},{"$f":"LN('Page 277'!R48/'Page 277'!R47)","v":2.1792629990852578E-2},{"$f":"LN('Page 277'!S48/'Page 277'!S47)","v":3.537539129398188E-2},{"$f":"LN('Page 277'!T48/'Page 277'!T47)","v":4.156631908011249E-2},{"$f":"LN('Page 277'!U48/'Page 277'!U47)","v":-6.046075454855495E-2},{"$f":"LN('Page 277'!V48/'Page 277'!V47)","v":-0.11379938430369087},{"$f":"LN('Page 277'!W48/'Page 277'!W47)","v":-6.1548623195070394E-3},{"$f":"LN('Page 277'!X48/'Page 277'!X47)","v":4.6176847292534448E-2},{"$f":"LN('Page 277'!Y48/'Page 277'!Y47)","v":4.5621225116864943E-2},{"$f":"LN('Page 277'!Z48/'Page 277'!Z47)","v":3.355757717932132E-2},{"$f":"LN('Page 277'!AA48/'Page 277'!AA47)","v":2.6551077392297673E-2},{"$f":"LN('Page 277'!AB48/'Page 277'!AB47)","v":1.7643524858697884E-2},{"$f":"LN('Page 277'!AC48/'Page 277'!AC47)","v":6.0222826270591909E-4},{"$f":"LN('Page 277'!AD48/'Page 277'!AD47)","v":1.9796687307881516E-2},{"$f":"LN('Page 277'!AE48/'Page 277'!AE47)","v":-6.128420224573547E-2},{"$f":"LN('Page 277'!AF48/'Page 277'!AF47)","v":-4.415456483047743E-2}]
["2005-05-02",-6.8603695047627686E-2,{"$f":"LN('Page 277'!C49/'Page 277'!C48)","v":-6.3478637625527953E-2},{"$f":"LN('Page 277'!D49/'Page 277'!D48)","v":8.8300995738869445E-2},{"$f":"LN('Page 277'!E49/'Page 277'!E48)","v":2.1702240638656743E-2},{"$f":"LN('Page 277'!F49/'Page 277'!F48)","v":7.5208526210292018E-2},{"$f":"LN('Page 277'!G49/'Page 277'!G48)","v":3.0681593211776266E-3},{"$f":"LN('Page 277'!H49/'Page 277'!H48)","v":6.6542399816643685E-2},{"$f":"LN('Page 277'!I49/'Page 277'!I48)","v":-4.8856415191471511E-3},{"$f":"LN('Page 277'!J49/'Page 277'!J48)","v":3.8675741971714132E-2},{"$f":"LN('Page 277'!K49/'Page 277'!K48)","v":7.6934415658113531E-3},{"$f":"LN('Page 277'!L49/'Page 277'!L48)","v":0.18352710244930318},{"$f":"LN('Page 277'!M49/'Page 277'!M48)","v":0.10662263503826326},{"$f":"LN('Page 277'!N49/'Page 277'!N48)","v":1.8793263814285963E-2},{"$f":"LN('Page 277'!O49/'Page 277'!O48)","v":9.5400273952770856E-2},{"$f":"LN('Page 277'!P49/'Page 277'!P48)","v":-8.2623071303056482E-3},{"$f":"LN('Page 277'!Q49/'Page 277'!Q48)","v":0.14017665330873544},{"$f":"LN('Page 277'!R49/'Page 277'!R48)","v":-1.767017205696865E-2},{"$f":"LN('Page 277'!S49/'Page 277'!S48)","v":7.3367900638543083E-3},{"$f":"LN('Page 277'!T49/'Page 277'!T48)","v":2.7012799246068551E-2},{"$f":"LN('Page 277'!U49/'Page 277'!U48)","v":5.4213816594147521E-2},{"$f":"LN('Page 277'!V49/'Page 277'!V48)","v":7.7717127067817651E-3},{"$f":"LN('Page 277'!W49/'Page 277'!W48)","v":3.260637264885393E-2},{"$f":"LN('Page 277'!X49/'Page 277'!X48)","v":-4.4209633543365608E-2},{"$f":"LN('Page 277'!Y49/'Page 277'!Y48)","v":2.2642476749759752E-2},{"$f":"LN('Page 277'!Z49/'Page 277'!Z48)","v":3.3581725658307145E-2},{"$f":"LN('Page 277'!AA49/'Page 277'!AA48)","v":1.8304582795982412E-2},{"$f":"LN('Page 277'!AB49/'Page 277'!AB48)","v":-1.7643524858697926E-2},{"$f":"LN('Page 277'!AC49/'Page 277'!AC48)","v":5.2005462970895373E-2},{"$f":"LN('Page 277'!AD49/'Page 277'!AD48)","v":-1.165061721997525E-2},{"$f":"LN('Page 277'!AE49/'Page 277'!AE48)","v":5.1635226600492837E-3},{"$f":"LN('Page 277'!AF49/'Page 277'!AF48)","v":-9.5780979821466408E-3}]
["2005-06-01",1.605010696004177E-2,{"$f":"LN('Page 277'!C50/'Page 277'!C49)","v":-3.6437396202430979E-2},{"$f":"LN('Page 277'!D50/'Page 277'!D49)","v":4.7213737480265194E-2},{"$f":"LN('Page 277'!E50/'Page 277'!E49)","v":-9.4910117105872979E-3},{"$f":"LN('Page 277'!F50/'Page 277'!F49)","v":3.235921258011671E-2},{"$f":"LN('Page 277'!G50/'Page 277'!G49)","v":-1.8774709395353945E-2},{"$f":"LN('Page 277'!H50/'Page 277'!H49)","v":1.2665190225578091E-2},{"$f":"LN('Page 277'!I50/'Page 277'!I49)","v":-7.8226311422276262E-2},{"$f":"LN('Page 277'!J50/'Page 277'!J49)","v":-8.570635246069197E-2},{"$f":"LN('Page 277'!K50/'Page 277'!K49)","v":-4.5290759180162989E-2},{"$f":"LN('Page 277'!L50/'Page 277'!L49)","v":7.5398017484211849E-2},{"$f":"LN('Page 277'!M50/'Page 277'!M49)","v":-8.810629682154807E-3},{"$f":"LN('Page 277'!N50/'Page 277'!N49)","v":1.0941335128593244E-2},{"$f":"LN('Page 277'!O50/'Page 277'!O49)","v":4.6642858212284775E-2},{"$f":"LN('Page 277'!P50/'Page 277'!P49)","v":-1.8093931385227312E-2},{"$f":"LN('Page 277'!Q50/'Page 277'!Q49)","v":-3.5683816664131493E-2},{"$f":"LN('Page 277'!R50/'Page 277'!R49)","v":-3.1891247537313885E-2},{"$f":"LN('Page 277'!S50/'Page 277'!S49)","v":-1.2356732688905492E-2},{"$f":"LN('Page 277'!T50/'Page 277'!T49)","v":-6.0421861377198391E-2},{"$f":"LN('Page 277'!U50/'Page 277'!U49)","v":-0.1089583021297915},{"$f":"LN('Page 277'!V50/'Page 277'!V49)","v":-5.839972287312481E-2},{"$f":"LN('Page 277'!W50/'Page 277'!W49)","v":-2.7097609528046317E-2},{"$f":"LN('Page 277'!X50/'Page 277'!X49)","v":-4.0098923757426963E-2},{"$f":"LN('Page 277'!Y50/'Page 277'!Y49)","v":-3.7619482061249911E-2},{"$f":"LN('Page 277'!Z50/'Page 277'!Z49)","v":-1.1569451682817729E-2},{"$f":"LN('Page 277'!AA50/'Page 277'!AA49)","v":-4.4468588381628066E-2},{"$f":"LN('Page 277'!AB50/'Page 277'!AB49)","v":1.5848192240023713E-2},{"$f":"LN('Page 277'!AC50/'Page 277'!AC49)","v":-3.8253377781918056E-2},{"$f":"LN('Page 277'!AD50/'Page 277'!AD49)","v":-2.3716526617316044E-2},{"$f":"LN('Page 277'!AE50/'Page 277'!AE49)","v":2.0391530690980819E-2},{"$f":"LN('Page 277'!AF50/'Page 277'!AF49)","v":2.2444608575396804E-2}]
["2005-07-01",6.4313505723702077E-2,{"$f":"LN('Page 277'!C51/'Page 277'!C50)","v":7.086611586863184E-2},{"$f":"LN('Page 277'!D51/'Page 277'!D50)","v":3.5426047847868215E-2},{"$f":"LN('Page 277'!E51/'Page 277'!E50)","v":3.2831770011486773E-2},{"$f":"LN('Page 277'!F51/'Page 277'!F50)","v":1.5381065938180444E-4},{"$f":"LN('Page 277'!G51/'Page 277'!G50)","v":-5.0999961834334188E-2},{"$f":"LN('Page 277'!H51/'Page 277'!H50)","v":0.12796988096337655},{"$f":"LN('Page 277'!I51/'Page 277'!I50)","v":-7.7332429856533293E-3},{"$f":"LN('Page 277'!J51/'Page 277'!J50)","v":1.7896679691938006E-2},{"$f":"LN('Page 277'!K51/'Page 277'!K50)","v":-4.1666726948459453E-3},{"$f":"LN('Page 277'!L51/'Page 277'!L50)","v":7.961287744985443E-2},{"$f":"LN('Page 277'!M51/'Page 277'!M50)","v":0.111924040446493},{"$f":"LN('Page 277'!N51/'Page 277'!N50)","v":6.9773816470022842E-2},{"$f":"LN('Page 277'!O51/'Page 277'!O50)","v":4.6207295751177817E-2},{"$f":"LN('Page 277'!P51/'Page 277'!P50)","v":0.11761648380916553},{"$f":"LN('Page 277'!Q51/'Page 277'!Q50)","v":4.2071213920687058E-2},{"$f":"LN('Page 277'!R51/'Page 277'!R50)","v":-1.6015564711261688E-2},{"$f":"LN('Page 277'!S51/'Page 277'!S50)","v":4.725348426426074E-3},{"$f":"LN('Page 277'!T51/'Page 277'!T50)","v":4.7124103313094759E-2},{"$f":"LN('Page 277'!U51/'Page 277'!U50)","v":0.11618804114610691},{"$f":"LN('Page 277'!V51/'Page 277'!V50)","v":3.6675870532732226E-2},{"$f":"LN('Page 277'!W51/'Page 277'!W50)","v":3.492972976486533E-2},{"$f":"LN('Page 277'!X51/'Page 277'!X50)","v":8.487574293294043E-3},{"$f":"LN('Page 277'!Y51/'Page 277'!Y50)","v":3.0524458210646015E-2},{"$f":"LN('Page 277'!Z51/'Page 277'!Z50)","v":-3.9821494186671608E-2},{"$f":"LN('Page 277'!AA51/'Page 277'!AA50)","v":5.8254304360585818E-2},{"$f":"LN('Page 277'!AB51/'Page 277'!AB50)","v":4.265320093491904E-2},{"$f":"LN('Page 277'!AC51/'Page 277'!AC50)","v":-1.2749176670454627E-2},{"$f":"LN('Page 277'!AD51/'Page 277'!AD50)","v":2.1515299524503405E-3},{"$f":"LN('Page 277'!AE51/'Page 277'!AE50)","v":2.3481598372028376E-2},{"$f":"LN('Page 277'!AF51/'Page 277'!AF50)","v":2.1951886837931294E-2}]
["2005-08-01",0.12861295159208225,{"$f":"LN('Page 277'!C52/'Page 277'!C51)","v":-4.0852320064980054E-2},{"$f":"LN('Page 277'!D52/'Page 277'!D51)","v":-1.4155949230132298E-2},{"$f":"LN('Page 277'!E52/'Page 277'!E51)","v":4.3946915974237147E-3},{"$f":"LN('Page 277'!F52/'Page 277'!F51)","v":1.8891481995990719E-2},{"$f":"LN('Page 277'!G52/'Page 277'!G51)","v":6.3150718583181633E-3},{"$f":"LN('Page 277'!H52/'Page 277'!H51)","v":2.9041160489105523E-2},{"$f":"LN('Page 277'!I52/'Page 277'!I51)","v":-6.6967475452974504E-2},{"$f":"LN('Page 277'!J52/'Page 277'!J51)","v":-1.7495476075724006E-2},{"$f":"LN('Page 277'!K52/'Page 277'!K51)","v":-2.6289472935818216E-2},{"$f":"LN('Page 277'!L52/'Page 277'!L51)","v":-5.9944142589560705E-2},{"$f":"LN('Page 277'!M52/'Page 277'!M51)","v":-7.3624746343640385E-2},{"$f":"LN('Page 277'!N52/'Page 277'!N51)","v":-2.0239881347746316E-2},{"$f":"LN('Page 277'!O52/'Page 277'!O51)","v":0.12015205726548621},{"$f":"LN('Page 277'!P52/'Page 277'!P51)","v":-3.2127817082959545E-2},{"$f":"LN('Page 277'!Q52/'Page 277'!Q51)","v":-5.0702103119962205E-2},{"$f":"LN('Page 277'!R52/'Page 277'!R51)","v":-3.843694674562827E-3},{"$f":"LN('Page 277'!S52/'Page 277'!S51)","v":-3.6302171292991139E-2},{"$f":"LN('Page 277'!T52/'Page 277'!T51)","v":5.3870606915213462E-3},{"$f":"LN('Page 277'!U52/'Page 277'!U51)","v":4.0428989995644933E-2},{"$f":"LN('Page 277'!V52/'Page 277'!V51)","v":-4.6773375085093986E-2},{"$f":"LN('Page 277'!W52/'Page 277'!W51)","v":5.4354604727998697E-2},{"$f":"LN('Page 277'!X52/'Page 277'!X51)","v":-8.2044936173400654E-2},{"$f":"LN('Page 277'!Y52/'Page 277'!Y51)","v":6.9520158606998589E-2},{"$f":"LN('Page 277'!Z52/'Page 277'!Z51)","v":-3.2152005438417744E-2},{"$f":"LN('Page 277'!AA52/'Page 277'!AA51)","v":-2.7419814273057968E-3},{"$f":"LN('Page 277'!AB52/'Page 277'!AB51)","v":-1.5618538747627968E-2},{"$f":"LN('Page 277'!AC52/'Page 277'!AC51)","v":-9.669696617958936E-3},{"$f":"LN('Page 277'!AD52/'Page 277'!AD51)","v":-4.5219634834625322E-2},{"$f":"LN('Page 277'!AE52/'Page 277'!AE51)","v":-8.9984481022414978E-2},{"$f":"LN('Page 277'!AF52/'Page 277'!AF51)","v":2.4196804699411927E-2}]
["2005-09-01",0.2011272395961359,{"$f":"LN('Page 277'!C53/'Page 277'!C52)","v":-9.2471150737398339E-2},{"$f":"LN('Page 277'!D53/'Page 277'!D52)","v":4.5616997408971932E-2},{"$f":"LN('Page 277'!E53/'Page 277'!E52)","v":3.8907446299573378E-2},{"$f":"LN('Page 277'!F53/'Page 277'!F52)","v":1.3789187312396822E-2},{"$f":"LN('Page 277'!G53/'Page 277'!G52)","v":3.9095160497229303E-2},{"$f":"LN('Page 277'!H53/'Page 277'!H52)","v":5.7046992662719183E-2},{"$f":"LN('Page 277'!I53/'Page 277'!I52)","v":-1.0168253429252682E-2},{"$f":"LN('Page 277'!J53/'Page 277'!J52)","v":-4.3030609011065264E-2},{"$f":"LN('Page 277'!K53/'Page 277'!K52)","v":8.5366372071751795E-3},{"$f":"LN('Page 277'!L53/'Page 277'!L52)","v":-0.11058139743583054},{"$f":"LN('Page 277'!M53/'Page 277'!M52)","v":-5.5627110165963341E-2},{"$f":"LN('Page 277'!N53/'Page 277'!N52)","v":-2.0658011620421985E-2},{"$f":"LN('Page 277'!O53/'Page 277'!O52)","v":5.3166311674076518E-2},{"$f":"LN('Page 277'!P53/'Page 277'!P52)","v":-5.0163135036327879E-3},{"$f":"LN('Page 277'!Q53/'Page 277'!Q52)","v":-4.2662405188275292E-2},{"$f":"LN('Page 277'!R53/'Page 277'!R52)","v":-1.766643035564452E-3},{"$f":"LN('Page 277'!S53/'Page 277'!S52)","v":1.2213741976343732E-3},{"$f":"LN('Page 277'!T53/'Page 277'!T52)","v":-1.222106867245757E-2},{"$f":"LN('Page 277'!U53/'Page 277'!U52)","v":3.1571795875813574E-2},{"$f":"LN('Page 277'!V53/'Page 277'!V52)","v":3.0546396365180008E-2},{"$f":"LN('Page 277'!W53/'Page 277'!W52)","v":5.2814229686611279E-2},{"$f":"LN('Page 277'!X53/'Page 277'!X52)","v":-3.6625917411804654E-2},{"$f":"LN('Page 277'!Y53/'Page 277'!Y52)","v":-6.2032438894289652E-2},{"$f":"LN('Page 277'!Z53/'Page 277'!Z52)","v":-2.0375603033017994E-2},{"$f":"LN('Page 277'!AA53/'Page 277'!AA52)","v":6.9297907636100012E-2},{"$f":"LN('Page 277'!AB53/'Page 277'!AB52)","v":-4.3821279590416148E-3},{"$f":"LN('Page 277'!AC53/'Page 277'!AC52)","v":3.6179656577502474E-2},{"$f":"LN('Page 277'!AD53/'Page 277'!AD52)","v":-6.4267354397108223E-4},{"$f":"LN('Page 277'!AE53/'Page 277'!AE52)","v":-2.5721231324919751E-2},{"$f":"LN('Page 277'!AF53/'Page 277'!AF52)","v":5.908752662314206E-2}]
["2005-10-03",4.9180377472737229E-2,{"$f":"LN('Page 277'!C54/'Page 277'!C53)","v":-5.4200674693391446E-3},{"$f":"LN('Page 277'!D54/'Page 277'!D53)","v":4.4712584018884359E-2},{"$f":"LN('Page 277'!E54/'Page 277'!E53)","v":-7.6613277964327677E-3},{"$f":"LN('Page 277'!F54/'Page 277'!F53)","v":-4.9899740521956448E-2},{"$f":"LN('Page 277'!G54/'Page 277'!G53)","v":5.8126700660439141E-3},{"$f":"LN('Page 277'!H54/'Page 277'!H53)","v":-0.10618361611297575},{"$f":"LN('Page 277'!I54/'Page 277'!I53)","v":6.2472709572152785E-2},{"$f":"LN('Page 277'!J54/'Page 277'!J53)","v":9.5854036686783221E-3},{"$f":"LN('Page 277'!K54/'Page 277'!K53)","v":6.9581282094668068E-3},{"$f":"LN('Page 277'!L54/'Page 277'!L53)","v":-0.1109657416650736},{"$f":"LN('Page 277'!M54/'Page 277'!M53)","v":7.3256368722335555E-2},{"$f":"LN('Page 277'!N54/'Page 277'!N53)","v":-9.1927455517847478E-2},{"$f":"LN('Page 277'!O54/'Page 277'!O53)","v":-4.0505625285962132E-2},{"$f":"LN('Page 277'!P54/'Page 277'!P53)","v":2.0532047094810383E-2},{"$f":"LN('Page 277'!Q54/'Page 277'!Q53)","v":-4.7577905830525957E-2},{"$f":"LN('Page 277'!R54/'Page 277'!R53)","v":-1.0503449556249871E-2},{"$f":"LN('Page 277'!S54/'Page 277'!S53)","v":8.6197293297574903E-2},{"$f":"LN('Page 277'!T54/'Page 277'!T53)","v":-9.5035165254536737E-3},{"$f":"LN('Page 277'!U54/'Page 277'!U53)","v":-5.8342036940418444E-2},{"$f":"LN('Page 277'!V54/'Page 277'!V53)","v":3.5010045623190378E-2},{"$f":"LN('Page 277'!W54/'Page 277'!W53)","v":1.8058554362292371E-2},{"$f":"LN('Page 277'!X54/'Page 277'!X53)","v":3.6258877583862995E-2},{"$f":"LN('Page 277'!Y54/'Page 277'!Y53)","v":-1.1785505194441416E-3},{"$f":"LN('Page 277'!Z54/'Page 277'!Z53)","v":-0.13842483752179424},{"$f":"LN('Page 277'!AA54/'Page 277'!AA53)","v":-5.4940550608893871E-2},{"$f":"LN('Page 277'!AB54/'Page 277'!AB53)","v":8.7451366253586318E-3},{"$f":"LN('Page 277'!AC54/'Page 277'!AC53)","v":-1.0796061283560747E-2},{"$f":"LN('Page 277'!AD54/'Page 277'!AD53)","v":-2.4074031851888247E-2},{"$f":"LN('Page 277'!AE54/'Page 277'!AE53)","v":7.675606534817557E-2},{"$f":"LN('Page 277'!AF54/'Page 277'!AF53)","v":-0.12387475055085766}]
["2005-11-01",0.12075839277184172,{"$f":"LN('Page 277'!C55/'Page 277'!C54)","v":0.12703037360806441},{"$f":"LN('Page 277'!D55/'Page 277'!D54)","v":3.5492263906324352E-2},{"$f":"LN('Page 277'!E55/'Page 277'!E54)","v":3.2456806178875773E-2},{"$f":"LN('Page 277'!F55/'Page 277'!F54)","v":5.7167106581943863E-2},{"$f":"LN('Page 277'!G55/'Page 277'!G54)","v":6.8487468119720521E-2},{"$f":"LN('Page 277'!H55/'Page 277'!H54)","v":9.4055955342796926E-2},{"$f":"LN('Page 277'!I55/'Page 277'!I54)","v":3.3885139264615775E-2},{"$f":"LN('Page 277'!J55/'Page 277'!J54)","v":2.296123834818568E-2},{"$f":"LN('Page 277'!K55/'Page 277'!K54)","v":5.198645174694938E-2},{"$f":"LN('Page 277'!L55/'Page 277'!L54)","v":-0.20545063730561666},{"$f":"LN('Page 277'!M55/'Page 277'!M54)","v":2.0222397007998206E-2},{"$f":"LN('Page 277'!N55/'Page 277'!N54)","v":7.1663892514036848E-2},{"$f":"LN('Page 277'!O55/'Page 277'!O54)","v":5.6599107365378584E-2},{"$f":"LN('Page 277'!P55/'Page 277'!P54)","v":8.4627291677561431E-2},{"$f":"LN('Page 277'!Q55/'Page 277'!Q54)","v":0.13040014782673898},{"$f":"LN('Page 277'!R55/'Page 277'!R54)","v":-8.8106296821549197E-3},{"$f":"LN('Page 277'!S55/'Page 277'!S54)","v":4.3550631224768349E-2},{"$f":"LN('Page 277'!T55/'Page 277'!T54)","v":4.5254334705107646E-3},{"$f":"LN('Page 277'!U55/'Page 277'!U54)","v":8.9242950636757717E-2},{"$f":"LN('Page 277'!V55/'Page 277'!V54)","v":3.7700662364008368E-2},{"$f":"LN('Page 277'!W55/'Page 277'!W54)","v":-3.0612495948348563E-2},{"$f":"LN('Page 277'!X55/'Page 277'!X54)","v":5.3951285962047978E-2},{"$f":"LN('Page 277'!Y55/'Page 277'!Y54)","v":7.7135728882227236E-2},{"$f":"LN('Page 277'!Z55/'Page 277'!Z54)","v":-1.6686918785014597E-2},{"$f":"LN('Page 277'!AA55/'Page 277'!AA54)","v":2.1068445774304875E-2},{"$f":"LN('Page 277'!AB55/'Page 277'!AB54)","v":4.3448060150596282E-2},{"$f":"LN('Page 277'!AC55/'Page 277'!AC54)","v":5.2851188193996486E-2},{"$f":"LN('Page 277'!AD55/'Page 277'!AD54)","v":1.470855083431217E-2},{"$f":"LN('Page 277'!AE55/'Page 277'!AE54)","v":2.6134258710418995E-2},{"$f":"LN('Page 277'!AF55/'Page 277'!AF54)","v":3.815563541679072E-2}]
["2005-12-01",6.5958347823280625E-2,{"$f":"LN('Page 277'!C56/'Page 277'!C55)","v":7.5842213332526193E-2},{"$f":"LN('Page 277'!D56/'Page 277'!D55)","v":1.6180862197089498E-2},{"$f":"LN('Page 277'!E56/'Page 277'!E55)","v":7.8339212780407738E-4},{"$f":"LN('Page 277'!F56/'Page 277'!F55)","v":2.9700829254173194E-2},{"$f":"LN('Page 277'!G56/'Page 277'!G55)","v":-4.1640641867552982E-4},{"$f":"LN('Page 277'!H56/'Page 277'!H55)","v":-1.7432232241474714E-4},{"$f":"LN('Page 277'!I56/'Page 277'!I55)","v":-5.9673169077704346E-3},{"$f":"LN('Page 277'!J56/'Page 277'!J55)","v":-2.8784882094972462E-2},{"$f":"LN('Page 277'!K56/'Page 277'!K55)","v":-1.1803793304009404E-2},{"$f":"LN('Page 277'!L56/'Page 277'!L55)","v":-0.12029317970226346},{"$f":"LN('Page 277'!M56/'Page 277'!M55)","v":-3.1608658636442653E-2},{"$f":"LN('Page 277'!N56/'Page 277'!N55)","v":1.9178670030572068E-2},{"$f":"LN('Page 277'!O56/'Page 277'!O55)","v":-3.3152207316900509E-2},{"$f":"LN('Page 277'!P56/'Page 277'!P55)","v":-7.8365376685959193E-2},{"$f":"LN('Page 277'!Q56/'Page 277'!Q55)","v":-6.6508666504689312E-2},{"$f":"LN('Page 277'!R56/'Page 277'!R55)","v":-2.7075817260754826E-2},{"$f":"LN('Page 277'!S56/'Page 277'!S55)","v":3.7094875175309655E-2},{"$f":"LN('Page 277'!T56/'Page 277'!T55)","v":-5.7465998602946933E-2},{"$f":"LN('Page 277'!U56/'Page 277'!U55)","v":-3.8478662246293838E-3},{"$f":"LN('Page 277'!V56/'Page 277'!V55)","v":-1.2583677756234533E-2},{"$f":"LN('Page 277'!W56/'Page 277'!W55)","v":3.6651493165116622E-2},{"$f":"LN('Page 277'!X56/'Page 277'!X55)","v":7.8570051941829144E-2},{"$f":"LN('Page 277'!Y56/'Page 277'!Y55)","v":-5.6901575518259327E-2},{"$f":"LN('Page 277'!Z56/'Page 277'!Z55)","v":9.5310179804324741E-2},{"$f":"LN('Page 277'!AA56/'Page 277'!AA55)","v":1.2117103211349229E-2},{"$f":"LN('Page 277'!AB56/'Page 277'!AB55)","v":-1.7238181742378345E-2},{"$f":"LN('Page 277'!AC56/'Page 277'!AC55)","v":3.7657126385328331E-2},{"$f":"LN('Page 277'!AD56/'Page 277'!AD55)","v":-5.9834051855431142E-2},{"$f":"LN('Page 277'!AE56/'Page 277'!AE55)","v":-3.4066554563606195E-2},{"$f":"LN('Page 277'!AF56/'Page 277'!AF55)","v":-3.2563485910827014E-2}]
["2006-01-03",8.2538880326743461E-2,{"$f":"LN('Page 277'!C57/'Page 277'!C56)","v":6.3151040259666502E-2},{"$f":"LN('Page 277'!D57/'Page 277'!D56)","v":-4.1490995554845825E-2},{"$f":"LN('Page 277'!E57/'Page 277'!E56)","v":2.1497874490983376E-2},{"$f":"LN('Page 277'!F57/'Page 277'!F56)","v":-2.7929088055432878E-2},{"$f":"LN('Page 277'!G57/'Page 277'!G56)","v":-4.1021584060690279E-2},{"$f":"LN('Page 277'!H57/'Page 277'!H56)","v":0.16559126222915135},{"$f":"LN('Page 277'!I57/'Page 277'!I56)","v":-8.2039752711578345E-2},{"$f":"LN('Page 277'!J57/'Page 277'!J56)","v":5.4396526110739675E-2},{"$f":"LN('Page 277'!K57/'Page 277'!K56)","v":-6.7690505338030463E-2},{"$f":"LN('Page 277'!L57/'Page 277'!L56)","v":0.21458520228304806},{"$f":"LN('Page 277'!M57/'Page 277'!M56)","v":1.7410774202929755E-3},{"$f":"LN('Page 277'!N57/'Page 277'!N56)","v":3.099366436581167E-2},{"$f":"LN('Page 277'!O57/'Page 277'!O56)","v":8.5430071204617777E-2},{"$f":"LN('Page 277'!P57/'Page 277'!P56)","v":-1.1077036338907607E-2},{"$f":"LN('Page 277'!Q57/'Page 277'!Q56)","v":-0.1607120724610995},{"$f":"LN('Page 277'!R57/'Page 277'!R56)","v":-4.3533755804915142E-2},{"$f":"LN('Page 277'!S57/'Page 277'!S56)","v":1.0021926359046567E-2},{"$f":"LN('Page 277'!T57/'Page 277'!T56)","v":2.6330383502959478E-2},{"$f":"LN('Page 277'!U57/'Page 277'!U56)","v":3.7542601832919666E-2},{"$f":"LN('Page 277'!V57/'Page 277'!V56)","v":-6.3181739632142964E-2},{"$f":"LN('Page 277'!W57/'Page 277'!W56)","v":-3.240219498645891E-2},{"$f":"LN('Page 277'!X57/'Page 277'!X56)","v":8.1179829888370206E-2},{"$f":"LN('Page 277'!Y57/'Page 277'!Y56)","v":7.3860307765218847E-2},{"$f":"LN('Page 277'!Z57/'Page 277'!Z56)","v":9.6580828005780536E-2},{"$f":"LN('Page 277'!AA57/'Page 277'!AA56)","v":2.7715002237054608E-2},{"$f":"LN('Page 277'!AB57/'Page 277'!AB56)","v":7.1590568904359053E-2},{"$f":"LN('Page 277'!AC57/'Page 277'!AC56)","v":4.3047747170555171E-2},{"$f":"LN('Page 277'!AD57/'Page 277'!AD56)","v":6.2749978107486393E-2},{"$f":"LN('Page 277'!AE57/'Page 277'!AE56)","v":-1.47444128178424E-2},{"$f":"LN('Page 277'!AF57/'Page 277'!AF56)","v":0.11090367760583343}]
["2006-02-01",2.8988788037465168E-2,{"$f":"LN('Page 277'!C58/'Page 277'!C57)","v":-6.6912371416664659E-2},{"$f":"LN('Page 277'!D58/'Page 277'!D57)","v":1.3719727397480003E-2},{"$f":"LN('Page 277'!E58/'Page 277'!E57)","v":2.6844712184124434E-2},{"$f":"LN('Page 277'!F58/'Page 277'!F57)","v":6.6343941572338291E-2},{"$f":"LN('Page 277'!G58/'Page 277'!G57)","v":6.056691670952419E-3},{"$f":"LN('Page 277'!H58/'Page 277'!H57)","v":7.3464074120697526E-2},{"$f":"LN('Page 277'!I58/'Page 277'!I57)","v":3.6488293263136684E-2},{"$f":"LN('Page 277'!J58/'Page 277'!J57)","v":0.10064772897032936},{"$f":"LN('Page 277'!K58/'Page 277'!K57)","v":1.1094104541358792E-2},{"$f":"LN('Page 277'!L58/'Page 277'!L57)","v":-0.1583331549988253},{"$f":"LN('Page 277'!M58/'Page 277'!M57)","v":3.8752259662623204E-2},{"$f":"LN('Page 277'!N58/'Page 277'!N57)","v":6.9361127797502531E-2},{"$f":"LN('Page 277'!O58/'Page 277'!O57)","v":5.090637234751344E-2},{"$f":"LN('Page 277'!P58/'Page 277'!P57)","v":-1.057552624708641E-2},{"$f":"LN('Page 277'!Q58/'Page 277'!Q57)","v":-2.6963597877582197E-2},{"$f":"LN('Page 277'!R58/'Page 277'!R57)","v":7.5339821976327277E-3},{"$f":"LN('Page 277'!S58/'Page 277'!S57)","v":3.4429836211787378E-2},{"$f":"LN('Page 277'!T58/'Page 277'!T57)","v":1.4119027143852922E-2},{"$f":"LN('Page 277'!U58/'Page 277'!U57)","v":-2.8604138496296457E-3},{"$f":"LN('Page 277'!V58/'Page 277'!V57)","v":1.7780083852863355E-2},{"$f":"LN('Page 277'!W58/'Page 277'!W57)","v":-6.0962831464255992E-3},{"$f":"LN('Page 277'!X58/'Page 277'!X57)","v":1.0616437076253071E-2},{"$f":"LN('Page 277'!Y58/'Page 277'!Y57)","v":-4.3135342068847039E-2},{"$f":"LN('Page 277'!Z58/'Page 277'!Z57)","v":2.8942184370920315E-2},{"$f":"LN('Page 277'!AA58/'Page 277'!AA57)","v":1.1814483413763056E-2},{"$f":"LN('Page 277'!AB58/'Page 277'!AB57)","v":6.1251442809923673E-2},{"$f":"LN('Page 277'!AC58/'Page 277'!AC57)","v":6.025670293590032E-3},{"$f":"LN('Page 277'!AD58/'Page 277'!AD57)","v":6.2392901627301156E-2},{"$f":"LN('Page 277'!AE58/'Page 277'!AE57)","v":-1.6518380210940327E-2},{"$f":"LN('Page 277'!AF58/'Page 277'!AF57)","v":-5.0183825252067778E-2}]
["2006-03-01",6.5903441121838678E-4,{"$f":"LN('Page 277'!C59/'Page 277'!C58)","v":4.1602779042856315E-2},{"$f":"LN('Page 277'!D59/'Page 277'!D58)","v":-1.8184578431258707E-3},{"$f":"LN('Page 277'!E59/'Page 277'!E58)","v":-2.5121729083425172E-2},{"$f":"LN('Page 277'!F59/'Page 277'!F58)","v":6.9581691288308697E-2},{"$f":"LN('Page 277'!G59/'Page 277'!G58)","v":1.8376585504656297E-2},{"$f":"LN('Page 277'!H59/'Page 277'!H58)","v":-1.7586827303334048E-2},{"$f":"LN('Page 277'!I59/'Page 277'!I58)","v":4.7942660970409473E-2},{"$f":"LN('Page 277'!J59/'Page 277'!J58)","v":-3.5791018879645156E-3},{"$f":"LN('Page 277'!K59/'Page 277'!K58)","v":5.6306755609997976E-2},{"$f":"LN('Page 277'!L59/'Page 277'!L58)","v":4.6158302921268657E-2},{"$f":"LN('Page 277'!M59/'Page 277'!M58)","v":7.1462905368182526E-3},{"$f":"LN('Page 277'!N59/'Page 277'!N58)","v":4.3469444220723227E-2},{"$f":"LN('Page 277'!O59/'Page 277'!O58)","v":5.1948168771041511E-3},{"$f":"LN('Page 277'!P59/'Page 277'!P58)","v":2.7388832663133186E-2},{"$f":"LN('Page 277'!Q59/'Page 277'!Q58)","v":-5.6727880402377404E-2},{"$f":"LN('Page 277'!R59/'Page 277'!R58)","v":2.6865745285799249E-2},{"$f":"LN('Page 277'!S59/'Page 277'!S58)","v":1.2032066579569562E-2},{"$f":"LN('Page 277'!T59/'Page 277'!T58)","v":4.8227727912260052E-3},{"$f":"LN('Page 277'!U59/'Page 277'!U58)","v":-1.588022400088996E-2},{"$f":"LN('Page 277'!V59/'Page 277'!V58)","v":2.815190289476506E-2},{"$f":"LN('Page 277'!W59/'Page 277'!W58)","v":-3.7042356075807268E-3},{"$f":"LN('Page 277'!X59/'Page 277'!X58)","v":2.1474998228097959E-2},{"$f":"LN('Page 277'!Y59/'Page 277'!Y58)","v":1.225187035339419E-2},{"$f":"LN('Page 277'!Z59/'Page 277'!Z58)","v":-4.9387875531209637E-2},{"$f":"LN('Page 277'!AA59/'Page 277'!AA58)","v":-3.9180445507657986E-2},{"$f":"LN('Page 277'!AB59/'Page 277'!AB58)","v":-2.0255756308274839E-2},{"$f":"LN('Page 277'!AC59/'Page 277'!AC58)","v":-9.1387824584463293E-3},{"$f":"LN('Page 277'!AD59/'Page 277'!AD58)","v":1.0582109330537008E-2},{"$f":"LN('Page 277'!AE59/'Page 277'!AE58)","v":4.4306921099570601E-2},{"$f":"LN('Page 277'!AF59/'Page 277'!AF58)","v":2.4911427810049402E-2}]
["2006-04-03",6.3288728135339437E-2,{"$f":"LN('Page 277'!C60/'Page 277'!C59)","v":9.9989561843298519E-2},{"$f":"LN('Page 277'!D60/'Page 277'!D59)","v":-1.2822645540912345E-2},{"$f":"LN('Page 277'!E60/'Page 277'!E59)","v":2.6053956241456868E-2},{"$f":"LN('Page 277'!F60/'Page 277'!F59)","v":6.8546381577074961E-2},{"$f":"LN('Page 277'!G60/'Page 277'!G59)","v":5.5993221186536851E-2},{"$f":"LN('Page 277'!H60/'Page 277'!H59)","v":5.6490717135769065E-2},{"$f":"LN('Page 277'!I60/'Page 277'!I59)","v":4.3693435217569923E-2},{"$f":"LN('Page 277'!J60/'Page 277'!J59)","v":2.5067157262118516E-3},{"$f":"LN('Page 277'!K60/'Page 277'!K59)","v":-5.5192587456266489E-3},{"$f":"LN('Page 277'!L60/'Page 277'!L59)","v":7.3225748894030954E-2},{"$f":"LN('Page 277'!M60/'Page 277'!M59)","v":-5.7647216771325914E-2},{"$f":"LN('Page 277'!N60/'Page 277'!N59)","v":-6.3656940173461869E-3},{"$f":"LN('Page 277'!O60/'Page 277'!O59)","v":-1.3192398723521168E-2},{"$f":"LN('Page 277'!P60/'Page 277'!P59)","v":-1.5833387389166198E-3},{"$f":"LN('Page 277'!Q60/'Page 277'!Q59)","v":2.6505119379997093E-2},{"$f":"LN('Page 277'!R60/'Page 277'!R59)","v":-1.0247741260475809E-2},{"$f":"LN('Page 277'!S60/'Page 277'!S59)","v":9.4044595746061499E-2},{"$f":"LN('Page 277'!T60/'Page 277'!T59)","v":2.1626825682798628E-3},{"$f":"LN('Page 277'!U60/'Page 277'!U59)","v":6.0931568174785091E-3},{"$f":"LN('Page 277'!V60/'Page 277'!V59)","v":0.12106861082463452},{"$f":"LN('Page 277'!W60/'Page 277'!W59)","v":3.2025208754611109E-2},{"$f":"LN('Page 277'!X60/'Page 277'!X59)","v":-2.3236595865095331E-2},{"$f":"LN('Page 277'!Y60/'Page 277'!Y59)","v":-0.11898301733912256},{"$f":"LN('Page 277'!Z60/'Page 277'!Z59)","v":1.6071057021242771E-2},{"$f":"LN('Page 277'!AA60/'Page 277'!AA59)","v":1.5582032719997961E-2},{"$f":"LN('Page 277'!AB60/'Page 277'!AB59)","v":-1.874218180974075E-2},{"$f":"LN('Page 277'!AC60/'Page 277'!AC59)","v":8.0189267840077974E-2},{"$f":"LN('Page 277'!AD60/'Page 277'!AD59)","v":-1.8822656496633863E-2},{"$f":"LN('Page 277'!AE60/'Page 277'!AE59)","v":-4.7866435425159011E-2},{"$f":"LN('Page 277'!AF60/'Page 277'!AF59)","v":3.5683318735638396E-2}]
["2006-05-01",-8.5412881279427599E-3,{"$f":"LN('Page 277'!C61/'Page 277'!C60)","v":-5.8471128985531085E-2},{"$f":"LN('Page 277'!D61/'Page 277'!D60)","v":-6.8181138612174702E-2},{"$f":"LN('Page 277'!E61/'Page 277'!E60)","v":1.0197548274768733E-2},{"$f":"LN('Page 277'!F61/'Page 277'!F60)","v":9.614229799570056E-4},{"$f":"LN('Page 277'!G61/'Page 277'!G60)","v":-1.3098424045918254E-2},{"$f":"LN('Page 277'!H61/'Page 277'!H60)","v":-3.7532147504853987E-2},{"$f":"LN('Page 277'!I61/'Page 277'!I60)","v":-2.8053305983079591E-2},{"$f":"LN('Page 277'!J61/'Page 277'!J60)","v":8.6951766247756454E-2},{"$f":"LN('Page 277'!K61/'Page 277'!K60)","v":-9.3650084504965578E-3},{"$f":"LN('Page 277'!L61/'Page 277'!L60)","v":0.17263965122364733},{"$f":"LN('Page 277'!M61/'Page 277'!M60)","v":-4.6316484975888444E-2},{"$f":"LN('Page 277'!N61/'Page 277'!N60)","v":-2.6361459402393532E-2},{"$f":"LN('Page 277'!O61/'Page 277'!O60)","v":-2.7833634793053221E-3},{"$f":"LN('Page 277'!P61/'Page 277'!P60)","v":-2.6431080431950901E-2},{"$f":"LN('Page 277'!Q61/'Page 277'!Q60)","v":-9.8231949048236122E-2},{"$f":"LN('Page 277'!R61/'Page 277'!R60)","v":3.3260430607777773E-2},{"$f":"LN('Page 277'!S61/'Page 277'!S60)","v":-6.2334035820444104E-2},{"$f":"LN('Page 277'!T61/'Page 277'!T60)","v":4.803547304239731E-2},{"$f":"LN('Page 277'!U61/'Page 277'!U60)","v":-4.1340400974572103E-2},{"$f":"LN('Page 277'!V61/'Page 277'!V60)","v":-1.5654968672613196E-2},{"$f":"LN('Page 277'!W61/'Page 277'!W60)","v":-1.1120492693080124E-2},{"$f":"LN('Page 277'!X61/'Page 277'!X60)","v":-2.1985436925880866E-2},{"$f":"LN('Page 277'!Y61/'Page 277'!Y60)","v":-6.0390858617489745E-2},{"$f":"LN('Page 277'!Z61/'Page 277'!Z60)","v":-5.8683501828090179E-2},{"$f":"LN('Page 277'!AA61/'Page 277'!AA60)","v":-7.0454168863075234E-2},{"$f":"LN('Page 277'!AB61/'Page 277'!AB60)","v":-5.8083415957469022E-3},{"$f":"LN('Page 277'!AC61/'Page 277'!AC60)","v":-4.7973135964421665E-4},{"$f":"LN('Page 277'!AD61/'Page 277'!AD60)","v":-5.6743868707170436E-2},{"$f":"LN('Page 277'!AE61/'Page 277'!AE60)","v":7.6762918348883477E-2},{"$f":"LN('Page 277'!AF61/'Page 277'!AF60)","v":-2.992056301643866E-2}]
["2006-06-01",2.3881354460274971E-2,{"$f":"LN('Page 277'!C62/'Page 277'!C61)","v":1.9975695423643827E-2},{"$f":"LN('Page 277'!D62/'Page 277'!D61)","v":-2.9205246328750052E-2},{"$f":"LN('Page 277'!E62/'Page 277'!E61)","v":-2.1253596432443251E-2},{"$f":"LN('Page 277'!F62/'Page 277'!F61)","v":-1.6227045333042631E-2},{"$f":"LN('Page 277'!G62/'Page 277'!G61)","v":-2.152825326364944E-2},{"$f":"LN('Page 277'!H62/'Page 277'!H61)","v":2.0756358000016913E-2},{"$f":"LN('Page 277'!I62/'Page 277'!I61)","v":-2.2109541998324524E-2},{"$f":"LN('Page 277'!J62/'Page 277'!J61)","v":-1.6529301951210582E-2},{"$f":"LN('Page 277'!K62/'Page 277'!K61)","v":-3.135989397783303E-2},{"$f":"LN('Page 277'!L62/'Page 277'!L61)","v":0.10093185990168346},{"$f":"LN('Page 277'!M62/'Page 277'!M61)","v":-5.9127849465776476E-2},{"$f":"LN('Page 277'!N62/'Page 277'!N61)","v":-2.1601232647006138E-2},{"$f":"LN('Page 277'!O62/'Page 277'!O61)","v":-1.9072017823958738E-2},{"$f":"LN('Page 277'!P62/'Page 277'!P61)","v":-3.9310829854470403E-2},{"$f":"LN('Page 277'!Q62/'Page 277'!Q61)","v":5.2956726986248565E-2},{"$f":"LN('Page 277'!R62/'Page 277'!R61)","v":-4.9941838446236455E-3},{"$f":"LN('Page 277'!S62/'Page 277'!S61)","v":-1.5009215651571376E-2},{"$f":"LN('Page 277'!T62/'Page 277'!T61)","v":-1.5911785035639055E-2},{"$f":"LN('Page 277'!U62/'Page 277'!U61)","v":1.2880214010197425E-2},{"$f":"LN('Page 277'!V62/'Page 277'!V61)","v":-3.5155356559847424E-2},{"$f":"LN('Page 277'!W62/'Page 277'!W61)","v":2.6075837632647349E-2},{"$f":"LN('Page 277'!X62/'Page 277'!X61)","v":9.0135559433538959E-2},{"$f":"LN('Page 277'!Y62/'Page 277'!Y61)","v":2.8293508642611997E-2},{"$f":"LN('Page 277'!Z62/'Page 277'!Z61)","v":-8.0628486873086311E-3},{"$f":"LN('Page 277'!AA62/'Page 277'!AA61)","v":2.4580208835967805E-2},{"$f":"LN('Page 277'!AB62/'Page 277'!AB61)","v":6.7930819035712534E-2},{"$f":"LN('Page 277'!AC62/'Page 277'!AC61)","v":1.4292763556925473E-2},{"$f":"LN('Page 277'!AD62/'Page 277'!AD61)","v":7.0440628257431664E-2},{"$f":"LN('Page 277'!AE62/'Page 277'!AE61)","v":-5.7959176946458012E-3},{"$f":"LN('Page 277'!AF62/'Page 277'!AF61)","v":7.1978063085272413E-3}]
["2006-07-03",4.8366714502086836E-2,{"$f":"LN('Page 277'!C63/'Page 277'!C62)","v":3.61137712273999E-2},{"$f":"LN('Page 277'!D63/'Page 277'!D62)","v":-1.3557026309584757E-3},{"$f":"LN('Page 277'!E63/'Page 277'!E62)","v":-2.075276762645941E-2},{"$f":"LN('Page 277'!F63/'Page 277'!F62)","v":-2.3719456666780159E-2},{"$f":"LN('Page 277'!G63/'Page 277'!G62)","v":1.7055792057715624E-2},{"$f":"LN('Page 277'!H63/'Page 277'!H62)","v":-2.5841231183887443E-2},{"$f":"LN('Page 277'!I63/'Page 277'!I62)","v":-2.5811026243363643E-2},{"$f":"LN('Page 277'!J63/'Page 277'!J62)","v":-5.6827831354982683E-3},{"$f":"LN('Page 277'!K63/'Page 277'!K62)","v":1.0262691945127161E-2},{"$f":"LN('Page 277'!L63/'Page 277'!L62)","v":-1.0460699404055022E-2},{"$f":"LN('Page 277'!M63/'Page 277'!M62)","v":-1.1804521560545289E-2},{"$f":"LN('Page 277'!N63/'Page 277'!N62)","v":-3.3815990178302856E-2},{"$f":"LN('Page 277'!O63/'Page 277'!O62)","v":3.6266177984394569E-2},{"$f":"LN('Page 277'!P63/'Page 277'!P62)","v":-5.2205808990046848E-3},{"$f":"LN('Page 277'!Q63/'Page 277'!Q62)","v":-2.3430251808385996E-2},{"$f":"LN('Page 277'!R63/'Page 277'!R62)","v":1.1614532420693083E-2},{"$f":"LN('Page 277'!S63/'Page 277'!S62)","v":1.7842747653673507E-2},{"$f":"LN('Page 277'!T63/'Page 277'!T62)","v":3.7123012470772396E-3},{"$f":"LN('Page 277'!U63/'Page 277'!U62)","v":-1.2578782206860185E-2},{"$f":"LN('Page 277'!V63/'Page 277'!V62)","v":-8.6190077152163702E-2},{"$f":"LN('Page 277'!W63/'Page 277'!W62)","v":5.7808859720826763E-2},{"$f":"LN('Page 277'!X63/'Page 277'!X62)","v":1.4714161928068082E-2},{"$f":"LN('Page 277'!Y63/'Page 277'!Y62)","v":0},{"$f":"LN('Page 277'!Z63/'Page 277'!Z62)","v":8.9078001528727357E-3},{"$f":"LN('Page 277'!AA63/'Page 277'!AA62)","v":1.6057436895858469E-2},{"$f":"LN('Page 277'!AB63/'Page 277'!AB62)","v":6.5099687412276657E-3},{"$f":"LN('Page 277'!AC63/'Page 277'!AC62)","v":-5.058499563033835E-3},{"$f":"LN('Page 277'!AD63/'Page 277'!AD62)","v":-1.1248028605197994E-2},{"$f":"LN('Page 277'!AE63/'Page 277'!AE62)","v":-4.6095024153034472E-2},{"$f":"LN('Page 277'!AF63/'Page 277'!AF62)","v":2.3996642230499975E-2}]
[]
[]
[]
["Average alpha",{"$f":"AVERAGE(C4:AF4)","v":1.4364460085717801E-3},{"$f":"getformula(B78)","v":"<--  =AVERAGE(C4:AF4)"}]
["Average beta",{"$f":"AVERAGE(C5:AF5)","v":-3.6821683843448638E-2},{"$f":"getformula(B79)","v":"<--  =AVERAGE(C5:AF5)"}]
["Average r-squared",{"$f":"AVERAGE(C7:AF7)","v":1.3545311792556651E-2},{"$f":"getformula(B80)","v":"<--  =AVERAGE(C7:AF7)"}]
[]
["Average R2 for best regressions"]
[null,{"$f":"SUMIF(C7:AF7,\">\"&TEXT(B87,\"0.00\"))","v":0.40635935377669952},{"$f":"getformula(B83)","v":"<--  =SUMIF(C7:AF7,\">\"&TEXT(B87,\"0.00\"))"}]
[null,{"$f":"COUNTIF(C7:AF7,\">\"&TEXT(B87,\"0.00\"))","v":30},{"$f":"getformula(B84)","v":"<--  =COUNTIF(C7:AF7,\">\"&TEXT(B87,\"0.00\"))"}]
["Average R2",{"$f":"B83/B84","v":1.3545311792556651E-2},{"$f":"getformula(B85)","v":"<--  =B83/B84"}]
[]
["Sum if R2 > ??",0]

{"sheet":"Page 284-85","index":7,"n_rows":140,"n_cols":32,"rows_kept":140,"cut":false,"hidden":false,"merged":[[0,0,0,13]]}
["RETURN DATA FOR THE DOW-JONES INDUSTRIAL STOCKS AND THE STANDARD AND POORS 500\nJuly 2001 - July 2006"]
["Date","SP 500 Index\n^SPX","Alcoa \nAA","American International Group \nAIG","American Express AXP","Boeing BA","Citigroup C","Caterpillar CAT","DuPont DD","Disney DIS","General Electric GE","General Motors GM","Home Depot HD","Honeywell HON","Hewlitt Packard HPQ","IBM","Intel \nINTC","Johnson & Johnson JNJ","JP Morgan JPM","Coca Cola \nKO","McDonalds \nMCD","3M \nMMM","Altria\nMO","Merck \nMRK","Microsoft \nMSFT","Pfizer \nPFE","Proctor Gamble \nPG","AT&T \nT","United Technologies UTX","Verizon \nVZ","Walmart \nWMT","Exxon Mobil \nXOM"]
[]
["Average return",{"$f":"AVERAGE(B9:B68)","v":7.3025207715862923E-4},-8.8045232999497481E-4,-5.3560524791288885E-3,7.2078563356630853E-3,6.6601094741208884E-3,3.010192138065507E-3,1.7944538670859995E-2,1.8457819966479114E-3,2.9306515581315239E-3,-2.3445913734344336E-3,-8.7115866553562366E-3,-5.1789842829916052E-3,2.8938752782178977E-3,6.0646047398152676E-3,-4.651234583685872E-3,-7.2648065901253448E-3,3.3741700376054302E-3,1.8475201624128701E-3,1.1711236870348115E-3,3.4537024601776645E-3,6.3742097805926674E-3,1.3025248898244331E-2,-6.3084472440219719E-3,-3.5204556814594479E-3,-7.4336132638093003E-3,9.4023212973838102E-3,-4.1344123560427496E-3,1.0325623468400351E-2,-4.91148259418305E-3,-2.5204525972353053E-3,8.7784223052485757E-3]
["Beta",{"$f":"SLOPE(B9:B68,$B$9:$B$68)","v":1},1.9027983836619957,0.99357597429546707,1.3784130266948689,1.1514634616640862,1.2951646980207125,1.3903214616252038,1.0009466005598446,1.2805379702174076,0.84198822730205147,1.4059650700066386,1.552790870242573,1.6639716851986359,1.9594245248915774,1.5764137929690809,2.2648399177150527,0.24707693477970649,1.7916694423015864,0.35903260375546042,1.2645943445894277,0.65043868573479957,0.66329440207335677,0.60992724226830031,1.1219401416299413,0.55717127351603968,0.16872571999704272,1.127501815122895,1.0659180109233315,1.0231125023839318,0.6000114438168378,0.6455250865233817]
["Alpha",{"$f":"INTERCEPT(B9:B68,$B$9:$B$68)","v":0},-2.2699748020782295E-3,-6.0816133981730618E-3,6.201267359736644E-3,5.819250889468424E-3,2.0643954270733529E-3,1.692925353558997E-2,1.1148386624642162E-3,1.9955360454997672E-3,-2.9594550253648688E-3,-9.738295568141063E-3,-6.3129130413791994E-3,1.6787564987684491E-3,4.6337309104776334E-3,-5.8024140304630562E-3,-8.9187106444685409E-3,3.1937415927645622E-3,5.3914983059049379E-4,9.0893938237471543E-4,2.5302298132781798E-3,5.8992255792705015E-3,1.2540876783362572E-2,-6.7538478796040323E-3,-4.3397548003323589E-3,-7.8404887436275064E-3,9.2791089898858845E-3,-4.9577728985363686E-3,9.5472346268427929E-3,-5.658612624215879E-3,-2.9586122004014994E-3,8.3070262699568732E-3]
["R-squared",{"$f":"RSQ(B9:B68,$B$9:$B$68)","v":1},0.60847765066893644,0.3518481112203532,0.7051780176036373,0.24867752412854968,0.59718406379967004,0.51582030933360234,0.43624143766022538,0.38454683391705435,0.32207336771025202,0.26067090340619081,0.5287578585042142,0.54733733270476037,0.52093660013759546,0.54750841607413736,0.48361819242009407,5.6626615446838925E-2,0.59512672624119656,8.0821985992514361E-2,0.44267287742790795,0.20296006525126686,9.0399117733825293E-2,8.8723971944721688E-2,0.40731957218483722,0.1564725457373137,3.8528345098536212E-2,0.28400964418052643,0.32313581038494305,0.28539837699207221,0.19127972027703805,0.22625193335445209]
[]
["2001-08-01",{"$f":"LN('Page 277'!B4/'Page 277'!B3)","v":-6.6255605887467039E-2},{"$f":"LN('Page 277'!C4/'Page 277'!C3)","v":-2.4904679180075117E-2},{"$f":"LN('Page 277'!D4/'Page 277'!D3)","v":-6.2016699505352997E-2},{"$f":"LN('Page 277'!E4/'Page 277'!E3)","v":-0.10197330160654307},{"$f":"LN('Page 277'!F4/'Page 277'!F3)","v":-0.13087167511426126},{"$f":"LN('Page 277'!G4/'Page 277'!G3)","v":-8.8765860810958969E-2},{"$f":"LN('Page 277'!H4/'Page 277'!H3)","v":-9.6726467345061545E-2},{"$f":"LN('Page 277'!I4/'Page 277'!I3)","v":-3.5908486258404655E-2},{"$f":"LN('Page 277'!J4/'Page 277'!J3)","v":-3.5805289369379566E-2},{"$f":"LN('Page 277'!K4/'Page 277'!K3)","v":-6.1603446652326505E-2},{"$f":"LN('Page 277'!L4/'Page 277'!L3)","v":-0.14195662568150003},{"$f":"LN('Page 277'!M4/'Page 277'!M3)","v":-9.1050718822688559E-2},{"$f":"LN('Page 277'!N4/'Page 277'!N3)","v":1.5753127949124486E-2},{"$f":"LN('Page 277'!O4/'Page 277'!O3)","v":-6.0953190901040094E-2},{"$f":"LN('Page 277'!P4/'Page 277'!P3)","v":-4.9929201063659778E-2},{"$f":"LN('Page 277'!Q4/'Page 277'!Q3)","v":-6.3656215942067843E-2},{"$f":"LN('Page 277'!R4/'Page 277'!R3)","v":-2.2674855650745698E-2},{"$f":"LN('Page 277'!S4/'Page 277'!S3)","v":-9.4414901023194581E-2},{"$f":"LN('Page 277'!T4/'Page 277'!T3)","v":8.7487454123115801E-2},{"$f":"LN('Page 277'!U4/'Page 277'!U3)","v":2.9951106602773683E-2},{"$f":"LN('Page 277'!V4/'Page 277'!V3)","v":-6.645264996859318E-2},{"$f":"LN('Page 277'!W4/'Page 277'!W3)","v":4.0990472323703141E-2},{"$f":"LN('Page 277'!X4/'Page 277'!X3)","v":-3.8139415787459788E-2},{"$f":"LN('Page 277'!Y4/'Page 277'!Y3)","v":-0.14843390375551219},{"$f":"LN('Page 277'!Z4/'Page 277'!Z3)","v":-7.0558225315588641E-2},{"$f":"LN('Page 277'!AA4/'Page 277'!AA3)","v":4.2935503108324086E-2},{"$f":"LN('Page 277'!AB4/'Page 277'!AB3)","v":-9.5872926020639057E-2},{"$f":"LN('Page 277'!AC4/'Page 277'!AC3)","v":-6.7290636104445939E-2},{"$f":"LN('Page 277'!AD4/'Page 277'!AD3)","v":-7.98340166398534E-2},{"$f":"LN('Page 277'!AE4/'Page 277'!AE3)","v":-0.15144457077138077},{"$f":"LN('Page 277'!AF4/'Page 277'!AF3)","v":-3.3706437881910779E-2}]
["2001-09-04",{"$f":"LN('Page 277'!B5/'Page 277'!B4)","v":-8.5256615246989922E-2},{"$f":"LN('Page 277'!C5/'Page 277'!C4)","v":-0.2066142493629993},{"$f":"LN('Page 277'!D5/'Page 277'!D4)","v":-2.4890299088461518E-3},{"$f":"LN('Page 277'!E5/'Page 277'!E4)","v":-0.22593799712051296},{"$f":"LN('Page 277'!F5/'Page 277'!F4)","v":-0.42423342136280745},{"$f":"LN('Page 277'!G5/'Page 277'!G4)","v":-0.12303151411594927},{"$f":"LN('Page 277'!H5/'Page 277'!H4)","v":-0.11007341040370261},{"$f":"LN('Page 277'!I5/'Page 277'!I4)","v":-8.7712721261510654E-2},{"$f":"LN('Page 277'!J5/'Page 277'!J4)","v":-0.31143615845988804},{"$f":"LN('Page 277'!K5/'Page 277'!K4)","v":-9.0245336351864242E-2},{"$f":"LN('Page 277'!L5/'Page 277'!L4)","v":-0.24369402424121561},{"$f":"LN('Page 277'!M5/'Page 277'!M4)","v":-0.18032627225751421},{"$f":"LN('Page 277'!N5/'Page 277'!N4)","v":-0.34468137308234564},{"$f":"LN('Page 277'!O5/'Page 277'!O4)","v":-0.36441967486504917},{"$f":"LN('Page 277'!P5/'Page 277'!P4)","v":-8.6009136046455131E-2},{"$f":"LN('Page 277'!Q5/'Page 277'!Q4)","v":-0.31313001417247327},{"$f":"LN('Page 277'!R5/'Page 277'!R4)","v":4.977354511208764E-2},{"$f":"LN('Page 277'!S5/'Page 277'!S4)","v":-0.14292269372705024},{"$f":"LN('Page 277'!T5/'Page 277'!T4)","v":-3.8283296985651298E-2},{"$f":"LN('Page 277'!U5/'Page 277'!U4)","v":-0.10141007058491872},{"$f":"LN('Page 277'!V5/'Page 277'!V4)","v":-5.6313105251997946E-2},{"$f":"LN('Page 277'!W5/'Page 277'!W4)","v":1.8427547748008123E-2},{"$f":"LN('Page 277'!X5/'Page 277'!X4)","v":2.2832042042645689E-2},{"$f":"LN('Page 277'!Y5/'Page 277'!Y4)","v":-0.1089047890914604},{"$f":"LN('Page 277'!Z5/'Page 277'!Z4)","v":4.5649314665648928E-2},{"$f":"LN('Page 277'!AA5/'Page 277'!AA4)","v":-1.8349138668196541E-2},{"$f":"LN('Page 277'!AB5/'Page 277'!AB4)","v":0.1412415310504902},{"$f":"LN('Page 277'!AC5/'Page 277'!AC4)","v":-0.38612576550871208},{"$f":"LN('Page 277'!AD5/'Page 277'!AD4)","v":7.9150723138720805E-2},{"$f":"LN('Page 277'!AE5/'Page 277'!AE4)","v":3.125254350410453E-2},{"$f":"LN('Page 277'!AF5/'Page 277'!AF4)","v":-1.8849904023634231E-2}]
["2001-10-01",{"$f":"LN('Page 277'!B6/'Page 277'!B5)","v":1.7937188329115412E-2},{"$f":"LN('Page 277'!C6/'Page 277'!C5)","v":4.4606698040520781E-2},{"$f":"LN('Page 277'!D6/'Page 277'!D5)","v":7.5787635718121277E-3},{"$f":"LN('Page 277'!E6/'Page 277'!E5)","v":1.5516848690684155E-2},{"$f":"LN('Page 277'!F6/'Page 277'!F5)","v":-2.6993080607837172E-2},{"$f":"LN('Page 277'!G6/'Page 277'!G5)","v":0.11687764854157089},{"$f":"LN('Page 277'!H6/'Page 277'!H5)","v":5.9494473950934216E-3},{"$f":"LN('Page 277'!I6/'Page 277'!I5)","v":6.3719663982381269E-2},{"$f":"LN('Page 277'!J6/'Page 277'!J5)","v":-1.6982738301917076E-3},{"$f":"LN('Page 277'!K6/'Page 277'!K5)","v":-2.1486400560926558E-2},{"$f":"LN('Page 277'!L6/'Page 277'!L5)","v":-3.7672075585455093E-2},{"$f":"LN('Page 277'!M6/'Page 277'!M5)","v":-3.5398267051240623E-3},{"$f":"LN('Page 277'!N6/'Page 277'!N5)","v":0.11263143034112882},{"$f":"LN('Page 277'!O6/'Page 277'!O5)","v":4.7768322210547512E-2},{"$f":"LN('Page 277'!P6/'Page 277'!P5)","v":0.1640487181753901},{"$f":"LN('Page 277'!Q6/'Page 277'!Q5)","v":0.17774023037939196},{"$f":"LN('Page 277'!R6/'Page 277'!R5)","v":4.4220968681573464E-2},{"$f":"LN('Page 277'!S6/'Page 277'!S5)","v":3.4791825493663948E-2},{"$f":"LN('Page 277'!T6/'Page 277'!T5)","v":2.1757788941804957E-2},{"$f":"LN('Page 277'!U6/'Page 277'!U5)","v":-4.0224801310508873E-2},{"$f":"LN('Page 277'!V6/'Page 277'!V5)","v":5.9057749643601151E-2},{"$f":"LN('Page 277'!W6/'Page 277'!W5)","v":-3.1176940570674497E-2},{"$f":"LN('Page 277'!X6/'Page 277'!X5)","v":-4.2854092948531319E-2},{"$f":"LN('Page 277'!Y6/'Page 277'!Y5)","v":0.12806705206962446},{"$f":"LN('Page 277'!Z6/'Page 277'!Z5)","v":4.3921399259542193E-2},{"$f":"LN('Page 277'!AA6/'Page 277'!AA5)","v":1.8945086242449422E-2},{"$f":"LN('Page 277'!AB6/'Page 277'!AB5)","v":-0.20648205291889096},{"$f":"LN('Page 277'!AC6/'Page 277'!AC5)","v":0.14750878505953929},{"$f":"LN('Page 277'!AD6/'Page 277'!AD5)","v":-7.5949932519783436E-2},{"$f":"LN('Page 277'!AE6/'Page 277'!AE5)","v":3.7841794169327356E-2},{"$f":"LN('Page 277'!AF6/'Page 277'!AF5)","v":1.1353960913165304E-3}]
["2001-11-01",{"$f":"LN('Page 277'!B7/'Page 277'!B6)","v":7.2484350433373146E-2},{"$f":"LN('Page 277'!C7/'Page 277'!C6)","v":0.17896441688028816},{"$f":"LN('Page 277'!D7/'Page 277'!D6)","v":4.7288932505549441E-2},{"$f":"LN('Page 277'!E7/'Page 277'!E6)","v":0.11182257368591726},{"$f":"LN('Page 277'!F7/'Page 277'!F6)","v":7.888703899065469E-2},{"$f":"LN('Page 277'!G7/'Page 277'!G6)","v":5.4321447787470847E-2},{"$f":"LN('Page 277'!H7/'Page 277'!H6)","v":5.8557994194371764E-2},{"$f":"LN('Page 277'!I7/'Page 277'!I6)","v":0.11145658377136383},{"$f":"LN('Page 277'!J7/'Page 277'!J6)","v":9.6082480010043034E-2},{"$f":"LN('Page 277'!K7/'Page 277'!K6)","v":5.5813006133768522E-2},{"$f":"LN('Page 277'!L7/'Page 277'!L6)","v":0.19650186606800416},{"$f":"LN('Page 277'!M7/'Page 277'!M6)","v":0.20007536875904985},{"$f":"LN('Page 277'!N7/'Page 277'!N6)","v":0.12089502773851651},{"$f":"LN('Page 277'!O7/'Page 277'!O6)","v":0.2675119655026485},{"$f":"LN('Page 277'!P7/'Page 277'!P6)","v":6.853078206442742E-2},{"$f":"LN('Page 277'!Q7/'Page 277'!Q6)","v":0.2918189120825071},{"$f":"LN('Page 277'!R7/'Page 277'!R6)","v":8.9871415604602708E-3},{"$f":"LN('Page 277'!S7/'Page 277'!S6)","v":6.4639322508555266E-2},{"$f":"LN('Page 277'!T7/'Page 277'!T6)","v":-1.5627140171750719E-2},{"$f":"LN('Page 277'!U7/'Page 277'!U6)","v":3.9029343905735078E-2},{"$f":"LN('Page 277'!V7/'Page 277'!V6)","v":9.8314880494626E-2},{"$f":"LN('Page 277'!W7/'Page 277'!W6)","v":7.8858328439283774E-3},{"$f":"LN('Page 277'!X7/'Page 277'!X6)","v":5.9827362497400234E-2},{"$f":"LN('Page 277'!Y7/'Page 277'!Y6)","v":9.8934217212298003E-2},{"$f":"LN('Page 277'!Z7/'Page 277'!Z6)","v":3.5694814613013971E-2},{"$f":"LN('Page 277'!AA7/'Page 277'!AA6)","v":4.8548990076035255E-2},{"$f":"LN('Page 277'!AB7/'Page 277'!AB6)","v":-1.9353290061030263E-2},{"$f":"LN('Page 277'!AC7/'Page 277'!AC6)","v":0.11471288707917753},{"$f":"LN('Page 277'!AD7/'Page 277'!AD6)","v":-5.7939562167652871E-2},{"$f":"LN('Page 277'!AE7/'Page 277'!AE6)","v":7.0317751022094518E-2},{"$f":"LN('Page 277'!AF7/'Page 277'!AF6)","v":-4.7344401277808229E-2}]
["2001-12-03",{"$f":"LN('Page 277'!B8/'Page 277'!B7)","v":7.545292033896033E-3},{"$f":"LN('Page 277'!C8/'Page 277'!C7)","v":-8.2229955942229177E-2},{"$f":"LN('Page 277'!D8/'Page 277'!D7)","v":-3.6671197122498625E-2},{"$f":"LN('Page 277'!E8/'Page 277'!E7)","v":8.1045549141503123E-2},{"$f":"LN('Page 277'!F8/'Page 277'!F7)","v":9.9701610997635887E-2},{"$f":"LN('Page 277'!G8/'Page 277'!G7)","v":5.2487294046720416E-2},{"$f":"LN('Page 277'!H8/'Page 277'!H7)","v":9.6792445824790518E-2},{"$f":"LN('Page 277'!I8/'Page 277'!I7)","v":-4.2229684668085556E-2},{"$f":"LN('Page 277'!J8/'Page 277'!J7)","v":2.2895937839079176E-2},{"$f":"LN('Page 277'!K8/'Page 277'!K7)","v":4.4477277656629913E-2},{"$f":"LN('Page 277'!L8/'Page 277'!L7)","v":-2.2455651402987761E-2},{"$f":"LN('Page 277'!M8/'Page 277'!M7)","v":8.9446254543617196E-2},{"$f":"LN('Page 277'!N8/'Page 277'!N7)","v":2.0283322139941669E-2},{"$f":"LN('Page 277'!O8/'Page 277'!O7)","v":-6.4636325431257524E-2},{"$f":"LN('Page 277'!P8/'Page 277'!P7)","v":4.5416438707813464E-2},{"$f":"LN('Page 277'!Q8/'Page 277'!Q7)","v":-3.786247433876231E-2},{"$f":"LN('Page 277'!R8/'Page 277'!R7)","v":1.4434003369401132E-2},{"$f":"LN('Page 277'!S8/'Page 277'!S7)","v":-3.6961398564456335E-2},{"$f":"LN('Page 277'!T8/'Page 277'!T7)","v":4.2223848798482611E-3},{"$f":"LN('Page 277'!U8/'Page 277'!U7)","v":-1.4053634231395062E-2},{"$f":"LN('Page 277'!V8/'Page 277'!V7)","v":3.1229023846079226E-2},{"$f":"LN('Page 277'!W8/'Page 277'!W7)","v":-1.5834346666626219E-2},{"$f":"LN('Page 277'!X8/'Page 277'!X7)","v":-0.13630942941438459},{"$f":"LN('Page 277'!Y8/'Page 277'!Y7)","v":3.1379271202265246E-2},{"$f":"LN('Page 277'!Z8/'Page 277'!Z7)","v":-8.3225824899923431E-2},{"$f":"LN('Page 277'!AA8/'Page 277'!AA7)","v":2.1337137388131106E-2},{"$f":"LN('Page 277'!AB8/'Page 277'!AB7)","v":4.6734400886008887E-2},{"$f":"LN('Page 277'!AC8/'Page 277'!AC7)","v":7.0868710524937178E-2},{"$f":"LN('Page 277'!AD8/'Page 277'!AD7)","v":9.5917780098590637E-3},{"$f":"LN('Page 277'!AE8/'Page 277'!AE7)","v":4.3851258293732528E-2},{"$f":"LN('Page 277'!AF8/'Page 277'!AF7)","v":4.9328247755289843E-2}]
["2002-01-02",{"$f":"LN('Page 277'!B9/'Page 277'!B8)","v":-1.5696373666933345E-2},{"$f":"LN('Page 277'!C9/'Page 277'!C8)","v":8.3192591965755795E-3},{"$f":"LN('Page 277'!D9/'Page 277'!D8)","v":-6.8358274917308073E-2},{"$f":"LN('Page 277'!E9/'Page 277'!E8)","v":6.6600312776022262E-3},{"$f":"LN('Page 277'!F9/'Page 277'!F8)","v":5.4316907328075453E-2},{"$f":"LN('Page 277'!G9/'Page 277'!G8)","v":-5.9630181559100652E-2},{"$f":"LN('Page 277'!H9/'Page 277'!H8)","v":-3.0943594733412221E-2},{"$f":"LN('Page 277'!I9/'Page 277'!I8)","v":3.8296285077280327E-2},{"$f":"LN('Page 277'!J9/'Page 277'!J8)","v":1.646333018710169E-2},{"$f":"LN('Page 277'!K9/'Page 277'!K8)","v":-7.5771740215046443E-2},{"$f":"LN('Page 277'!L9/'Page 277'!L8)","v":5.0815761031806052E-2},{"$f":"LN('Page 277'!M9/'Page 277'!M8)","v":-1.8133610424654605E-2},{"$f":"LN('Page 277'!N9/'Page 277'!N8)","v":-6.2737534488792801E-3},{"$f":"LN('Page 277'!O9/'Page 277'!O8)","v":7.3884383555808855E-2},{"$f":"LN('Page 277'!P9/'Page 277'!P8)","v":-0.11433228046124953},{"$f":"LN('Page 277'!Q9/'Page 277'!Q8)","v":0.10806135060548314},{"$f":"LN('Page 277'!R9/'Page 277'!R8)","v":-2.7189756889673386E-2},{"$f":"LN('Page 277'!S9/'Page 277'!S8)","v":-6.5480288590633914E-2},{"$f":"LN('Page 277'!T9/'Page 277'!T8)","v":-7.4828485190152172E-2},{"$f":"LN('Page 277'!U9/'Page 277'!U8)","v":2.6338314183262136E-2},{"$f":"LN('Page 277'!V9/'Page 277'!V8)","v":-6.2872933633058056E-2},{"$f":"LN('Page 277'!W9/'Page 277'!W8)","v":8.8683982175134984E-2},{"$f":"LN('Page 277'!X9/'Page 277'!X8)","v":6.3384957619382039E-3},{"$f":"LN('Page 277'!Y9/'Page 277'!Y8)","v":-3.9290135903144265E-2},{"$f":"LN('Page 277'!Z9/'Page 277'!Z8)","v":4.4608973409030986E-2},{"$f":"LN('Page 277'!AA9/'Page 277'!AA8)","v":3.6546199657466596E-2},{"$f":"LN('Page 277'!AB9/'Page 277'!AB8)","v":-3.8346497320580909E-2},{"$f":"LN('Page 277'!AC9/'Page 277'!AC8)","v":6.1503365074926306E-2},{"$f":"LN('Page 277'!AD9/'Page 277'!AD8)","v":-1.5863029292099467E-2},{"$f":"LN('Page 277'!AE9/'Page 277'!AE8)","v":4.1314270146626794E-2},{"$f":"LN('Page 277'!AF9/'Page 277'!AF8)","v":-6.2482452639390828E-3}]
["2002-02-01",{"$f":"LN('Page 277'!B10/'Page 277'!B9)","v":-2.0984886675167722E-2},{"$f":"LN('Page 277'!C10/'Page 277'!C9)","v":5.1431364020888035E-2},{"$f":"LN('Page 277'!D10/'Page 277'!D9)","v":-1.7944652479050878E-3},{"$f":"LN('Page 277'!E10/'Page 277'!E9)","v":1.6784991730180783E-2},{"$f":"LN('Page 277'!F10/'Page 277'!F9)","v":0.11969034121265121},{"$f":"LN('Page 277'!G10/'Page 277'!G9)","v":-4.6373731257803565E-2},{"$f":"LN('Page 277'!H10/'Page 277'!H9)","v":9.8835564216469551E-2},{"$f":"LN('Page 277'!I10/'Page 277'!I9)","v":6.6572709312355663E-2},{"$f":"LN('Page 277'!J10/'Page 277'!J9)","v":8.8041688853115377E-2},{"$f":"LN('Page 277'!K10/'Page 277'!K9)","v":4.0349585041476566E-2},{"$f":"LN('Page 277'!L10/'Page 277'!L9)","v":4.5549580368746484E-2},{"$f":"LN('Page 277'!M10/'Page 277'!M9)","v":-1.8732443816804475E-3},{"$f":"LN('Page 277'!N10/'Page 277'!N9)","v":0.13141753363168499},{"$f":"LN('Page 277'!O10/'Page 277'!O9)","v":-9.4438466833245069E-2},{"$f":"LN('Page 277'!P10/'Page 277'!P9)","v":-9.3597801200443129E-2},{"$f":"LN('Page 277'!Q10/'Page 277'!Q9)","v":-0.20422941807914533},{"$f":"LN('Page 277'!R10/'Page 277'!R9)","v":6.0258087505275552E-2},{"$f":"LN('Page 277'!S10/'Page 277'!S9)","v":-0.15203120778614188},{"$f":"LN('Page 277'!T10/'Page 277'!T9)","v":7.9732172774681864E-2},{"$f":"LN('Page 277'!U10/'Page 277'!U9)","v":-4.0592271663461701E-2},{"$f":"LN('Page 277'!V10/'Page 277'!V9)","v":6.6016718006881941E-2},{"$f":"LN('Page 277'!W10/'Page 277'!W9)","v":4.9617249460301077E-2},{"$f":"LN('Page 277'!X10/'Page 277'!X9)","v":3.5788285136419642E-2},{"$f":"LN('Page 277'!Y10/'Page 277'!Y9)","v":-8.7865039582102275E-2},{"$f":"LN('Page 277'!Z10/'Page 277'!Z9)","v":-1.3930040413445774E-2},{"$f":"LN('Page 277'!AA10/'Page 277'!AA9)","v":3.7323648908988684E-2},{"$f":"LN('Page 277'!AB10/'Page 277'!AB9)","v":1.0304229446724666E-2},{"$f":"LN('Page 277'!AC10/'Page 277'!AC9)","v":6.3229888861985634E-2},{"$f":"LN('Page 277'!AD10/'Page 277'!AD9)","v":9.6518291994588824E-3},{"$f":"LN('Page 277'!AE10/'Page 277'!AE9)","v":3.3310791837118298E-2},{"$f":"LN('Page 277'!AF10/'Page 277'!AF9)","v":6.1864007641756563E-2}]
["2002-03-01",{"$f":"LN('Page 277'!B11/'Page 277'!B10)","v":3.6080076252758407E-2},{"$f":"LN('Page 277'!C11/'Page 277'!C10)","v":4.6525236584155066E-3},{"$f":"LN('Page 277'!D11/'Page 277'!D10)","v":-2.5183199888472337E-2},{"$f":"LN('Page 277'!E11/'Page 277'!E10)","v":0.11662193247804178},{"$f":"LN('Page 277'!F11/'Page 277'!F10)","v":4.8522103586135346E-2},{"$f":"LN('Page 277'!G11/'Page 277'!G10)","v":9.0201955226984876E-2},{"$f":"LN('Page 277'!H11/'Page 277'!H10)","v":2.3833908023618247E-2},{"$f":"LN('Page 277'!I11/'Page 277'!I10)","v":6.6152391187194043E-3},{"$f":"LN('Page 277'!J11/'Page 277'!J10)","v":3.6182762224996126E-3},{"$f":"LN('Page 277'!K11/'Page 277'!K10)","v":-2.8910568075509839E-2},{"$f":"LN('Page 277'!L11/'Page 277'!L10)","v":0.13197757299470086},{"$f":"LN('Page 277'!M11/'Page 277'!M10)","v":-2.7242736393874256E-2},{"$f":"LN('Page 277'!N11/'Page 277'!N10)","v":4.0579765831008459E-3},{"$f":"LN('Page 277'!O11/'Page 277'!O10)","v":-0.11081852635959275},{"$f":"LN('Page 277'!P11/'Page 277'!P10)","v":5.8221028970948878E-2},{"$f":"LN('Page 277'!Q11/'Page 277'!Q10)","v":6.2971389688850923E-2},{"$f":"LN('Page 277'!R11/'Page 277'!R10)","v":6.436075916039001E-2},{"$f":"LN('Page 277'!S11/'Page 277'!S10)","v":0.19786574412994123},{"$f":"LN('Page 277'!T11/'Page 277'!T10)","v":0.10200057969557871},{"$f":"LN('Page 277'!U11/'Page 277'!U10)","v":6.1637475497447559E-2},{"$f":"LN('Page 277'!V11/'Page 277'!V10)","v":-2.5242061885177698E-2},{"$f":"LN('Page 277'!W11/'Page 277'!W10)","v":1.1436865190946199E-2},{"$f":"LN('Page 277'!X11/'Page 277'!X10)","v":-5.7505127535623791E-2},{"$f":"LN('Page 277'!Y11/'Page 277'!Y10)","v":3.3336420267591711E-2},{"$f":"LN('Page 277'!Z11/'Page 277'!Z10)","v":-3.0400807559221411E-2},{"$f":"LN('Page 277'!AA11/'Page 277'!AA10)","v":6.0563914577078028E-2},{"$f":"LN('Page 277'!AB11/'Page 277'!AB10)","v":-1.0638398205055643E-2},{"$f":"LN('Page 277'!AC11/'Page 277'!AC10)","v":1.7149090522259349E-2},{"$f":"LN('Page 277'!AD11/'Page 277'!AD10)","v":-1.5171622423056794E-2},{"$f":"LN('Page 277'!AE11/'Page 277'!AE10)","v":-1.0301534991240572E-2},{"$f":"LN('Page 277'!AF11/'Page 277'!AF10)","v":5.9521269088767141E-2}]
["2002-04-01",{"$f":"LN('Page 277'!B12/'Page 277'!B11)","v":-6.3384682784413518E-2},{"$f":"LN('Page 277'!C12/'Page 277'!C11)","v":-0.10352485502932729},{"$f":"LN('Page 277'!D12/'Page 277'!D11)","v":-4.269514666027549E-2},{"$f":"LN('Page 277'!E12/'Page 277'!E11)","v":3.1897953681000808E-3},{"$f":"LN('Page 277'!F12/'Page 277'!F11)","v":-7.851721112632741E-2},{"$f":"LN('Page 277'!G12/'Page 277'!G11)","v":-0.13405661191564541},{"$f":"LN('Page 277'!H12/'Page 277'!H11)","v":-3.3768422473594267E-2},{"$f":"LN('Page 277'!I12/'Page 277'!I11)","v":-5.7805035265647606E-2},{"$f":"LN('Page 277'!J12/'Page 277'!J11)","v":4.0549728912370551E-3},{"$f":"LN('Page 277'!K12/'Page 277'!K11)","v":-0.17024274989813087},{"$f":"LN('Page 277'!L12/'Page 277'!L11)","v":5.9403672104483787E-2},{"$f":"LN('Page 277'!M12/'Page 277'!M11)","v":-4.7121678894988021E-2},{"$f":"LN('Page 277'!N12/'Page 277'!N11)","v":-4.2547037621728657E-2},{"$f":"LN('Page 277'!O12/'Page 277'!O11)","v":-4.8136005780311027E-2},{"$f":"LN('Page 277'!P12/'Page 277'!P11)","v":-0.2164329507618839},{"$f":"LN('Page 277'!Q12/'Page 277'!Q11)","v":-6.0795110266255288E-2},{"$f":"LN('Page 277'!R12/'Page 277'!R11)","v":-1.6807118316381289E-2},{"$f":"LN('Page 277'!S12/'Page 277'!S11)","v":-1.5479186848460088E-2},{"$f":"LN('Page 277'!T12/'Page 277'!T11)","v":6.0401874349266242E-2},{"$f":"LN('Page 277'!U12/'Page 277'!U11)","v":2.2875568599075361E-2},{"$f":"LN('Page 277'!V12/'Page 277'!V11)","v":8.9769043074332422E-2},{"$f":"LN('Page 277'!W12/'Page 277'!W11)","v":3.2858600979075607E-2},{"$f":"LN('Page 277'!X12/'Page 277'!X11)","v":-5.7817008524070991E-2},{"$f":"LN('Page 277'!Y12/'Page 277'!Y11)","v":-0.14321815601433052},{"$f":"LN('Page 277'!Z12/'Page 277'!Z11)","v":-8.8934551832093325E-2},{"$f":"LN('Page 277'!AA12/'Page 277'!AA11)","v":6.0525544896669753E-3},{"$f":"LN('Page 277'!AB12/'Page 277'!AB11)","v":-0.17965132823807586},{"$f":"LN('Page 277'!AC12/'Page 277'!AC11)","v":-5.6006339979803317E-2},{"$f":"LN('Page 277'!AD12/'Page 277'!AD11)","v":-0.1304485675204701},{"$f":"LN('Page 277'!AE12/'Page 277'!AE11)","v":-9.2970362870169576E-2},{"$f":"LN('Page 277'!AF12/'Page 277'!AF11)","v":-8.7217853469251205E-2}]
["2002-05-01",{"$f":"LN('Page 277'!B13/'Page 277'!B12)","v":-9.122942297125956E-3},{"$f":"LN('Page 277'!C13/'Page 277'!C12)","v":3.1979929622318874E-2},{"$f":"LN('Page 277'!D13/'Page 277'!D12)","v":-3.1543618535442949E-2},{"$f":"LN('Page 277'!E13/'Page 277'!E12)","v":3.5829820688122127E-2},{"$f":"LN('Page 277'!F13/'Page 277'!F12)","v":-4.0942833140425211E-2},{"$f":"LN('Page 277'!G13/'Page 277'!G12)","v":1.1201345332493495E-3},{"$f":"LN('Page 277'!H13/'Page 277'!H12)","v":-4.4088772984649124E-2},{"$f":"LN('Page 277'!I13/'Page 277'!I12)","v":4.1059999829931984E-2},{"$f":"LN('Page 277'!J13/'Page 277'!J12)","v":-1.1759520406906249E-2},{"$f":"LN('Page 277'!K13/'Page 277'!K12)","v":-1.2857319975237317E-2},{"$f":"LN('Page 277'!L13/'Page 277'!L12)","v":-2.4291106210459393E-2},{"$f":"LN('Page 277'!M13/'Page 277'!M12)","v":-0.10645826538135635},{"$f":"LN('Page 277'!N13/'Page 277'!N12)","v":7.1344465925884379E-2},{"$f":"LN('Page 277'!O13/'Page 277'!O12)","v":0.11040395588041478},{"$f":"LN('Page 277'!P13/'Page 277'!P12)","v":-3.8378858051192878E-2},{"$f":"LN('Page 277'!Q13/'Page 277'!Q12)","v":-3.4651457972541773E-2},{"$f":"LN('Page 277'!R13/'Page 277'!R12)","v":-3.6769482587011189E-2},{"$f":"LN('Page 277'!S13/'Page 277'!S12)","v":2.4082075655727977E-2},{"$f":"LN('Page 277'!T13/'Page 277'!T12)","v":7.9176567873402574E-4},{"$f":"LN('Page 277'!U13/'Page 277'!U12)","v":5.2856339064220076E-2},{"$f":"LN('Page 277'!V13/'Page 277'!V12)","v":1.9022919701089634E-3},{"$f":"LN('Page 277'!W13/'Page 277'!W12)","v":5.0513531487687044E-2},{"$f":"LN('Page 277'!X13/'Page 277'!X12)","v":4.9387260129633438E-2},{"$f":"LN('Page 277'!Y13/'Page 277'!Y12)","v":-2.6299710583961015E-2},{"$f":"LN('Page 277'!Z13/'Page 277'!Z12)","v":-4.6028024943851012E-2},{"$f":"LN('Page 277'!AA13/'Page 277'!AA12)","v":-7.7538551795234053E-3},{"$f":"LN('Page 277'!AB13/'Page 277'!AB12)","v":9.8939947854903648E-2},{"$f":"LN('Page 277'!AC13/'Page 277'!AC12)","v":-1.5047113320115641E-2},{"$f":"LN('Page 277'!AD13/'Page 277'!AD12)","v":6.9593291799195392E-2},{"$f":"LN('Page 277'!AE13/'Page 277'!AE12)","v":-3.198910026780194E-2},{"$f":"LN('Page 277'!AF13/'Page 277'!AF12)","v":-2.7536830684811583E-4}]
["2002-06-03",{"$f":"LN('Page 277'!B14/'Page 277'!B13)","v":-7.5214343275906148E-2},{"$f":"LN('Page 277'!C14/'Page 277'!C13)","v":-5.3772953432492283E-2},{"$f":"LN('Page 277'!D14/'Page 277'!D13)","v":1.9195027491194547E-2},{"$f":"LN('Page 277'!E14/'Page 277'!E13)","v":-0.15727473524384245},{"$f":"LN('Page 277'!F14/'Page 277'!F13)","v":5.3669622760008306E-2},{"$f":"LN('Page 277'!G14/'Page 277'!G13)","v":-0.10806965833025482},{"$f":"LN('Page 277'!H14/'Page 277'!H13)","v":-6.5540692592752997E-2},{"$f":"LN('Page 277'!I14/'Page 277'!I13)","v":-3.5641330914068861E-2},{"$f":"LN('Page 277'!J14/'Page 277'!J13)","v":-0.19256492420871571},{"$f":"LN('Page 277'!K14/'Page 277'!K13)","v":-6.3436803784259463E-2},{"$f":"LN('Page 277'!L14/'Page 277'!L13)","v":-0.15081827824135915},{"$f":"LN('Page 277'!M14/'Page 277'!M13)","v":-0.12536286334612179},{"$f":"LN('Page 277'!N14/'Page 277'!N13)","v":-0.10667297483188079},{"$f":"LN('Page 277'!O14/'Page 277'!O13)","v":-0.21840354522772715},{"$f":"LN('Page 277'!P14/'Page 277'!P13)","v":-0.1109531307938864},{"$f":"LN('Page 277'!Q14/'Page 277'!Q13)","v":-0.4129952641719174},{"$f":"LN('Page 277'!R14/'Page 277'!R13)","v":-0.16044204263381684},{"$f":"LN('Page 277'!S14/'Page 277'!S13)","v":-5.812932395766944E-2},{"$f":"LN('Page 277'!T14/'Page 277'!T13)","v":1.1606307131859832E-2},{"$f":"LN('Page 277'!U14/'Page 277'!U13)","v":-5.0973453928769133E-2},{"$f":"LN('Page 277'!V14/'Page 277'!V13)","v":-1.9540049471441244E-2},{"$f":"LN('Page 277'!W14/'Page 277'!W13)","v":-0.25818816652428989},{"$f":"LN('Page 277'!X14/'Page 277'!X13)","v":-0.11366735780091598},{"$f":"LN('Page 277'!Y14/'Page 277'!Y13)","v":7.18793970343755E-2},{"$f":"LN('Page 277'!Z14/'Page 277'!Z13)","v":1.1392528281094841E-2},{"$f":"LN('Page 277'!AA14/'Page 277'!AA13)","v":4.8532004988862043E-3},{"$f":"LN('Page 277'!AB14/'Page 277'!AB13)","v":-0.11710391848257479},{"$f":"LN('Page 277'!AC14/'Page 277'!AC13)","v":-1.4334929170992232E-2},{"$f":"LN('Page 277'!AD14/'Page 277'!AD13)","v":-6.8692796465945172E-2},{"$f":"LN('Page 277'!AE14/'Page 277'!AE13)","v":1.7918893474271808E-2},{"$f":"LN('Page 277'!AF14/'Page 277'!AF13)","v":2.4484356932286747E-2}]
["2002-07-01",{"$f":"LN('Page 277'!B15/'Page 277'!B14)","v":-8.2299871837899052E-2},{"$f":"LN('Page 277'!C15/'Page 277'!C14)","v":-0.19749695818804633},{"$f":"LN('Page 277'!D15/'Page 277'!D14)","v":-6.5257342301863905E-2},{"$f":"LN('Page 277'!E15/'Page 277'!E14)","v":-2.7507948197920899E-2},{"$f":"LN('Page 277'!F15/'Page 277'!F14)","v":-8.0718988156795304E-2},{"$f":"LN('Page 277'!G15/'Page 277'!G14)","v":-0.14432487806645969},{"$f":"LN('Page 277'!H15/'Page 277'!H14)","v":-8.2645616963003099E-2},{"$f":"LN('Page 277'!I15/'Page 277'!I14)","v":-5.7461205582103388E-2},{"$f":"LN('Page 277'!J15/'Page 277'!J14)","v":-6.3766618358989155E-2},{"$f":"LN('Page 277'!K15/'Page 277'!K14)","v":0.10290633849230048},{"$f":"LN('Page 277'!L15/'Page 277'!L14)","v":-0.13825282112290918},{"$f":"LN('Page 277'!M15/'Page 277'!M14)","v":-0.17353177741703407},{"$f":"LN('Page 277'!N15/'Page 277'!N14)","v":-8.5136962195279428E-2},{"$f":"LN('Page 277'!O15/'Page 277'!O14)","v":-7.6571687180657641E-2},{"$f":"LN('Page 277'!P15/'Page 277'!P14)","v":-2.2541491041347252E-2},{"$f":"LN('Page 277'!Q15/'Page 277'!Q14)","v":2.7950394108345294E-2},{"$f":"LN('Page 277'!R15/'Page 277'!R14)","v":6.5843859281792382E-3},{"$f":"LN('Page 277'!S15/'Page 277'!S14)","v":-0.30691996347822859},{"$f":"LN('Page 277'!T15/'Page 277'!T14)","v":-0.11446369257156745},{"$f":"LN('Page 277'!U15/'Page 277'!U14)","v":-0.13946100948092249},{"$f":"LN('Page 277'!V15/'Page 277'!V14)","v":2.2817327092116615E-2},{"$f":"LN('Page 277'!W15/'Page 277'!W14)","v":5.3027117760512429E-2},{"$f":"LN('Page 277'!X15/'Page 277'!X14)","v":-2.0639553296548048E-2},{"$f":"LN('Page 277'!Y15/'Page 277'!Y14)","v":-0.13143187474223988},{"$f":"LN('Page 277'!Z15/'Page 277'!Z14)","v":-7.8522990362838732E-2},{"$f":"LN('Page 277'!AA15/'Page 277'!AA14)","v":1.6930709087237886E-3},{"$f":"LN('Page 277'!AB15/'Page 277'!AB14)","v":-8.8975904930232483E-2},{"$f":"LN('Page 277'!AC15/'Page 277'!AC14)","v":2.3267685319325215E-2},{"$f":"LN('Page 277'!AD15/'Page 277'!AD14)","v":-0.18610909852081367},{"$f":"LN('Page 277'!AE15/'Page 277'!AE14)","v":-0.11203724675971019},{"$f":"LN('Page 277'!AF15/'Page 277'!AF14)","v":-0.10712384192652391}]
["2002-08-01",{"$f":"LN('Page 277'!B16/'Page 277'!B15)","v":4.8695443903156652E-3},{"$f":"LN('Page 277'!C16/'Page 277'!C15)","v":-7.5279762968983976E-2},{"$f":"LN('Page 277'!D16/'Page 277'!D15)","v":-1.757117827535767E-2},{"$f":"LN('Page 277'!E16/'Page 277'!E15)","v":2.2592323028594059E-2},{"$f":"LN('Page 277'!F16/'Page 277'!F15)","v":-0.10864232186784364},{"$f":"LN('Page 277'!G16/'Page 277'!G15)","v":5.1257270683949648E-2},{"$f":"LN('Page 277'!H16/'Page 277'!H15)","v":-2.4003111725371958E-2},{"$f":"LN('Page 277'!I16/'Page 277'!I15)","v":-3.0720556129501569E-2},{"$f":"LN('Page 277'!J16/'Page 277'!J15)","v":-0.12242341521288569},{"$f":"LN('Page 277'!K16/'Page 277'!K15)","v":-6.5690993317682592E-2},{"$f":"LN('Page 277'!L16/'Page 277'!L15)","v":3.9200346761899596E-2},{"$f":"LN('Page 277'!M16/'Page 277'!M15)","v":6.4517484228313049E-2},{"$f":"LN('Page 277'!N16/'Page 277'!N15)","v":-7.1622913914725195E-2},{"$f":"LN('Page 277'!O16/'Page 277'!O15)","v":-5.2400276393531675E-2},{"$f":"LN('Page 277'!P16/'Page 277'!P15)","v":7.0550710227707661E-2},{"$f":"LN('Page 277'!Q16/'Page 277'!Q15)","v":-0.11867924749810754},{"$f":"LN('Page 277'!R16/'Page 277'!R15)","v":3.5656914690746486E-2},{"$f":"LN('Page 277'!S16/'Page 277'!S15)","v":5.5989744211750223E-2},{"$f":"LN('Page 277'!T16/'Page 277'!T15)","v":2.1048840473945431E-2},{"$f":"LN('Page 277'!U16/'Page 277'!U15)","v":-4.0605754925943018E-2},{"$f":"LN('Page 277'!V16/'Page 277'!V15)","v":-2.2411870427542419E-3},{"$f":"LN('Page 277'!W16/'Page 277'!W15)","v":8.2160633720963452E-2},{"$f":"LN('Page 277'!X16/'Page 277'!X15)","v":1.8448438603733165E-2},{"$f":"LN('Page 277'!Y16/'Page 277'!Y15)","v":2.2749796300981041E-2},{"$f":"LN('Page 277'!Z16/'Page 277'!Z15)","v":2.6202372394024117E-2},{"$f":"LN('Page 277'!AA16/'Page 277'!AA15)","v":-3.8740968550840995E-3},{"$f":"LN('Page 277'!AB16/'Page 277'!AB15)","v":-0.11201165448676881},{"$f":"LN('Page 277'!AC16/'Page 277'!AC15)","v":-0.15312902056389266},{"$f":"LN('Page 277'!AD16/'Page 277'!AD15)","v":-6.2636945145435732E-2},{"$f":"LN('Page 277'!AE16/'Page 277'!AE15)","v":8.3871767743412165E-2},{"$f":"LN('Page 277'!AF16/'Page 277'!AF15)","v":-2.9753257281908193E-2}]
["2002-09-03",{"$f":"LN('Page 277'!B17/'Page 277'!B16)","v":-0.11656116844786664},{"$f":"LN('Page 277'!C17/'Page 277'!C16)","v":-0.26223468323067284},{"$f":"LN('Page 277'!D17/'Page 277'!D16)","v":-0.13732549188862203},{"$f":"LN('Page 277'!E17/'Page 277'!E16)","v":-0.1454284265363687},{"$f":"LN('Page 277'!F17/'Page 277'!F16)","v":-8.261714518565047E-2},{"$f":"LN('Page 277'!G17/'Page 277'!G16)","v":-9.9597248018244988E-2},{"$f":"LN('Page 277'!H17/'Page 277'!H16)","v":-0.15928696814671314},{"$f":"LN('Page 277'!I17/'Page 277'!I16)","v":-0.11106032126150675},{"$f":"LN('Page 277'!J17/'Page 277'!J16)","v":-3.5162513612693271E-2},{"$f":"LN('Page 277'!K17/'Page 277'!K16)","v":-0.19449871944121414},{"$f":"LN('Page 277'!L17/'Page 277'!L16)","v":-0.20716947675957453},{"$f":"LN('Page 277'!M17/'Page 277'!M16)","v":-0.23114327715708133},{"$f":"LN('Page 277'!N17/'Page 277'!N16)","v":-0.32367950510123739},{"$f":"LN('Page 277'!O17/'Page 277'!O16)","v":-0.13443596075494954},{"$f":"LN('Page 277'!P17/'Page 277'!P16)","v":-0.25673321878146271},{"$f":"LN('Page 277'!Q17/'Page 277'!Q16)","v":-0.18269406564534726},{"$f":"LN('Page 277'!R17/'Page 277'!R16)","v":-4.1646069116321278E-3},{"$f":"LN('Page 277'!S17/'Page 277'!S16)","v":-0.32915250533907781},{"$f":"LN('Page 277'!T17/'Page 277'!T16)","v":-5.7448973801567112E-2},{"$f":"LN('Page 277'!U17/'Page 277'!U16)","v":-0.29673190797169874},{"$f":"LN('Page 277'!V17/'Page 277'!V16)","v":-0.12777845727413992},{"$f":"LN('Page 277'!W17/'Page 277'!W16)","v":-0.24010943692820372},{"$f":"LN('Page 277'!X17/'Page 277'!X16)","v":-9.2632802033608533E-2},{"$f":"LN('Page 277'!Y17/'Page 277'!Y16)","v":-0.11509218875636305},{"$f":"LN('Page 277'!Z17/'Page 277'!Z16)","v":-0.13088238445294573},{"$f":"LN('Page 277'!AA17/'Page 277'!AA16)","v":8.2145907687138243E-3},{"$f":"LN('Page 277'!AB17/'Page 277'!AB16)","v":-0.20733294528756743},{"$f":"LN('Page 277'!AC17/'Page 277'!AC16)","v":-5.0202884247737375E-2},{"$f":"LN('Page 277'!AD17/'Page 277'!AD16)","v":-0.12178294460612428},{"$f":"LN('Page 277'!AE17/'Page 277'!AE16)","v":-8.1128281797661156E-2},{"$f":"LN('Page 277'!AF17/'Page 277'!AF16)","v":-0.10553173387586309}]
["2002-10-01",{"$f":"LN('Page 277'!B18/'Page 277'!B17)","v":8.2914421028757151E-2},{"$f":"LN('Page 277'!C18/'Page 277'!C17)","v":0.13332081458703388},{"$f":"LN('Page 277'!D18/'Page 277'!D17)","v":0.1340676294208841},{"$f":"LN('Page 277'!E18/'Page 277'!E17)","v":0.15621108287683391},{"$f":"LN('Page 277'!F18/'Page 277'!F17)","v":-0.13743143118889126},{"$f":"LN('Page 277'!G18/'Page 277'!G17)","v":0.22518305800749616},{"$f":"LN('Page 277'!H18/'Page 277'!H17)","v":0.10215771775330279},{"$f":"LN('Page 277'!I18/'Page 277'!I17)","v":0.13412010121115972},{"$f":"LN('Page 277'!J18/'Page 277'!J17)","v":9.7622464058021677E-2},{"$f":"LN('Page 277'!K18/'Page 277'!K17)","v":2.391610889577276E-2},{"$f":"LN('Page 277'!L18/'Page 277'!L17)","v":-0.15702567200644355},{"$f":"LN('Page 277'!M18/'Page 277'!M17)","v":0.10125667899205118},{"$f":"LN('Page 277'!N18/'Page 277'!N17)","v":9.9987156553826395E-2},{"$f":"LN('Page 277'!O18/'Page 277'!O17)","v":0.3029495445825694},{"$f":"LN('Page 277'!P18/'Page 277'!P17)","v":0.30293545067486211},{"$f":"LN('Page 277'!Q18/'Page 277'!Q17)","v":0.2198594761130197},{"$f":"LN('Page 277'!R18/'Page 277'!R17)","v":8.2729568107736864E-2},{"$f":"LN('Page 277'!S18/'Page 277'!S17)","v":8.8461776103578138E-2},{"$f":"LN('Page 277'!T18/'Page 277'!T17)","v":-3.1418615680898078E-2},{"$f":"LN('Page 277'!U18/'Page 277'!U17)","v":2.5135973271542454E-2},{"$f":"LN('Page 277'!V18/'Page 277'!V17)","v":0.14353220773826222},{"$f":"LN('Page 277'!W18/'Page 277'!W17)","v":4.8924461459066891E-2},{"$f":"LN('Page 277'!X18/'Page 277'!X17)","v":0.17111821308396172},{"$f":"LN('Page 277'!Y18/'Page 277'!Y17)","v":0.20081407491612102},{"$f":"LN('Page 277'!Z18/'Page 277'!Z17)","v":9.0626653094449311E-2},{"$f":"LN('Page 277'!AA18/'Page 277'!AA17)","v":-6.033564822353424E-3},{"$f":"LN('Page 277'!AB18/'Page 277'!AB17)","v":0.25688169094605989},{"$f":"LN('Page 277'!AC18/'Page 277'!AC17)","v":8.7731398308322481E-2},{"$f":"LN('Page 277'!AD18/'Page 277'!AD17)","v":0.33105621815288383},{"$f":"LN('Page 277'!AE18/'Page 277'!AE17)","v":8.3845147431580211E-2},{"$f":"LN('Page 277'!AF18/'Page 277'!AF17)","v":5.3670603334340393E-2}]
["2002-11-01",{"$f":"LN('Page 277'!B19/'Page 277'!B18)","v":5.550058467611222E-2},{"$f":"LN('Page 277'!C19/'Page 277'!C18)","v":0.15323766224092053},{"$f":"LN('Page 277'!D19/'Page 277'!D18)","v":4.076325564391297E-2},{"$f":"LN('Page 277'!E19/'Page 277'!E18)","v":6.8147535415543706E-2},{"$f":"LN('Page 277'!F19/'Page 277'!F18)","v":0.14055838808326743},{"$f":"LN('Page 277'!G19/'Page 277'!G18)","v":5.0900823780070249E-2},{"$f":"LN('Page 277'!H19/'Page 277'!H18)","v":0.20052752129052717},{"$f":"LN('Page 277'!I19/'Page 277'!I18)","v":8.6759582955818135E-2},{"$f":"LN('Page 277'!J19/'Page 277'!J18)","v":0.1716531154770311},{"$f":"LN('Page 277'!K19/'Page 277'!K18)","v":7.1760736900315869E-2},{"$f":"LN('Page 277'!L19/'Page 277'!L18)","v":0.19180375767263116},{"$f":"LN('Page 277'!M19/'Page 277'!M18)","v":-8.97918370658779E-2},{"$f":"LN('Page 277'!N19/'Page 277'!N18)","v":9.0892217381434673E-2},{"$f":"LN('Page 277'!O19/'Page 277'!O18)","v":0.20968439794020491},{"$f":"LN('Page 277'!P19/'Page 277'!P18)","v":9.8149656349915612E-2},{"$f":"LN('Page 277'!Q19/'Page 277'!Q18)","v":0.18907699675060363},{"$f":"LN('Page 277'!R19/'Page 277'!R18)","v":-2.6510033315255976E-2},{"$f":"LN('Page 277'!S19/'Page 277'!S18)","v":0.19334722773861415},{"$f":"LN('Page 277'!T19/'Page 277'!T18)","v":-1.3943272094966194E-2},{"$f":"LN('Page 277'!U19/'Page 277'!U18)","v":3.48467313301681E-2},{"$f":"LN('Page 277'!V19/'Page 277'!V18)","v":2.748162223146906E-2},{"$f":"LN('Page 277'!W19/'Page 277'!W18)","v":-7.7211744000826268E-2},{"$f":"LN('Page 277'!X19/'Page 277'!X18)","v":9.1040353552916189E-2},{"$f":"LN('Page 277'!Y19/'Page 277'!Y18)","v":7.5765583731354544E-2},{"$f":"LN('Page 277'!Z19/'Page 277'!Z18)","v":-3.8042584355342203E-3},{"$f":"LN('Page 277'!AA19/'Page 277'!AA18)","v":-4.5310386843392496E-2},{"$f":"LN('Page 277'!AB19/'Page 277'!AB18)","v":0.10517092422679099},{"$f":"LN('Page 277'!AC19/'Page 277'!AC18)","v":1.7065260554186931E-2},{"$f":"LN('Page 277'!AD19/'Page 277'!AD18)","v":0.10367370052634674},{"$f":"LN('Page 277'!AE19/'Page 277'!AE18)","v":6.5675337470852153E-3},{"$f":"LN('Page 277'!AF19/'Page 277'!AF18)","v":3.9769834572830502E-2}]
["2002-12-02",{"$f":"LN('Page 277'!B20/'Page 277'!B19)","v":-6.2229277129875436E-2},{"$f":"LN('Page 277'!C20/'Page 277'!C19)","v":-0.11467866863723777},{"$f":"LN('Page 277'!D20/'Page 277'!D19)","v":-0.11807678180307767},{"$f":"LN('Page 277'!E20/'Page 277'!E19)","v":-9.4157232075042577E-2},{"$f":"LN('Page 277'!F20/'Page 277'!F19)","v":-3.1718485160777944E-2},{"$f":"LN('Page 277'!G20/'Page 277'!G19)","v":-9.976645110465264E-2},{"$f":"LN('Page 277'!H20/'Page 277'!H19)","v":-8.7480090379978032E-2},{"$f":"LN('Page 277'!I20/'Page 277'!I19)","v":-5.0882505202755855E-2},{"$f":"LN('Page 277'!J20/'Page 277'!J19)","v":-0.18295267073096441},{"$f":"LN('Page 277'!K20/'Page 277'!K19)","v":-0.10016921633419347},{"$f":"LN('Page 277'!L20/'Page 277'!L19)","v":-7.4061437799726737E-2},{"$f":"LN('Page 277'!M20/'Page 277'!M19)","v":-9.2170459799657226E-2},{"$f":"LN('Page 277'!N20/'Page 277'!N19)","v":-8.0425682697801315E-2},{"$f":"LN('Page 277'!O20/'Page 277'!O19)","v":-0.11109811255449942},{"$f":"LN('Page 277'!P20/'Page 277'!P19)","v":-0.11477711781040728},{"$f":"LN('Page 277'!Q20/'Page 277'!Q19)","v":-0.29364038203541154},{"$f":"LN('Page 277'!R20/'Page 277'!R19)","v":-5.9803054454518605E-2},{"$f":"LN('Page 277'!S20/'Page 277'!S19)","v":-4.7793832399136003E-2},{"$f":"LN('Page 277'!T20/'Page 277'!T19)","v":-4.00587605520051E-2},{"$f":"LN('Page 277'!U20/'Page 277'!U19)","v":-0.14007591860117491},{"$f":"LN('Page 277'!V20/'Page 277'!V19)","v":-5.1728360742031007E-2},{"$f":"LN('Page 277'!W20/'Page 277'!W19)","v":8.7602218956596464E-2},{"$f":"LN('Page 277'!X20/'Page 277'!X19)","v":-4.2014160672714566E-2},{"$f":"LN('Page 277'!Y20/'Page 277'!Y19)","v":-0.10944469073922956},{"$f":"LN('Page 277'!Z20/'Page 277'!Z19)","v":-3.0966584108389622E-2},{"$f":"LN('Page 277'!AA20/'Page 277'!AA19)","v":1.6579128802911264E-2},{"$f":"LN('Page 277'!AB20/'Page 277'!AB19)","v":-4.9857286242738795E-2},{"$f":"LN('Page 277'!AC20/'Page 277'!AC19)","v":-8.8375830124651066E-3},{"$f":"LN('Page 277'!AD20/'Page 277'!AD19)","v":-7.7794252538525996E-2},{"$f":"LN('Page 277'!AE20/'Page 277'!AE19)","v":-6.3589158037542184E-2},{"$f":"LN('Page 277'!AF20/'Page 277'!AF19)","v":4.0466981293098385E-3}]
["2003-01-02",{"$f":"LN('Page 277'!B21/'Page 277'!B20)","v":-2.7797493671422965E-2},{"$f":"LN('Page 277'!C21/'Page 277'!C20)","v":-0.14146552029994253},{"$f":"LN('Page 277'!D21/'Page 277'!D20)","v":-6.6691374498672157E-2},{"$f":"LN('Page 277'!E21/'Page 277'!E20)","v":4.9908604677582208E-3},{"$f":"LN('Page 277'!F21/'Page 277'!F20)","v":-4.3470788985772571E-2},{"$f":"LN('Page 277'!G21/'Page 277'!G20)","v":-1.8554595002110815E-2},{"$f":"LN('Page 277'!H21/'Page 277'!H20)","v":-3.1431158789582109E-2},{"$f":"LN('Page 277'!I21/'Page 277'!I20)","v":-0.11292601069443486},{"$f":"LN('Page 277'!J21/'Page 277'!J20)","v":7.0674957669936367E-2},{"$f":"LN('Page 277'!K21/'Page 277'!K20)","v":-5.1269597424315243E-2},{"$f":"LN('Page 277'!L21/'Page 277'!L20)","v":-1.443594623294148E-2},{"$f":"LN('Page 277'!M21/'Page 277'!M20)","v":-0.1389648463475181},{"$f":"LN('Page 277'!N21/'Page 277'!N20)","v":1.7945748539198343E-2},{"$f":"LN('Page 277'!O21/'Page 277'!O20)","v":3.0238910250769192E-3},{"$f":"LN('Page 277'!P21/'Page 277'!P20)","v":9.0078765138604609E-3},{"$f":"LN('Page 277'!Q21/'Page 277'!Q20)","v":5.9583095836306249E-3},{"$f":"LN('Page 277'!R21/'Page 277'!R20)","v":-1.7965869689177784E-3},{"$f":"LN('Page 277'!S21/'Page 277'!S20)","v":-2.7953627346028617E-2},{"$f":"LN('Page 277'!T21/'Page 277'!T20)","v":-8.0166569691407036E-2},{"$f":"LN('Page 277'!U21/'Page 277'!U20)","v":-0.12131849668740595},{"$f":"LN('Page 277'!V21/'Page 277'!V20)","v":1.0045113907752113E-2},{"$f":"LN('Page 277'!W21/'Page 277'!W20)","v":-6.7812233805536068E-2},{"$f":"LN('Page 277'!X21/'Page 277'!X20)","v":-2.1907393864309101E-2},{"$f":"LN('Page 277'!Y21/'Page 277'!Y20)","v":-8.53950844121283E-2},{"$f":"LN('Page 277'!Z21/'Page 277'!Z20)","v":-1.7885892802497201E-3},{"$f":"LN('Page 277'!AA21/'Page 277'!AA20)","v":4.9813201528147724E-4},{"$f":"LN('Page 277'!AB21/'Page 277'!AB20)","v":-9.4951499743090681E-2},{"$f":"LN('Page 277'!AC21/'Page 277'!AC20)","v":2.6281836160795637E-2},{"$f":"LN('Page 277'!AD21/'Page 277'!AD20)","v":-3.3511074772559768E-3},{"$f":"LN('Page 277'!AE21/'Page 277'!AE20)","v":-5.5036550627331024E-2},{"$f":"LN('Page 277'!AF21/'Page 277'!AF20)","v":-2.2938947680584975E-2}]
["2003-02-03",{"$f":"LN('Page 277'!B22/'Page 277'!B21)","v":-1.7149844258839787E-2},{"$f":"LN('Page 277'!C22/'Page 277'!C21)","v":4.3693684262947743E-2},{"$f":"LN('Page 277'!D22/'Page 277'!D21)","v":-9.3559310982810992E-2},{"$f":"LN('Page 277'!E22/'Page 277'!E21)","v":-5.6319266598434774E-2},{"$f":"LN('Page 277'!F22/'Page 277'!F21)","v":-0.13108211777781725},{"$f":"LN('Page 277'!G22/'Page 277'!G21)","v":-2.9823609660282947E-2},{"$f":"LN('Page 277'!H22/'Page 277'!H21)","v":6.6441643738348766E-2},{"$f":"LN('Page 277'!I22/'Page 277'!I21)","v":-2.2803268297453029E-2},{"$f":"LN('Page 277'!J22/'Page 277'!J21)","v":-2.5619512617744512E-2},{"$f":"LN('Page 277'!K22/'Page 277'!K21)","v":4.6756954387334002E-2},{"$f":"LN('Page 277'!L22/'Page 277'!L21)","v":-5.9221112814114754E-2},{"$f":"LN('Page 277'!M22/'Page 277'!M21)","v":0.11497241960429672},{"$f":"LN('Page 277'!N22/'Page 277'!N21)","v":-5.7184569597486232E-2},{"$f":"LN('Page 277'!O22/'Page 277'!O21)","v":-9.3620786377303575E-2},{"$f":"LN('Page 277'!P22/'Page 277'!P21)","v":-1.1875702391953846E-3},{"$f":"LN('Page 277'!Q22/'Page 277'!Q21)","v":9.8006810651924278E-2},{"$f":"LN('Page 277'!R22/'Page 277'!R21)","v":-1.7738824337381519E-2},{"$f":"LN('Page 277'!S22/'Page 277'!S21)","v":-2.8757559295052533E-2},{"$f":"LN('Page 277'!T22/'Page 277'!T21)","v":-6.1919702479209951E-3},{"$f":"LN('Page 277'!U22/'Page 277'!U21)","v":-4.5496853268568518E-2},{"$f":"LN('Page 277'!V22/'Page 277'!V21)","v":1.1820266103743152E-2},{"$f":"LN('Page 277'!W22/'Page 277'!W21)","v":2.0335441870730667E-2},{"$f":"LN('Page 277'!X22/'Page 277'!X21)","v":-4.8757269973609955E-2},{"$f":"LN('Page 277'!Y22/'Page 277'!Y21)","v":1.9361090268664007E-3},{"$f":"LN('Page 277'!Z22/'Page 277'!Z21)","v":-1.8064075007573496E-2},{"$f":"LN('Page 277'!AA22/'Page 277'!AA21)","v":-4.429331804306301E-2},{"$f":"LN('Page 277'!AB22/'Page 277'!AB21)","v":-0.1612434930677005},{"$f":"LN('Page 277'!AC22/'Page 277'!AC21)","v":-7.8132328754564259E-2},{"$f":"LN('Page 277'!AD22/'Page 277'!AD21)","v":-0.10173910138070855},{"$f":"LN('Page 277'!AE22/'Page 277'!AE21)","v":5.4048342576563692E-3},{"$f":"LN('Page 277'!AF22/'Page 277'!AF21)","v":2.8566913570903974E-3}]
["2003-03-03",{"$f":"LN('Page 277'!B23/'Page 277'!B22)","v":8.3228742528296627E-3},{"$f":"LN('Page 277'!C23/'Page 277'!C22)","v":-5.5748624768301544E-2},{"$f":"LN('Page 277'!D23/'Page 277'!D22)","v":4.3357144414625601E-3},{"$f":"LN('Page 277'!E23/'Page 277'!E22)","v":-1.0589580073240927E-2},{"$f":"LN('Page 277'!F23/'Page 277'!F22)","v":-9.4926523555613498E-2},{"$f":"LN('Page 277'!G23/'Page 277'!G22)","v":3.2725433395712572E-2},{"$f":"LN('Page 277'!H23/'Page 277'!H22)","v":4.5573026372150868E-2},{"$f":"LN('Page 277'!I23/'Page 277'!I22)","v":5.8068470022885253E-2},{"$f":"LN('Page 277'!J23/'Page 277'!J22)","v":-2.4169196055386566E-3},{"$f":"LN('Page 277'!K23/'Page 277'!K22)","v":5.8413969839456993E-2},{"$f":"LN('Page 277'!L23/'Page 277'!L22)","v":-4.5686250612152913E-3},{"$f":"LN('Page 277'!M23/'Page 277'!M22)","v":4.0663041490540751E-2},{"$f":"LN('Page 277'!N23/'Page 277'!N22)","v":-6.9194667471896065E-2},{"$f":"LN('Page 277'!O23/'Page 277'!O22)","v":-1.4023602107746367E-2},{"$f":"LN('Page 277'!P23/'Page 277'!P22)","v":6.0550402189520243E-3},{"$f":"LN('Page 277'!Q23/'Page 277'!Q22)","v":-5.7897941632355364E-2},{"$f":"LN('Page 277'!R23/'Page 277'!R22)","v":9.8319310996720991E-2},{"$f":"LN('Page 277'!S23/'Page 277'!S22)","v":4.4757900641493625E-2},{"$f":"LN('Page 277'!T23/'Page 277'!T22)","v":1.2345835822299362E-2},{"$f":"LN('Page 277'!U23/'Page 277'!U22)","v":6.0944015882983212E-2},{"$f":"LN('Page 277'!V23/'Page 277'!V22)","v":3.6616980542133158E-2},{"$f":"LN('Page 277'!W23/'Page 277'!W22)","v":-0.23686375406622115},{"$f":"LN('Page 277'!X23/'Page 277'!X22)","v":4.4802090130681892E-2},{"$f":"LN('Page 277'!Y23/'Page 277'!Y22)","v":2.1053409197832482E-2},{"$f":"LN('Page 277'!Z23/'Page 277'!Z22)","v":4.386511745051392E-2},{"$f":"LN('Page 277'!AA23/'Page 277'!AA22)","v":8.4078919119413342E-2},{"$f":"LN('Page 277'!AB23/'Page 277'!AB22)","v":-3.5981469228829284E-2},{"$f":"LN('Page 277'!AC23/'Page 277'!AC22)","v":-1.3758363296361585E-2},{"$f":"LN('Page 277'!AD23/'Page 277'!AD22)","v":2.205234703019511E-2},{"$f":"LN('Page 277'!AE23/'Page 277'!AE22)","v":8.1136745278307804E-2},{"$f":"LN('Page 277'!AF23/'Page 277'!AF22)","v":2.7201927320307937E-2}]
["2003-04-01",{"$f":"LN('Page 277'!B24/'Page 277'!B23)","v":7.7927350029476733E-2},{"$f":"LN('Page 277'!C24/'Page 277'!C23)","v":0.17457387000312879},{"$f":"LN('Page 277'!D24/'Page 277'!D23)","v":0.15855558519653012},{"$f":"LN('Page 277'!E24/'Page 277'!E23)","v":0.13273263509370303},{"$f":"LN('Page 277'!F24/'Page 277'!F23)","v":8.489944378648627E-2},{"$f":"LN('Page 277'!G24/'Page 277'!G23)","v":0.13050847663683099},{"$f":"LN('Page 277'!H24/'Page 277'!H23)","v":7.3366224066801822E-2},{"$f":"LN('Page 277'!I24/'Page 277'!I23)","v":9.0299207840725426E-2},{"$f":"LN('Page 277'!J24/'Page 277'!J23)","v":9.2391112933826666E-2},{"$f":"LN('Page 277'!K24/'Page 277'!K23)","v":0.14398213891739789},{"$f":"LN('Page 277'!L24/'Page 277'!L23)","v":7.0049023671026195E-2},{"$f":"LN('Page 277'!M24/'Page 277'!M23)","v":0.14386358786172787},{"$f":"LN('Page 277'!N24/'Page 277'!N23)","v":9.9795107920613191E-2},{"$f":"LN('Page 277'!O24/'Page 277'!O23)","v":4.6642279970538637E-2},{"$f":"LN('Page 277'!P24/'Page 277'!P23)","v":7.9315611180039547E-2},{"$f":"LN('Page 277'!Q24/'Page 277'!Q23)","v":0.12221202106771634},{"$f":"LN('Page 277'!R24/'Page 277'!R23)","v":-2.6523781244344454E-2},{"$f":"LN('Page 277'!S24/'Page 277'!S23)","v":0.22746321245872628},{"$f":"LN('Page 277'!T24/'Page 277'!T23)","v":-1.868909901877089E-3},{"$f":"LN('Page 277'!U24/'Page 277'!U23)","v":0.16761540940425926},{"$f":"LN('Page 277'!V24/'Page 277'!V23)","v":-3.1182184556176201E-2},{"$f":"LN('Page 277'!W24/'Page 277'!W23)","v":2.6337695885035418E-2},{"$f":"LN('Page 277'!X24/'Page 277'!X23)","v":6.0028697403467925E-2},{"$f":"LN('Page 277'!Y24/'Page 277'!Y23)","v":5.4814549606380256E-2},{"$f":"LN('Page 277'!Z24/'Page 277'!Z23)","v":-1.2994037086550041E-2},{"$f":"LN('Page 277'!AA24/'Page 277'!AA23)","v":1.3547444273381792E-2},{"$f":"LN('Page 277'!AB24/'Page 277'!AB23)","v":0.16719267519765466},{"$f":"LN('Page 277'!AC24/'Page 277'!AC23)","v":6.7655241324593704E-2},{"$f":"LN('Page 277'!AD24/'Page 277'!AD23)","v":6.6787312586699746E-2},{"$f":"LN('Page 277'!AE24/'Page 277'!AE23)","v":7.9094100677571888E-2},{"$f":"LN('Page 277'!AF24/'Page 277'!AF23)","v":7.0693394149099822E-3}]
["2003-05-01",{"$f":"LN('Page 277'!B25/'Page 277'!B24)","v":4.9645665489287727E-2},{"$f":"LN('Page 277'!C25/'Page 277'!C24)","v":7.0596523221486157E-2},{"$f":"LN('Page 277'!D25/'Page 277'!D24)","v":-1.2314189259499126E-3},{"$f":"LN('Page 277'!E25/'Page 277'!E24)","v":9.5649124559575222E-2},{"$f":"LN('Page 277'!F25/'Page 277'!F24)","v":0.1227662919520584},{"$f":"LN('Page 277'!G25/'Page 277'!G24)","v":4.9072689951788817E-2},{"$f":"LN('Page 277'!H25/'Page 277'!H24)","v":-8.4763373297132502E-3},{"$f":"LN('Page 277'!I25/'Page 277'!I24)","v":-1.047120514525356E-3},{"$f":"LN('Page 277'!J25/'Page 277'!J24)","v":5.1596612970896613E-2},{"$f":"LN('Page 277'!K25/'Page 277'!K24)","v":-2.5819956337041317E-2},{"$f":"LN('Page 277'!L25/'Page 277'!L24)","v":-6.2592857956961399E-3},{"$f":"LN('Page 277'!M25/'Page 277'!M24)","v":0.14434822979500392},{"$f":"LN('Page 277'!N25/'Page 277'!N24)","v":0.11177823414162132},{"$f":"LN('Page 277'!O25/'Page 277'!O24)","v":0.17932176881484305},{"$f":"LN('Page 277'!P25/'Page 277'!P24)","v":3.817575173109395E-2},{"$f":"LN('Page 277'!Q25/'Page 277'!Q24)","v":0.12486601028208288},{"$f":"LN('Page 277'!R25/'Page 277'!R24)","v":-3.1925788359223974E-2},{"$f":"LN('Page 277'!S25/'Page 277'!S24)","v":0.11291809199390565},{"$f":"LN('Page 277'!T25/'Page 277'!T24)","v":0.12045183894846385},{"$f":"LN('Page 277'!U25/'Page 277'!U24)","v":9.0810734643094984E-2},{"$f":"LN('Page 277'!V25/'Page 277'!V24)","v":8.6011155090919712E-3},{"$f":"LN('Page 277'!W25/'Page 277'!W24)","v":0.29453924217791788},{"$f":"LN('Page 277'!X25/'Page 277'!X24)","v":-4.5602217693244643E-2},{"$f":"LN('Page 277'!Y25/'Page 277'!Y24)","v":-3.8378396553751505E-2},{"$f":"LN('Page 277'!Z25/'Page 277'!Z24)","v":1.2994037086550106E-2},{"$f":"LN('Page 277'!AA25/'Page 277'!AA24)","v":2.1717140720683405E-2},{"$f":"LN('Page 277'!AB25/'Page 277'!AB24)","v":8.6121753749918539E-2},{"$f":"LN('Page 277'!AC25/'Page 277'!AC24)","v":0.1031775555167863},{"$f":"LN('Page 277'!AD25/'Page 277'!AD24)","v":1.2594238037958991E-2},{"$f":"LN('Page 277'!AE25/'Page 277'!AE24)","v":-6.8022417789291759E-2},{"$f":"LN('Page 277'!AF25/'Page 277'!AF24)","v":4.0515668893721414E-2}]
["2003-06-02",{"$f":"LN('Page 277'!B26/'Page 277'!B25)","v":1.125862601085219E-2},{"$f":"LN('Page 277'!C26/'Page 277'!C25)","v":3.5596978740231759E-2},{"$f":"LN('Page 277'!D26/'Page 277'!D25)","v":-4.6846973296788781E-2},{"$f":"LN('Page 277'!E26/'Page 277'!E25)","v":3.6645566026929938E-3},{"$f":"LN('Page 277'!F26/'Page 277'!F25)","v":0.11239774621627627},{"$f":"LN('Page 277'!G26/'Page 277'!G25)","v":4.266049714271504E-2},{"$f":"LN('Page 277'!H26/'Page 277'!H25)","v":6.5121042966952508E-2},{"$f":"LN('Page 277'!I26/'Page 277'!I25)","v":-1.212136053234485E-2},{"$f":"LN('Page 277'!J26/'Page 277'!J25)","v":5.224672281952304E-3},{"$f":"LN('Page 277'!K26/'Page 277'!K25)","v":6.046881614892907E-3},{"$f":"LN('Page 277'!L26/'Page 277'!L25)","v":1.8661533537849079E-2},{"$f":"LN('Page 277'!M26/'Page 277'!M25)","v":2.1066649233051005E-2},{"$f":"LN('Page 277'!N26/'Page 277'!N25)","v":2.4602975173661945E-2},{"$f":"LN('Page 277'!O26/'Page 277'!O25)","v":9.2183956078058613E-2},{"$f":"LN('Page 277'!P26/'Page 277'!P25)","v":-6.5083204651018176E-2},{"$f":"LN('Page 277'!Q26/'Page 277'!Q25)","v":-4.9541739928333941E-4},{"$f":"LN('Page 277'!R26/'Page 277'!R25)","v":-5.0090598971637451E-2},{"$f":"LN('Page 277'!S26/'Page 277'!S25)","v":3.9260200606148342E-2},{"$f":"LN('Page 277'!T26/'Page 277'!T25)","v":2.295182717820227E-2},{"$f":"LN('Page 277'!U26/'Page 277'!U25)","v":0.16392718208933182},{"$f":"LN('Page 277'!V26/'Page 277'!V25)","v":1.9786163816293573E-2},{"$f":"LN('Page 277'!W26/'Page 277'!W25)","v":0.11041605200128428},{"$f":"LN('Page 277'!X26/'Page 277'!X25)","v":9.1990281094654625E-2},{"$f":"LN('Page 277'!Y26/'Page 277'!Y25)","v":4.1064163611348611E-2},{"$f":"LN('Page 277'!Z26/'Page 277'!Z25)","v":9.6071166587196374E-2},{"$f":"LN('Page 277'!AA26/'Page 277'!AA25)","v":-2.9300115445138851E-2},{"$f":"LN('Page 277'!AB26/'Page 277'!AB25)","v":3.7226660022456914E-3},{"$f":"LN('Page 277'!AC26/'Page 277'!AC25)","v":3.7102732606584705E-2},{"$f":"LN('Page 277'!AD26/'Page 277'!AD25)","v":4.1261458381425947E-2},{"$f":"LN('Page 277'!AE26/'Page 277'!AE25)","v":2.1589869026376819E-2},{"$f":"LN('Page 277'!AF26/'Page 277'!AF25)","v":-1.3323661198470655E-2}]
["2003-07-01",{"$f":"LN('Page 277'!B27/'Page 277'!B26)","v":1.6093506478773681E-2},{"$f":"LN('Page 277'!C27/'Page 277'!C26)","v":8.5344709937160576E-2},{"$f":"LN('Page 277'!D27/'Page 277'!D26)","v":0.1513798274033131},{"$f":"LN('Page 277'!E27/'Page 277'!E26)","v":5.7408491990673653E-2},{"$f":"LN('Page 277'!F27/'Page 277'!F26)","v":-3.5550984264318866E-2},{"$f":"LN('Page 277'!G27/'Page 277'!G26)","v":5.3456459631549977E-2},{"$f":"LN('Page 277'!H27/'Page 277'!H26)","v":0.19845853459320464},{"$f":"LN('Page 277'!I27/'Page 277'!I26)","v":5.392767924696916E-2},{"$f":"LN('Page 277'!J27/'Page 277'!J26)","v":0.10384816888577954},{"$f":"LN('Page 277'!K27/'Page 277'!K26)","v":-8.703933851860135E-3},{"$f":"LN('Page 277'!L27/'Page 277'!L26)","v":3.8808941468620115E-2},{"$f":"LN('Page 277'!M27/'Page 277'!M26)","v":-5.9944237275739262E-2},{"$f":"LN('Page 277'!N27/'Page 277'!N26)","v":5.2010168845747329E-2},{"$f":"LN('Page 277'!O27/'Page 277'!O26)","v":-5.8881426252225975E-3},{"$f":"LN('Page 277'!P27/'Page 277'!P26)","v":-1.5183176421390006E-2},{"$f":"LN('Page 277'!Q27/'Page 277'!Q26)","v":0.17917820074392266},{"$f":"LN('Page 277'!R27/'Page 277'!R26)","v":1.8474807677078544E-3},{"$f":"LN('Page 277'!S27/'Page 277'!S26)","v":3.5238816620500768E-2},{"$f":"LN('Page 277'!T27/'Page 277'!T26)","v":-3.151719003712531E-2},{"$f":"LN('Page 277'!U27/'Page 277'!U26)","v":4.2160810824278118E-2},{"$f":"LN('Page 277'!V27/'Page 277'!V26)","v":8.3355266807444053E-2},{"$f":"LN('Page 277'!W27/'Page 277'!W26)","v":-0.12735830936629924},{"$f":"LN('Page 277'!X27/'Page 277'!X26)","v":-9.1122602081432233E-2},{"$f":"LN('Page 277'!Y27/'Page 277'!Y26)","v":2.951106032565216E-2},{"$f":"LN('Page 277'!Z27/'Page 277'!Z26)","v":-2.3409759095252527E-2},{"$f":"LN('Page 277'!AA27/'Page 277'!AA26)","v":-9.5603022619822255E-3},{"$f":"LN('Page 277'!AB27/'Page 277'!AB26)","v":-7.5216163948547937E-2},{"$f":"LN('Page 277'!AC27/'Page 277'!AC26)","v":6.0049633779510309E-2},{"$f":"LN('Page 277'!AD27/'Page 277'!AD26)","v":-0.10979655920348243},{"$f":"LN('Page 277'!AE27/'Page 277'!AE26)","v":4.072193178853617E-2},{"$f":"LN('Page 277'!AF27/'Page 277'!AF26)","v":-9.2828934304432006E-3}]
["2003-08-01",{"$f":"LN('Page 277'!B28/'Page 277'!B27)","v":1.7715343790636197E-2},{"$f":"LN('Page 277'!C28/'Page 277'!C27)","v":3.3825096153643881E-2},{"$f":"LN('Page 277'!D28/'Page 277'!D27)","v":-7.4876644523636238E-2},{"$f":"LN('Page 277'!E28/'Page 277'!E27)","v":1.9729694295527435E-2},{"$f":"LN('Page 277'!F28/'Page 277'!F27)","v":0.12656272330842924},{"$f":"LN('Page 277'!G28/'Page 277'!G27)","v":-3.3042379965386455E-2},{"$f":"LN('Page 277'!H28/'Page 277'!H27)","v":6.2473169586022267E-2},{"$f":"LN('Page 277'!I28/'Page 277'!I27)","v":2.6033452377250046E-2},{"$f":"LN('Page 277'!J28/'Page 277'!J27)","v":-6.6513226748935797E-2},{"$f":"LN('Page 277'!K28/'Page 277'!K27)","v":3.9132997702148328E-2},{"$f":"LN('Page 277'!L28/'Page 277'!L27)","v":0.10701281600412117},{"$f":"LN('Page 277'!M28/'Page 277'!M27)","v":3.0260971781809479E-2},{"$f":"LN('Page 277'!N28/'Page 277'!N27)","v":3.1275817991775902E-2},{"$f":"LN('Page 277'!O28/'Page 277'!O27)","v":-6.0347839258119644E-2},{"$f":"LN('Page 277'!P28/'Page 277'!P27)","v":1.1315182329404493E-2},{"$f":"LN('Page 277'!Q28/'Page 277'!Q27)","v":0.13936562452305809},{"$f":"LN('Page 277'!R28/'Page 277'!R27)","v":-3.8892629160837099E-2},{"$f":"LN('Page 277'!S28/'Page 277'!S27)","v":-2.4113047406809193E-2},{"$f":"LN('Page 277'!T28/'Page 277'!T27)","v":-3.2789822822990956E-2},{"$f":"LN('Page 277'!U28/'Page 277'!U27)","v":-2.6023773421305359E-2},{"$f":"LN('Page 277'!V28/'Page 277'!V27)","v":2.0687291493214577E-2},{"$f":"LN('Page 277'!W28/'Page 277'!W27)","v":2.9674074558462916E-2},{"$f":"LN('Page 277'!X28/'Page 277'!X27)","v":-3.8908532918691993E-2},{"$f":"LN('Page 277'!Y28/'Page 277'!Y27)","v":4.3308859378401489E-3},{"$f":"LN('Page 277'!Z28/'Page 277'!Z27)","v":-0.1042075285732616},{"$f":"LN('Page 277'!AA28/'Page 277'!AA27)","v":-6.5052632734480583E-3},{"$f":"LN('Page 277'!AB28/'Page 277'!AB27)","v":-3.9320868393987976E-2},{"$f":"LN('Page 277'!AC28/'Page 277'!AC27)","v":6.8174540835719555E-2},{"$f":"LN('Page 277'!AD28/'Page 277'!AD27)","v":9.1116803512558131E-3},{"$f":"LN('Page 277'!AE28/'Page 277'!AE27)","v":5.6737527611599781E-2},{"$f":"LN('Page 277'!AF28/'Page 277'!AF27)","v":6.465133065881444E-2}]
["2003-09-02",{"$f":"LN('Page 277'!B29/'Page 277'!B28)","v":-1.2016232567985653E-2},{"$f":"LN('Page 277'!C29/'Page 277'!C28)","v":-8.8019746541645447E-2},{"$f":"LN('Page 277'!D29/'Page 277'!D28)","v":-3.071291979041154E-2},{"$f":"LN('Page 277'!E29/'Page 277'!E28)","v":0},{"$f":"LN('Page 277'!F29/'Page 277'!F28)","v":-8.5512183478071768E-2},{"$f":"LN('Page 277'!G29/'Page 277'!G28)","v":4.8561605112987349E-2},{"$f":"LN('Page 277'!H29/'Page 277'!H28)","v":-4.2432418702576156E-2},{"$f":"LN('Page 277'!I29/'Page 277'!I28)","v":-0.11174403843961539},{"$f":"LN('Page 277'!J29/'Page 277'!J28)","v":-1.6705020200002887E-2},{"$f":"LN('Page 277'!K29/'Page 277'!K28)","v":1.4153747438093766E-2},{"$f":"LN('Page 277'!L29/'Page 277'!L28)","v":-4.2140812468307665E-3},{"$f":"LN('Page 277'!M29/'Page 277'!M28)","v":-7.3991008303252196E-3},{"$f":"LN('Page 277'!N29/'Page 277'!N28)","v":-9.5310179804324893E-2},{"$f":"LN('Page 277'!O29/'Page 277'!O28)","v":-2.5411637362336956E-2},{"$f":"LN('Page 277'!P29/'Page 277'!P28)","v":7.4188336113208256E-2},{"$f":"LN('Page 277'!Q29/'Page 277'!Q28)","v":-3.8197813070573967E-2},{"$f":"LN('Page 277'!R29/'Page 277'!R28)","v":-1.2801367227169426E-3},{"$f":"LN('Page 277'!S29/'Page 277'!S28)","v":3.2488657556656369E-3},{"$f":"LN('Page 277'!T29/'Page 277'!T28)","v":-8.1815257413026046E-3},{"$f":"LN('Page 277'!U29/'Page 277'!U28)","v":4.8700482092335171E-2},{"$f":"LN('Page 277'!V29/'Page 277'!V28)","v":-3.0887577848030593E-2},{"$f":"LN('Page 277'!W29/'Page 277'!W28)","v":7.7335818616388816E-2},{"$f":"LN('Page 277'!X29/'Page 277'!X28)","v":1.321259843546308E-2},{"$f":"LN('Page 277'!Y29/'Page 277'!Y28)","v":4.7266181750373705E-2},{"$f":"LN('Page 277'!Z29/'Page 277'!Z28)","v":1.5365676625359811E-2},{"$f":"LN('Page 277'!AA29/'Page 277'!AA28)","v":6.1406354887308355E-2},{"$f":"LN('Page 277'!AB29/'Page 277'!AB28)","v":-9.4192219164916397E-3},{"$f":"LN('Page 277'!AC29/'Page 277'!AC28)","v":-3.7690236064165793E-2},{"$f":"LN('Page 277'!AD29/'Page 277'!AD28)","v":-8.5157808340306826E-2},{"$f":"LN('Page 277'!AE29/'Page 277'!AE28)","v":-5.7661656685777822E-2},{"$f":"LN('Page 277'!AF29/'Page 277'!AF28)","v":-2.9477023295629484E-2}]
["2003-10-01",{"$f":"LN('Page 277'!B30/'Page 277'!B29)","v":5.3504268464946513E-2},{"$f":"LN('Page 277'!C30/'Page 277'!C29)","v":0.18815599644086031},{"$f":"LN('Page 277'!D30/'Page 277'!D29)","v":5.2684396840289915E-2},{"$f":"LN('Page 277'!E30/'Page 277'!E29)","v":4.3080447763902879E-2},{"$f":"LN('Page 277'!F30/'Page 277'!F29)","v":0.11445975951294031},{"$f":"LN('Page 277'!G30/'Page 277'!G29)","v":4.8148315623648345E-2},{"$f":"LN('Page 277'!H30/'Page 277'!H29)","v":6.7282007083321993E-2},{"$f":"LN('Page 277'!I30/'Page 277'!I29)","v":9.8040000966208348E-3},{"$f":"LN('Page 277'!J30/'Page 277'!J29)","v":0.11556857261022038},{"$f":"LN('Page 277'!K30/'Page 277'!K29)","v":-2.7028672387919259E-2},{"$f":"LN('Page 277'!L30/'Page 277'!L29)","v":4.1632476801552E-2},{"$f":"LN('Page 277'!M30/'Page 277'!M29)","v":0.15188786974584667},{"$f":"LN('Page 277'!N30/'Page 277'!N29)","v":0.14987889592550058},{"$f":"LN('Page 277'!O30/'Page 277'!O29)","v":0.14220678904379266},{"$f":"LN('Page 277'!P30/'Page 277'!P29)","v":1.2916798201281145E-2},{"$f":"LN('Page 277'!Q30/'Page 277'!Q29)","v":0.18007268028393869},{"$f":"LN('Page 277'!R30/'Page 277'!R29)","v":1.6305284476910688E-2},{"$f":"LN('Page 277'!S30/'Page 277'!S29)","v":5.4596299236280781E-2},{"$f":"LN('Page 277'!T30/'Page 277'!T29)","v":7.7108551439068529E-2},{"$f":"LN('Page 277'!U30/'Page 277'!U29)","v":6.0044131549731733E-2},{"$f":"LN('Page 277'!V30/'Page 277'!V29)","v":0.1326511277227809},{"$f":"LN('Page 277'!W30/'Page 277'!W29)","v":5.98436768333633E-2},{"$f":"LN('Page 277'!X30/'Page 277'!X29)","v":-0.13458072734726104},{"$f":"LN('Page 277'!Y30/'Page 277'!Y29)","v":-5.5946791814679479E-2},{"$f":"LN('Page 277'!Z30/'Page 277'!Z29)","v":3.9288905045291686E-2},{"$f":"LN('Page 277'!AA30/'Page 277'!AA29)","v":6.1920867562972624E-2},{"$f":"LN('Page 277'!AB30/'Page 277'!AB29)","v":9.1862891127566265E-2},{"$f":"LN('Page 277'!AC30/'Page 277'!AC29)","v":9.1442084266058724E-2},{"$f":"LN('Page 277'!AD30/'Page 277'!AD29)","v":4.6520015634892699E-2},{"$f":"LN('Page 277'!AE30/'Page 277'!AE29)","v":5.5564853541171258E-2},{"$f":"LN('Page 277'!AF30/'Page 277'!AF29)","v":-5.8105754104343711E-4}]
["2003-11-03",{"$f":"LN('Page 277'!B31/'Page 277'!B30)","v":7.1032253560451564E-3},{"$f":"LN('Page 277'!C31/'Page 277'!C30)","v":4.3186298653130631E-2},{"$f":"LN('Page 277'!D31/'Page 277'!D30)","v":-4.8464239354893759E-2},{"$f":"LN('Page 277'!E31/'Page 277'!E30)","v":-2.6546875584085701E-2},{"$f":"LN('Page 277'!F31/'Page 277'!F30)","v":1.9003670711680138E-3},{"$f":"LN('Page 277'!G31/'Page 277'!G30)","v":-7.8269276178815211E-3},{"$f":"LN('Page 277'!H31/'Page 277'!H30)","v":3.6979003241087431E-2},{"$f":"LN('Page 277'!I31/'Page 277'!I30)","v":3.4362150190943297E-2},{"$f":"LN('Page 277'!J31/'Page 277'!J30)","v":1.9811543965447154E-2},{"$f":"LN('Page 277'!K31/'Page 277'!K30)","v":-1.191820438809145E-2},{"$f":"LN('Page 277'!L31/'Page 277'!L30)","v":1.4477464660356284E-2},{"$f":"LN('Page 277'!M31/'Page 277'!M30)","v":-8.3565945909413047E-3},{"$f":"LN('Page 277'!N31/'Page 277'!N30)","v":-2.4241482153972871E-2},{"$f":"LN('Page 277'!O31/'Page 277'!O30)","v":-2.5914288765470354E-2},{"$f":"LN('Page 277'!P31/'Page 277'!P30)","v":1.3656750320074559E-2},{"$f":"LN('Page 277'!Q31/'Page 277'!Q30)","v":1.8280911882333842E-2},{"$f":"LN('Page 277'!R31/'Page 277'!R30)","v":-1.5878390126777799E-2},{"$f":"LN('Page 277'!S31/'Page 277'!S30)","v":-1.4228510998369416E-2},{"$f":"LN('Page 277'!T31/'Page 277'!T30)","v":6.8902431530850385E-3},{"$f":"LN('Page 277'!U31/'Page 277'!U30)","v":4.0551687720393262E-2},{"$f":"LN('Page 277'!V31/'Page 277'!V30)","v":6.4119909770771703E-3},{"$f":"LN('Page 277'!W31/'Page 277'!W30)","v":0.11166413544612598},{"$f":"LN('Page 277'!X31/'Page 277'!X30)","v":-8.6063169839410369E-2},{"$f":"LN('Page 277'!Y31/'Page 277'!Y30)","v":-1.6703685071366603E-2},{"$f":"LN('Page 277'!Z31/'Page 277'!Z30)","v":6.5326652348954573E-2},{"$f":"LN('Page 277'!AA31/'Page 277'!AA30)","v":-2.1162525898251516E-2},{"$f":"LN('Page 277'!AB31/'Page 277'!AB30)","v":-2.9693103825545863E-2},{"$f":"LN('Page 277'!AC31/'Page 277'!AC30)","v":1.5918053751249654E-2},{"$f":"LN('Page 277'!AD31/'Page 277'!AD30)","v":-2.2817267772115294E-2},{"$f":"LN('Page 277'!AE31/'Page 277'!AE30)","v":-5.7786253936324757E-2},{"$f":"LN('Page 277'!AF31/'Page 277'!AF30)","v":-3.493453334559977E-3}]
["2003-12-01",{"$f":"LN('Page 277'!B32/'Page 277'!B31)","v":4.9518899306471208E-2},{"$f":"LN('Page 277'!C32/'Page 277'!C31)","v":0.1468508746690195},{"$f":"LN('Page 277'!D32/'Page 277'!D31)","v":0.13550347731826642},{"$f":"LN('Page 277'!E32/'Page 277'!E31)","v":5.5805262571967003E-2},{"$f":"LN('Page 277'!F32/'Page 277'!F31)","v":9.3162746641721098E-2},{"$f":"LN('Page 277'!G32/'Page 277'!G31)","v":3.1618692175218219E-2},{"$f":"LN('Page 277'!H32/'Page 277'!H31)","v":8.7881918383866761E-2},{"$f":"LN('Page 277'!I32/'Page 277'!I31)","v":0.10150391334127384},{"$f":"LN('Page 277'!J32/'Page 277'!J31)","v":1.9863817979480232E-2},{"$f":"LN('Page 277'!K32/'Page 277'!K31)","v":8.4040814620105708E-2},{"$f":"LN('Page 277'!L32/'Page 277'!L31)","v":0.22159857351561749},{"$f":"LN('Page 277'!M32/'Page 277'!M31)","v":-3.3274788884872321E-2},{"$f":"LN('Page 277'!N32/'Page 277'!N31)","v":0.11857298751040188},{"$f":"LN('Page 277'!O32/'Page 277'!O31)","v":5.8403991538189343E-2},{"$f":"LN('Page 277'!P32/'Page 277'!P31)","v":2.3349102959578361E-2},{"$f":"LN('Page 277'!Q32/'Page 277'!Q31)","v":-4.5540919977951212E-2},{"$f":"LN('Page 277'!R32/'Page 277'!R31)","v":4.6694601720825395E-2},{"$f":"LN('Page 277'!S32/'Page 277'!S31)","v":3.7001622069618184E-2},{"$f":"LN('Page 277'!T32/'Page 277'!T31)","v":8.7602489346788368E-2},{"$f":"LN('Page 277'!U32/'Page 277'!U31)","v":-3.1722536398480015E-2},{"$f":"LN('Page 277'!V32/'Page 277'!V31)","v":7.3032636721528266E-2},{"$f":"LN('Page 277'!W32/'Page 277'!W31)","v":5.8326808890349982E-2},{"$f":"LN('Page 277'!X32/'Page 277'!X31)","v":0.13813244202968306},{"$f":"LN('Page 277'!Y32/'Page 277'!Y31)","v":6.2291983603303888E-2},{"$f":"LN('Page 277'!Z32/'Page 277'!Z31)","v":5.1053725610202091E-2},{"$f":"LN('Page 277'!AA32/'Page 277'!AA31)","v":3.72713947972316E-2},{"$f":"LN('Page 277'!AB32/'Page 277'!AB31)","v":0.11338162010017296},{"$f":"LN('Page 277'!AC32/'Page 277'!AC31)","v":0.10068487885222685},{"$f":"LN('Page 277'!AD32/'Page 277'!AD31)","v":6.5979955075818969E-2},{"$f":"LN('Page 277'!AE32/'Page 277'!AE31)","v":-4.5884826115336126E-2},{"$f":"LN('Page 277'!AF32/'Page 277'!AF31)","v":0.12433937726874698}]
["2004-01-02",{"$f":"LN('Page 277'!B33/'Page 277'!B32)","v":1.7128882262967212E-2},{"$f":"LN('Page 277'!C33/'Page 277'!C32)","v":-0.10606730547874653},{"$f":"LN('Page 277'!D33/'Page 277'!D32)","v":4.6701093045980621E-2},{"$f":"LN('Page 277'!E33/'Page 277'!E32)","v":7.220231871767574E-2},{"$f":"LN('Page 277'!F33/'Page 277'!F32)","v":-9.1846245752505943E-3},{"$f":"LN('Page 277'!G33/'Page 277'!G32)","v":2.7386870654487638E-2},{"$f":"LN('Page 277'!H33/'Page 277'!H32)","v":-5.6477063555120791E-2},{"$f":"LN('Page 277'!I33/'Page 277'!I32)","v":-4.4258220426428019E-2},{"$f":"LN('Page 277'!J33/'Page 277'!J32)","v":2.843793532053341E-2},{"$f":"LN('Page 277'!K33/'Page 277'!K32)","v":8.1975177732644747E-2},{"$f":"LN('Page 277'!L33/'Page 277'!L32)","v":-7.2059445965976701E-2},{"$f":"LN('Page 277'!M33/'Page 277'!M32)","v":-5.7853631928948075E-4},{"$f":"LN('Page 277'!N33/'Page 277'!N32)","v":7.746394453664722E-2},{"$f":"LN('Page 277'!O33/'Page 277'!O32)","v":3.4951578022813505E-2},{"$f":"LN('Page 277'!P33/'Page 277'!P32)","v":6.8285907866131368E-2},{"$f":"LN('Page 277'!Q33/'Page 277'!Q32)","v":-4.8725898882304684E-2},{"$f":"LN('Page 277'!R33/'Page 277'!R32)","v":3.3446594158827996E-2},{"$f":"LN('Page 277'!S33/'Page 277'!S32)","v":6.6487985652396456E-2},{"$f":"LN('Page 277'!T33/'Page 277'!T32)","v":-3.0227929391224644E-2},{"$f":"LN('Page 277'!U33/'Page 277'!U32)","v":3.5769486478677309E-2},{"$f":"LN('Page 277'!V33/'Page 277'!V32)","v":-7.2367079292633765E-2},{"$f":"LN('Page 277'!W33/'Page 277'!W32)","v":2.1277398447284879E-2},{"$f":"LN('Page 277'!X33/'Page 277'!X32)","v":2.9753474096948125E-2},{"$f":"LN('Page 277'!Y33/'Page 277'!Y32)","v":1.0358493282742128E-2},{"$f":"LN('Page 277'!Z33/'Page 277'!Z32)","v":3.606410797185268E-2},{"$f":"LN('Page 277'!AA33/'Page 277'!AA32)","v":1.6474150076722295E-2},{"$f":"LN('Page 277'!AB33/'Page 277'!AB32)","v":-1.064311598732076E-2},{"$f":"LN('Page 277'!AC33/'Page 277'!AC32)","v":8.0954385886665547E-3},{"$f":"LN('Page 277'!AD33/'Page 277'!AD32)","v":6.0074363275915192E-2},{"$f":"LN('Page 277'!AE33/'Page 277'!AE32)","v":1.4829352158300783E-2},{"$f":"LN('Page 277'!AF33/'Page 277'!AF32)","v":-4.9051343992586203E-3}]
["2004-02-02",{"$f":"LN('Page 277'!B34/'Page 277'!B33)","v":1.2135100829125884E-2},{"$f":"LN('Page 277'!C34/'Page 277'!C33)","v":9.634365614730557E-2},{"$f":"LN('Page 277'!D34/'Page 277'!D33)","v":6.3459407369262477E-2},{"$f":"LN('Page 277'!E34/'Page 277'!E33)","v":2.9978929861486769E-2},{"$f":"LN('Page 277'!F34/'Page 277'!F33)","v":4.1998359687963879E-2},{"$f":"LN('Page 277'!G34/'Page 277'!G33)","v":1.5564516541111548E-2},{"$f":"LN('Page 277'!H34/'Page 277'!H33)","v":-3.0854951048047748E-2},{"$f":"LN('Page 277'!I34/'Page 277'!I33)","v":3.4511322865583019E-2},{"$f":"LN('Page 277'!J34/'Page 277'!J33)","v":0.10016437125222855},{"$f":"LN('Page 277'!K34/'Page 277'!K33)","v":-2.7346082325515195E-2},{"$f":"LN('Page 277'!L34/'Page 277'!L33)","v":-2.1780286365647616E-2},{"$f":"LN('Page 277'!M34/'Page 277'!M33)","v":2.3449744795784353E-2},{"$f":"LN('Page 277'!N34/'Page 277'!N33)","v":-2.4860706226230728E-2},{"$f":"LN('Page 277'!O34/'Page 277'!O33)","v":-4.6271599287819744E-2},{"$f":"LN('Page 277'!P34/'Page 277'!P33)","v":-2.6333810103692061E-2},{"$f":"LN('Page 277'!Q34/'Page 277'!Q33)","v":-4.3087829943006355E-2},{"$f":"LN('Page 277'!R34/'Page 277'!R33)","v":1.3693484705360101E-2},{"$f":"LN('Page 277'!S34/'Page 277'!S33)","v":5.3327740352158766E-2},{"$f":"LN('Page 277'!T34/'Page 277'!T33)","v":1.4376387503969058E-2},{"$f":"LN('Page 277'!U34/'Page 277'!U33)","v":9.5089858869272931E-2},{"$f":"LN('Page 277'!V34/'Page 277'!V33)","v":-9.0897564764294558E-3},{"$f":"LN('Page 277'!W34/'Page 277'!W33)","v":3.4616545669163876E-2},{"$f":"LN('Page 277'!X34/'Page 277'!X33)","v":1.0033919208430145E-2},{"$f":"LN('Page 277'!Y34/'Page 277'!Y33)","v":-4.1234280652667023E-2},{"$f":"LN('Page 277'!Z34/'Page 277'!Z33)","v":4.9642385492316065E-3},{"$f":"LN('Page 277'!AA34/'Page 277'!AA33)","v":1.4170069728652691E-2},{"$f":"LN('Page 277'!AB34/'Page 277'!AB33)","v":-6.017888969405611E-2},{"$f":"LN('Page 277'!AC34/'Page 277'!AC33)","v":-3.2782559102731333E-2},{"$f":"LN('Page 277'!AD34/'Page 277'!AD33)","v":3.9010454885268518E-2},{"$f":"LN('Page 277'!AE34/'Page 277'!AE33)","v":0.10083874216546934},{"$f":"LN('Page 277'!AF34/'Page 277'!AF33)","v":3.9330199116792378E-2}]
["2004-03-01",{"$f":"LN('Page 277'!B35/'Page 277'!B34)","v":-1.6494220669989047E-2},{"$f":"LN('Page 277'!C35/'Page 277'!C34)","v":-7.7162066365471571E-2},{"$f":"LN('Page 277'!D35/'Page 277'!D34)","v":-3.5625755369347686E-2},{"$f":"LN('Page 277'!E35/'Page 277'!E34)","v":-2.7727183807602505E-2},{"$f":"LN('Page 277'!F35/'Page 277'!F34)","v":-5.4545575740052671E-2},{"$f":"LN('Page 277'!G35/'Page 277'!G34)","v":2.8337696551702485E-2},{"$f":"LN('Page 277'!H35/'Page 277'!H34)","v":4.3040532294163519E-2},{"$f":"LN('Page 277'!I35/'Page 277'!I34)","v":-6.5653970221436778E-2},{"$f":"LN('Page 277'!J35/'Page 277'!J34)","v":-5.9784275544337961E-2},{"$f":"LN('Page 277'!K35/'Page 277'!K34)","v":-6.3625695880211552E-2},{"$f":"LN('Page 277'!L35/'Page 277'!L34)","v":-1.8201660757083821E-2},{"$f":"LN('Page 277'!M35/'Page 277'!M34)","v":3.03433160889496E-2},{"$f":"LN('Page 277'!N35/'Page 277'!N34)","v":-3.4759596935936145E-2},{"$f":"LN('Page 277'!O35/'Page 277'!O34)","v":9.0662452377530418E-3},{"$f":"LN('Page 277'!P35/'Page 277'!P34)","v":-4.9489264900183773E-2},{"$f":"LN('Page 277'!Q35/'Page 277'!Q34)","v":-7.0780812180571473E-2},{"$f":"LN('Page 277'!R35/'Page 277'!R34)","v":-6.1086162154750691E-2},{"$f":"LN('Page 277'!S35/'Page 277'!S34)","v":2.2384081383537435E-2},{"$f":"LN('Page 277'!T35/'Page 277'!T34)","v":1.1859520617718222E-2},{"$f":"LN('Page 277'!U35/'Page 277'!U34)","v":9.5029954914861142E-3},{"$f":"LN('Page 277'!V35/'Page 277'!V34)","v":4.8105729904370467E-2},{"$f":"LN('Page 277'!W35/'Page 277'!W34)","v":-4.3767600886521159E-2},{"$f":"LN('Page 277'!X35/'Page 277'!X34)","v":-7.6450375170201493E-2},{"$f":"LN('Page 277'!Y35/'Page 277'!Y34)","v":-6.2478788174560609E-2},{"$f":"LN('Page 277'!Z35/'Page 277'!Z34)","v":-4.4372322885373093E-2},{"$f":"LN('Page 277'!AA35/'Page 277'!AA34)","v":2.2780946868205625E-2},{"$f":"LN('Page 277'!AB35/'Page 277'!AB34)","v":2.2009785688655227E-2},{"$f":"LN('Page 277'!AC35/'Page 277'!AC34)","v":-6.5124146309160968E-2},{"$f":"LN('Page 277'!AD35/'Page 277'!AD34)","v":-4.78560211776351E-2},{"$f":"LN('Page 277'!AE35/'Page 277'!AE34)","v":4.4835391540929857E-3},{"$f":"LN('Page 277'!AF35/'Page 277'!AF34)","v":-1.3779498999322442E-2}]
["2004-04-01",{"$f":"LN('Page 277'!B36/'Page 277'!B35)","v":-1.6933393494544095E-2},{"$f":"LN('Page 277'!C36/'Page 277'!C35)","v":-0.12034965592245828},{"$f":"LN('Page 277'!D36/'Page 277'!D35)","v":4.2577413171854105E-3},{"$f":"LN('Page 277'!E36/'Page 277'!E35)","v":-5.7634831190551052E-2},{"$f":"LN('Page 277'!F36/'Page 277'!F35)","v":3.8637792705413919E-2},{"$f":"LN('Page 277'!G36/'Page 277'!G35)","v":-6.4149383628143999E-2},{"$f":"LN('Page 277'!H36/'Page 277'!H35)","v":-1.2718772407774559E-2},{"$f":"LN('Page 277'!I36/'Page 277'!I35)","v":1.7198198297220822E-2},{"$f":"LN('Page 277'!J36/'Page 277'!J35)","v":-8.1573867060109426E-2},{"$f":"LN('Page 277'!K36/'Page 277'!K35)","v":-1.8593764938415306E-2},{"$f":"LN('Page 277'!L36/'Page 277'!L35)","v":3.5718575896427612E-3},{"$f":"LN('Page 277'!M36/'Page 277'!M35)","v":-5.9887986152230469E-2},{"$f":"LN('Page 277'!N36/'Page 277'!N35)","v":2.1182679981522696E-2},{"$f":"LN('Page 277'!O36/'Page 277'!O35)","v":-0.14755395425582776},{"$f":"LN('Page 277'!P36/'Page 277'!P35)","v":-4.0761730796912123E-2},{"$f":"LN('Page 277'!Q36/'Page 277'!Q35)","v":-5.5580653265543241E-2},{"$f":"LN('Page 277'!R36/'Page 277'!R35)","v":6.3221048943286159E-2},{"$f":"LN('Page 277'!S36/'Page 277'!S35)","v":-0.10160599861202289},{"$f":"LN('Page 277'!T36/'Page 277'!T35)","v":5.4587580437511036E-3},{"$f":"LN('Page 277'!U36/'Page 277'!U35)","v":-4.8062891410103142E-2},{"$f":"LN('Page 277'!V36/'Page 277'!V35)","v":5.4780934697511344E-2},{"$f":"LN('Page 277'!W36/'Page 277'!W35)","v":1.7014791677571944E-2},{"$f":"LN('Page 277'!X36/'Page 277'!X35)","v":6.1479335318415811E-2},{"$f":"LN('Page 277'!Y36/'Page 277'!Y35)","v":4.7330262181136555E-2},{"$f":"LN('Page 277'!Z36/'Page 277'!Z35)","v":1.9898154246793115E-2},{"$f":"LN('Page 277'!AA36/'Page 277'!AA35)","v":1.3462883998407262E-2},{"$f":"LN('Page 277'!AB36/'Page 277'!AB35)","v":2.6960737395505058E-2},{"$f":"LN('Page 277'!AC36/'Page 277'!AC35)","v":-4.8076924002949875E-4},{"$f":"LN('Page 277'!AD36/'Page 277'!AD35)","v":4.258514513863592E-2},{"$f":"LN('Page 277'!AE36/'Page 277'!AE35)","v":-4.6126817949693283E-2},{"$f":"LN('Page 277'!AF36/'Page 277'!AF35)","v":2.2697071099634526E-2}]
["2004-05-03",{"$f":"LN('Page 277'!B37/'Page 277'!B36)","v":1.2011024205564368E-2},{"$f":"LN('Page 277'!C37/'Page 277'!C36)","v":2.2533322655801786E-2},{"$f":"LN('Page 277'!D37/'Page 277'!D36)","v":2.2683694534500053E-2},{"$f":"LN('Page 277'!E37/'Page 277'!E36)","v":3.5115967655201141E-2},{"$f":"LN('Page 277'!F37/'Page 277'!F36)","v":7.48712515163176E-2},{"$f":"LN('Page 277'!G37/'Page 277'!G36)","v":-3.5067499984439081E-2},{"$f":"LN('Page 277'!H37/'Page 277'!H36)","v":-3.1146728996836709E-2},{"$f":"LN('Page 277'!I37/'Page 277'!I36)","v":1.4191698410863171E-2},{"$f":"LN('Page 277'!J37/'Page 277'!J36)","v":1.8856072813824742E-2},{"$f":"LN('Page 277'!K37/'Page 277'!K36)","v":3.8212360089794326E-2},{"$f":"LN('Page 277'!L37/'Page 277'!L36)","v":-3.2615525360162281E-2},{"$f":"LN('Page 277'!M37/'Page 277'!M36)","v":2.0458860824730089E-2},{"$f":"LN('Page 277'!N37/'Page 277'!N36)","v":-1.9942369744998568E-2},{"$f":"LN('Page 277'!O37/'Page 277'!O36)","v":7.5041487279112279E-2},{"$f":"LN('Page 277'!P37/'Page 277'!P36)","v":6.8141396654091352E-3},{"$f":"LN('Page 277'!Q37/'Page 277'!Q36)","v":0.10536051565782635},{"$f":"LN('Page 277'!R37/'Page 277'!R36)","v":3.5799710257574294E-2},{"$f":"LN('Page 277'!S37/'Page 277'!S36)","v":-2.0385097273633575E-2},{"$f":"LN('Page 277'!T37/'Page 277'!T36)","v":1.5169122032914359E-2},{"$f":"LN('Page 277'!U37/'Page 277'!U36)","v":-3.1010236742560322E-2},{"$f":"LN('Page 277'!V37/'Page 277'!V36)","v":-1.809340312427337E-2},{"$f":"LN('Page 277'!W37/'Page 277'!W36)","v":-0.14359534999433954},{"$f":"LN('Page 277'!X37/'Page 277'!X36)","v":6.3432610203455345E-3},{"$f":"LN('Page 277'!Y37/'Page 277'!Y36)","v":3.4828071774614566E-3},{"$f":"LN('Page 277'!Z37/'Page 277'!Z36)","v":-7.189965066239163E-3},{"$f":"LN('Page 277'!AA37/'Page 277'!AA36)","v":1.889605263939495E-2},{"$f":"LN('Page 277'!AB37/'Page 277'!AB36)","v":-4.9444120061991732E-2},{"$f":"LN('Page 277'!AC37/'Page 277'!AC36)","v":-1.5019662196040701E-2},{"$f":"LN('Page 277'!AD37/'Page 277'!AD36)","v":-8.7385118951854163E-2},{"$f":"LN('Page 277'!AE37/'Page 277'!AE36)","v":-2.0202707317519466E-2},{"$f":"LN('Page 277'!AF37/'Page 277'!AF36)","v":2.29166537833548E-2}]
["2004-06-01",{"$f":"LN('Page 277'!B38/'Page 277'!B37)","v":1.7829189249312503E-2},{"$f":"LN('Page 277'!C38/'Page 277'!C37)","v":5.3734608594666534E-2},{"$f":"LN('Page 277'!D38/'Page 277'!D37)","v":-2.6941435851685513E-2},{"$f":"LN('Page 277'!E38/'Page 277'!E37)","v":1.5295355827889769E-2},{"$f":"LN('Page 277'!F38/'Page 277'!F37)","v":0.10943246648162849},{"$f":"LN('Page 277'!G38/'Page 277'!G37)","v":1.3805800628164918E-3},{"$f":"LN('Page 277'!H38/'Page 277'!H37)","v":5.3038675412935263E-2},{"$f":"LN('Page 277'!I38/'Page 277'!I37)","v":2.7793110250319549E-2},{"$f":"LN('Page 277'!J38/'Page 277'!J37)","v":8.2512421574464201E-2},{"$f":"LN('Page 277'!K38/'Page 277'!K37)","v":4.6287603427557625E-2},{"$f":"LN('Page 277'!L38/'Page 277'!L37)","v":2.6176967288443334E-2},{"$f":"LN('Page 277'!M38/'Page 277'!M37)","v":-1.7842199933558494E-2},{"$f":"LN('Page 277'!N38/'Page 277'!N37)","v":8.3208058088216297E-2},{"$f":"LN('Page 277'!O38/'Page 277'!O37)","v":-2.9154539601240195E-3},{"$f":"LN('Page 277'!P38/'Page 277'!P37)","v":-4.961644056325697E-3},{"$f":"LN('Page 277'!Q38/'Page 277'!Q37)","v":-3.3653505041642676E-2},{"$f":"LN('Page 277'!R38/'Page 277'!R37)","v":-1.8707323971865403E-4},{"$f":"LN('Page 277'!S38/'Page 277'!S37)","v":5.1043189562901777E-2},{"$f":"LN('Page 277'!T38/'Page 277'!T37)","v":-1.2242086700391435E-2},{"$f":"LN('Page 277'!U38/'Page 277'!U37)","v":-1.5473429134963119E-2},{"$f":"LN('Page 277'!V38/'Page 277'!V37)","v":6.2408200320793056E-2},{"$f":"LN('Page 277'!W38/'Page 277'!W37)","v":5.656571433412301E-2},{"$f":"LN('Page 277'!X38/'Page 277'!X37)","v":1.1873029709262878E-2},{"$f":"LN('Page 277'!Y38/'Page 277'!Y37)","v":8.5344045420647704E-2},{"$f":"LN('Page 277'!Z38/'Page 277'!Z37)","v":-3.0217467700911011E-2},{"$f":"LN('Page 277'!AA38/'Page 277'!AA37)","v":9.7936452501524059E-3},{"$f":"LN('Page 277'!AB38/'Page 277'!AB37)","v":2.2946452829890128E-2},{"$f":"LN('Page 277'!AC38/'Page 277'!AC37)","v":7.7918826376327063E-2},{"$f":"LN('Page 277'!AD38/'Page 277'!AD37)","v":4.5718669330290854E-2},{"$f":"LN('Page 277'!AE38/'Page 277'!AE37)","v":-5.9659836406335875E-2},{"$f":"LN('Page 277'!AF38/'Page 277'!AF37)","v":2.6401818930548101E-2}]
["2004-07-01",{"$f":"LN('Page 277'!B39/'Page 277'!B38)","v":-3.4892238215330364E-2},{"$f":"LN('Page 277'!C39/'Page 277'!C38)","v":-3.0722416261153792E-2},{"$f":"LN('Page 277'!D39/'Page 277'!D38)","v":-8.857200760642548E-3},{"$f":"LN('Page 277'!E39/'Page 277'!E38)","v":-2.2220591261204157E-2},{"$f":"LN('Page 277'!F39/'Page 277'!F38)","v":-6.6903442659606771E-3},{"$f":"LN('Page 277'!G39/'Page 277'!G38)","v":-4.3950205644058764E-2},{"$f":"LN('Page 277'!H39/'Page 277'!H38)","v":-7.2764276789855115E-2},{"$f":"LN('Page 277'!I39/'Page 277'!I38)","v":-3.548641038662833E-2},{"$f":"LN('Page 277'!J39/'Page 277'!J38)","v":-9.9157571533218483E-2},{"$f":"LN('Page 277'!K39/'Page 277'!K38)","v":2.6017205392498965E-2},{"$f":"LN('Page 277'!L39/'Page 277'!L38)","v":-7.705673949497438E-2},{"$f":"LN('Page 277'!M39/'Page 277'!M38)","v":-4.3014194319039925E-2},{"$f":"LN('Page 277'!N39/'Page 277'!N38)","v":2.645061350869702E-2},{"$f":"LN('Page 277'!O39/'Page 277'!O38)","v":-4.5801932653874042E-2},{"$f":"LN('Page 277'!P39/'Page 277'!P38)","v":-1.2337214209784713E-2},{"$f":"LN('Page 277'!Q39/'Page 277'!Q38)","v":-0.12422112647342679},{"$f":"LN('Page 277'!R39/'Page 277'!R38)","v":-7.7002915934472173E-3},{"$f":"LN('Page 277'!S39/'Page 277'!S38)","v":-2.8929981260125266E-2},{"$f":"LN('Page 277'!T39/'Page 277'!T38)","v":-0.14053468345138126},{"$f":"LN('Page 277'!U39/'Page 277'!U38)","v":5.6358413797281806E-2},{"$f":"LN('Page 277'!V39/'Page 277'!V38)","v":-8.8783080819304527E-2},{"$f":"LN('Page 277'!W39/'Page 277'!W38)","v":-5.0325083887515769E-2},{"$f":"LN('Page 277'!X39/'Page 277'!X38)","v":-4.6178442300736068E-2},{"$f":"LN('Page 277'!Y39/'Page 277'!Y38)","v":-2.3971245997214037E-3},{"$f":"LN('Page 277'!Z39/'Page 277'!Z38)","v":-7.0277506982231563E-2},{"$f":"LN('Page 277'!AA39/'Page 277'!AA38)","v":-3.8372611207969982E-2},{"$f":"LN('Page 277'!AB39/'Page 277'!AB38)","v":5.7132693344570398E-2},{"$f":"LN('Page 277'!AC39/'Page 277'!AC38)","v":2.1885643512760396E-2},{"$f":"LN('Page 277'!AD39/'Page 277'!AD38)","v":7.3451847203997306E-2},{"$f":"LN('Page 277'!AE39/'Page 277'!AE38)","v":9.7106997293494781E-3},{"$f":"LN('Page 277'!AF39/'Page 277'!AF38)","v":4.1610416028686148E-2}]
["2004-08-02",{"$f":"LN('Page 277'!B40/'Page 277'!B39)","v":2.284720571713859E-3},{"$f":"LN('Page 277'!C40/'Page 277'!C39)","v":1.5479186848460032E-2},{"$f":"LN('Page 277'!D40/'Page 277'!D39)","v":8.2881297536787617E-3},{"$f":"LN('Page 277'!E40/'Page 277'!E39)","v":-4.6436117804824987E-3},{"$f":"LN('Page 277'!F40/'Page 277'!F39)","v":3.2619200115319526E-2},{"$f":"LN('Page 277'!G40/'Page 277'!G39)","v":5.4926762227230426E-2},{"$f":"LN('Page 277'!H40/'Page 277'!H39)","v":-1.0719425632884512E-2},{"$f":"LN('Page 277'!I40/'Page 277'!I39)","v":-5.9970194723744019E-3},{"$f":"LN('Page 277'!J40/'Page 277'!J39)","v":-2.7767122040448365E-2},{"$f":"LN('Page 277'!K40/'Page 277'!K39)","v":-1.4048762349703836E-2},{"$f":"LN('Page 277'!L40/'Page 277'!L39)","v":-3.1232035941940295E-2},{"$f":"LN('Page 277'!M40/'Page 277'!M39)","v":8.3139081805139362E-2},{"$f":"LN('Page 277'!N40/'Page 277'!N39)","v":-3.8787593966549384E-2},{"$f":"LN('Page 277'!O40/'Page 277'!O39)","v":-0.11886614875644017},{"$f":"LN('Page 277'!P40/'Page 277'!P39)","v":-2.5621138161511021E-2},{"$f":"LN('Page 277'!Q40/'Page 277'!Q39)","v":-0.13365175129350101},{"$f":"LN('Page 277'!R40/'Page 277'!R39)","v":5.5019375591199203E-2},{"$f":"LN('Page 277'!S40/'Page 277'!S39)","v":5.8404639376304954E-2},{"$f":"LN('Page 277'!T40/'Page 277'!T39)","v":1.9274838248745246E-2},{"$f":"LN('Page 277'!U40/'Page 277'!U39)","v":-1.7922310033410844E-2},{"$f":"LN('Page 277'!V40/'Page 277'!V39)","v":4.549483393577248E-3},{"$f":"LN('Page 277'!W40/'Page 277'!W39)","v":2.7946837534819531E-2},{"$f":"LN('Page 277'!X40/'Page 277'!X39)","v":-8.5189757017985705E-3},{"$f":"LN('Page 277'!Y40/'Page 277'!Y39)","v":-3.9989008216363281E-2},{"$f":"LN('Page 277'!Z40/'Page 277'!Z39)","v":2.7542724637582183E-2},{"$f":"LN('Page 277'!AA40/'Page 277'!AA39)","v":7.0712334909070834E-2},{"$f":"LN('Page 277'!AB40/'Page 277'!AB39)","v":1.7338969279510518E-2},{"$f":"LN('Page 277'!AC40/'Page 277'!AC39)","v":8.1399635460075882E-3},{"$f":"LN('Page 277'!AD40/'Page 277'!AD39)","v":1.8318111193365155E-2},{"$f":"LN('Page 277'!AE40/'Page 277'!AE39)","v":-4.0670144177501911E-3},{"$f":"LN('Page 277'!AF40/'Page 277'!AF39)","v":1.7997755139396077E-3}]
["2004-09-01",{"$f":"LN('Page 277'!B41/'Page 277'!B40)","v":9.3203368022064838E-3},{"$f":"LN('Page 277'!C41/'Page 277'!C40)","v":3.6756140125119671E-2},{"$f":"LN('Page 277'!D41/'Page 277'!D40)","v":-4.5564973652217386E-2},{"$f":"LN('Page 277'!E41/'Page 277'!E40)","v":2.8448810051248098E-2},{"$f":"LN('Page 277'!F41/'Page 277'!F40)","v":-1.1684458115470036E-2},{"$f":"LN('Page 277'!G41/'Page 277'!G40)","v":-5.4446339445950599E-2},{"$f":"LN('Page 277'!H41/'Page 277'!H40)","v":0.10132515822524112},{"$f":"LN('Page 277'!I41/'Page 277'!I40)","v":1.2700955194564387E-2},{"$f":"LN('Page 277'!J41/'Page 277'!J40)","v":4.5310453596001023E-3},{"$f":"LN('Page 277'!K41/'Page 277'!K40)","v":2.9777303014969857E-2},{"$f":"LN('Page 277'!L41/'Page 277'!L40)","v":2.7867208126340609E-2},{"$f":"LN('Page 277'!M41/'Page 277'!M40)","v":6.9755017056462379E-2},{"$f":"LN('Page 277'!N41/'Page 277'!N40)","v":-3.4702174790071059E-3},{"$f":"LN('Page 277'!O41/'Page 277'!O40)","v":5.0891607296389224E-2},{"$f":"LN('Page 277'!P41/'Page 277'!P40)","v":1.2299396792866651E-2},{"$f":"LN('Page 277'!Q41/'Page 277'!Q40)","v":-5.9511856480036096E-2},{"$f":"LN('Page 277'!R41/'Page 277'!R40)","v":-3.0989160905374558E-2},{"$f":"LN('Page 277'!S41/'Page 277'!S40)","v":3.7930145718724729E-3},{"$f":"LN('Page 277'!T41/'Page 277'!T40)","v":-0.10423511150591219},{"$f":"LN('Page 277'!U41/'Page 277'!U40)","v":3.701328849823983E-2},{"$f":"LN('Page 277'!V41/'Page 277'!V40)","v":-2.9428940544069474E-2},{"$f":"LN('Page 277'!W41/'Page 277'!W40)","v":-2.4955923076972433E-2},{"$f":"LN('Page 277'!X41/'Page 277'!X40)","v":-0.30088710337205904},{"$f":"LN('Page 277'!Y41/'Page 277'!Y40)","v":1.2823340143593657E-2},{"$f":"LN('Page 277'!Z41/'Page 277'!Z40)","v":-6.5487656201705671E-2},{"$f":"LN('Page 277'!AA41/'Page 277'!AA40)","v":-3.3678283992750885E-2},{"$f":"LN('Page 277'!AB41/'Page 277'!AB40)","v":6.4253808553710948E-3},{"$f":"LN('Page 277'!AC41/'Page 277'!AC40)","v":-5.7130456421792203E-3},{"$f":"LN('Page 277'!AD41/'Page 277'!AD40)","v":3.3454171150860247E-3},{"$f":"LN('Page 277'!AE41/'Page 277'!AE40)","v":9.8484913041715812E-3},{"$f":"LN('Page 277'!AF41/'Page 277'!AF40)","v":4.7194097224286406E-2}]
["2004-10-01",{"$f":"LN('Page 277'!B42/'Page 277'!B41)","v":1.391695587821374E-2},{"$f":"LN('Page 277'!C42/'Page 277'!C41)","v":-3.2923494104943316E-2},{"$f":"LN('Page 277'!D42/'Page 277'!D41)","v":-0.11326911007836554},{"$f":"LN('Page 277'!E42/'Page 277'!E41)","v":3.2928447737028202E-2},{"$f":"LN('Page 277'!F42/'Page 277'!F41)","v":-3.3832863280558734E-2},{"$f":"LN('Page 277'!G42/'Page 277'!G41)","v":1.5016370831930394E-2},{"$f":"LN('Page 277'!H42/'Page 277'!H41)","v":6.1318536533496162E-3},{"$f":"LN('Page 277'!I42/'Page 277'!I41)","v":1.7307458888278151E-3},{"$f":"LN('Page 277'!J42/'Page 277'!J41)","v":0.11153490487919067},{"$f":"LN('Page 277'!K42/'Page 277'!K41)","v":1.5792246454419762E-2},{"$f":"LN('Page 277'!L42/'Page 277'!L41)","v":-9.7126710730722793E-2},{"$f":"LN('Page 277'!M42/'Page 277'!M41)","v":4.7004715101164184E-2},{"$f":"LN('Page 277'!N42/'Page 277'!N41)","v":-6.2763349907697177E-2},{"$f":"LN('Page 277'!O42/'Page 277'!O41)","v":-4.9193867998182173E-3},{"$f":"LN('Page 277'!P42/'Page 277'!P41)","v":4.5699706461875163E-2},{"$f":"LN('Page 277'!Q42/'Page 277'!Q41)","v":0.10377520248221568},{"$f":"LN('Page 277'!R42/'Page 277'!R41)","v":3.5795578703095556E-2},{"$f":"LN('Page 277'!S42/'Page 277'!S41)","v":-2.0213744784200117E-2},{"$f":"LN('Page 277'!T42/'Page 277'!T41)","v":1.5057397672493665E-2},{"$f":"LN('Page 277'!U42/'Page 277'!U41)","v":3.8906925014750675E-2},{"$f":"LN('Page 277'!V42/'Page 277'!V41)","v":-3.0455191412387114E-2},{"$f":"LN('Page 277'!W42/'Page 277'!W41)","v":2.9650242639753112E-2},{"$f":"LN('Page 277'!X42/'Page 277'!X41)","v":-5.2545555578049831E-2},{"$f":"LN('Page 277'!Y42/'Page 277'!Y41)","v":1.1442707607533258E-2},{"$f":"LN('Page 277'!Z42/'Page 277'!Z41)","v":-5.5372554123491194E-2},{"$f":"LN('Page 277'!AA42/'Page 277'!AA41)","v":-5.1031480012445875E-2},{"$f":"LN('Page 277'!AB42/'Page 277'!AB41)","v":-1.5490843328658405E-2},{"$f":"LN('Page 277'!AC42/'Page 277'!AC41)","v":-5.9675279313911363E-3},{"$f":"LN('Page 277'!AD42/'Page 277'!AD41)","v":2.2240765353565015E-3},{"$f":"LN('Page 277'!AE42/'Page 277'!AE41)","v":1.3551118711871384E-2},{"$f":"LN('Page 277'!AF42/'Page 277'!AF41)","v":1.8271168998358657E-2}]
["2004-11-01",{"$f":"LN('Page 277'!B43/'Page 277'!B42)","v":3.7868779461133012E-2},{"$f":"LN('Page 277'!C43/'Page 277'!C42)","v":4.9139238745929577E-2},{"$f":"LN('Page 277'!D43/'Page 277'!D42)","v":4.2615214763532409E-2},{"$f":"LN('Page 277'!E43/'Page 277'!E42)","v":4.8696359938792462E-2},{"$f":"LN('Page 277'!F43/'Page 277'!F42)","v":7.4814207653752379E-2},{"$f":"LN('Page 277'!G43/'Page 277'!G42)","v":8.4806161984203529E-3},{"$f":"LN('Page 277'!H43/'Page 277'!H42)","v":0.12820008979286365},{"$f":"LN('Page 277'!I43/'Page 277'!I42)","v":6.3410785680541745E-2},{"$f":"LN('Page 277'!J43/'Page 277'!J42)","v":6.3830628100981515E-2},{"$f":"LN('Page 277'!K43/'Page 277'!K42)","v":3.590670846324405E-2},{"$f":"LN('Page 277'!L43/'Page 277'!L42)","v":1.4184634991956381E-2},{"$f":"LN('Page 277'!M43/'Page 277'!M42)","v":1.820020725083887E-2},{"$f":"LN('Page 277'!N43/'Page 277'!N42)","v":5.3157687343679837E-2},{"$f":"LN('Page 277'!O43/'Page 277'!O42)","v":6.9832701379484413E-2},{"$f":"LN('Page 277'!P43/'Page 277'!P42)","v":5.0731912352342388E-2},{"$f":"LN('Page 277'!Q43/'Page 277'!Q42)","v":7.3428507984759864E-3},{"$f":"LN('Page 277'!R43/'Page 277'!R42)","v":3.7299548651550371E-2},{"$f":"LN('Page 277'!S43/'Page 277'!S42)","v":-2.4865088832196861E-2},{"$f":"LN('Page 277'!T43/'Page 277'!T42)","v":-2.7427604103515132E-2},{"$f":"LN('Page 277'!U43/'Page 277'!U42)","v":7.1557340765303637E-2},{"$f":"LN('Page 277'!V43/'Page 277'!V42)","v":3.006555571682842E-2},{"$f":"LN('Page 277'!W43/'Page 277'!W42)","v":0.17095779814363948},{"$f":"LN('Page 277'!X43/'Page 277'!X42)","v":-0.11106185171340001},{"$f":"LN('Page 277'!Y43/'Page 277'!Y42)","v":6.6035774338825293E-2},{"$f":"LN('Page 277'!Z43/'Page 277'!Z42)","v":-3.5664998410538912E-2},{"$f":"LN('Page 277'!AA43/'Page 277'!AA42)","v":4.3926313299627887E-2},{"$f":"LN('Page 277'!AB43/'Page 277'!AB42)","v":-3.4752424203033146E-3},{"$f":"LN('Page 277'!AC43/'Page 277'!AC42)","v":5.3728809817069866E-2},{"$f":"LN('Page 277'!AD43/'Page 277'!AD42)","v":5.2999696582927081E-2},{"$f":"LN('Page 277'!AE43/'Page 277'!AE42)","v":-3.5111631459662673E-2},{"$f":"LN('Page 277'!AF43/'Page 277'!AF42)","v":4.5677555601914867E-2}]
["2004-12-01",{"$f":"LN('Page 277'!B44/'Page 277'!B43)","v":3.1942491193192112E-2},{"$f":"LN('Page 277'!C44/'Page 277'!C43)","v":-7.8576913481500574E-2},{"$f":"LN('Page 277'!D44/'Page 277'!D43)","v":3.7183670283339881E-2},{"$f":"LN('Page 277'!E44/'Page 277'!E43)","v":1.1812384784482806E-2},{"$f":"LN('Page 277'!F44/'Page 277'!F43)","v":-3.4231269110829042E-2},{"$f":"LN('Page 277'!G44/'Page 277'!G43)","v":7.3688997629623151E-2},{"$f":"LN('Page 277'!H44/'Page 277'!H43)","v":6.2954811984739401E-2},{"$f":"LN('Page 277'!I44/'Page 277'!I43)","v":7.9096996758603308E-2},{"$f":"LN('Page 277'!J44/'Page 277'!J43)","v":4.2701865302176713E-2},{"$f":"LN('Page 277'!K44/'Page 277'!K43)","v":3.7520760091573076E-2},{"$f":"LN('Page 277'!L44/'Page 277'!L43)","v":3.7322922153975452E-2},{"$f":"LN('Page 277'!M44/'Page 277'!M43)","v":2.3366111829273544E-2},{"$f":"LN('Page 277'!N44/'Page 277'!N43)","v":2.3371322353075985E-3},{"$f":"LN('Page 277'!O44/'Page 277'!O43)","v":5.0807739631713138E-2},{"$f":"LN('Page 277'!P44/'Page 277'!P43)","v":4.5093492359046861E-2},{"$f":"LN('Page 277'!Q44/'Page 277'!Q43)","v":4.4272823677988037E-2},{"$f":"LN('Page 277'!R44/'Page 277'!R43)","v":5.0214868784261207E-2},{"$f":"LN('Page 277'!S44/'Page 277'!S43)","v":3.5296146903782737E-2},{"$f":"LN('Page 277'!T44/'Page 277'!T43)","v":5.7629112836636423E-2},{"$f":"LN('Page 277'!U44/'Page 277'!U43)","v":4.2255229895782231E-2},{"$f":"LN('Page 277'!V44/'Page 277'!V43)","v":3.0700799499319052E-2},{"$f":"LN('Page 277'!W44/'Page 277'!W43)","v":7.2845091274365475E-2},{"$f":"LN('Page 277'!X44/'Page 277'!X43)","v":0.15064395501804845},{"$f":"LN('Page 277'!Y44/'Page 277'!Y43)","v":-3.0476214064748372E-3},{"$f":"LN('Page 277'!Z44/'Page 277'!Z43)","v":-3.2285663497968721E-2},{"$f":"LN('Page 277'!AA44/'Page 277'!AA43)","v":2.9433435848742025E-2},{"$f":"LN('Page 277'!AB44/'Page 277'!AB43)","v":2.3651930318661592E-2},{"$f":"LN('Page 277'!AC44/'Page 277'!AC43)","v":5.7356806857164953E-2},{"$f":"LN('Page 277'!AD44/'Page 277'!AD43)","v":-1.7534987010644373E-2},{"$f":"LN('Page 277'!AE44/'Page 277'!AE43)","v":1.6938008368924173E-2},{"$f":"LN('Page 277'!AF44/'Page 277'!AF43)","v":2.0110608413675824E-4}]
["2005-01-03",{"$f":"LN('Page 277'!B45/'Page 277'!B44)","v":-2.5615747968515911E-2},{"$f":"LN('Page 277'!C45/'Page 277'!C44)","v":-6.230857333871094E-2},{"$f":"LN('Page 277'!D45/'Page 277'!D44)","v":9.3508767502730773E-3},{"$f":"LN('Page 277'!E45/'Page 277'!E44)","v":-5.2877616444773394E-2},{"$f":"LN('Page 277'!F45/'Page 277'!F44)","v":-2.2814677766171399E-2},{"$f":"LN('Page 277'!G45/'Page 277'!G44)","v":1.7925110113229552E-2},{"$f":"LN('Page 277'!H45/'Page 277'!H44)","v":-8.5845329852435093E-2},{"$f":"LN('Page 277'!I45/'Page 277'!I44)","v":-3.0892167212963981E-2},{"$f":"LN('Page 277'!J45/'Page 277'!J44)","v":2.9371738905941854E-2},{"$f":"LN('Page 277'!K45/'Page 277'!K44)","v":-1.0041685297054388E-2},{"$f":"LN('Page 277'!L45/'Page 277'!L44)","v":-8.4621241930356389E-2},{"$f":"LN('Page 277'!M45/'Page 277'!M44)","v":-3.5380477259514341E-2},{"$f":"LN('Page 277'!N45/'Page 277'!N44)","v":1.5921598453525445E-2},{"$f":"LN('Page 277'!O45/'Page 277'!O44)","v":-6.7814075802137774E-2},{"$f":"LN('Page 277'!P45/'Page 277'!P44)","v":-5.3752492235068984E-2},{"$f":"LN('Page 277'!Q45/'Page 277'!Q44)","v":-4.1077203519580364E-2},{"$f":"LN('Page 277'!R45/'Page 277'!R44)","v":1.9974890936536489E-2},{"$f":"LN('Page 277'!S45/'Page 277'!S44)","v":-3.5296146903782771E-2},{"$f":"LN('Page 277'!T45/'Page 277'!T44)","v":-3.7570488777121766E-3},{"$f":"LN('Page 277'!U45/'Page 277'!U44)","v":1.0133082270787906E-2},{"$f":"LN('Page 277'!V45/'Page 277'!V44)","v":2.7582814615142014E-2},{"$f":"LN('Page 277'!W45/'Page 277'!W44)","v":4.3767669233827577E-2},{"$f":"LN('Page 277'!X45/'Page 277'!X44)","v":-0.13597187714720946},{"$f":"LN('Page 277'!Y45/'Page 277'!Y44)","v":-1.6929992671041276E-2},{"$f":"LN('Page 277'!Z45/'Page 277'!Z44)","v":-0.1070981355563671},{"$f":"LN('Page 277'!AA45/'Page 277'!AA44)","v":-2.9626169780147062E-2},{"$f":"LN('Page 277'!AB45/'Page 277'!AB44)","v":-6.8598316342752333E-2},{"$f":"LN('Page 277'!AC45/'Page 277'!AC44)","v":-2.6126888043386216E-2},{"$f":"LN('Page 277'!AD45/'Page 277'!AD44)","v":-0.11972810485004924},{"$f":"LN('Page 277'!AE45/'Page 277'!AE44)","v":-7.9465482612990947E-3},{"$f":"LN('Page 277'!AF45/'Page 277'!AF44)","v":6.6139132769810005E-3}]
["2005-02-01",{"$f":"LN('Page 277'!B46/'Page 277'!B45)","v":1.8726934874337724E-2},{"$f":"LN('Page 277'!C46/'Page 277'!C45)","v":8.9831761210009339E-2},{"$f":"LN('Page 277'!D46/'Page 277'!D45)","v":7.5999757812586811E-3},{"$f":"LN('Page 277'!E46/'Page 277'!E45)","v":1.487577285865291E-2},{"$f":"LN('Page 277'!F46/'Page 277'!F45)","v":8.755104241017489E-2},{"$f":"LN('Page 277'!G46/'Page 277'!G45)","v":-1.8579061090213268E-2},{"$f":"LN('Page 277'!H46/'Page 277'!H45)","v":6.4796397100662775E-2},{"$f":"LN('Page 277'!I46/'Page 277'!I45)","v":0.12096939095894733},{"$f":"LN('Page 277'!J46/'Page 277'!J45)","v":-2.4295585874081371E-2},{"$f":"LN('Page 277'!K46/'Page 277'!K45)","v":-1.9802627296179754E-2},{"$f":"LN('Page 277'!L46/'Page 277'!L45)","v":-1.8781294338486465E-2},{"$f":"LN('Page 277'!M46/'Page 277'!M45)","v":-3.0301554580135844E-2},{"$f":"LN('Page 277'!N46/'Page 277'!N45)","v":5.9103040431050836E-2},{"$f":"LN('Page 277'!O46/'Page 277'!O45)","v":6.0012963591970378E-2},{"$f":"LN('Page 277'!P46/'Page 277'!P45)","v":-7.2005547854782619E-3},{"$f":"LN('Page 277'!Q46/'Page 277'!Q45)","v":6.9964747892186846E-2},{"$f":"LN('Page 277'!R46/'Page 277'!R45)","v":1.8175134839673361E-2},{"$f":"LN('Page 277'!S46/'Page 277'!S45)","v":-2.1155734695328915E-2},{"$f":"LN('Page 277'!T46/'Page 277'!T45)","v":3.1128995673563007E-2},{"$f":"LN('Page 277'!U46/'Page 277'!U45)","v":2.1197801209267085E-2},{"$f":"LN('Page 277'!V46/'Page 277'!V45)","v":0},{"$f":"LN('Page 277'!W46/'Page 277'!W45)","v":2.8040761814603344E-2},{"$f":"LN('Page 277'!X46/'Page 277'!X45)","v":0.1224991236785478},{"$f":"LN('Page 277'!Y46/'Page 277'!Y45)","v":-4.0385535649574408E-2},{"$f":"LN('Page 277'!Z46/'Page 277'!Z45)","v":9.2143114607623741E-2},{"$f":"LN('Page 277'!AA46/'Page 277'!AA45)","v":-2.7021826903600847E-3},{"$f":"LN('Page 277'!AB46/'Page 277'!AB45)","v":1.2664122215730326E-2},{"$f":"LN('Page 277'!AC46/'Page 277'!AC45)","v":-3.6719747501210774E-3},{"$f":"LN('Page 277'!AD46/'Page 277'!AD45)","v":1.0518504191220317E-2},{"$f":"LN('Page 277'!AE46/'Page 277'!AE45)","v":-1.5294415778151649E-2},{"$f":"LN('Page 277'!AF46/'Page 277'!AF45)","v":0.20938574149133185}]
["2005-03-01",{"$f":"LN('Page 277'!B47/'Page 277'!B46)","v":-1.930275225452871E-2},{"$f":"LN('Page 277'!C47/'Page 277'!C46)","v":-5.5487726498661551E-2},{"$f":"LN('Page 277'!D47/'Page 277'!D46)","v":-0.18511163563429758},{"$f":"LN('Page 277'!E47/'Page 277'!E46)","v":-5.0471439764517609E-2},{"$f":"LN('Page 277'!F47/'Page 277'!F46)","v":6.1496993851172195E-2},{"$f":"LN('Page 277'!G47/'Page 277'!G46)","v":-5.9984290457148703E-2},{"$f":"LN('Page 277'!H47/'Page 277'!H46)","v":-3.8773885621271417E-2},{"$f":"LN('Page 277'!I47/'Page 277'!I46)","v":-3.9533996363863642E-2},{"$f":"LN('Page 277'!J47/'Page 277'!J46)","v":2.7819197694564632E-2},{"$f":"LN('Page 277'!K47/'Page 277'!K46)","v":2.4118559761748433E-2},{"$f":"LN('Page 277'!L47/'Page 277'!L46)","v":-0.19291006897247834},{"$f":"LN('Page 277'!M47/'Page 277'!M46)","v":-4.3123564739768361E-2},{"$f":"LN('Page 277'!N47/'Page 277'!N46)","v":-2.0235855939368382E-2},{"$f":"LN('Page 277'!O47/'Page 277'!O46)","v":5.7076831135436719E-2},{"$f":"LN('Page 277'!P47/'Page 277'!P46)","v":-1.3004371054261266E-2},{"$f":"LN('Page 277'!Q47/'Page 277'!Q46)","v":-3.2393244720235054E-2},{"$f":"LN('Page 277'!R47/'Page 277'!R46)","v":2.337386807319905E-2},{"$f":"LN('Page 277'!S47/'Page 277'!S46)","v":-5.4629194936529513E-2},{"$f":"LN('Page 277'!T47/'Page 277'!T46)","v":-2.014810170653111E-2},{"$f":"LN('Page 277'!U47/'Page 277'!U46)","v":-6.0721017578951812E-2},{"$f":"LN('Page 277'!V47/'Page 277'!V46)","v":2.061928720273561E-2},{"$f":"LN('Page 277'!W47/'Page 277'!W46)","v":7.2927962795744389E-3},{"$f":"LN('Page 277'!X47/'Page 277'!X46)","v":3.2691370170432756E-2},{"$f":"LN('Page 277'!Y47/'Page 277'!Y46)","v":-3.9980597752063453E-2},{"$f":"LN('Page 277'!Z47/'Page 277'!Z46)","v":-7.9333601939587397E-4},{"$f":"LN('Page 277'!AA47/'Page 277'!AA46)","v":-1.5473890901887063E-3},{"$f":"LN('Page 277'!AB47/'Page 277'!AB46)","v":-1.5398855004874062E-2},{"$f":"LN('Page 277'!AC47/'Page 277'!AC46)","v":1.7624278729574932E-2},{"$f":"LN('Page 277'!AD47/'Page 277'!AD46)","v":-1.324124070913597E-2},{"$f":"LN('Page 277'!AE47/'Page 277'!AE46)","v":-2.642796450870024E-2},{"$f":"LN('Page 277'!AF47/'Page 277'!AF46)","v":-6.0270261407945912E-2}]
["2005-04-01",{"$f":"LN('Page 277'!B48/'Page 277'!B47)","v":-2.031351934767037E-2},{"$f":"LN('Page 277'!C48/'Page 277'!C47)","v":-4.594142352617691E-2},{"$f":"LN('Page 277'!D48/'Page 277'!D47)","v":-8.5753223660070765E-2},{"$f":"LN('Page 277'!E48/'Page 277'!E47)","v":2.5554106869720993E-2},{"$f":"LN('Page 277'!F48/'Page 277'!F47)","v":1.7974904970744807E-2},{"$f":"LN('Page 277'!G48/'Page 277'!G47)","v":5.3421151606371717E-2},{"$f":"LN('Page 277'!H48/'Page 277'!H47)","v":-3.3154717026338883E-2},{"$f":"LN('Page 277'!I48/'Page 277'!I47)","v":-8.4090263411085331E-2},{"$f":"LN('Page 277'!J48/'Page 277'!J47)","v":-8.4743621254678075E-2},{"$f":"LN('Page 277'!K48/'Page 277'!K47)","v":3.7254664094249785E-3},{"$f":"LN('Page 277'!L48/'Page 277'!L47)","v":-9.6880755578711189E-2},{"$f":"LN('Page 277'!M48/'Page 277'!M47)","v":-7.8097869719647564E-2},{"$f":"LN('Page 277'!N48/'Page 277'!N47)","v":-3.9729129667874785E-2},{"$f":"LN('Page 277'!O48/'Page 277'!O47)","v":-6.9389225039504426E-2},{"$f":"LN('Page 277'!P48/'Page 277'!P47)","v":-0.1793310245768219},{"$f":"LN('Page 277'!Q48/'Page 277'!Q47)","v":1.2216556821876676E-2},{"$f":"LN('Page 277'!R48/'Page 277'!R47)","v":2.1792629990852578E-2},{"$f":"LN('Page 277'!S48/'Page 277'!S47)","v":3.537539129398188E-2},{"$f":"LN('Page 277'!T48/'Page 277'!T47)","v":4.156631908011249E-2},{"$f":"LN('Page 277'!U48/'Page 277'!U47)","v":-6.046075454855495E-2},{"$f":"LN('Page 277'!V48/'Page 277'!V47)","v":-0.11379938430369087},{"$f":"LN('Page 277'!W48/'Page 277'!W47)","v":-6.1548623195070394E-3},{"$f":"LN('Page 277'!X48/'Page 277'!X47)","v":4.6176847292534448E-2},{"$f":"LN('Page 277'!Y48/'Page 277'!Y47)","v":4.5621225116864943E-2},{"$f":"LN('Page 277'!Z48/'Page 277'!Z47)","v":3.355757717932132E-2},{"$f":"LN('Page 277'!AA48/'Page 277'!AA47)","v":2.6551077392297673E-2},{"$f":"LN('Page 277'!AB48/'Page 277'!AB47)","v":1.7643524858697884E-2},{"$f":"LN('Page 277'!AC48/'Page 277'!AC47)","v":6.0222826270591909E-4},{"$f":"LN('Page 277'!AD48/'Page 277'!AD47)","v":1.9796687307881516E-2},{"$f":"LN('Page 277'!AE48/'Page 277'!AE47)","v":-6.128420224573547E-2},{"$f":"LN('Page 277'!AF48/'Page 277'!AF47)","v":-4.415456483047743E-2}]
["2005-05-02",{"$f":"LN('Page 277'!B49/'Page 277'!B48)","v":2.9512223385105795E-2},{"$f":"LN('Page 277'!C49/'Page 277'!C48)","v":-6.3478637625527953E-2},{"$f":"LN('Page 277'!D49/'Page 277'!D48)","v":8.8300995738869445E-2},{"$f":"LN('Page 277'!E49/'Page 277'!E48)","v":2.1702240638656743E-2},{"$f":"LN('Page 277'!F49/'Page 277'!F48)","v":7.5208526210292018E-2},{"$f":"LN('Page 277'!G49/'Page 277'!G48)","v":3.0681593211776266E-3},{"$f":"LN('Page 277'!H49/'Page 277'!H48)","v":6.6542399816643685E-2},{"$f":"LN('Page 277'!I49/'Page 277'!I48)","v":-4.8856415191471511E-3},{"$f":"LN('Page 277'!J49/'Page 277'!J48)","v":3.8675741971714132E-2},{"$f":"LN('Page 277'!K49/'Page 277'!K48)","v":7.6934415658113531E-3},{"$f":"LN('Page 277'!L49/'Page 277'!L48)","v":0.18352710244930318},{"$f":"LN('Page 277'!M49/'Page 277'!M48)","v":0.10662263503826326},{"$f":"LN('Page 277'!N49/'Page 277'!N48)","v":1.8793263814285963E-2},{"$f":"LN('Page 277'!O49/'Page 277'!O48)","v":9.5400273952770856E-2},{"$f":"LN('Page 277'!P49/'Page 277'!P48)","v":-8.2623071303056482E-3},{"$f":"LN('Page 277'!Q49/'Page 277'!Q48)","v":0.14017665330873544},{"$f":"LN('Page 277'!R49/'Page 277'!R48)","v":-1.767017205696865E-2},{"$f":"LN('Page 277'!S49/'Page 277'!S48)","v":7.3367900638543083E-3},{"$f":"LN('Page 277'!T49/'Page 277'!T48)","v":2.7012799246068551E-2},{"$f":"LN('Page 277'!U49/'Page 277'!U48)","v":5.4213816594147521E-2},{"$f":"LN('Page 277'!V49/'Page 277'!V48)","v":7.7717127067817651E-3},{"$f":"LN('Page 277'!W49/'Page 277'!W48)","v":3.260637264885393E-2},{"$f":"LN('Page 277'!X49/'Page 277'!X48)","v":-4.4209633543365608E-2},{"$f":"LN('Page 277'!Y49/'Page 277'!Y48)","v":2.2642476749759752E-2},{"$f":"LN('Page 277'!Z49/'Page 277'!Z48)","v":3.3581725658307145E-2},{"$f":"LN('Page 277'!AA49/'Page 277'!AA48)","v":1.8304582795982412E-2},{"$f":"LN('Page 277'!AB49/'Page 277'!AB48)","v":-1.7643524858697926E-2},{"$f":"LN('Page 277'!AC49/'Page 277'!AC48)","v":5.2005462970895373E-2},{"$f":"LN('Page 277'!AD49/'Page 277'!AD48)","v":-1.165061721997525E-2},{"$f":"LN('Page 277'!AE49/'Page 277'!AE48)","v":5.1635226600492837E-3},{"$f":"LN('Page 277'!AF49/'Page 277'!AF48)","v":-9.5780979821466408E-3}]
["2005-06-01",{"$f":"LN('Page 277'!B50/'Page 277'!B49)","v":-1.4268747689802155E-4},{"$f":"LN('Page 277'!C50/'Page 277'!C49)","v":-3.6437396202430979E-2},{"$f":"LN('Page 277'!D50/'Page 277'!D49)","v":4.7213737480265194E-2},{"$f":"LN('Page 277'!E50/'Page 277'!E49)","v":-9.4910117105872979E-3},{"$f":"LN('Page 277'!F50/'Page 277'!F49)","v":3.235921258011671E-2},{"$f":"LN('Page 277'!G50/'Page 277'!G49)","v":-1.8774709395353945E-2},{"$f":"LN('Page 277'!H50/'Page 277'!H49)","v":1.2665190225578091E-2},{"$f":"LN('Page 277'!I50/'Page 277'!I49)","v":-7.8226311422276262E-2},{"$f":"LN('Page 277'!J50/'Page 277'!J49)","v":-8.570635246069197E-2},{"$f":"LN('Page 277'!K50/'Page 277'!K49)","v":-4.5290759180162989E-2},{"$f":"LN('Page 277'!L50/'Page 277'!L49)","v":7.5398017484211849E-2},{"$f":"LN('Page 277'!M50/'Page 277'!M49)","v":-8.810629682154807E-3},{"$f":"LN('Page 277'!N50/'Page 277'!N49)","v":1.0941335128593244E-2},{"$f":"LN('Page 277'!O50/'Page 277'!O49)","v":4.6642858212284775E-2},{"$f":"LN('Page 277'!P50/'Page 277'!P49)","v":-1.8093931385227312E-2},{"$f":"LN('Page 277'!Q50/'Page 277'!Q49)","v":-3.5683816664131493E-2},{"$f":"LN('Page 277'!R50/'Page 277'!R49)","v":-3.1891247537313885E-2},{"$f":"LN('Page 277'!S50/'Page 277'!S49)","v":-1.2356732688905492E-2},{"$f":"LN('Page 277'!T50/'Page 277'!T49)","v":-6.0421861377198391E-2},{"$f":"LN('Page 277'!U50/'Page 277'!U49)","v":-0.1089583021297915},{"$f":"LN('Page 277'!V50/'Page 277'!V49)","v":-5.839972287312481E-2},{"$f":"LN('Page 277'!W50/'Page 277'!W49)","v":-2.7097609528046317E-2},{"$f":"LN('Page 277'!X50/'Page 277'!X49)","v":-4.0098923757426963E-2},{"$f":"LN('Page 277'!Y50/'Page 277'!Y49)","v":-3.7619482061249911E-2},{"$f":"LN('Page 277'!Z50/'Page 277'!Z49)","v":-1.1569451682817729E-2},{"$f":"LN('Page 277'!AA50/'Page 277'!AA49)","v":-4.4468588381628066E-2},{"$f":"LN('Page 277'!AB50/'Page 277'!AB49)","v":1.5848192240023713E-2},{"$f":"LN('Page 277'!AC50/'Page 277'!AC49)","v":-3.8253377781918056E-2},{"$f":"LN('Page 277'!AD50/'Page 277'!AD49)","v":-2.3716526617316044E-2},{"$f":"LN('Page 277'!AE50/'Page 277'!AE49)","v":2.0391530690980819E-2},{"$f":"LN('Page 277'!AF50/'Page 277'!AF49)","v":2.2444608575396804E-2}]
["2005-07-01",{"$f":"LN('Page 277'!B51/'Page 277'!B50)","v":3.5336451864729147E-2},{"$f":"LN('Page 277'!C51/'Page 277'!C50)","v":7.086611586863184E-2},{"$f":"LN('Page 277'!D51/'Page 277'!D50)","v":3.5426047847868215E-2},{"$f":"LN('Page 277'!E51/'Page 277'!E50)","v":3.2831770011486773E-2},{"$f":"LN('Page 277'!F51/'Page 277'!F50)","v":1.5381065938180444E-4},{"$f":"LN('Page 277'!G51/'Page 277'!G50)","v":-5.0999961834334188E-2},{"$f":"LN('Page 277'!H51/'Page 277'!H50)","v":0.12796988096337655},{"$f":"LN('Page 277'!I51/'Page 277'!I50)","v":-7.7332429856533293E-3},{"$f":"LN('Page 277'!J51/'Page 277'!J50)","v":1.7896679691938006E-2},{"$f":"LN('Page 277'!K51/'Page 277'!K50)","v":-4.1666726948459453E-3},{"$f":"LN('Page 277'!L51/'Page 277'!L50)","v":7.961287744985443E-2},{"$f":"LN('Page 277'!M51/'Page 277'!M50)","v":0.111924040446493},{"$f":"LN('Page 277'!N51/'Page 277'!N50)","v":6.9773816470022842E-2},{"$f":"LN('Page 277'!O51/'Page 277'!O50)","v":4.6207295751177817E-2},{"$f":"LN('Page 277'!P51/'Page 277'!P50)","v":0.11761648380916553},{"$f":"LN('Page 277'!Q51/'Page 277'!Q50)","v":4.2071213920687058E-2},{"$f":"LN('Page 277'!R51/'Page 277'!R50)","v":-1.6015564711261688E-2},{"$f":"LN('Page 277'!S51/'Page 277'!S50)","v":4.725348426426074E-3},{"$f":"LN('Page 277'!T51/'Page 277'!T50)","v":4.7124103313094759E-2},{"$f":"LN('Page 277'!U51/'Page 277'!U50)","v":0.11618804114610691},{"$f":"LN('Page 277'!V51/'Page 277'!V50)","v":3.6675870532732226E-2},{"$f":"LN('Page 277'!W51/'Page 277'!W50)","v":3.492972976486533E-2},{"$f":"LN('Page 277'!X51/'Page 277'!X50)","v":8.487574293294043E-3},{"$f":"LN('Page 277'!Y51/'Page 277'!Y50)","v":3.0524458210646015E-2},{"$f":"LN('Page 277'!Z51/'Page 277'!Z50)","v":-3.9821494186671608E-2},{"$f":"LN('Page 277'!AA51/'Page 277'!AA50)","v":5.8254304360585818E-2},{"$f":"LN('Page 277'!AB51/'Page 277'!AB50)","v":4.265320093491904E-2},{"$f":"LN('Page 277'!AC51/'Page 277'!AC50)","v":-1.2749176670454627E-2},{"$f":"LN('Page 277'!AD51/'Page 277'!AD50)","v":2.1515299524503405E-3},{"$f":"LN('Page 277'!AE51/'Page 277'!AE50)","v":2.3481598372028376E-2},{"$f":"LN('Page 277'!AF51/'Page 277'!AF50)","v":2.1951886837931294E-2}]
["2005-08-01",{"$f":"LN('Page 277'!B52/'Page 277'!B51)","v":-1.1285467972359155E-2},{"$f":"LN('Page 277'!C52/'Page 277'!C51)","v":-4.0852320064980054E-2},{"$f":"LN('Page 277'!D52/'Page 277'!D51)","v":-1.4155949230132298E-2},{"$f":"LN('Page 277'!E52/'Page 277'!E51)","v":4.3946915974237147E-3},{"$f":"LN('Page 277'!F52/'Page 277'!F51)","v":1.8891481995990719E-2},{"$f":"LN('Page 277'!G52/'Page 277'!G51)","v":6.3150718583181633E-3},{"$f":"LN('Page 277'!H52/'Page 277'!H51)","v":2.9041160489105523E-2},{"$f":"LN('Page 277'!I52/'Page 277'!I51)","v":-6.6967475452974504E-2},{"$f":"LN('Page 277'!J52/'Page 277'!J51)","v":-1.7495476075724006E-2},{"$f":"LN('Page 277'!K52/'Page 277'!K51)","v":-2.6289472935818216E-2},{"$f":"LN('Page 277'!L52/'Page 277'!L51)","v":-5.9944142589560705E-2},{"$f":"LN('Page 277'!M52/'Page 277'!M51)","v":-7.3624746343640385E-2},{"$f":"LN('Page 277'!N52/'Page 277'!N51)","v":-2.0239881347746316E-2},{"$f":"LN('Page 277'!O52/'Page 277'!O51)","v":0.12015205726548621},{"$f":"LN('Page 277'!P52/'Page 277'!P51)","v":-3.2127817082959545E-2},{"$f":"LN('Page 277'!Q52/'Page 277'!Q51)","v":-5.0702103119962205E-2},{"$f":"LN('Page 277'!R52/'Page 277'!R51)","v":-3.843694674562827E-3},{"$f":"LN('Page 277'!S52/'Page 277'!S51)","v":-3.6302171292991139E-2},{"$f":"LN('Page 277'!T52/'Page 277'!T51)","v":5.3870606915213462E-3},{"$f":"LN('Page 277'!U52/'Page 277'!U51)","v":4.0428989995644933E-2},{"$f":"LN('Page 277'!V52/'Page 277'!V51)","v":-4.6773375085093986E-2},{"$f":"LN('Page 277'!W52/'Page 277'!W51)","v":5.4354604727998697E-2},{"$f":"LN('Page 277'!X52/'Page 277'!X51)","v":-8.2044936173400654E-2},{"$f":"LN('Page 277'!Y52/'Page 277'!Y51)","v":6.9520158606998589E-2},{"$f":"LN('Page 277'!Z52/'Page 277'!Z51)","v":-3.2152005438417744E-2},{"$f":"LN('Page 277'!AA52/'Page 277'!AA51)","v":-2.7419814273057968E-3},{"$f":"LN('Page 277'!AB52/'Page 277'!AB51)","v":-1.5618538747627968E-2},{"$f":"LN('Page 277'!AC52/'Page 277'!AC51)","v":-9.669696617958936E-3},{"$f":"LN('Page 277'!AD52/'Page 277'!AD51)","v":-4.5219634834625322E-2},{"$f":"LN('Page 277'!AE52/'Page 277'!AE51)","v":-8.9984481022414978E-2},{"$f":"LN('Page 277'!AF52/'Page 277'!AF51)","v":2.4196804699411927E-2}]
["2005-09-01",{"$f":"LN('Page 277'!B53/'Page 277'!B52)","v":6.9249074268589216E-3},{"$f":"LN('Page 277'!C53/'Page 277'!C52)","v":-9.2471150737398339E-2},{"$f":"LN('Page 277'!D53/'Page 277'!D52)","v":4.5616997408971932E-2},{"$f":"LN('Page 277'!E53/'Page 277'!E52)","v":3.8907446299573378E-2},{"$f":"LN('Page 277'!F53/'Page 277'!F52)","v":1.3789187312396822E-2},{"$f":"LN('Page 277'!G53/'Page 277'!G52)","v":3.9095160497229303E-2},{"$f":"LN('Page 277'!H53/'Page 277'!H52)","v":5.7046992662719183E-2},{"$f":"LN('Page 277'!I53/'Page 277'!I52)","v":-1.0168253429252682E-2},{"$f":"LN('Page 277'!J53/'Page 277'!J52)","v":-4.3030609011065264E-2},{"$f":"LN('Page 277'!K53/'Page 277'!K52)","v":8.5366372071751795E-3},{"$f":"LN('Page 277'!L53/'Page 277'!L52)","v":-0.11058139743583054},{"$f":"LN('Page 277'!M53/'Page 277'!M52)","v":-5.5627110165963341E-2},{"$f":"LN('Page 277'!N53/'Page 277'!N52)","v":-2.0658011620421985E-2},{"$f":"LN('Page 277'!O53/'Page 277'!O52)","v":5.3166311674076518E-2},{"$f":"LN('Page 277'!P53/'Page 277'!P52)","v":-5.0163135036327879E-3},{"$f":"LN('Page 277'!Q53/'Page 277'!Q52)","v":-4.2662405188275292E-2},{"$f":"LN('Page 277'!R53/'Page 277'!R52)","v":-1.766643035564452E-3},{"$f":"LN('Page 277'!S53/'Page 277'!S52)","v":1.2213741976343732E-3},{"$f":"LN('Page 277'!T53/'Page 277'!T52)","v":-1.222106867245757E-2},{"$f":"LN('Page 277'!U53/'Page 277'!U52)","v":3.1571795875813574E-2},{"$f":"LN('Page 277'!V53/'Page 277'!V52)","v":3.0546396365180008E-2},{"$f":"LN('Page 277'!W53/'Page 277'!W52)","v":5.2814229686611279E-2},{"$f":"LN('Page 277'!X53/'Page 277'!X52)","v":-3.6625917411804654E-2},{"$f":"LN('Page 277'!Y53/'Page 277'!Y52)","v":-6.2032438894289652E-2},{"$f":"LN('Page 277'!Z53/'Page 277'!Z52)","v":-2.0375603033017994E-2},{"$f":"LN('Page 277'!AA53/'Page 277'!AA52)","v":6.9297907636100012E-2},{"$f":"LN('Page 277'!AB53/'Page 277'!AB52)","v":-4.3821279590416148E-3},{"$f":"LN('Page 277'!AC53/'Page 277'!AC52)","v":3.6179656577502474E-2},{"$f":"LN('Page 277'!AD53/'Page 277'!AD52)","v":-6.4267354397108223E-4},{"$f":"LN('Page 277'!AE53/'Page 277'!AE52)","v":-2.5721231324919751E-2},{"$f":"LN('Page 277'!AF53/'Page 277'!AF52)","v":5.908752662314206E-2}]
["2005-10-03",{"$f":"LN('Page 277'!B54/'Page 277'!B53)","v":-1.7899994313773929E-2},{"$f":"LN('Page 277'!C54/'Page 277'!C53)","v":-5.4200674693391446E-3},{"$f":"LN('Page 277'!D54/'Page 277'!D53)","v":4.4712584018884359E-2},{"$f":"LN('Page 277'!E54/'Page 277'!E53)","v":-7.6613277964327677E-3},{"$f":"LN('Page 277'!F54/'Page 277'!F53)","v":-4.9899740521956448E-2},{"$f":"LN('Page 277'!G54/'Page 277'!G53)","v":5.8126700660439141E-3},{"$f":"LN('Page 277'!H54/'Page 277'!H53)","v":-0.10618361611297575},{"$f":"LN('Page 277'!I54/'Page 277'!I53)","v":6.2472709572152785E-2},{"$f":"LN('Page 277'!J54/'Page 277'!J53)","v":9.5854036686783221E-3},{"$f":"LN('Page 277'!K54/'Page 277'!K53)","v":6.9581282094668068E-3},{"$f":"LN('Page 277'!L54/'Page 277'!L53)","v":-0.1109657416650736},{"$f":"LN('Page 277'!M54/'Page 277'!M53)","v":7.3256368722335555E-2},{"$f":"LN('Page 277'!N54/'Page 277'!N53)","v":-9.1927455517847478E-2},{"$f":"LN('Page 277'!O54/'Page 277'!O53)","v":-4.0505625285962132E-2},{"$f":"LN('Page 277'!P54/'Page 277'!P53)","v":2.0532047094810383E-2},{"$f":"LN('Page 277'!Q54/'Page 277'!Q53)","v":-4.7577905830525957E-2},{"$f":"LN('Page 277'!R54/'Page 277'!R53)","v":-1.0503449556249871E-2},{"$f":"LN('Page 277'!S54/'Page 277'!S53)","v":8.6197293297574903E-2},{"$f":"LN('Page 277'!T54/'Page 277'!T53)","v":-9.5035165254536737E-3},{"$f":"LN('Page 277'!U54/'Page 277'!U53)","v":-5.8342036940418444E-2},{"$f":"LN('Page 277'!V54/'Page 277'!V53)","v":3.5010045623190378E-2},{"$f":"LN('Page 277'!W54/'Page 277'!W53)","v":1.8058554362292371E-2},{"$f":"LN('Page 277'!X54/'Page 277'!X53)","v":3.6258877583862995E-2},{"$f":"LN('Page 277'!Y54/'Page 277'!Y53)","v":-1.1785505194441416E-3},{"$f":"LN('Page 277'!Z54/'Page 277'!Z53)","v":-0.13842483752179424},{"$f":"LN('Page 277'!AA54/'Page 277'!AA53)","v":-5.4940550608893871E-2},{"$f":"LN('Page 277'!AB54/'Page 277'!AB53)","v":8.7451366253586318E-3},{"$f":"LN('Page 277'!AC54/'Page 277'!AC53)","v":-1.0796061283560747E-2},{"$f":"LN('Page 277'!AD54/'Page 277'!AD53)","v":-2.4074031851888247E-2},{"$f":"LN('Page 277'!AE54/'Page 277'!AE53)","v":7.675606534817557E-2},{"$f":"LN('Page 277'!AF54/'Page 277'!AF53)","v":-0.12387475055085766}]
["2005-11-01",{"$f":"LN('Page 277'!B55/'Page 277'!B54)","v":3.4581237676988605E-2},{"$f":"LN('Page 277'!C55/'Page 277'!C54)","v":0.12703037360806441},{"$f":"LN('Page 277'!D55/'Page 277'!D54)","v":3.5492263906324352E-2},{"$f":"LN('Page 277'!E55/'Page 277'!E54)","v":3.2456806178875773E-2},{"$f":"LN('Page 277'!F55/'Page 277'!F54)","v":5.7167106581943863E-2},{"$f":"LN('Page 277'!G55/'Page 277'!G54)","v":6.8487468119720521E-2},{"$f":"LN('Page 277'!H55/'Page 277'!H54)","v":9.4055955342796926E-2},{"$f":"LN('Page 277'!I55/'Page 277'!I54)","v":3.3885139264615775E-2},{"$f":"LN('Page 277'!J55/'Page 277'!J54)","v":2.296123834818568E-2},{"$f":"LN('Page 277'!K55/'Page 277'!K54)","v":5.198645174694938E-2},{"$f":"LN('Page 277'!L55/'Page 277'!L54)","v":-0.20545063730561666},{"$f":"LN('Page 277'!M55/'Page 277'!M54)","v":2.0222397007998206E-2},{"$f":"LN('Page 277'!N55/'Page 277'!N54)","v":7.1663892514036848E-2},{"$f":"LN('Page 277'!O55/'Page 277'!O54)","v":5.6599107365378584E-2},{"$f":"LN('Page 277'!P55/'Page 277'!P54)","v":8.4627291677561431E-2},{"$f":"LN('Page 277'!Q55/'Page 277'!Q54)","v":0.13040014782673898},{"$f":"LN('Page 277'!R55/'Page 277'!R54)","v":-8.8106296821549197E-3},{"$f":"LN('Page 277'!S55/'Page 277'!S54)","v":4.3550631224768349E-2},{"$f":"LN('Page 277'!T55/'Page 277'!T54)","v":4.5254334705107646E-3},{"$f":"LN('Page 277'!U55/'Page 277'!U54)","v":8.9242950636757717E-2},{"$f":"LN('Page 277'!V55/'Page 277'!V54)","v":3.7700662364008368E-2},{"$f":"LN('Page 277'!W55/'Page 277'!W54)","v":-3.0612495948348563E-2},{"$f":"LN('Page 277'!X55/'Page 277'!X54)","v":5.3951285962047978E-2},{"$f":"LN('Page 277'!Y55/'Page 277'!Y54)","v":7.7135728882227236E-2},{"$f":"LN('Page 277'!Z55/'Page 277'!Z54)","v":-1.6686918785014597E-2},{"$f":"LN('Page 277'!AA55/'Page 277'!AA54)","v":2.1068445774304875E-2},{"$f":"LN('Page 277'!AB55/'Page 277'!AB54)","v":4.3448060150596282E-2},{"$f":"LN('Page 277'!AC55/'Page 277'!AC54)","v":5.2851188193996486E-2},{"$f":"LN('Page 277'!AD55/'Page 277'!AD54)","v":1.470855083431217E-2},{"$f":"LN('Page 277'!AE55/'Page 277'!AE54)","v":2.6134258710418995E-2},{"$f":"LN('Page 277'!AF55/'Page 277'!AF54)","v":3.815563541679072E-2}]
["2005-12-01",{"$f":"LN('Page 277'!B56/'Page 277'!B55)","v":-9.528500142413687E-4},{"$f":"LN('Page 277'!C56/'Page 277'!C55)","v":7.5842213332526193E-2},{"$f":"LN('Page 277'!D56/'Page 277'!D55)","v":1.6180862197089498E-2},{"$f":"LN('Page 277'!E56/'Page 277'!E55)","v":7.8339212780407738E-4},{"$f":"LN('Page 277'!F56/'Page 277'!F55)","v":2.9700829254173194E-2},{"$f":"LN('Page 277'!G56/'Page 277'!G55)","v":-4.1640641867552982E-4},{"$f":"LN('Page 277'!H56/'Page 277'!H55)","v":-1.7432232241474714E-4},{"$f":"LN('Page 277'!I56/'Page 277'!I55)","v":-5.9673169077704346E-3},{"$f":"LN('Page 277'!J56/'Page 277'!J55)","v":-2.8784882094972462E-2},{"$f":"LN('Page 277'!K56/'Page 277'!K55)","v":-1.1803793304009404E-2},{"$f":"LN('Page 277'!L56/'Page 277'!L55)","v":-0.12029317970226346},{"$f":"LN('Page 277'!M56/'Page 277'!M55)","v":-3.1608658636442653E-2},{"$f":"LN('Page 277'!N56/'Page 277'!N55)","v":1.9178670030572068E-2},{"$f":"LN('Page 277'!O56/'Page 277'!O55)","v":-3.3152207316900509E-2},{"$f":"LN('Page 277'!P56/'Page 277'!P55)","v":-7.8365376685959193E-2},{"$f":"LN('Page 277'!Q56/'Page 277'!Q55)","v":-6.6508666504689312E-2},{"$f":"LN('Page 277'!R56/'Page 277'!R55)","v":-2.7075817260754826E-2},{"$f":"LN('Page 277'!S56/'Page 277'!S55)","v":3.7094875175309655E-2},{"$f":"LN('Page 277'!T56/'Page 277'!T55)","v":-5.7465998602946933E-2},{"$f":"LN('Page 277'!U56/'Page 277'!U55)","v":-3.8478662246293838E-3},{"$f":"LN('Page 277'!V56/'Page 277'!V55)","v":-1.2583677756234533E-2},{"$f":"LN('Page 277'!W56/'Page 277'!W55)","v":3.6651493165116622E-2},{"$f":"LN('Page 277'!X56/'Page 277'!X55)","v":7.8570051941829144E-2},{"$f":"LN('Page 277'!Y56/'Page 277'!Y55)","v":-5.6901575518259327E-2},{"$f":"LN('Page 277'!Z56/'Page 277'!Z55)","v":9.5310179804324741E-2},{"$f":"LN('Page 277'!AA56/'Page 277'!AA55)","v":1.2117103211349229E-2},{"$f":"LN('Page 277'!AB56/'Page 277'!AB55)","v":-1.7238181742378345E-2},{"$f":"LN('Page 277'!AC56/'Page 277'!AC55)","v":3.7657126385328331E-2},{"$f":"LN('Page 277'!AD56/'Page 277'!AD55)","v":-5.9834051855431142E-2},{"$f":"LN('Page 277'!AE56/'Page 277'!AE55)","v":-3.4066554563606195E-2},{"$f":"LN('Page 277'!AF56/'Page 277'!AF55)","v":-3.2563485910827014E-2}]
["2006-01-03",{"$f":"LN('Page 277'!B57/'Page 277'!B56)","v":2.5147961230518261E-2},{"$f":"LN('Page 277'!C57/'Page 277'!C56)","v":6.3151040259666502E-2},{"$f":"LN('Page 277'!D57/'Page 277'!D56)","v":-4.1490995554845825E-2},{"$f":"LN('Page 277'!E57/'Page 277'!E56)","v":2.1497874490983376E-2},{"$f":"LN('Page 277'!F57/'Page 277'!F56)","v":-2.7929088055432878E-2},{"$f":"LN('Page 277'!G57/'Page 277'!G56)","v":-4.1021584060690279E-2},{"$f":"LN('Page 277'!H57/'Page 277'!H56)","v":0.16559126222915135},{"$f":"LN('Page 277'!I57/'Page 277'!I56)","v":-8.2039752711578345E-2},{"$f":"LN('Page 277'!J57/'Page 277'!J56)","v":5.4396526110739675E-2},{"$f":"LN('Page 277'!K57/'Page 277'!K56)","v":-6.7690505338030463E-2},{"$f":"LN('Page 277'!L57/'Page 277'!L56)","v":0.21458520228304806},{"$f":"LN('Page 277'!M57/'Page 277'!M56)","v":1.7410774202929755E-3},{"$f":"LN('Page 277'!N57/'Page 277'!N56)","v":3.099366436581167E-2},{"$f":"LN('Page 277'!O57/'Page 277'!O56)","v":8.5430071204617777E-2},{"$f":"LN('Page 277'!P57/'Page 277'!P56)","v":-1.1077036338907607E-2},{"$f":"LN('Page 277'!Q57/'Page 277'!Q56)","v":-0.1607120724610995},{"$f":"LN('Page 277'!R57/'Page 277'!R56)","v":-4.3533755804915142E-2},{"$f":"LN('Page 277'!S57/'Page 277'!S56)","v":1.0021926359046567E-2},{"$f":"LN('Page 277'!T57/'Page 277'!T56)","v":2.6330383502959478E-2},{"$f":"LN('Page 277'!U57/'Page 277'!U56)","v":3.7542601832919666E-2},{"$f":"LN('Page 277'!V57/'Page 277'!V56)","v":-6.3181739632142964E-2},{"$f":"LN('Page 277'!W57/'Page 277'!W56)","v":-3.240219498645891E-2},{"$f":"LN('Page 277'!X57/'Page 277'!X56)","v":8.1179829888370206E-2},{"$f":"LN('Page 277'!Y57/'Page 277'!Y56)","v":7.3860307765218847E-2},{"$f":"LN('Page 277'!Z57/'Page 277'!Z56)","v":9.6580828005780536E-2},{"$f":"LN('Page 277'!AA57/'Page 277'!AA56)","v":2.7715002237054608E-2},{"$f":"LN('Page 277'!AB57/'Page 277'!AB56)","v":7.1590568904359053E-2},{"$f":"LN('Page 277'!AC57/'Page 277'!AC56)","v":4.3047747170555171E-2},{"$f":"LN('Page 277'!AD57/'Page 277'!AD56)","v":6.2749978107486393E-2},{"$f":"LN('Page 277'!AE57/'Page 277'!AE56)","v":-1.47444128178424E-2},{"$f":"LN('Page 277'!AF57/'Page 277'!AF56)","v":0.11090367760583343}]
["2006-02-01",{"$f":"LN('Page 277'!B58/'Page 277'!B57)","v":4.529940641520396E-4},{"$f":"LN('Page 277'!C58/'Page 277'!C57)","v":-6.6912371416664659E-2},{"$f":"LN('Page 277'!D58/'Page 277'!D57)","v":1.3719727397480003E-2},{"$f":"LN('Page 277'!E58/'Page 277'!E57)","v":2.6844712184124434E-2},{"$f":"LN('Page 277'!F58/'Page 277'!F57)","v":6.6343941572338291E-2},{"$f":"LN('Page 277'!G58/'Page 277'!G57)","v":6.056691670952419E-3},{"$f":"LN('Page 277'!H58/'Page 277'!H57)","v":7.3464074120697526E-2},{"$f":"LN('Page 277'!I58/'Page 277'!I57)","v":3.6488293263136684E-2},{"$f":"LN('Page 277'!J58/'Page 277'!J57)","v":0.10064772897032936},{"$f":"LN('Page 277'!K58/'Page 277'!K57)","v":1.1094104541358792E-2},{"$f":"LN('Page 277'!L58/'Page 277'!L57)","v":-0.1583331549988253},{"$f":"LN('Page 277'!M58/'Page 277'!M57)","v":3.8752259662623204E-2},{"$f":"LN('Page 277'!N58/'Page 277'!N57)","v":6.9361127797502531E-2},{"$f":"LN('Page 277'!O58/'Page 277'!O57)","v":5.090637234751344E-2},{"$f":"LN('Page 277'!P58/'Page 277'!P57)","v":-1.057552624708641E-2},{"$f":"LN('Page 277'!Q58/'Page 277'!Q57)","v":-2.6963597877582197E-2},{"$f":"LN('Page 277'!R58/'Page 277'!R57)","v":7.5339821976327277E-3},{"$f":"LN('Page 277'!S58/'Page 277'!S57)","v":3.4429836211787378E-2},{"$f":"LN('Page 277'!T58/'Page 277'!T57)","v":1.4119027143852922E-2},{"$f":"LN('Page 277'!U58/'Page 277'!U57)","v":-2.8604138496296457E-3},{"$f":"LN('Page 277'!V58/'Page 277'!V57)","v":1.7780083852863355E-2},{"$f":"LN('Page 277'!W58/'Page 277'!W57)","v":-6.0962831464255992E-3},{"$f":"LN('Page 277'!X58/'Page 277'!X57)","v":1.0616437076253071E-2},{"$f":"LN('Page 277'!Y58/'Page 277'!Y57)","v":-4.3135342068847039E-2},{"$f":"LN('Page 277'!Z58/'Page 277'!Z57)","v":2.8942184370920315E-2},{"$f":"LN('Page 277'!AA58/'Page 277'!AA57)","v":1.1814483413763056E-2},{"$f":"LN('Page 277'!AB58/'Page 277'!AB57)","v":6.1251442809923673E-2},{"$f":"LN('Page 277'!AC58/'Page 277'!AC57)","v":6.025670293590032E-3},{"$f":"LN('Page 277'!AD58/'Page 277'!AD57)","v":6.2392901627301156E-2},{"$f":"LN('Page 277'!AE58/'Page 277'!AE57)","v":-1.6518380210940327E-2},{"$f":"LN('Page 277'!AF58/'Page 277'!AF57)","v":-5.0183825252067778E-2}]
["2006-03-01",{"$f":"LN('Page 277'!B59/'Page 277'!B58)","v":1.1034733969458945E-2},{"$f":"LN('Page 277'!C59/'Page 277'!C58)","v":4.1602779042856315E-2},{"$f":"LN('Page 277'!D59/'Page 277'!D58)","v":-1.8184578431258707E-3},{"$f":"LN('Page 277'!E59/'Page 277'!E58)","v":-2.5121729083425172E-2},{"$f":"LN('Page 277'!F59/'Page 277'!F58)","v":6.9581691288308697E-2},{"$f":"LN('Page 277'!G59/'Page 277'!G58)","v":1.8376585504656297E-2},{"$f":"LN('Page 277'!H59/'Page 277'!H58)","v":-1.7586827303334048E-2},{"$f":"LN('Page 277'!I59/'Page 277'!I58)","v":4.7942660970409473E-2},{"$f":"LN('Page 277'!J59/'Page 277'!J58)","v":-3.5791018879645156E-3},{"$f":"LN('Page 277'!K59/'Page 277'!K58)","v":5.6306755609997976E-2},{"$f":"LN('Page 277'!L59/'Page 277'!L58)","v":4.6158302921268657E-2},{"$f":"LN('Page 277'!M59/'Page 277'!M58)","v":7.1462905368182526E-3},{"$f":"LN('Page 277'!N59/'Page 277'!N58)","v":4.3469444220723227E-2},{"$f":"LN('Page 277'!O59/'Page 277'!O58)","v":5.1948168771041511E-3},{"$f":"LN('Page 277'!P59/'Page 277'!P58)","v":2.7388832663133186E-2},{"$f":"LN('Page 277'!Q59/'Page 277'!Q58)","v":-5.6727880402377404E-2},{"$f":"LN('Page 277'!R59/'Page 277'!R58)","v":2.6865745285799249E-2},{"$f":"LN('Page 277'!S59/'Page 277'!S58)","v":1.2032066579569562E-2},{"$f":"LN('Page 277'!T59/'Page 277'!T58)","v":4.8227727912260052E-3},{"$f":"LN('Page 277'!U59/'Page 277'!U58)","v":-1.588022400088996E-2},{"$f":"LN('Page 277'!V59/'Page 277'!V58)","v":2.815190289476506E-2},{"$f":"LN('Page 277'!W59/'Page 277'!W58)","v":-3.7042356075807268E-3},{"$f":"LN('Page 277'!X59/'Page 277'!X58)","v":2.1474998228097959E-2},{"$f":"LN('Page 277'!Y59/'Page 277'!Y58)","v":1.225187035339419E-2},{"$f":"LN('Page 277'!Z59/'Page 277'!Z58)","v":-4.9387875531209637E-2},{"$f":"LN('Page 277'!AA59/'Page 277'!AA58)","v":-3.9180445507657986E-2},{"$f":"LN('Page 277'!AB59/'Page 277'!AB58)","v":-2.0255756308274839E-2},{"$f":"LN('Page 277'!AC59/'Page 277'!AC58)","v":-9.1387824584463293E-3},{"$f":"LN('Page 277'!AD59/'Page 277'!AD58)","v":1.0582109330537008E-2},{"$f":"LN('Page 277'!AE59/'Page 277'!AE58)","v":4.4306921099570601E-2},{"$f":"LN('Page 277'!AF59/'Page 277'!AF58)","v":2.4911427810049402E-2}]
["2006-04-03",{"$f":"LN('Page 277'!B60/'Page 277'!B59)","v":1.2082373675144375E-2},{"$f":"LN('Page 277'!C60/'Page 277'!C59)","v":9.9989561843298519E-2},{"$f":"LN('Page 277'!D60/'Page 277'!D59)","v":-1.2822645540912345E-2},{"$f":"LN('Page 277'!E60/'Page 277'!E59)","v":2.6053956241456868E-2},{"$f":"LN('Page 277'!F60/'Page 277'!F59)","v":6.8546381577074961E-2},{"$f":"LN('Page 277'!G60/'Page 277'!G59)","v":5.5993221186536851E-2},{"$f":"LN('Page 277'!H60/'Page 277'!H59)","v":5.6490717135769065E-2},{"$f":"LN('Page 277'!I60/'Page 277'!I59)","v":4.3693435217569923E-2},{"$f":"LN('Page 277'!J60/'Page 277'!J59)","v":2.5067157262118516E-3},{"$f":"LN('Page 277'!K60/'Page 277'!K59)","v":-5.5192587456266489E-3},{"$f":"LN('Page 277'!L60/'Page 277'!L59)","v":7.3225748894030954E-2},{"$f":"LN('Page 277'!M60/'Page 277'!M59)","v":-5.7647216771325914E-2},{"$f":"LN('Page 277'!N60/'Page 277'!N59)","v":-6.3656940173461869E-3},{"$f":"LN('Page 277'!O60/'Page 277'!O59)","v":-1.3192398723521168E-2},{"$f":"LN('Page 277'!P60/'Page 277'!P59)","v":-1.5833387389166198E-3},{"$f":"LN('Page 277'!Q60/'Page 277'!Q59)","v":2.6505119379997093E-2},{"$f":"LN('Page 277'!R60/'Page 277'!R59)","v":-1.0247741260475809E-2},{"$f":"LN('Page 277'!S60/'Page 277'!S59)","v":9.4044595746061499E-2},{"$f":"LN('Page 277'!T60/'Page 277'!T59)","v":2.1626825682798628E-3},{"$f":"LN('Page 277'!U60/'Page 277'!U59)","v":6.0931568174785091E-3},{"$f":"LN('Page 277'!V60/'Page 277'!V59)","v":0.12106861082463452},{"$f":"LN('Page 277'!W60/'Page 277'!W59)","v":3.2025208754611109E-2},{"$f":"LN('Page 277'!X60/'Page 277'!X59)","v":-2.3236595865095331E-2},{"$f":"LN('Page 277'!Y60/'Page 277'!Y59)","v":-0.11898301733912256},{"$f":"LN('Page 277'!Z60/'Page 277'!Z59)","v":1.6071057021242771E-2},{"$f":"LN('Page 277'!AA60/'Page 277'!AA59)","v":1.5582032719997961E-2},{"$f":"LN('Page 277'!AB60/'Page 277'!AB59)","v":-1.874218180974075E-2},{"$f":"LN('Page 277'!AC60/'Page 277'!AC59)","v":8.0189267840077974E-2},{"$f":"LN('Page 277'!AD60/'Page 277'!AD59)","v":-1.8822656496633863E-2},{"$f":"LN('Page 277'!AE60/'Page 277'!AE59)","v":-4.7866435425159011E-2},{"$f":"LN('Page 277'!AF60/'Page 277'!AF59)","v":3.5683318735638396E-2}]
["2006-05-01",{"$f":"LN('Page 277'!B61/'Page 277'!B60)","v":-3.1404913585891703E-2},{"$f":"LN('Page 277'!C61/'Page 277'!C60)","v":-5.8471128985531085E-2},{"$f":"LN('Page 277'!D61/'Page 277'!D60)","v":-6.8181138612174702E-2},{"$f":"LN('Page 277'!E61/'Page 277'!E60)","v":1.0197548274768733E-2},{"$f":"LN('Page 277'!F61/'Page 277'!F60)","v":9.614229799570056E-4},{"$f":"LN('Page 277'!G61/'Page 277'!G60)","v":-1.3098424045918254E-2},{"$f":"LN('Page 277'!H61/'Page 277'!H60)","v":-3.7532147504853987E-2},{"$f":"LN('Page 277'!I61/'Page 277'!I60)","v":-2.8053305983079591E-2},{"$f":"LN('Page 277'!J61/'Page 277'!J60)","v":8.6951766247756454E-2},{"$f":"LN('Page 277'!K61/'Page 277'!K60)","v":-9.3650084504965578E-3},{"$f":"LN('Page 277'!L61/'Page 277'!L60)","v":0.17263965122364733},{"$f":"LN('Page 277'!M61/'Page 277'!M60)","v":-4.6316484975888444E-2},{"$f":"LN('Page 277'!N61/'Page 277'!N60)","v":-2.6361459402393532E-2},{"$f":"LN('Page 277'!O61/'Page 277'!O60)","v":-2.7833634793053221E-3},{"$f":"LN('Page 277'!P61/'Page 277'!P60)","v":-2.6431080431950901E-2},{"$f":"LN('Page 277'!Q61/'Page 277'!Q60)","v":-9.8231949048236122E-2},{"$f":"LN('Page 277'!R61/'Page 277'!R60)","v":3.3260430607777773E-2},{"$f":"LN('Page 277'!S61/'Page 277'!S60)","v":-6.2334035820444104E-2},{"$f":"LN('Page 277'!T61/'Page 277'!T60)","v":4.803547304239731E-2},{"$f":"LN('Page 277'!U61/'Page 277'!U60)","v":-4.1340400974572103E-2},{"$f":"LN('Page 277'!V61/'Page 277'!V60)","v":-1.5654968672613196E-2},{"$f":"LN('Page 277'!W61/'Page 277'!W60)","v":-1.1120492693080124E-2},{"$f":"LN('Page 277'!X61/'Page 277'!X60)","v":-2.1985436925880866E-2},{"$f":"LN('Page 277'!Y61/'Page 277'!Y60)","v":-6.0390858617489745E-2},{"$f":"LN('Page 277'!Z61/'Page 277'!Z60)","v":-5.8683501828090179E-2},{"$f":"LN('Page 277'!AA61/'Page 277'!AA60)","v":-7.0454168863075234E-2},{"$f":"LN('Page 277'!AB61/'Page 277'!AB60)","v":-5.8083415957469022E-3},{"$f":"LN('Page 277'!AC61/'Page 277'!AC60)","v":-4.7973135964421665E-4},{"$f":"LN('Page 277'!AD61/'Page 277'!AD60)","v":-5.6743868707170436E-2},{"$f":"LN('Page 277'!AE61/'Page 277'!AE60)","v":7.6762918348883477E-2},{"$f":"LN('Page 277'!AF61/'Page 277'!AF60)","v":-2.992056301643866E-2}]
["2006-06-01",{"$f":"LN('Page 277'!B62/'Page 277'!B61)","v":8.6604285391806066E-5},{"$f":"LN('Page 277'!C62/'Page 277'!C61)","v":1.9975695423643827E-2},{"$f":"LN('Page 277'!D62/'Page 277'!D61)","v":-2.9205246328750052E-2},{"$f":"LN('Page 277'!E62/'Page 277'!E61)","v":-2.1253596432443251E-2},{"$f":"LN('Page 277'!F62/'Page 277'!F61)","v":-1.6227045333042631E-2},{"$f":"LN('Page 277'!G62/'Page 277'!G61)","v":-2.152825326364944E-2},{"$f":"LN('Page 277'!H62/'Page 277'!H61)","v":2.0756358000016913E-2},{"$f":"LN('Page 277'!I62/'Page 277'!I61)","v":-2.2109541998324524E-2},{"$f":"LN('Page 277'!J62/'Page 277'!J61)","v":-1.6529301951210582E-2},{"$f":"LN('Page 277'!K62/'Page 277'!K61)","v":-3.135989397783303E-2},{"$f":"LN('Page 277'!L62/'Page 277'!L61)","v":0.10093185990168346},{"$f":"LN('Page 277'!M62/'Page 277'!M61)","v":-5.9127849465776476E-2},{"$f":"LN('Page 277'!N62/'Page 277'!N61)","v":-2.1601232647006138E-2},{"$f":"LN('Page 277'!O62/'Page 277'!O61)","v":-1.9072017823958738E-2},{"$f":"LN('Page 277'!P62/'Page 277'!P61)","v":-3.9310829854470403E-2},{"$f":"LN('Page 277'!Q62/'Page 277'!Q61)","v":5.2956726986248565E-2},{"$f":"LN('Page 277'!R62/'Page 277'!R61)","v":-4.9941838446236455E-3},{"$f":"LN('Page 277'!S62/'Page 277'!S61)","v":-1.5009215651571376E-2},{"$f":"LN('Page 277'!T62/'Page 277'!T61)","v":-1.5911785035639055E-2},{"$f":"LN('Page 277'!U62/'Page 277'!U61)","v":1.2880214010197425E-2},{"$f":"LN('Page 277'!V62/'Page 277'!V61)","v":-3.5155356559847424E-2},{"$f":"LN('Page 277'!W62/'Page 277'!W61)","v":2.6075837632647349E-2},{"$f":"LN('Page 277'!X62/'Page 277'!X61)","v":9.0135559433538959E-2},{"$f":"LN('Page 277'!Y62/'Page 277'!Y61)","v":2.8293508642611997E-2},{"$f":"LN('Page 277'!Z62/'Page 277'!Z61)","v":-8.0628486873086311E-3},{"$f":"LN('Page 277'!AA62/'Page 277'!AA61)","v":2.4580208835967805E-2},{"$f":"LN('Page 277'!AB62/'Page 277'!AB61)","v":6.7930819035712534E-2},{"$f":"LN('Page 277'!AC62/'Page 277'!AC61)","v":1.4292763556925473E-2},{"$f":"LN('Page 277'!AD62/'Page 277'!AD61)","v":7.0440628257431664E-2},{"$f":"LN('Page 277'!AE62/'Page 277'!AE61)","v":-5.7959176946458012E-3},{"$f":"LN('Page 277'!AF62/'Page 277'!AF61)","v":7.1978063085272413E-3}]
["2006-07-03",{"$f":"LN('Page 277'!B63/'Page 277'!B62)","v":-3.7228715386083515E-3},{"$f":"LN('Page 277'!C63/'Page 277'!C62)","v":3.61137712273999E-2},{"$f":"LN('Page 277'!D63/'Page 277'!D62)","v":-1.3557026309584757E-3},{"$f":"LN('Page 277'!E63/'Page 277'!E62)","v":-2.075276762645941E-2},{"$f":"LN('Page 277'!F63/'Page 277'!F62)","v":-2.3719456666780159E-2},{"$f":"LN('Page 277'!G63/'Page 277'!G62)","v":1.7055792057715624E-2},{"$f":"LN('Page 277'!H63/'Page 277'!H62)","v":-2.5841231183887443E-2},{"$f":"LN('Page 277'!I63/'Page 277'!I62)","v":-2.5811026243363643E-2},{"$f":"LN('Page 277'!J63/'Page 277'!J62)","v":-5.6827831354982683E-3},{"$f":"LN('Page 277'!K63/'Page 277'!K62)","v":1.0262691945127161E-2},{"$f":"LN('Page 277'!L63/'Page 277'!L62)","v":-1.0460699404055022E-2},{"$f":"LN('Page 277'!M63/'Page 277'!M62)","v":-1.1804521560545289E-2},{"$f":"LN('Page 277'!N63/'Page 277'!N62)","v":-3.3815990178302856E-2},{"$f":"LN('Page 277'!O63/'Page 277'!O62)","v":3.6266177984394569E-2},{"$f":"LN('Page 277'!P63/'Page 277'!P62)","v":-5.2205808990046848E-3},{"$f":"LN('Page 277'!Q63/'Page 277'!Q62)","v":-2.3430251808385996E-2},{"$f":"LN('Page 277'!R63/'Page 277'!R62)","v":1.1614532420693083E-2},{"$f":"LN('Page 277'!S63/'Page 277'!S62)","v":1.7842747653673507E-2},{"$f":"LN('Page 277'!T63/'Page 277'!T62)","v":3.7123012470772396E-3},{"$f":"LN('Page 277'!U63/'Page 277'!U62)","v":-1.2578782206860185E-2},{"$f":"LN('Page 277'!V63/'Page 277'!V62)","v":-8.6190077152163702E-2},{"$f":"LN('Page 277'!W63/'Page 277'!W62)","v":5.7808859720826763E-2},{"$f":"LN('Page 277'!X63/'Page 277'!X62)","v":1.4714161928068082E-2},{"$f":"LN('Page 277'!Y63/'Page 277'!Y62)","v":0},{"$f":"LN('Page 277'!Z63/'Page 277'!Z62)","v":8.9078001528727357E-3},{"$f":"LN('Page 277'!AA63/'Page 277'!AA62)","v":1.6057436895858469E-2},{"$f":"LN('Page 277'!AB63/'Page 277'!AB62)","v":6.5099687412276657E-3},{"$f":"LN('Page 277'!AC63/'Page 277'!AC62)","v":-5.058499563033835E-3},{"$f":"LN('Page 277'!AD63/'Page 277'!AD62)","v":-1.1248028605197994E-2},{"$f":"LN('Page 277'!AE63/'Page 277'!AE62)","v":-4.6095024153034472E-2},{"$f":"LN('Page 277'!AF63/'Page 277'!AF62)","v":2.3996642230499975E-2}]
[]
[]
[{"$f":"\"The cells below compute the variance-covariance matrix for the DJ30 by using the formula \"&ggetformula(B73)","v":"The cells below compute the variance-covariance matrix for the DJ30 by using the formula {=varcovar(C9:AF68)}"}]
[null,"AA","AIG","AXP","BA","C","CAT","DD","DIS","GE","GM","HD","HON","HPQ","IBM","INTC","JNJ","JPM","KO","MCD","MMM","MP","MRK","MSFT","PFE","PG","T","UTX","VZ","WMT","XOM"]
["AA",{"$f":"varcovar(C9:AF68)","v":9.2808464652174381E-3},3.2001907948570971E-3,3.7596130703837971E-3,4.5037625188762385E-3,3.3438439747685215E-3,4.5885984950926875E-3,4.0255460998030665E-3,4.244473452084738E-3,2.4249188499061744E-3,4.6347143752223131E-3,4.6014042872105348E-3,6.1259513617449206E-3,6.0247664612308686E-3,3.8782138001149202E-3,6.8915246168307761E-3,-1.0739748425796245E-4,5.6789610889045189E-3,1.314328196560777E-3,4.3279507854302882E-3,2.3640472840532013E-3,1.8127417805893521E-3,1.8285813473719883E-3,3.1084652989045911E-3,1.8738401895958673E-3,2.5317726119982695E-4,3.258894677083778E-3,3.7770214391564037E-3,2.8495783273135003E-3,1.8057966578815593E-3,2.394464308203927E-3]
["AIG",3.2001907948570971E-3,4.3761642125552929E-3,2.0210125720545361E-3,9.8225637933405606E-4,2.2888648203971849E-3,2.2163184285343205E-3,2.208194349063562E-3,1.548353186690029E-3,1.4773829477686068E-3,1.8731427212284378E-3,2.0638046578129649E-3,2.6519877163896179E-3,2.3950437783805995E-3,2.5987781908452618E-3,2.6306790727454133E-3,4.3765467537157582E-4,3.0090311892126066E-3,4.8235843124357037E-4,2.1873822447320244E-3,1.5022985169190737E-3,8.338254282887325E-5,1.3364558178827529E-3,1.9237782613702394E-3,9.8200009089532297E-4,3.8883947232464997E-4,2.4052573013174823E-3,1.2177921911426673E-3,1.8433015874610987E-3,1.4318019903932144E-3,1.0217328537493661E-3]
["AXP",3.7596130703837971E-3,2.0210125720545361E-3,4.2024895634578327E-3,3.013411734671928E-3,3.0843961884932337E-3,2.9288193063412636E-3,2.0250294666073164E-3,3.7094440057752901E-3,1.9383054446013145E-3,3.3053455632796884E-3,3.2980690525287013E-3,4.2117984977597831E-3,4.9926522961801041E-3,3.3394323305191331E-3,5.7341143499002748E-3,6.7554540204255522E-4,3.9512918660118048E-3,6.878866941019354E-4,2.7521229615278565E-3,1.434787566882734E-3,1.6483903808681645E-3,1.025280798584378E-3,2.1337971115367948E-3,6.4426658524765839E-4,4.0824131478453605E-4,2.1438197565375673E-3,3.1258766307344951E-3,1.8883804038113434E-3,1.0655648953784699E-3,1.0335892003590797E-3]
["BA",4.5037625188762385E-3,9.8225637933405606E-4,3.013411734671928E-3,8.3159230075595374E-3,1.4336264213070315E-3,2.8888342795725711E-3,2.0977728290540979E-3,3.7365213289075323E-3,1.9757831626294538E-3,4.3405282625196768E-3,2.561219865368447E-3,5.3441618965717214E-3,4.2407956120412487E-3,6.7258586126191428E-4,3.827498166993128E-3,-6.2611825603120009E-4,2.8436533418691517E-3,1.0218500234005844E-3,2.1488555850762607E-3,1.1836638044494079E-3,1.0693909407841697E-3,7.0178646722240706E-5,1.4761078615402668E-3,3.7337573762304897E-4,3.8391271965629298E-4,8.9199992893994762E-4,4.9766664915752799E-3,6.9808447899703926E-4,3.292997690239158E-4,1.7096751978103815E-3]
["C",3.3438439747685215E-3,2.2888648203971849E-3,3.0843961884932337E-3,1.4336264213070315E-3,4.3811533912874664E-3,2.2242563777374086E-3,1.9342416330540616E-3,2.5688749700927796E-3,1.6510322425813061E-3,1.3333180758955149E-3,2.9358746784113893E-3,2.8950541783339121E-3,3.7934873695285205E-3,3.835053863495945E-3,4.7508134988409334E-3,9.5669525821235973E-4,4.4293070573359532E-3,8.3652819132387136E-4,2.3259707601277681E-3,1.3709790855095372E-3,9.7316662989629064E-4,1.507397837556624E-3,2.793408664379909E-3,1.1667856858844077E-3,3.4755273031535197E-4,2.2679436077679095E-3,2.2317128483968205E-3,2.3349160077206434E-3,1.5432262177971308E-3,8.5017838890388798E-4]
["CAT",4.5885984950926875E-3,2.2163184285343205E-3,2.9288193063412636E-3,2.8888342795725711E-3,2.2242563777374086E-3,5.8449215664459347E-3,2.2738036761842206E-3,3.3525918513920253E-3,1.8352980875899956E-3,4.2854344066708024E-3,2.879708952820349E-3,4.0383746245191187E-3,4.1401187804057816E-3,2.9660412855293072E-3,4.6585708592902612E-3,1.3572765030448337E-4,3.1708865588095545E-3,6.925780206497521E-4,2.937425357900281E-3,2.087302803198186E-3,4.1681217114538537E-4,6.7862637019276998E-4,2.5592773666633711E-3,1.2864509594152863E-3,3.7081543203876282E-4,2.385699285710868E-3,2.5515086662596421E-3,2.1522824803388691E-3,1.142364048058964E-3,2.1302852810287879E-3]
["DD",4.0255460998030665E-3,2.208194349063562E-3,2.0250294666073164E-3,2.0977728290540979E-3,1.9342416330540616E-3,2.2738036761842206E-3,3.5821319035427008E-3,2.3225424876384131E-3,1.7596257181173656E-3,1.8332229568538891E-3,2.1813751103480598E-3,3.0595202905594914E-3,2.9888147668189324E-3,2.5116902954559228E-3,3.9101625864694277E-3,7.1105918881959407E-4,2.492787450452521E-3,5.9986418732397065E-4,1.8656443565019634E-3,1.9207759502036677E-3,6.7669727513742942E-4,1.779404498706794E-3,1.6924060037338371E-3,7.3678129595569912E-4,9.8550370442908116E-5,1.6747925543217754E-3,2.1390997848189045E-3,1.8286195960645643E-3,1.3851132968810611E-3,1.2345647637224105E-3]
["DIS",4.244473452084738E-3,1.548353186690029E-3,3.7094440057752901E-3,3.7365213289075323E-3,2.5688749700927796E-3,3.3525918513920253E-3,2.3225424876384131E-3,6.6509296306873087E-3,1.8674421964256199E-3,3.48218432044436E-3,3.018038735487282E-3,4.5681438857838067E-3,5.8662786093794678E-3,2.7354791268229105E-3,6.5688381736818029E-3,7.5662610600304829E-4,2.9847609322330173E-3,9.4683455557320031E-4,2.6472616688933159E-3,1.8819789685254262E-3,8.3474643700215357E-4,7.0713481981427441E-4,1.5572926838259653E-3,1.641199489386249E-4,8.014393000523036E-5,1.2408659753917995E-3,3.7596110662114334E-3,1.4184973155019999E-3,8.6025637850727229E-4,4.0730359936545779E-4]
["GE",2.4249188499061744E-3,1.4773829477686068E-3,1.9383054446013145E-3,1.9757831626294538E-3,1.6510322425813061E-3,1.8352980875899956E-3,1.7596257181173656E-3,1.8674421964256199E-3,3.4332378810837008E-3,1.1052415318750703E-3,2.0025437805136197E-3,2.6512972612847698E-3,2.1180620391007834E-3,2.8227880991714177E-3,3.1480746122381892E-3,6.2680234061494497E-4,1.8913198875750389E-3,-1.7858787684043513E-4,1.7014632684697658E-3,8.5241462403863361E-4,6.1088274290254274E-4,1.1864693127498498E-3,1.7705182286161499E-3,2.3728128612365937E-4,-2.6476662064017913E-5,1.9297953592281663E-3,1.7737909342038466E-3,1.250887977181835E-3,8.663490533378209E-4,7.2955961805951813E-4]
["GM",4.6347143752223131E-3,1.8731427212284378E-3,3.3053455632796884E-3,4.3405282625196768E-3,1.3333180758955149E-3,4.2854344066708024E-3,1.8332229568538891E-3,3.48218432044436E-3,1.1052415318750703E-3,1.182777833834767E-2,3.0654910199078627E-3,4.3954037000963377E-3,4.1784506299949445E-3,1.6057308402724732E-3,4.4459037001366424E-3,-7.1419518691395929E-6,3.9278585306654215E-3,1.5625704300888288E-3,2.6560823169680791E-3,1.3840587303072757E-3,1.3574779152973301E-3,9.8357225406274311E-4,1.813411328004411E-3,8.4139178872508983E-4,3.2564675137672892E-4,1.2252277540296017E-3,2.97794875293661E-3,6.153310957326978E-4,1.2346335513352654E-3,1.9670787984909276E-3]
["HD",4.6014042872105348E-3,2.0638046578129649E-3,3.2980690525287013E-3,2.561219865368447E-3,2.9358746784113893E-3,2.879708952820349E-3,2.1813751103480598E-3,3.018038735487282E-3,2.0025437805136197E-3,3.0654910199078627E-3,7.112393469804682E-3,3.8782842770695427E-3,4.4408262731872039E-3,3.8290815850988156E-3,5.462000075853967E-3,4.3444451428915822E-4,4.3228067884596164E-3,1.2547099634194596E-3,3.5927061262898126E-3,1.8412987159414625E-3,2.349572419987385E-3,9.7990283921565798E-5,2.3629319051647469E-3,8.5343794989790932E-4,4.7268166464066474E-4,2.0345141050630605E-3,2.2638513153145925E-3,1.5777467280766702E-3,2.4112607784287001E-3,7.4195186544598021E-4]
["HON",6.1259513617449206E-3,2.6519877163896179E-3,4.2117984977597831E-3,5.3441618965717214E-3,2.8950541783339121E-3,4.0383746245191187E-3,3.0595202905594914E-3,4.5681438857838067E-3,2.6512972612847698E-3,4.3954037000963377E-3,3.8782842770695427E-3,7.8901173773502312E-3,6.4307348240237048E-3,3.8308548136862736E-3,6.3809960058128432E-3,2.5182380413259317E-4,4.3482866843725957E-3,1.2581963159194135E-3,3.7317400738220044E-3,2.4882072866076925E-3,2.4847854653735715E-3,1.3749374857812036E-3,2.4947796538694889E-3,1.2231884375044082E-3,4.648056519034127E-4,2.5483915126204323E-3,4.8628081930658998E-3,2.3689136045263177E-3,8.0670468231398547E-4,1.9983803852662539E-3]
["HPQ",6.0247664612308686E-3,2.3950437783805995E-3,4.9926522961801041E-3,4.2407956120412487E-3,3.7934873695285205E-3,4.1401187804057816E-3,2.9888147668189324E-3,5.8662786093794678E-3,2.1180620391007834E-3,4.1784506299949445E-3,4.4408262731872039E-3,6.4307348240237048E-3,1.1495262140715813E-2,4.8522697692296134E-3,9.5057351585171816E-3,1.2285887529074653E-4,4.5350623349063902E-3,4.8973358781450097E-4,3.7722941814145416E-3,2.1108453399986487E-3,2.3428779793749871E-3,2.163427467778996E-3,3.2790849933982064E-3,1.6385308801160007E-3,2.0225152353716387E-4,3.2794797323988088E-3,4.7734520966407736E-3,3.0050145946213715E-3,8.3365833162548622E-4,1.1513151190039601E-3]
["IBM",3.8782138001149202E-3,2.5987781908452618E-3,3.3394323305191331E-3,6.7258586126191428E-4,3.835053863495945E-3,2.9660412855293072E-3,2.5116902954559228E-3,2.7354791268229105E-3,2.8227880991714177E-3,1.6057308402724732E-3,3.8290815850988156E-3,3.8308548136862736E-3,4.8522697692296134E-3,7.0793979305751754E-3,5.9834640489777793E-3,1.1193452647558356E-3,4.1045664289121641E-3,2.3096391088277932E-4,2.6934393357026629E-3,1.9867446980798395E-3,1.4906906050710033E-3,1.5702024552028554E-3,3.6717965674370285E-3,1.0511262415356874E-3,8.9546317675373054E-5,2.9387779616956585E-3,2.1076331865558478E-3,2.9833708953046155E-3,1.8853035125853655E-3,1.4275867391290288E-3]
["INTC",6.8915246168307761E-3,2.6306790727454133E-3,5.7341143499002748E-3,3.827498166993128E-3,4.7508134988409334E-3,4.6585708592902612E-3,3.9101625864694277E-3,6.5688381736818029E-3,3.1480746122381892E-3,4.4459037001366424E-3,5.462000075853967E-3,6.3809960058128432E-3,9.5057351585171816E-3,5.9834640489777793E-3,1.6543182618795119E-2,1.144155666861203E-3,5.0670617428888523E-3,5.515856236169665E-4,4.0436283526265066E-3,3.0383339668284613E-3,2.43679926289654E-3,1.6804698168954354E-3,3.441858026775403E-3,9.2836726736743498E-4,2.0993343445887408E-4,1.6859610117231894E-3,5.114758019877385E-3,1.5259341284234841E-3,1.4222451012666374E-3,5.1871433037956429E-4]
["JNJ",-1.0739748425796245E-4,4.3765467537157582E-4,6.7554540204255522E-4,-6.2611825603120009E-4,9.5669525821235973E-4,1.3572765030448337E-4,7.1105918881959407E-4,7.5662610600304829E-4,6.2680234061494497E-4,-7.1419518691395929E-6,4.3444451428915822E-4,2.5182380413259317E-4,1.2285887529074653E-4,1.1193452647558356E-3,1.144155666861203E-3,1.6814752401357572E-3,9.4621709341725604E-5,3.6955012394597085E-4,-9.7835985878030554E-5,5.2313627575235628E-4,2.9112667505346273E-4,9.4790533530172744E-4,3.6782957455303023E-4,2.8189184562485171E-4,2.9512263298873297E-4,5.4075517258336966E-4,-2.0380620589236309E-5,7.9113710114998305E-4,4.1841346087026585E-4,1.9494771148867194E-4]
["JPM",5.6789610889045189E-3,3.0090311892126066E-3,3.9512918660118048E-3,2.8436533418691517E-3,4.4293070573359532E-3,3.1708865588095545E-3,2.492787450452521E-3,2.9847609322330173E-3,1.8913198875750389E-3,3.9278585306654215E-3,4.3228067884596164E-3,4.3482866843725957E-3,4.5350623349063902E-3,4.1045664289121641E-3,5.0670617428888523E-3,9.4621709341725604E-5,8.4130407178574264E-3,1.4757315722970018E-3,4.4897516222187715E-3,1.4049795992818219E-3,1.5414561659620009E-3,1.7356168057240504E-3,3.0309267143309132E-3,1.565098342937896E-3,3.039931303489884E-4,3.2059679326126235E-3,2.1363508154192577E-3,2.9326338410274387E-3,1.8376910038778382E-3,1.3502299586417613E-3]
["KO",1.314328196560777E-3,4.8235843124357037E-4,6.878866941019354E-4,1.0218500234005844E-3,8.3652819132387136E-4,6.925780206497521E-4,5.9986418732397065E-4,9.4683455557320031E-4,-1.7858787684043513E-4,1.5625704300888288E-3,1.2547099634194596E-3,1.2581963159194135E-3,4.8973358781450097E-4,2.3096391088277932E-4,5.515856236169665E-4,3.6955012394597085E-4,1.4757315722970018E-3,2.4876251053891538E-3,1.2004338122657094E-3,7.0505645608128918E-4,1.0872902106331107E-3,7.2349741252148868E-4,1.4829611299037131E-4,4.5054245488739691E-4,5.8070296362748791E-4,3.4492191204958786E-4,4.1811386852800853E-4,8.9074957307831484E-5,-8.0527276481908938E-5,5.7176917900737193E-4]
["MCD",4.3279507854302882E-3,2.1873822447320244E-3,2.7521229615278565E-3,2.1488555850762607E-3,2.3259707601277681E-3,2.937425357900281E-3,1.8656443565019634E-3,2.6472616688933159E-3,1.7014632684697658E-3,2.6560823169680791E-3,3.5927061262898126E-3,3.7317400738220044E-3,3.7722941814145416E-3,2.6934393357026629E-3,4.0436283526265066E-3,-9.7835985878030554E-5,4.4897516222187715E-3,1.2004338122657094E-3,5.6346407096867675E-3,1.0266040378183153E-3,2.3096734880913151E-3,7.1197404639919014E-4,1.9739874335890327E-3,1.1241285708544738E-3,5.1143241007619916E-4,2.5048499407275978E-3,1.6383784227678938E-3,1.9840563923352737E-3,1.1170509360041785E-3,1.3842718519988756E-3]
["MMM",2.3640472840532013E-3,1.5022985169190737E-3,1.434787566882734E-3,1.1836638044494079E-3,1.3709790855095372E-3,2.087302803198186E-3,1.9207759502036677E-3,1.8819789685254262E-3,8.5241462403863361E-4,1.3840587303072757E-3,1.8412987159414625E-3,2.4882072866076925E-3,2.1108453399986487E-3,1.9867446980798395E-3,3.0383339668284613E-3,5.2313627575235628E-4,1.4049795992818219E-3,7.0505645608128918E-4,1.0266040378183153E-3,3.2512383206366388E-3,6.9038224115613306E-4,4.8772993059222286E-4,7.4149223867506784E-4,3.3760658851693029E-4,2.594076456249004E-4,6.9545050090580416E-4,1.7054008981648406E-3,6.8236384822358822E-4,7.8991697349410802E-4,2.8429830283951865E-4]
["MP",1.8127417805893521E-3,8.338254282887325E-5,1.6483903808681645E-3,1.0693909407841697E-3,9.7316662989629064E-4,4.1681217114538537E-4,6.7669727513742942E-4,8.3474643700215357E-4,6.1088274290254274E-4,1.3574779152973301E-3,2.349572419987385E-3,2.4847854653735715E-3,2.3428779793749871E-3,1.4906906050710033E-3,2.43679926289654E-3,2.9112667505346273E-4,1.5414561659620009E-3,1.0872902106331107E-3,2.3096734880913151E-3,6.9038224115613306E-4,7.5909327494309824E-3,8.0860417738005291E-4,-3.6669453996837035E-4,6.8523336897591551E-4,1.6469529700552954E-4,2.1267768871344643E-3,9.3301551105205976E-4,1.0761289732326366E-3,-8.4841042819568547E-4,4.3638771824052591E-4]
["MRK",1.8285813473719883E-3,1.3364558178827529E-3,1.025280798584378E-3,7.0178646722240706E-5,1.507397837556624E-3,6.7862637019276998E-4,1.779404498706794E-3,7.0713481981427441E-4,1.1864693127498498E-3,9.8357225406274311E-4,9.7990283921565798E-5,1.3749374857812036E-3,2.163427467778996E-3,1.5702024552028554E-3,1.6804698168954354E-3,9.4790533530172744E-4,1.7356168057240504E-3,7.2349741252148868E-4,7.1197404639919014E-4,4.8772993059222286E-4,8.0860417738005291E-4,6.5397592196770327E-3,1.3969637118784639E-3,2.1632190042672208E-3,2.910523078576958E-4,2.8096097940524234E-3,4.9779331152081214E-4,2.6928928130172509E-3,6.091751595183819E-4,6.1412583323138697E-4]
["MSFT",3.1084652989045911E-3,1.9237782613702394E-3,2.1337971115367948E-3,1.4761078615402668E-3,2.793408664379909E-3,2.5592773666633711E-3,1.6924060037338371E-3,1.5572926838259653E-3,1.7705182286161499E-3,1.813411328004411E-3,2.3629319051647469E-3,2.4947796538694889E-3,3.2790849933982064E-3,3.6717965674370285E-3,3.441858026775403E-3,3.6782957455303023E-4,3.0309267143309132E-3,1.4829611299037131E-4,1.9739874335890327E-3,7.4149223867506784E-4,-3.6669453996837035E-4,1.3969637118784639E-3,4.8200413769855961E-3,1.1804549210171359E-3,3.5777166175173123E-5,1.9035705419903552E-3,1.9551029636546177E-3,2.4315877992432799E-3,1.4623022711737386E-3,1.2239841415497875E-3]
["PFE",1.8738401895958673E-3,9.8200009089532297E-4,6.4426658524765839E-4,3.7337573762304897E-4,1.1667856858844077E-3,1.2864509594152863E-3,7.3678129595569912E-4,1.641199489386249E-4,2.3728128612365937E-4,8.4139178872508983E-4,8.5343794989790932E-4,1.2231884375044082E-3,1.6385308801160007E-3,1.0511262415356874E-3,9.2836726736743498E-4,2.8189184562485171E-4,1.565098342937896E-3,4.5054245488739691E-4,1.1241285708544738E-3,3.3760658851693029E-4,6.8523336897591551E-4,2.1632190042672208E-3,1.1804549210171359E-3,3.0944677256733808E-3,5.1322871202819597E-4,1.4163095969797733E-3,4.8947196606023973E-4,1.697935132221692E-3,3.8155782394817681E-4,1.007110283467925E-3]
["PG",2.5317726119982695E-4,3.8883947232464997E-4,4.0824131478453605E-4,3.8391271965629298E-4,3.4755273031535197E-4,3.7081543203876282E-4,9.8550370442908116E-5,8.014393000523036E-5,-2.6476662064017913E-5,3.2564675137672892E-4,4.7268166464066474E-4,4.648056519034127E-4,2.0225152353716387E-4,8.9546317675373054E-5,2.0993343445887408E-4,2.9512263298873297E-4,3.039931303489884E-4,5.8070296362748791E-4,5.1143241007619916E-4,2.594076456249004E-4,1.6469529700552954E-4,2.910523078576958E-4,3.5777166175173123E-5,5.1322871202819597E-4,1.1524680562839322E-3,1.1428391749128742E-4,6.1016808518921366E-4,5.2834704962141549E-5,-2.6844072136813054E-4,2.4532439794377098E-4]
["T",3.258894677083778E-3,2.4052573013174823E-3,2.1438197565375673E-3,8.9199992893994762E-4,2.2679436077679095E-3,2.385699285710868E-3,1.6747925543217754E-3,1.2408659753917995E-3,1.9297953592281663E-3,1.2252277540296017E-3,2.0345141050630605E-3,2.5483915126204323E-3,3.2794797323988088E-3,2.9387779616956585E-3,1.6859610117231894E-3,5.4075517258336966E-4,3.2059679326126235E-3,3.4492191204958786E-4,2.5048499407275978E-3,6.9545050090580416E-4,2.1267768871344643E-3,2.8096097940524234E-3,1.9035705419903552E-3,1.4163095969797733E-3,1.1428391749128742E-4,6.9814894066679766E-3,6.2361649466943444E-4,5.1369870981849523E-3,1.0977474710057967E-3,1.6570584373832502E-3]
["UTX",3.7770214391564037E-3,1.2177921911426673E-3,3.1258766307344951E-3,4.9766664915752799E-3,2.2317128483968205E-3,2.5515086662596421E-3,2.1390997848189045E-3,3.7596110662114334E-3,1.7737909342038466E-3,2.97794875293661E-3,2.2638513153145925E-3,4.8628081930658998E-3,4.7734520966407736E-3,2.1076331865558478E-3,5.114758019877385E-3,-2.0380620589236309E-5,2.1363508154192577E-3,4.1811386852800853E-4,1.6383784227678938E-3,1.7054008981648406E-3,9.3301551105205976E-4,4.9779331152081214E-4,1.9551029636546177E-3,4.8947196606023973E-4,6.1016808518921366E-4,6.2361649466943444E-4,5.484148208622845E-3,8.2205401075059335E-4,1.9990263143928954E-4,9.5293906488903943E-4]
["VZ",2.8495783273135003E-3,1.8433015874610987E-3,1.8883804038113434E-3,6.9808447899703926E-4,2.3349160077206434E-3,2.1522824803388691E-3,1.8286195960645643E-3,1.4184973155019999E-3,1.250887977181835E-3,6.153310957326978E-4,1.5777467280766702E-3,2.3689136045263177E-3,3.0050145946213715E-3,2.9833708953046155E-3,1.5259341284234841E-3,7.9113710114998305E-4,2.9326338410274387E-3,8.9074957307831484E-5,1.9840563923352737E-3,6.8236384822358822E-4,1.0761289732326366E-3,2.6928928130172509E-3,2.4315877992432799E-3,1.697935132221692E-3,5.2834704962141549E-5,5.1369870981849523E-3,8.2205401075059335E-4,5.7206049318576048E-3,1.4019109475977823E-3,1.7670982816727961E-3]
["WMT",1.8057966578815593E-3,1.4318019903932144E-3,1.0655648953784699E-3,3.292997690239158E-4,1.5432262177971308E-3,1.142364048058964E-3,1.3851132968810611E-3,8.6025637850727229E-4,8.663490533378209E-4,1.2346335513352654E-3,2.4112607784287001E-3,8.0670468231398547E-4,8.3365833162548622E-4,1.8853035125853655E-3,1.4222451012666374E-3,4.1841346087026585E-4,1.8376910038778382E-3,-8.0527276481908938E-5,1.1170509360041785E-3,7.8991697349410802E-4,-8.4841042819568547E-4,6.091751595183819E-4,1.4623022711737386E-3,3.8155782394817681E-4,-2.6844072136813054E-4,1.0977474710057967E-3,1.9990263143928954E-4,1.4019109475977823E-3,2.9355995397049991E-3,4.027269871659235E-4]
["XOM",2.394464308203927E-3,1.0217328537493661E-3,1.0335892003590797E-3,1.7096751978103815E-3,8.5017838890388798E-4,2.1302852810287879E-3,1.2345647637224105E-3,4.0730359936545779E-4,7.2955961805951813E-4,1.9670787984909276E-3,7.4195186544598021E-4,1.9983803852662539E-3,1.1513151190039601E-3,1.4275867391290288E-3,5.1871433037956429E-4,1.9494771148867194E-4,1.3502299586417613E-3,5.7176917900737193E-4,1.3842718519988756E-3,2.8429830283951865E-4,4.3638771824052591E-4,6.1412583323138697E-4,1.2239841415497875E-3,1.007110283467925E-3,2.4532439794377098E-4,1.6570584373832502E-3,9.5293906488903943E-4,1.7670982816727961E-3,4.027269871659235E-4,2.8726361526099603E-3]
[]
["Finding an efficient portfolio"]
["Constant",3.0000000000000001E-3]
[]
["AA",{"$f":"MMULT(MINVERSE(varcov),TRANSPOSE(C4:AF4)-B105)/SUM(MMULT(MINVERSE(varcov),TRANSPOSE(C4:AF4)-B105))","v":5.4533000036017708E-2},{"$f":"getformula(B107)","v":"<--  {=MMULT(MINVERSE(varcov),TRANSPOSE(C4:AF4)-B105)/SUM(MMULT(MINVERSE(varcov),TRANSPOSE(C4:AF4)-B105))}"}]
["AIG",-0.11770777757909948]
["AXP",-5.7774149925197645E-2]
["BA",-0.13940218261842274]
["C",-0.36597846015453495]
["CAT",0.76258386330203376]
["DD",-0.22553923050213284]
["DIS",-0.17046385902067485]
["GE",-8.7990021245646338E-2]
["GM",-0.37734604935212118]
["HD",-0.37209624226323218]
["HON",-0.17396667430531004]
["HPQ",0.39790129139010461]
["IBM",-0.26380245101358474]
["INTC",-0.18624146665615943]
["JNJ",0.65075625478313204]
["JPM",0.53610175541269889]
["KO",-0.12953197639645367]
["MCD",-0.12181615422602306]
["MMM",-2.0663033453262741E-2]
["MP",0.42145999648915206]
["MRK",8.2935974489204325E-2]
["MSFT",3.6121172922358384E-2]
["PFE",-0.61185819181274548]
["PG",0.54673295106900899]
["T",-8.3769531407362999E-2]
["UTX",0.44052369366611177]
["VZ",-0.36550999938582612]
["WMT",0.6478331721148739]
["XOM",0.293974325643094]
["Sum",{"$f":"SUM(B107:B136)","v":1}]
[]
["Largest short",{"$f":"MIN(B107:B136)","v":-0.61185819181274548}]
["Largest long",{"$f":"MAX(B107:B136)","v":0.76258386330203376}]

{"sheet":"Page 286","index":8,"n_rows":141,"n_cols":32,"rows_kept":141,"cut":false,"hidden":false,"merged":[[0,0,0,13],[104,3,104,6]]}
["RETURN DATA FOR THE DOW-JONES INDUSTRIAL STOCKS AND THE STANDARD AND POORS 500\nJuly 2001 - July 2006"]
["Date","SP 500 Index\n^SPX","Alcoa \nAA","American International Group \nAIG","American Express AXP","Boeing BA","Citigroup C","Caterpillar CAT","DuPont DD","Disney DIS","General Electric GE","General Motors GM","Home Depot HD","Honeywell HON","Hewlitt Packard HPQ","IBM","Intel \nINTC","Johnson & Johnson JNJ","JP Morgan JPM","Coca Cola \nKO","McDonalds \nMCD","3M \nMMM","Altria\nMO","Merck \nMRK","Microsoft \nMSFT","Pfizer \nPFE","Proctor Gamble \nPG","AT&T \nT","United Technologies UTX","Verizon \nVZ","Walmart \nWMT","Exxon Mobil \nXOM"]
[]
["Average return",{"$f":"AVERAGE(B9:B68)","v":7.3025207715862923E-4},-8.8045232999497481E-4,-5.3560524791288885E-3,7.2078563356630853E-3,6.6601094741208884E-3,3.010192138065507E-3,1.7944538670859995E-2,1.8457819966479114E-3,2.9306515581315239E-3,-2.3445913734344336E-3,-8.7115866553562366E-3,-5.1789842829916052E-3,2.8938752782178977E-3,6.0646047398152676E-3,-4.651234583685872E-3,-7.2648065901253448E-3,3.3741700376054302E-3,1.8475201624128701E-3,1.1711236870348115E-3,3.4537024601776645E-3,6.3742097805926674E-3,1.3025248898244331E-2,-6.3084472440219719E-3,-3.5204556814594479E-3,-7.4336132638093003E-3,9.4023212973838102E-3,-4.1344123560427496E-3,1.0325623468400351E-2,-4.91148259418305E-3,-2.5204525972353053E-3,8.7784223052485757E-3]
["Beta",{"$f":"SLOPE(B9:B68,$B$9:$B$68)","v":1},1.9027983836619957,0.99357597429546707,1.3784130266948689,1.1514634616640862,1.2951646980207125,1.3903214616252038,1.0009466005598446,1.2805379702174076,0.84198822730205147,1.4059650700066386,1.552790870242573,1.6639716851986359,1.9594245248915774,1.5764137929690809,2.2648399177150527,0.24707693477970649,1.7916694423015864,0.35903260375546042,1.2645943445894277,0.65043868573479957,0.66329440207335677,0.60992724226830031,1.1219401416299413,0.55717127351603968,0.16872571999704272,1.127501815122895,1.0659180109233315,1.0231125023839318,0.6000114438168378,0.6455250865233817]
["Alpha",{"$f":"INTERCEPT(B9:B68,$B$9:$B$68)","v":0},-2.2699748020782295E-3,-6.0816133981730618E-3,6.201267359736644E-3,5.819250889468424E-3,2.0643954270733529E-3,1.692925353558997E-2,1.1148386624642162E-3,1.9955360454997672E-3,-2.9594550253648688E-3,-9.738295568141063E-3,-6.3129130413791994E-3,1.6787564987684491E-3,4.6337309104776334E-3,-5.8024140304630562E-3,-8.9187106444685409E-3,3.1937415927645622E-3,5.3914983059049379E-4,9.0893938237471543E-4,2.5302298132781798E-3,5.8992255792705015E-3,1.2540876783362572E-2,-6.7538478796040323E-3,-4.3397548003323589E-3,-7.8404887436275064E-3,9.2791089898858845E-3,-4.9577728985363686E-3,9.5472346268427929E-3,-5.658612624215879E-3,-2.9586122004014994E-3,8.3070262699568732E-3]
["R-squared",{"$f":"RSQ(B9:B68,$B$9:$B$68)","v":1},0.60847765066893644,0.3518481112203532,0.7051780176036373,0.24867752412854968,0.59718406379967004,0.51582030933360234,0.43624143766022538,0.38454683391705435,0.32207336771025202,0.26067090340619081,0.5287578585042142,0.54733733270476037,0.52093660013759546,0.54750841607413736,0.48361819242009407,5.6626615446838925E-2,0.59512672624119656,8.0821985992514361E-2,0.44267287742790795,0.20296006525126686,9.0399117733825293E-2,8.8723971944721688E-2,0.40731957218483722,0.1564725457373137,3.8528345098536212E-2,0.28400964418052643,0.32313581038494305,0.28539837699207221,0.19127972027703805,0.22625193335445209]
[]
["2001-08-01",{"$f":"LN('Page 277'!B4/'Page 277'!B3)","v":-6.6255605887467039E-2},{"$f":"LN('Page 277'!C4/'Page 277'!C3)","v":-2.4904679180075117E-2},{"$f":"LN('Page 277'!D4/'Page 277'!D3)","v":-6.2016699505352997E-2},{"$f":"LN('Page 277'!E4/'Page 277'!E3)","v":-0.10197330160654307},{"$f":"LN('Page 277'!F4/'Page 277'!F3)","v":-0.13087167511426126},{"$f":"LN('Page 277'!G4/'Page 277'!G3)","v":-8.8765860810958969E-2},{"$f":"LN('Page 277'!H4/'Page 277'!H3)","v":-9.6726467345061545E-2},{"$f":"LN('Page 277'!I4/'Page 277'!I3)","v":-3.5908486258404655E-2},{"$f":"LN('Page 277'!J4/'Page 277'!J3)","v":-3.5805289369379566E-2},{"$f":"LN('Page 277'!K4/'Page 277'!K3)","v":-6.1603446652326505E-2},{"$f":"LN('Page 277'!L4/'Page 277'!L3)","v":-0.14195662568150003},{"$f":"LN('Page 277'!M4/'Page 277'!M3)","v":-9.1050718822688559E-2},{"$f":"LN('Page 277'!N4/'Page 277'!N3)","v":1.5753127949124486E-2},{"$f":"LN('Page 277'!O4/'Page 277'!O3)","v":-6.0953190901040094E-2},{"$f":"LN('Page 277'!P4/'Page 277'!P3)","v":-4.9929201063659778E-2},{"$f":"LN('Page 277'!Q4/'Page 277'!Q3)","v":-6.3656215942067843E-2},{"$f":"LN('Page 277'!R4/'Page 277'!R3)","v":-2.2674855650745698E-2},{"$f":"LN('Page 277'!S4/'Page 277'!S3)","v":-9.4414901023194581E-2},{"$f":"LN('Page 277'!T4/'Page 277'!T3)","v":8.7487454123115801E-2},{"$f":"LN('Page 277'!U4/'Page 277'!U3)","v":2.9951106602773683E-2},{"$f":"LN('Page 277'!V4/'Page 277'!V3)","v":-6.645264996859318E-2},{"$f":"LN('Page 277'!W4/'Page 277'!W3)","v":4.0990472323703141E-2},{"$f":"LN('Page 277'!X4/'Page 277'!X3)","v":-3.8139415787459788E-2},{"$f":"LN('Page 277'!Y4/'Page 277'!Y3)","v":-0.14843390375551219},{"$f":"LN('Page 277'!Z4/'Page 277'!Z3)","v":-7.0558225315588641E-2},{"$f":"LN('Page 277'!AA4/'Page 277'!AA3)","v":4.2935503108324086E-2},{"$f":"LN('Page 277'!AB4/'Page 277'!AB3)","v":-9.5872926020639057E-2},{"$f":"LN('Page 277'!AC4/'Page 277'!AC3)","v":-6.7290636104445939E-2},{"$f":"LN('Page 277'!AD4/'Page 277'!AD3)","v":-7.98340166398534E-2},{"$f":"LN('Page 277'!AE4/'Page 277'!AE3)","v":-0.15144457077138077},{"$f":"LN('Page 277'!AF4/'Page 277'!AF3)","v":-3.3706437881910779E-2}]
["2001-09-04",{"$f":"LN('Page 277'!B5/'Page 277'!B4)","v":-8.5256615246989922E-2},{"$f":"LN('Page 277'!C5/'Page 277'!C4)","v":-0.2066142493629993},{"$f":"LN('Page 277'!D5/'Page 277'!D4)","v":-2.4890299088461518E-3},{"$f":"LN('Page 277'!E5/'Page 277'!E4)","v":-0.22593799712051296},{"$f":"LN('Page 277'!F5/'Page 277'!F4)","v":-0.42423342136280745},{"$f":"LN('Page 277'!G5/'Page 277'!G4)","v":-0.12303151411594927},{"$f":"LN('Page 277'!H5/'Page 277'!H4)","v":-0.11007341040370261},{"$f":"LN('Page 277'!I5/'Page 277'!I4)","v":-8.7712721261510654E-2},{"$f":"LN('Page 277'!J5/'Page 277'!J4)","v":-0.31143615845988804},{"$f":"LN('Page 277'!K5/'Page 277'!K4)","v":-9.0245336351864242E-2},{"$f":"LN('Page 277'!L5/'Page 277'!L4)","v":-0.24369402424121561},{"$f":"LN('Page 277'!M5/'Page 277'!M4)","v":-0.18032627225751421},{"$f":"LN('Page 277'!N5/'Page 277'!N4)","v":-0.34468137308234564},{"$f":"LN('Page 277'!O5/'Page 277'!O4)","v":-0.36441967486504917},{"$f":"LN('Page 277'!P5/'Page 277'!P4)","v":-8.6009136046455131E-2},{"$f":"LN('Page 277'!Q5/'Page 277'!Q4)","v":-0.31313001417247327},{"$f":"LN('Page 277'!R5/'Page 277'!R4)","v":4.977354511208764E-2},{"$f":"LN('Page 277'!S5/'Page 277'!S4)","v":-0.14292269372705024},{"$f":"LN('Page 277'!T5/'Page 277'!T4)","v":-3.8283296985651298E-2},{"$f":"LN('Page 277'!U5/'Page 277'!U4)","v":-0.10141007058491872},{"$f":"LN('Page 277'!V5/'Page 277'!V4)","v":-5.6313105251997946E-2},{"$f":"LN('Page 277'!W5/'Page 277'!W4)","v":1.8427547748008123E-2},{"$f":"LN('Page 277'!X5/'Page 277'!X4)","v":2.2832042042645689E-2},{"$f":"LN('Page 277'!Y5/'Page 277'!Y4)","v":-0.1089047890914604},{"$f":"LN('Page 277'!Z5/'Page 277'!Z4)","v":4.5649314665648928E-2},{"$f":"LN('Page 277'!AA5/'Page 277'!AA4)","v":-1.8349138668196541E-2},{"$f":"LN('Page 277'!AB5/'Page 277'!AB4)","v":0.1412415310504902},{"$f":"LN('Page 277'!AC5/'Page 277'!AC4)","v":-0.38612576550871208},{"$f":"LN('Page 277'!AD5/'Page 277'!AD4)","v":7.9150723138720805E-2},{"$f":"LN('Page 277'!AE5/'Page 277'!AE4)","v":3.125254350410453E-2},{"$f":"LN('Page 277'!AF5/'Page 277'!AF4)","v":-1.8849904023634231E-2}]
["2001-10-01",{"$f":"LN('Page 277'!B6/'Page 277'!B5)","v":1.7937188329115412E-2},{"$f":"LN('Page 277'!C6/'Page 277'!C5)","v":4.4606698040520781E-2},{"$f":"LN('Page 277'!D6/'Page 277'!D5)","v":7.5787635718121277E-3},{"$f":"LN('Page 277'!E6/'Page 277'!E5)","v":1.5516848690684155E-2},{"$f":"LN('Page 277'!F6/'Page 277'!F5)","v":-2.6993080607837172E-2},{"$f":"LN('Page 277'!G6/'Page 277'!G5)","v":0.11687764854157089},{"$f":"LN('Page 277'!H6/'Page 277'!H5)","v":5.9494473950934216E-3},{"$f":"LN('Page 277'!I6/'Page 277'!I5)","v":6.3719663982381269E-2},{"$f":"LN('Page 277'!J6/'Page 277'!J5)","v":-1.6982738301917076E-3},{"$f":"LN('Page 277'!K6/'Page 277'!K5)","v":-2.1486400560926558E-2},{"$f":"LN('Page 277'!L6/'Page 277'!L5)","v":-3.7672075585455093E-2},{"$f":"LN('Page 277'!M6/'Page 277'!M5)","v":-3.5398267051240623E-3},{"$f":"LN('Page 277'!N6/'Page 277'!N5)","v":0.11263143034112882},{"$f":"LN('Page 277'!O6/'Page 277'!O5)","v":4.7768322210547512E-2},{"$f":"LN('Page 277'!P6/'Page 277'!P5)","v":0.1640487181753901},{"$f":"LN('Page 277'!Q6/'Page 277'!Q5)","v":0.17774023037939196},{"$f":"LN('Page 277'!R6/'Page 277'!R5)","v":4.4220968681573464E-2},{"$f":"LN('Page 277'!S6/'Page 277'!S5)","v":3.4791825493663948E-2},{"$f":"LN('Page 277'!T6/'Page 277'!T5)","v":2.1757788941804957E-2},{"$f":"LN('Page 277'!U6/'Page 277'!U5)","v":-4.0224801310508873E-2},{"$f":"LN('Page 277'!V6/'Page 277'!V5)","v":5.9057749643601151E-2},{"$f":"LN('Page 277'!W6/'Page 277'!W5)","v":-3.1176940570674497E-2},{"$f":"LN('Page 277'!X6/'Page 277'!X5)","v":-4.2854092948531319E-2},{"$f":"LN('Page 277'!Y6/'Page 277'!Y5)","v":0.12806705206962446},{"$f":"LN('Page 277'!Z6/'Page 277'!Z5)","v":4.3921399259542193E-2},{"$f":"LN('Page 277'!AA6/'Page 277'!AA5)","v":1.8945086242449422E-2},{"$f":"LN('Page 277'!AB6/'Page 277'!AB5)","v":-0.20648205291889096},{"$f":"LN('Page 277'!AC6/'Page 277'!AC5)","v":0.14750878505953929},{"$f":"LN('Page 277'!AD6/'Page 277'!AD5)","v":-7.5949932519783436E-2},{"$f":"LN('Page 277'!AE6/'Page 277'!AE5)","v":3.7841794169327356E-2},{"$f":"LN('Page 277'!AF6/'Page 277'!AF5)","v":1.1353960913165304E-3}]
["2001-11-01",{"$f":"LN('Page 277'!B7/'Page 277'!B6)","v":7.2484350433373146E-2},{"$f":"LN('Page 277'!C7/'Page 277'!C6)","v":0.17896441688028816},{"$f":"LN('Page 277'!D7/'Page 277'!D6)","v":4.7288932505549441E-2},{"$f":"LN('Page 277'!E7/'Page 277'!E6)","v":0.11182257368591726},{"$f":"LN('Page 277'!F7/'Page 277'!F6)","v":7.888703899065469E-2},{"$f":"LN('Page 277'!G7/'Page 277'!G6)","v":5.4321447787470847E-2},{"$f":"LN('Page 277'!H7/'Page 277'!H6)","v":5.8557994194371764E-2},{"$f":"LN('Page 277'!I7/'Page 277'!I6)","v":0.11145658377136383},{"$f":"LN('Page 277'!J7/'Page 277'!J6)","v":9.6082480010043034E-2},{"$f":"LN('Page 277'!K7/'Page 277'!K6)","v":5.5813006133768522E-2},{"$f":"LN('Page 277'!L7/'Page 277'!L6)","v":0.19650186606800416},{"$f":"LN('Page 277'!M7/'Page 277'!M6)","v":0.20007536875904985},{"$f":"LN('Page 277'!N7/'Page 277'!N6)","v":0.12089502773851651},{"$f":"LN('Page 277'!O7/'Page 277'!O6)","v":0.2675119655026485},{"$f":"LN('Page 277'!P7/'Page 277'!P6)","v":6.853078206442742E-2},{"$f":"LN('Page 277'!Q7/'Page 277'!Q6)","v":0.2918189120825071},{"$f":"LN('Page 277'!R7/'Page 277'!R6)","v":8.9871415604602708E-3},{"$f":"LN('Page 277'!S7/'Page 277'!S6)","v":6.4639322508555266E-2},{"$f":"LN('Page 277'!T7/'Page 277'!T6)","v":-1.5627140171750719E-2},{"$f":"LN('Page 277'!U7/'Page 277'!U6)","v":3.9029343905735078E-2},{"$f":"LN('Page 277'!V7/'Page 277'!V6)","v":9.8314880494626E-2},{"$f":"LN('Page 277'!W7/'Page 277'!W6)","v":7.8858328439283774E-3},{"$f":"LN('Page 277'!X7/'Page 277'!X6)","v":5.9827362497400234E-2},{"$f":"LN('Page 277'!Y7/'Page 277'!Y6)","v":9.8934217212298003E-2},{"$f":"LN('Page 277'!Z7/'Page 277'!Z6)","v":3.5694814613013971E-2},{"$f":"LN('Page 277'!AA7/'Page 277'!AA6)","v":4.8548990076035255E-2},{"$f":"LN('Page 277'!AB7/'Page 277'!AB6)","v":-1.9353290061030263E-2},{"$f":"LN('Page 277'!AC7/'Page 277'!AC6)","v":0.11471288707917753},{"$f":"LN('Page 277'!AD7/'Page 277'!AD6)","v":-5.7939562167652871E-2},{"$f":"LN('Page 277'!AE7/'Page 277'!AE6)","v":7.0317751022094518E-2},{"$f":"LN('Page 277'!AF7/'Page 277'!AF6)","v":-4.7344401277808229E-2}]
["2001-12-03",{"$f":"LN('Page 277'!B8/'Page 277'!B7)","v":7.545292033896033E-3},{"$f":"LN('Page 277'!C8/'Page 277'!C7)","v":-8.2229955942229177E-2},{"$f":"LN('Page 277'!D8/'Page 277'!D7)","v":-3.6671197122498625E-2},{"$f":"LN('Page 277'!E8/'Page 277'!E7)","v":8.1045549141503123E-2},{"$f":"LN('Page 277'!F8/'Page 277'!F7)","v":9.9701610997635887E-2},{"$f":"LN('Page 277'!G8/'Page 277'!G7)","v":5.2487294046720416E-2},{"$f":"LN('Page 277'!H8/'Page 277'!H7)","v":9.6792445824790518E-2},{"$f":"LN('Page 277'!I8/'Page 277'!I7)","v":-4.2229684668085556E-2},{"$f":"LN('Page 277'!J8/'Page 277'!J7)","v":2.2895937839079176E-2},{"$f":"LN('Page 277'!K8/'Page 277'!K7)","v":4.4477277656629913E-2},{"$f":"LN('Page 277'!L8/'Page 277'!L7)","v":-2.2455651402987761E-2},{"$f":"LN('Page 277'!M8/'Page 277'!M7)","v":8.9446254543617196E-2},{"$f":"LN('Page 277'!N8/'Page 277'!N7)","v":2.0283322139941669E-2},{"$f":"LN('Page 277'!O8/'Page 277'!O7)","v":-6.4636325431257524E-2},{"$f":"LN('Page 277'!P8/'Page 277'!P7)","v":4.5416438707813464E-2},{"$f":"LN('Page 277'!Q8/'Page 277'!Q7)","v":-3.786247433876231E-2},{"$f":"LN('Page 277'!R8/'Page 277'!R7)","v":1.4434003369401132E-2},{"$f":"LN('Page 277'!S8/'Page 277'!S7)","v":-3.6961398564456335E-2},{"$f":"LN('Page 277'!T8/'Page 277'!T7)","v":4.2223848798482611E-3},{"$f":"LN('Page 277'!U8/'Page 277'!U7)","v":-1.4053634231395062E-2},{"$f":"LN('Page 277'!V8/'Page 277'!V7)","v":3.1229023846079226E-2},{"$f":"LN('Page 277'!W8/'Page 277'!W7)","v":-1.5834346666626219E-2},{"$f":"LN('Page 277'!X8/'Page 277'!X7)","v":-0.13630942941438459},{"$f":"LN('Page 277'!Y8/'Page 277'!Y7)","v":3.1379271202265246E-2},{"$f":"LN('Page 277'!Z8/'Page 277'!Z7)","v":-8.3225824899923431E-2},{"$f":"LN('Page 277'!AA8/'Page 277'!AA7)","v":2.1337137388131106E-2},{"$f":"LN('Page 277'!AB8/'Page 277'!AB7)","v":4.6734400886008887E-2},{"$f":"LN('Page 277'!AC8/'Page 277'!AC7)","v":7.0868710524937178E-2},{"$f":"LN('Page 277'!AD8/'Page 277'!AD7)","v":9.5917780098590637E-3},{"$f":"LN('Page 277'!AE8/'Page 277'!AE7)","v":4.3851258293732528E-2},{"$f":"LN('Page 277'!AF8/'Page 277'!AF7)","v":4.9328247755289843E-2}]
["2002-01-02",{"$f":"LN('Page 277'!B9/'Page 277'!B8)","v":-1.5696373666933345E-2},{"$f":"LN('Page 277'!C9/'Page 277'!C8)","v":8.3192591965755795E-3},{"$f":"LN('Page 277'!D9/'Page 277'!D8)","v":-6.8358274917308073E-2},{"$f":"LN('Page 277'!E9/'Page 277'!E8)","v":6.6600312776022262E-3},{"$f":"LN('Page 277'!F9/'Page 277'!F8)","v":5.4316907328075453E-2},{"$f":"LN('Page 277'!G9/'Page 277'!G8)","v":-5.9630181559100652E-2},{"$f":"LN('Page 277'!H9/'Page 277'!H8)","v":-3.0943594733412221E-2},{"$f":"LN('Page 277'!I9/'Page 277'!I8)","v":3.8296285077280327E-2},{"$f":"LN('Page 277'!J9/'Page 277'!J8)","v":1.646333018710169E-2},{"$f":"LN('Page 277'!K9/'Page 277'!K8)","v":-7.5771740215046443E-2},{"$f":"LN('Page 277'!L9/'Page 277'!L8)","v":5.0815761031806052E-2},{"$f":"LN('Page 277'!M9/'Page 277'!M8)","v":-1.8133610424654605E-2},{"$f":"LN('Page 277'!N9/'Page 277'!N8)","v":-6.2737534488792801E-3},{"$f":"LN('Page 277'!O9/'Page 277'!O8)","v":7.3884383555808855E-2},{"$f":"LN('Page 277'!P9/'Page 277'!P8)","v":-0.11433228046124953},{"$f":"LN('Page 277'!Q9/'Page 277'!Q8)","v":0.10806135060548314},{"$f":"LN('Page 277'!R9/'Page 277'!R8)","v":-2.7189756889673386E-2},{"$f":"LN('Page 277'!S9/'Page 277'!S8)","v":-6.5480288590633914E-2},{"$f":"LN('Page 277'!T9/'Page 277'!T8)","v":-7.4828485190152172E-2},{"$f":"LN('Page 277'!U9/'Page 277'!U8)","v":2.6338314183262136E-2},{"$f":"LN('Page 277'!V9/'Page 277'!V8)","v":-6.2872933633058056E-2},{"$f":"LN('Page 277'!W9/'Page 277'!W8)","v":8.8683982175134984E-2},{"$f":"LN('Page 277'!X9/'Page 277'!X8)","v":6.3384957619382039E-3},{"$f":"LN('Page 277'!Y9/'Page 277'!Y8)","v":-3.9290135903144265E-2},{"$f":"LN('Page 277'!Z9/'Page 277'!Z8)","v":4.4608973409030986E-2},{"$f":"LN('Page 277'!AA9/'Page 277'!AA8)","v":3.6546199657466596E-2},{"$f":"LN('Page 277'!AB9/'Page 277'!AB8)","v":-3.8346497320580909E-2},{"$f":"LN('Page 277'!AC9/'Page 277'!AC8)","v":6.1503365074926306E-2},{"$f":"LN('Page 277'!AD9/'Page 277'!AD8)","v":-1.5863029292099467E-2},{"$f":"LN('Page 277'!AE9/'Page 277'!AE8)","v":4.1314270146626794E-2},{"$f":"LN('Page 277'!AF9/'Page 277'!AF8)","v":-6.2482452639390828E-3}]
["2002-02-01",{"$f":"LN('Page 277'!B10/'Page 277'!B9)","v":-2.0984886675167722E-2},{"$f":"LN('Page 277'!C10/'Page 277'!C9)","v":5.1431364020888035E-2},{"$f":"LN('Page 277'!D10/'Page 277'!D9)","v":-1.7944652479050878E-3},{"$f":"LN('Page 277'!E10/'Page 277'!E9)","v":1.6784991730180783E-2},{"$f":"LN('Page 277'!F10/'Page 277'!F9)","v":0.11969034121265121},{"$f":"LN('Page 277'!G10/'Page 277'!G9)","v":-4.6373731257803565E-2},{"$f":"LN('Page 277'!H10/'Page 277'!H9)","v":9.8835564216469551E-2},{"$f":"LN('Page 277'!I10/'Page 277'!I9)","v":6.6572709312355663E-2},{"$f":"LN('Page 277'!J10/'Page 277'!J9)","v":8.8041688853115377E-2},{"$f":"LN('Page 277'!K10/'Page 277'!K9)","v":4.0349585041476566E-2},{"$f":"LN('Page 277'!L10/'Page 277'!L9)","v":4.5549580368746484E-2},{"$f":"LN('Page 277'!M10/'Page 277'!M9)","v":-1.8732443816804475E-3},{"$f":"LN('Page 277'!N10/'Page 277'!N9)","v":0.13141753363168499},{"$f":"LN('Page 277'!O10/'Page 277'!O9)","v":-9.4438466833245069E-2},{"$f":"LN('Page 277'!P10/'Page 277'!P9)","v":-9.3597801200443129E-2},{"$f":"LN('Page 277'!Q10/'Page 277'!Q9)","v":-0.20422941807914533},{"$f":"LN('Page 277'!R10/'Page 277'!R9)","v":6.0258087505275552E-2},{"$f":"LN('Page 277'!S10/'Page 277'!S9)","v":-0.15203120778614188},{"$f":"LN('Page 277'!T10/'Page 277'!T9)","v":7.9732172774681864E-2},{"$f":"LN('Page 277'!U10/'Page 277'!U9)","v":-4.0592271663461701E-2},{"$f":"LN('Page 277'!V10/'Page 277'!V9)","v":6.6016718006881941E-2},{"$f":"LN('Page 277'!W10/'Page 277'!W9)","v":4.9617249460301077E-2},{"$f":"LN('Page 277'!X10/'Page 277'!X9)","v":3.5788285136419642E-2},{"$f":"LN('Page 277'!Y10/'Page 277'!Y9)","v":-8.7865039582102275E-2},{"$f":"LN('Page 277'!Z10/'Page 277'!Z9)","v":-1.3930040413445774E-2},{"$f":"LN('Page 277'!AA10/'Page 277'!AA9)","v":3.7323648908988684E-2},{"$f":"LN('Page 277'!AB10/'Page 277'!AB9)","v":1.0304229446724666E-2},{"$f":"LN('Page 277'!AC10/'Page 277'!AC9)","v":6.3229888861985634E-2},{"$f":"LN('Page 277'!AD10/'Page 277'!AD9)","v":9.6518291994588824E-3},{"$f":"LN('Page 277'!AE10/'Page 277'!AE9)","v":3.3310791837118298E-2},{"$f":"LN('Page 277'!AF10/'Page 277'!AF9)","v":6.1864007641756563E-2}]
["2002-03-01",{"$f":"LN('Page 277'!B11/'Page 277'!B10)","v":3.6080076252758407E-2},{"$f":"LN('Page 277'!C11/'Page 277'!C10)","v":4.6525236584155066E-3},{"$f":"LN('Page 277'!D11/'Page 277'!D10)","v":-2.5183199888472337E-2},{"$f":"LN('Page 277'!E11/'Page 277'!E10)","v":0.11662193247804178},{"$f":"LN('Page 277'!F11/'Page 277'!F10)","v":4.8522103586135346E-2},{"$f":"LN('Page 277'!G11/'Page 277'!G10)","v":9.0201955226984876E-2},{"$f":"LN('Page 277'!H11/'Page 277'!H10)","v":2.3833908023618247E-2},{"$f":"LN('Page 277'!I11/'Page 277'!I10)","v":6.6152391187194043E-3},{"$f":"LN('Page 277'!J11/'Page 277'!J10)","v":3.6182762224996126E-3},{"$f":"LN('Page 277'!K11/'Page 277'!K10)","v":-2.8910568075509839E-2},{"$f":"LN('Page 277'!L11/'Page 277'!L10)","v":0.13197757299470086},{"$f":"LN('Page 277'!M11/'Page 277'!M10)","v":-2.7242736393874256E-2},{"$f":"LN('Page 277'!N11/'Page 277'!N10)","v":4.0579765831008459E-3},{"$f":"LN('Page 277'!O11/'Page 277'!O10)","v":-0.11081852635959275},{"$f":"LN('Page 277'!P11/'Page 277'!P10)","v":5.8221028970948878E-2},{"$f":"LN('Page 277'!Q11/'Page 277'!Q10)","v":6.2971389688850923E-2},{"$f":"LN('Page 277'!R11/'Page 277'!R10)","v":6.436075916039001E-2},{"$f":"LN('Page 277'!S11/'Page 277'!S10)","v":0.19786574412994123},{"$f":"LN('Page 277'!T11/'Page 277'!T10)","v":0.10200057969557871},{"$f":"LN('Page 277'!U11/'Page 277'!U10)","v":6.1637475497447559E-2},{"$f":"LN('Page 277'!V11/'Page 277'!V10)","v":-2.5242061885177698E-2},{"$f":"LN('Page 277'!W11/'Page 277'!W10)","v":1.1436865190946199E-2},{"$f":"LN('Page 277'!X11/'Page 277'!X10)","v":-5.7505127535623791E-2},{"$f":"LN('Page 277'!Y11/'Page 277'!Y10)","v":3.3336420267591711E-2},{"$f":"LN('Page 277'!Z11/'Page 277'!Z10)","v":-3.0400807559221411E-2},{"$f":"LN('Page 277'!AA11/'Page 277'!AA10)","v":6.0563914577078028E-2},{"$f":"LN('Page 277'!AB11/'Page 277'!AB10)","v":-1.0638398205055643E-2},{"$f":"LN('Page 277'!AC11/'Page 277'!AC10)","v":1.7149090522259349E-2},{"$f":"LN('Page 277'!AD11/'Page 277'!AD10)","v":-1.5171622423056794E-2},{"$f":"LN('Page 277'!AE11/'Page 277'!AE10)","v":-1.0301534991240572E-2},{"$f":"LN('Page 277'!AF11/'Page 277'!AF10)","v":5.9521269088767141E-2}]
["2002-04-01",{"$f":"LN('Page 277'!B12/'Page 277'!B11)","v":-6.3384682784413518E-2},{"$f":"LN('Page 277'!C12/'Page 277'!C11)","v":-0.10352485502932729},{"$f":"LN('Page 277'!D12/'Page 277'!D11)","v":-4.269514666027549E-2},{"$f":"LN('Page 277'!E12/'Page 277'!E11)","v":3.1897953681000808E-3},{"$f":"LN('Page 277'!F12/'Page 277'!F11)","v":-7.851721112632741E-2},{"$f":"LN('Page 277'!G12/'Page 277'!G11)","v":-0.13405661191564541},{"$f":"LN('Page 277'!H12/'Page 277'!H11)","v":-3.3768422473594267E-2},{"$f":"LN('Page 277'!I12/'Page 277'!I11)","v":-5.7805035265647606E-2},{"$f":"LN('Page 277'!J12/'Page 277'!J11)","v":4.0549728912370551E-3},{"$f":"LN('Page 277'!K12/'Page 277'!K11)","v":-0.17024274989813087},{"$f":"LN('Page 277'!L12/'Page 277'!L11)","v":5.9403672104483787E-2},{"$f":"LN('Page 277'!M12/'Page 277'!M11)","v":-4.7121678894988021E-2},{"$f":"LN('Page 277'!N12/'Page 277'!N11)","v":-4.2547037621728657E-2},{"$f":"LN('Page 277'!O12/'Page 277'!O11)","v":-4.8136005780311027E-2},{"$f":"LN('Page 277'!P12/'Page 277'!P11)","v":-0.2164329507618839},{"$f":"LN('Page 277'!Q12/'Page 277'!Q11)","v":-6.0795110266255288E-2},{"$f":"LN('Page 277'!R12/'Page 277'!R11)","v":-1.6807118316381289E-2},{"$f":"LN('Page 277'!S12/'Page 277'!S11)","v":-1.5479186848460088E-2},{"$f":"LN('Page 277'!T12/'Page 277'!T11)","v":6.0401874349266242E-2},{"$f":"LN('Page 277'!U12/'Page 277'!U11)","v":2.2875568599075361E-2},{"$f":"LN('Page 277'!V12/'Page 277'!V11)","v":8.9769043074332422E-2},{"$f":"LN('Page 277'!W12/'Page 277'!W11)","v":3.2858600979075607E-2},{"$f":"LN('Page 277'!X12/'Page 277'!X11)","v":-5.7817008524070991E-2},{"$f":"LN('Page 277'!Y12/'Page 277'!Y11)","v":-0.14321815601433052},{"$f":"LN('Page 277'!Z12/'Page 277'!Z11)","v":-8.8934551832093325E-2},{"$f":"LN('Page 277'!AA12/'Page 277'!AA11)","v":6.0525544896669753E-3},{"$f":"LN('Page 277'!AB12/'Page 277'!AB11)","v":-0.17965132823807586},{"$f":"LN('Page 277'!AC12/'Page 277'!AC11)","v":-5.6006339979803317E-2},{"$f":"LN('Page 277'!AD12/'Page 277'!AD11)","v":-0.1304485675204701},{"$f":"LN('Page 277'!AE12/'Page 277'!AE11)","v":-9.2970362870169576E-2},{"$f":"LN('Page 277'!AF12/'Page 277'!AF11)","v":-8.7217853469251205E-2}]
["2002-05-01",{"$f":"LN('Page 277'!B13/'Page 277'!B12)","v":-9.122942297125956E-3},{"$f":"LN('Page 277'!C13/'Page 277'!C12)","v":3.1979929622318874E-2},{"$f":"LN('Page 277'!D13/'Page 277'!D12)","v":-3.1543618535442949E-2},{"$f":"LN('Page 277'!E13/'Page 277'!E12)","v":3.5829820688122127E-2},{"$f":"LN('Page 277'!F13/'Page 277'!F12)","v":-4.0942833140425211E-2},{"$f":"LN('Page 277'!G13/'Page 277'!G12)","v":1.1201345332493495E-3},{"$f":"LN('Page 277'!H13/'Page 277'!H12)","v":-4.4088772984649124E-2},{"$f":"LN('Page 277'!I13/'Page 277'!I12)","v":4.1059999829931984E-2},{"$f":"LN('Page 277'!J13/'Page 277'!J12)","v":-1.1759520406906249E-2},{"$f":"LN('Page 277'!K13/'Page 277'!K12)","v":-1.2857319975237317E-2},{"$f":"LN('Page 277'!L13/'Page 277'!L12)","v":-2.4291106210459393E-2},{"$f":"LN('Page 277'!M13/'Page 277'!M12)","v":-0.10645826538135635},{"$f":"LN('Page 277'!N13/'Page 277'!N12)","v":7.1344465925884379E-2},{"$f":"LN('Page 277'!O13/'Page 277'!O12)","v":0.11040395588041478},{"$f":"LN('Page 277'!P13/'Page 277'!P12)","v":-3.8378858051192878E-2},{"$f":"LN('Page 277'!Q13/'Page 277'!Q12)","v":-3.4651457972541773E-2},{"$f":"LN('Page 277'!R13/'Page 277'!R12)","v":-3.6769482587011189E-2},{"$f":"LN('Page 277'!S13/'Page 277'!S12)","v":2.4082075655727977E-2},{"$f":"LN('Page 277'!T13/'Page 277'!T12)","v":7.9176567873402574E-4},{"$f":"LN('Page 277'!U13/'Page 277'!U12)","v":5.2856339064220076E-2},{"$f":"LN('Page 277'!V13/'Page 277'!V12)","v":1.9022919701089634E-3},{"$f":"LN('Page 277'!W13/'Page 277'!W12)","v":5.0513531487687044E-2},{"$f":"LN('Page 277'!X13/'Page 277'!X12)","v":4.9387260129633438E-2},{"$f":"LN('Page 277'!Y13/'Page 277'!Y12)","v":-2.6299710583961015E-2},{"$f":"LN('Page 277'!Z13/'Page 277'!Z12)","v":-4.6028024943851012E-2},{"$f":"LN('Page 277'!AA13/'Page 277'!AA12)","v":-7.7538551795234053E-3},{"$f":"LN('Page 277'!AB13/'Page 277'!AB12)","v":9.8939947854903648E-2},{"$f":"LN('Page 277'!AC13/'Page 277'!AC12)","v":-1.5047113320115641E-2},{"$f":"LN('Page 277'!AD13/'Page 277'!AD12)","v":6.9593291799195392E-2},{"$f":"LN('Page 277'!AE13/'Page 277'!AE12)","v":-3.198910026780194E-2},{"$f":"LN('Page 277'!AF13/'Page 277'!AF12)","v":-2.7536830684811583E-4}]
["2002-06-03",{"$f":"LN('Page 277'!B14/'Page 277'!B13)","v":-7.5214343275906148E-2},{"$f":"LN('Page 277'!C14/'Page 277'!C13)","v":-5.3772953432492283E-2},{"$f":"LN('Page 277'!D14/'Page 277'!D13)","v":1.9195027491194547E-2},{"$f":"LN('Page 277'!E14/'Page 277'!E13)","v":-0.15727473524384245},{"$f":"LN('Page 277'!F14/'Page 277'!F13)","v":5.3669622760008306E-2},{"$f":"LN('Page 277'!G14/'Page 277'!G13)","v":-0.10806965833025482},{"$f":"LN('Page 277'!H14/'Page 277'!H13)","v":-6.5540692592752997E-2},{"$f":"LN('Page 277'!I14/'Page 277'!I13)","v":-3.5641330914068861E-2},{"$f":"LN('Page 277'!J14/'Page 277'!J13)","v":-0.19256492420871571},{"$f":"LN('Page 277'!K14/'Page 277'!K13)","v":-6.3436803784259463E-2},{"$f":"LN('Page 277'!L14/'Page 277'!L13)","v":-0.15081827824135915},{"$f":"LN('Page 277'!M14/'Page 277'!M13)","v":-0.12536286334612179},{"$f":"LN('Page 277'!N14/'Page 277'!N13)","v":-0.10667297483188079},{"$f":"LN('Page 277'!O14/'Page 277'!O13)","v":-0.21840354522772715},{"$f":"LN('Page 277'!P14/'Page 277'!P13)","v":-0.1109531307938864},{"$f":"LN('Page 277'!Q14/'Page 277'!Q13)","v":-0.4129952641719174},{"$f":"LN('Page 277'!R14/'Page 277'!R13)","v":-0.16044204263381684},{"$f":"LN('Page 277'!S14/'Page 277'!S13)","v":-5.812932395766944E-2},{"$f":"LN('Page 277'!T14/'Page 277'!T13)","v":1.1606307131859832E-2},{"$f":"LN('Page 277'!U14/'Page 277'!U13)","v":-5.0973453928769133E-2},{"$f":"LN('Page 277'!V14/'Page 277'!V13)","v":-1.9540049471441244E-2},{"$f":"LN('Page 277'!W14/'Page 277'!W13)","v":-0.25818816652428989},{"$f":"LN('Page 277'!X14/'Page 277'!X13)","v":-0.11366735780091598},{"$f":"LN('Page 277'!Y14/'Page 277'!Y13)","v":7.18793970343755E-2},{"$f":"LN('Page 277'!Z14/'Page 277'!Z13)","v":1.1392528281094841E-2},{"$f":"LN('Page 277'!AA14/'Page 277'!AA13)","v":4.8532004988862043E-3},{"$f":"LN('Page 277'!AB14/'Page 277'!AB13)","v":-0.11710391848257479},{"$f":"LN('Page 277'!AC14/'Page 277'!AC13)","v":-1.4334929170992232E-2},{"$f":"LN('Page 277'!AD14/'Page 277'!AD13)","v":-6.8692796465945172E-2},{"$f":"LN('Page 277'!AE14/'Page 277'!AE13)","v":1.7918893474271808E-2},{"$f":"LN('Page 277'!AF14/'Page 277'!AF13)","v":2.4484356932286747E-2}]
["2002-07-01",{"$f":"LN('Page 277'!B15/'Page 277'!B14)","v":-8.2299871837899052E-2},{"$f":"LN('Page 277'!C15/'Page 277'!C14)","v":-0.19749695818804633},{"$f":"LN('Page 277'!D15/'Page 277'!D14)","v":-6.5257342301863905E-2},{"$f":"LN('Page 277'!E15/'Page 277'!E14)","v":-2.7507948197920899E-2},{"$f":"LN('Page 277'!F15/'Page 277'!F14)","v":-8.0718988156795304E-2},{"$f":"LN('Page 277'!G15/'Page 277'!G14)","v":-0.14432487806645969},{"$f":"LN('Page 277'!H15/'Page 277'!H14)","v":-8.2645616963003099E-2},{"$f":"LN('Page 277'!I15/'Page 277'!I14)","v":-5.7461205582103388E-2},{"$f":"LN('Page 277'!J15/'Page 277'!J14)","v":-6.3766618358989155E-2},{"$f":"LN('Page 277'!K15/'Page 277'!K14)","v":0.10290633849230048},{"$f":"LN('Page 277'!L15/'Page 277'!L14)","v":-0.13825282112290918},{"$f":"LN('Page 277'!M15/'Page 277'!M14)","v":-0.17353177741703407},{"$f":"LN('Page 277'!N15/'Page 277'!N14)","v":-8.5136962195279428E-2},{"$f":"LN('Page 277'!O15/'Page 277'!O14)","v":-7.6571687180657641E-2},{"$f":"LN('Page 277'!P15/'Page 277'!P14)","v":-2.2541491041347252E-2},{"$f":"LN('Page 277'!Q15/'Page 277'!Q14)","v":2.7950394108345294E-2},{"$f":"LN('Page 277'!R15/'Page 277'!R14)","v":6.5843859281792382E-3},{"$f":"LN('Page 277'!S15/'Page 277'!S14)","v":-0.30691996347822859},{"$f":"LN('Page 277'!T15/'Page 277'!T14)","v":-0.11446369257156745},{"$f":"LN('Page 277'!U15/'Page 277'!U14)","v":-0.13946100948092249},{"$f":"LN('Page 277'!V15/'Page 277'!V14)","v":2.2817327092116615E-2},{"$f":"LN('Page 277'!W15/'Page 277'!W14)","v":5.3027117760512429E-2},{"$f":"LN('Page 277'!X15/'Page 277'!X14)","v":-2.0639553296548048E-2},{"$f":"LN('Page 277'!Y15/'Page 277'!Y14)","v":-0.13143187474223988},{"$f":"LN('Page 277'!Z15/'Page 277'!Z14)","v":-7.8522990362838732E-2},{"$f":"LN('Page 277'!AA15/'Page 277'!AA14)","v":1.6930709087237886E-3},{"$f":"LN('Page 277'!AB15/'Page 277'!AB14)","v":-8.8975904930232483E-2},{"$f":"LN('Page 277'!AC15/'Page 277'!AC14)","v":2.3267685319325215E-2},{"$f":"LN('Page 277'!AD15/'Page 277'!AD14)","v":-0.18610909852081367},{"$f":"LN('Page 277'!AE15/'Page 277'!AE14)","v":-0.11203724675971019},{"$f":"LN('Page 277'!AF15/'Page 277'!AF14)","v":-0.10712384192652391}]
["2002-08-01",{"$f":"LN('Page 277'!B16/'Page 277'!B15)","v":4.8695443903156652E-3},{"$f":"LN('Page 277'!C16/'Page 277'!C15)","v":-7.5279762968983976E-2},{"$f":"LN('Page 277'!D16/'Page 277'!D15)","v":-1.757117827535767E-2},{"$f":"LN('Page 277'!E16/'Page 277'!E15)","v":2.2592323028594059E-2},{"$f":"LN('Page 277'!F16/'Page 277'!F15)","v":-0.10864232186784364},{"$f":"LN('Page 277'!G16/'Page 277'!G15)","v":5.1257270683949648E-2},{"$f":"LN('Page 277'!H16/'Page 277'!H15)","v":-2.4003111725371958E-2},{"$f":"LN('Page 277'!I16/'Page 277'!I15)","v":-3.0720556129501569E-2},{"$f":"LN('Page 277'!J16/'Page 277'!J15)","v":-0.12242341521288569},{"$f":"LN('Page 277'!K16/'Page 277'!K15)","v":-6.5690993317682592E-2},{"$f":"LN('Page 277'!L16/'Page 277'!L15)","v":3.9200346761899596E-2},{"$f":"LN('Page 277'!M16/'Page 277'!M15)","v":6.4517484228313049E-2},{"$f":"LN('Page 277'!N16/'Page 277'!N15)","v":-7.1622913914725195E-2},{"$f":"LN('Page 277'!O16/'Page 277'!O15)","v":-5.2400276393531675E-2},{"$f":"LN('Page 277'!P16/'Page 277'!P15)","v":7.0550710227707661E-2},{"$f":"LN('Page 277'!Q16/'Page 277'!Q15)","v":-0.11867924749810754},{"$f":"LN('Page 277'!R16/'Page 277'!R15)","v":3.5656914690746486E-2},{"$f":"LN('Page 277'!S16/'Page 277'!S15)","v":5.5989744211750223E-2},{"$f":"LN('Page 277'!T16/'Page 277'!T15)","v":2.1048840473945431E-2},{"$f":"LN('Page 277'!U16/'Page 277'!U15)","v":-4.0605754925943018E-2},{"$f":"LN('Page 277'!V16/'Page 277'!V15)","v":-2.2411870427542419E-3},{"$f":"LN('Page 277'!W16/'Page 277'!W15)","v":8.2160633720963452E-2},{"$f":"LN('Page 277'!X16/'Page 277'!X15)","v":1.8448438603733165E-2},{"$f":"LN('Page 277'!Y16/'Page 277'!Y15)","v":2.2749796300981041E-2},{"$f":"LN('Page 277'!Z16/'Page 277'!Z15)","v":2.6202372394024117E-2},{"$f":"LN('Page 277'!AA16/'Page 277'!AA15)","v":-3.8740968550840995E-3},{"$f":"LN('Page 277'!AB16/'Page 277'!AB15)","v":-0.11201165448676881},{"$f":"LN('Page 277'!AC16/'Page 277'!AC15)","v":-0.15312902056389266},{"$f":"LN('Page 277'!AD16/'Page 277'!AD15)","v":-6.2636945145435732E-2},{"$f":"LN('Page 277'!AE16/'Page 277'!AE15)","v":8.3871767743412165E-2},{"$f":"LN('Page 277'!AF16/'Page 277'!AF15)","v":-2.9753257281908193E-2}]
["2002-09-03",{"$f":"LN('Page 277'!B17/'Page 277'!B16)","v":-0.11656116844786664},{"$f":"LN('Page 277'!C17/'Page 277'!C16)","v":-0.26223468323067284},{"$f":"LN('Page 277'!D17/'Page 277'!D16)","v":-0.13732549188862203},{"$f":"LN('Page 277'!E17/'Page 277'!E16)","v":-0.1454284265363687},{"$f":"LN('Page 277'!F17/'Page 277'!F16)","v":-8.261714518565047E-2},{"$f":"LN('Page 277'!G17/'Page 277'!G16)","v":-9.9597248018244988E-2},{"$f":"LN('Page 277'!H17/'Page 277'!H16)","v":-0.15928696814671314},{"$f":"LN('Page 277'!I17/'Page 277'!I16)","v":-0.11106032126150675},{"$f":"LN('Page 277'!J17/'Page 277'!J16)","v":-3.5162513612693271E-2},{"$f":"LN('Page 277'!K17/'Page 277'!K16)","v":-0.19449871944121414},{"$f":"LN('Page 277'!L17/'Page 277'!L16)","v":-0.20716947675957453},{"$f":"LN('Page 277'!M17/'Page 277'!M16)","v":-0.23114327715708133},{"$f":"LN('Page 277'!N17/'Page 277'!N16)","v":-0.32367950510123739},{"$f":"LN('Page 277'!O17/'Page 277'!O16)","v":-0.13443596075494954},{"$f":"LN('Page 277'!P17/'Page 277'!P16)","v":-0.25673321878146271},{"$f":"LN('Page 277'!Q17/'Page 277'!Q16)","v":-0.18269406564534726},{"$f":"LN('Page 277'!R17/'Page 277'!R16)","v":-4.1646069116321278E-3},{"$f":"LN('Page 277'!S17/'Page 277'!S16)","v":-0.32915250533907781},{"$f":"LN('Page 277'!T17/'Page 277'!T16)","v":-5.7448973801567112E-2},{"$f":"LN('Page 277'!U17/'Page 277'!U16)","v":-0.29673190797169874},{"$f":"LN('Page 277'!V17/'Page 277'!V16)","v":-0.12777845727413992},{"$f":"LN('Page 277'!W17/'Page 277'!W16)","v":-0.24010943692820372},{"$f":"LN('Page 277'!X17/'Page 277'!X16)","v":-9.2632802033608533E-2},{"$f":"LN('Page 277'!Y17/'Page 277'!Y16)","v":-0.11509218875636305},{"$f":"LN('Page 277'!Z17/'Page 277'!Z16)","v":-0.13088238445294573},{"$f":"LN('Page 277'!AA17/'Page 277'!AA16)","v":8.2145907687138243E-3},{"$f":"LN('Page 277'!AB17/'Page 277'!AB16)","v":-0.20733294528756743},{"$f":"LN('Page 277'!AC17/'Page 277'!AC16)","v":-5.0202884247737375E-2},{"$f":"LN('Page 277'!AD17/'Page 277'!AD16)","v":-0.12178294460612428},{"$f":"LN('Page 277'!AE17/'Page 277'!AE16)","v":-8.1128281797661156E-2},{"$f":"LN('Page 277'!AF17/'Page 277'!AF16)","v":-0.10553173387586309}]
["2002-10-01",{"$f":"LN('Page 277'!B18/'Page 277'!B17)","v":8.2914421028757151E-2},{"$f":"LN('Page 277'!C18/'Page 277'!C17)","v":0.13332081458703388},{"$f":"LN('Page 277'!D18/'Page 277'!D17)","v":0.1340676294208841},{"$f":"LN('Page 277'!E18/'Page 277'!E17)","v":0.15621108287683391},{"$f":"LN('Page 277'!F18/'Page 277'!F17)","v":-0.13743143118889126},{"$f":"LN('Page 277'!G18/'Page 277'!G17)","v":0.22518305800749616},{"$f":"LN('Page 277'!H18/'Page 277'!H17)","v":0.10215771775330279},{"$f":"LN('Page 277'!I18/'Page 277'!I17)","v":0.13412010121115972},{"$f":"LN('Page 277'!J18/'Page 277'!J17)","v":9.7622464058021677E-2},{"$f":"LN('Page 277'!K18/'Page 277'!K17)","v":2.391610889577276E-2},{"$f":"LN('Page 277'!L18/'Page 277'!L17)","v":-0.15702567200644355},{"$f":"LN('Page 277'!M18/'Page 277'!M17)","v":0.10125667899205118},{"$f":"LN('Page 277'!N18/'Page 277'!N17)","v":9.9987156553826395E-2},{"$f":"LN('Page 277'!O18/'Page 277'!O17)","v":0.3029495445825694},{"$f":"LN('Page 277'!P18/'Page 277'!P17)","v":0.30293545067486211},{"$f":"LN('Page 277'!Q18/'Page 277'!Q17)","v":0.2198594761130197},{"$f":"LN('Page 277'!R18/'Page 277'!R17)","v":8.2729568107736864E-2},{"$f":"LN('Page 277'!S18/'Page 277'!S17)","v":8.8461776103578138E-2},{"$f":"LN('Page 277'!T18/'Page 277'!T17)","v":-3.1418615680898078E-2},{"$f":"LN('Page 277'!U18/'Page 277'!U17)","v":2.5135973271542454E-2},{"$f":"LN('Page 277'!V18/'Page 277'!V17)","v":0.14353220773826222},{"$f":"LN('Page 277'!W18/'Page 277'!W17)","v":4.8924461459066891E-2},{"$f":"LN('Page 277'!X18/'Page 277'!X17)","v":0.17111821308396172},{"$f":"LN('Page 277'!Y18/'Page 277'!Y17)","v":0.20081407491612102},{"$f":"LN('Page 277'!Z18/'Page 277'!Z17)","v":9.0626653094449311E-2},{"$f":"LN('Page 277'!AA18/'Page 277'!AA17)","v":-6.033564822353424E-3},{"$f":"LN('Page 277'!AB18/'Page 277'!AB17)","v":0.25688169094605989},{"$f":"LN('Page 277'!AC18/'Page 277'!AC17)","v":8.7731398308322481E-2},{"$f":"LN('Page 277'!AD18/'Page 277'!AD17)","v":0.33105621815288383},{"$f":"LN('Page 277'!AE18/'Page 277'!AE17)","v":8.3845147431580211E-2},{"$f":"LN('Page 277'!AF18/'Page 277'!AF17)","v":5.3670603334340393E-2}]
["2002-11-01",{"$f":"LN('Page 277'!B19/'Page 277'!B18)","v":5.550058467611222E-2},{"$f":"LN('Page 277'!C19/'Page 277'!C18)","v":0.15323766224092053},{"$f":"LN('Page 277'!D19/'Page 277'!D18)","v":4.076325564391297E-2},{"$f":"LN('Page 277'!E19/'Page 277'!E18)","v":6.8147535415543706E-2},{"$f":"LN('Page 277'!F19/'Page 277'!F18)","v":0.14055838808326743},{"$f":"LN('Page 277'!G19/'Page 277'!G18)","v":5.0900823780070249E-2},{"$f":"LN('Page 277'!H19/'Page 277'!H18)","v":0.20052752129052717},{"$f":"LN('Page 277'!I19/'Page 277'!I18)","v":8.6759582955818135E-2},{"$f":"LN('Page 277'!J19/'Page 277'!J18)","v":0.1716531154770311},{"$f":"LN('Page 277'!K19/'Page 277'!K18)","v":7.1760736900315869E-2},{"$f":"LN('Page 277'!L19/'Page 277'!L18)","v":0.19180375767263116},{"$f":"LN('Page 277'!M19/'Page 277'!M18)","v":-8.97918370658779E-2},{"$f":"LN('Page 277'!N19/'Page 277'!N18)","v":9.0892217381434673E-2},{"$f":"LN('Page 277'!O19/'Page 277'!O18)","v":0.20968439794020491},{"$f":"LN('Page 277'!P19/'Page 277'!P18)","v":9.8149656349915612E-2},{"$f":"LN('Page 277'!Q19/'Page 277'!Q18)","v":0.18907699675060363},{"$f":"LN('Page 277'!R19/'Page 277'!R18)","v":-2.6510033315255976E-2},{"$f":"LN('Page 277'!S19/'Page 277'!S18)","v":0.19334722773861415},{"$f":"LN('Page 277'!T19/'Page 277'!T18)","v":-1.3943272094966194E-2},{"$f":"LN('Page 277'!U19/'Page 277'!U18)","v":3.48467313301681E-2},{"$f":"LN('Page 277'!V19/'Page 277'!V18)","v":2.748162223146906E-2},{"$f":"LN('Page 277'!W19/'Page 277'!W18)","v":-7.7211744000826268E-2},{"$f":"LN('Page 277'!X19/'Page 277'!X18)","v":9.1040353552916189E-2},{"$f":"LN('Page 277'!Y19/'Page 277'!Y18)","v":7.5765583731354544E-2},{"$f":"LN('Page 277'!Z19/'Page 277'!Z18)","v":-3.8042584355342203E-3},{"$f":"LN('Page 277'!AA19/'Page 277'!AA18)","v":-4.5310386843392496E-2},{"$f":"LN('Page 277'!AB19/'Page 277'!AB18)","v":0.10517092422679099},{"$f":"LN('Page 277'!AC19/'Page 277'!AC18)","v":1.7065260554186931E-2},{"$f":"LN('Page 277'!AD19/'Page 277'!AD18)","v":0.10367370052634674},{"$f":"LN('Page 277'!AE19/'Page 277'!AE18)","v":6.5675337470852153E-3},{"$f":"LN('Page 277'!AF19/'Page 277'!AF18)","v":3.9769834572830502E-2}]
["2002-12-02",{"$f":"LN('Page 277'!B20/'Page 277'!B19)","v":-6.2229277129875436E-2},{"$f":"LN('Page 277'!C20/'Page 277'!C19)","v":-0.11467866863723777},{"$f":"LN('Page 277'!D20/'Page 277'!D19)","v":-0.11807678180307767},{"$f":"LN('Page 277'!E20/'Page 277'!E19)","v":-9.4157232075042577E-2},{"$f":"LN('Page 277'!F20/'Page 277'!F19)","v":-3.1718485160777944E-2},{"$f":"LN('Page 277'!G20/'Page 277'!G19)","v":-9.976645110465264E-2},{"$f":"LN('Page 277'!H20/'Page 277'!H19)","v":-8.7480090379978032E-2},{"$f":"LN('Page 277'!I20/'Page 277'!I19)","v":-5.0882505202755855E-2},{"$f":"LN('Page 277'!J20/'Page 277'!J19)","v":-0.18295267073096441},{"$f":"LN('Page 277'!K20/'Page 277'!K19)","v":-0.10016921633419347},{"$f":"LN('Page 277'!L20/'Page 277'!L19)","v":-7.4061437799726737E-2},{"$f":"LN('Page 277'!M20/'Page 277'!M19)","v":-9.2170459799657226E-2},{"$f":"LN('Page 277'!N20/'Page 277'!N19)","v":-8.0425682697801315E-2},{"$f":"LN('Page 277'!O20/'Page 277'!O19)","v":-0.11109811255449942},{"$f":"LN('Page 277'!P20/'Page 277'!P19)","v":-0.11477711781040728},{"$f":"LN('Page 277'!Q20/'Page 277'!Q19)","v":-0.29364038203541154},{"$f":"LN('Page 277'!R20/'Page 277'!R19)","v":-5.9803054454518605E-2},{"$f":"LN('Page 277'!S20/'Page 277'!S19)","v":-4.7793832399136003E-2},{"$f":"LN('Page 277'!T20/'Page 277'!T19)","v":-4.00587605520051E-2},{"$f":"LN('Page 277'!U20/'Page 277'!U19)","v":-0.14007591860117491},{"$f":"LN('Page 277'!V20/'Page 277'!V19)","v":-5.1728360742031007E-2},{"$f":"LN('Page 277'!W20/'Page 277'!W19)","v":8.7602218956596464E-2},{"$f":"LN('Page 277'!X20/'Page 277'!X19)","v":-4.2014160672714566E-2},{"$f":"LN('Page 277'!Y20/'Page 277'!Y19)","v":-0.10944469073922956},{"$f":"LN('Page 277'!Z20/'Page 277'!Z19)","v":-3.0966584108389622E-2},{"$f":"LN('Page 277'!AA20/'Page 277'!AA19)","v":1.6579128802911264E-2},{"$f":"LN('Page 277'!AB20/'Page 277'!AB19)","v":-4.9857286242738795E-2},{"$f":"LN('Page 277'!AC20/'Page 277'!AC19)","v":-8.8375830124651066E-3},{"$f":"LN('Page 277'!AD20/'Page 277'!AD19)","v":-7.7794252538525996E-2},{"$f":"LN('Page 277'!AE20/'Page 277'!AE19)","v":-6.3589158037542184E-2},{"$f":"LN('Page 277'!AF20/'Page 277'!AF19)","v":4.0466981293098385E-3}]
["2003-01-02",{"$f":"LN('Page 277'!B21/'Page 277'!B20)","v":-2.7797493671422965E-2},{"$f":"LN('Page 277'!C21/'Page 277'!C20)","v":-0.14146552029994253},{"$f":"LN('Page 277'!D21/'Page 277'!D20)","v":-6.6691374498672157E-2},{"$f":"LN('Page 277'!E21/'Page 277'!E20)","v":4.9908604677582208E-3},{"$f":"LN('Page 277'!F21/'Page 277'!F20)","v":-4.3470788985772571E-2},{"$f":"LN('Page 277'!G21/'Page 277'!G20)","v":-1.8554595002110815E-2},{"$f":"LN('Page 277'!H21/'Page 277'!H20)","v":-3.1431158789582109E-2},{"$f":"LN('Page 277'!I21/'Page 277'!I20)","v":-0.11292601069443486},{"$f":"LN('Page 277'!J21/'Page 277'!J20)","v":7.0674957669936367E-2},{"$f":"LN('Page 277'!K21/'Page 277'!K20)","v":-5.1269597424315243E-2},{"$f":"LN('Page 277'!L21/'Page 277'!L20)","v":-1.443594623294148E-2},{"$f":"LN('Page 277'!M21/'Page 277'!M20)","v":-0.1389648463475181},{"$f":"LN('Page 277'!N21/'Page 277'!N20)","v":1.7945748539198343E-2},{"$f":"LN('Page 277'!O21/'Page 277'!O20)","v":3.0238910250769192E-3},{"$f":"LN('Page 277'!P21/'Page 277'!P20)","v":9.0078765138604609E-3},{"$f":"LN('Page 277'!Q21/'Page 277'!Q20)","v":5.9583095836306249E-3},{"$f":"LN('Page 277'!R21/'Page 277'!R20)","v":-1.7965869689177784E-3},{"$f":"LN('Page 277'!S21/'Page 277'!S20)","v":-2.7953627346028617E-2},{"$f":"LN('Page 277'!T21/'Page 277'!T20)","v":-8.0166569691407036E-2},{"$f":"LN('Page 277'!U21/'Page 277'!U20)","v":-0.12131849668740595},{"$f":"LN('Page 277'!V21/'Page 277'!V20)","v":1.0045113907752113E-2},{"$f":"LN('Page 277'!W21/'Page 277'!W20)","v":-6.7812233805536068E-2},{"$f":"LN('Page 277'!X21/'Page 277'!X20)","v":-2.1907393864309101E-2},{"$f":"LN('Page 277'!Y21/'Page 277'!Y20)","v":-8.53950844121283E-2},{"$f":"LN('Page 277'!Z21/'Page 277'!Z20)","v":-1.7885892802497201E-3},{"$f":"LN('Page 277'!AA21/'Page 277'!AA20)","v":4.9813201528147724E-4},{"$f":"LN('Page 277'!AB21/'Page 277'!AB20)","v":-9.4951499743090681E-2},{"$f":"LN('Page 277'!AC21/'Page 277'!AC20)","v":2.6281836160795637E-2},{"$f":"LN('Page 277'!AD21/'Page 277'!AD20)","v":-3.3511074772559768E-3},{"$f":"LN('Page 277'!AE21/'Page 277'!AE20)","v":-5.5036550627331024E-2},{"$f":"LN('Page 277'!AF21/'Page 277'!AF20)","v":-2.2938947680584975E-2}]
["2003-02-03",{"$f":"LN('Page 277'!B22/'Page 277'!B21)","v":-1.7149844258839787E-2},{"$f":"LN('Page 277'!C22/'Page 277'!C21)","v":4.3693684262947743E-2},{"$f":"LN('Page 277'!D22/'Page 277'!D21)","v":-9.3559310982810992E-2},{"$f":"LN('Page 277'!E22/'Page 277'!E21)","v":-5.6319266598434774E-2},{"$f":"LN('Page 277'!F22/'Page 277'!F21)","v":-0.13108211777781725},{"$f":"LN('Page 277'!G22/'Page 277'!G21)","v":-2.9823609660282947E-2},{"$f":"LN('Page 277'!H22/'Page 277'!H21)","v":6.6441643738348766E-2},{"$f":"LN('Page 277'!I22/'Page 277'!I21)","v":-2.2803268297453029E-2},{"$f":"LN('Page 277'!J22/'Page 277'!J21)","v":-2.5619512617744512E-2},{"$f":"LN('Page 277'!K22/'Page 277'!K21)","v":4.6756954387334002E-2},{"$f":"LN('Page 277'!L22/'Page 277'!L21)","v":-5.9221112814114754E-2},{"$f":"LN('Page 277'!M22/'Page 277'!M21)","v":0.11497241960429672},{"$f":"LN('Page 277'!N22/'Page 277'!N21)","v":-5.7184569597486232E-2},{"$f":"LN('Page 277'!O22/'Page 277'!O21)","v":-9.3620786377303575E-2},{"$f":"LN('Page 277'!P22/'Page 277'!P21)","v":-1.1875702391953846E-3},{"$f":"LN('Page 277'!Q22/'Page 277'!Q21)","v":9.8006810651924278E-2},{"$f":"LN('Page 277'!R22/'Page 277'!R21)","v":-1.7738824337381519E-2},{"$f":"LN('Page 277'!S22/'Page 277'!S21)","v":-2.8757559295052533E-2},{"$f":"LN('Page 277'!T22/'Page 277'!T21)","v":-6.1919702479209951E-3},{"$f":"LN('Page 277'!U22/'Page 277'!U21)","v":-4.5496853268568518E-2},{"$f":"LN('Page 277'!V22/'Page 277'!V21)","v":1.1820266103743152E-2},{"$f":"LN('Page 277'!W22/'Page 277'!W21)","v":2.0335441870730667E-2},{"$f":"LN('Page 277'!X22/'Page 277'!X21)","v":-4.8757269973609955E-2},{"$f":"LN('Page 277'!Y22/'Page 277'!Y21)","v":1.9361090268664007E-3},{"$f":"LN('Page 277'!Z22/'Page 277'!Z21)","v":-1.8064075007573496E-2},{"$f":"LN('Page 277'!AA22/'Page 277'!AA21)","v":-4.429331804306301E-2},{"$f":"LN('Page 277'!AB22/'Page 277'!AB21)","v":-0.1612434930677005},{"$f":"LN('Page 277'!AC22/'Page 277'!AC21)","v":-7.8132328754564259E-2},{"$f":"LN('Page 277'!AD22/'Page 277'!AD21)","v":-0.10173910138070855},{"$f":"LN('Page 277'!AE22/'Page 277'!AE21)","v":5.4048342576563692E-3},{"$f":"LN('Page 277'!AF22/'Page 277'!AF21)","v":2.8566913570903974E-3}]
["2003-03-03",{"$f":"LN('Page 277'!B23/'Page 277'!B22)","v":8.3228742528296627E-3},{"$f":"LN('Page 277'!C23/'Page 277'!C22)","v":-5.5748624768301544E-2},{"$f":"LN('Page 277'!D23/'Page 277'!D22)","v":4.3357144414625601E-3},{"$f":"LN('Page 277'!E23/'Page 277'!E22)","v":-1.0589580073240927E-2},{"$f":"LN('Page 277'!F23/'Page 277'!F22)","v":-9.4926523555613498E-2},{"$f":"LN('Page 277'!G23/'Page 277'!G22)","v":3.2725433395712572E-2},{"$f":"LN('Page 277'!H23/'Page 277'!H22)","v":4.5573026372150868E-2},{"$f":"LN('Page 277'!I23/'Page 277'!I22)","v":5.8068470022885253E-2},{"$f":"LN('Page 277'!J23/'Page 277'!J22)","v":-2.4169196055386566E-3},{"$f":"LN('Page 277'!K23/'Page 277'!K22)","v":5.8413969839456993E-2},{"$f":"LN('Page 277'!L23/'Page 277'!L22)","v":-4.5686250612152913E-3},{"$f":"LN('Page 277'!M23/'Page 277'!M22)","v":4.0663041490540751E-2},{"$f":"LN('Page 277'!N23/'Page 277'!N22)","v":-6.9194667471896065E-2},{"$f":"LN('Page 277'!O23/'Page 277'!O22)","v":-1.4023602107746367E-2},{"$f":"LN('Page 277'!P23/'Page 277'!P22)","v":6.0550402189520243E-3},{"$f":"LN('Page 277'!Q23/'Page 277'!Q22)","v":-5.7897941632355364E-2},{"$f":"LN('Page 277'!R23/'Page 277'!R22)","v":9.8319310996720991E-2},{"$f":"LN('Page 277'!S23/'Page 277'!S22)","v":4.4757900641493625E-2},{"$f":"LN('Page 277'!T23/'Page 277'!T22)","v":1.2345835822299362E-2},{"$f":"LN('Page 277'!U23/'Page 277'!U22)","v":6.0944015882983212E-2},{"$f":"LN('Page 277'!V23/'Page 277'!V22)","v":3.6616980542133158E-2},{"$f":"LN('Page 277'!W23/'Page 277'!W22)","v":-0.23686375406622115},{"$f":"LN('Page 277'!X23/'Page 277'!X22)","v":4.4802090130681892E-2},{"$f":"LN('Page 277'!Y23/'Page 277'!Y22)","v":2.1053409197832482E-2},{"$f":"LN('Page 277'!Z23/'Page 277'!Z22)","v":4.386511745051392E-2},{"$f":"LN('Page 277'!AA23/'Page 277'!AA22)","v":8.4078919119413342E-2},{"$f":"LN('Page 277'!AB23/'Page 277'!AB22)","v":-3.5981469228829284E-2},{"$f":"LN('Page 277'!AC23/'Page 277'!AC22)","v":-1.3758363296361585E-2},{"$f":"LN('Page 277'!AD23/'Page 277'!AD22)","v":2.205234703019511E-2},{"$f":"LN('Page 277'!AE23/'Page 277'!AE22)","v":8.1136745278307804E-2},{"$f":"LN('Page 277'!AF23/'Page 277'!AF22)","v":2.7201927320307937E-2}]
["2003-04-01",{"$f":"LN('Page 277'!B24/'Page 277'!B23)","v":7.7927350029476733E-2},{"$f":"LN('Page 277'!C24/'Page 277'!C23)","v":0.17457387000312879},{"$f":"LN('Page 277'!D24/'Page 277'!D23)","v":0.15855558519653012},{"$f":"LN('Page 277'!E24/'Page 277'!E23)","v":0.13273263509370303},{"$f":"LN('Page 277'!F24/'Page 277'!F23)","v":8.489944378648627E-2},{"$f":"LN('Page 277'!G24/'Page 277'!G23)","v":0.13050847663683099},{"$f":"LN('Page 277'!H24/'Page 277'!H23)","v":7.3366224066801822E-2},{"$f":"LN('Page 277'!I24/'Page 277'!I23)","v":9.0299207840725426E-2},{"$f":"LN('Page 277'!J24/'Page 277'!J23)","v":9.2391112933826666E-2},{"$f":"LN('Page 277'!K24/'Page 277'!K23)","v":0.14398213891739789},{"$f":"LN('Page 277'!L24/'Page 277'!L23)","v":7.0049023671026195E-2},{"$f":"LN('Page 277'!M24/'Page 277'!M23)","v":0.14386358786172787},{"$f":"LN('Page 277'!N24/'Page 277'!N23)","v":9.9795107920613191E-2},{"$f":"LN('Page 277'!O24/'Page 277'!O23)","v":4.6642279970538637E-2},{"$f":"LN('Page 277'!P24/'Page 277'!P23)","v":7.9315611180039547E-2},{"$f":"LN('Page 277'!Q24/'Page 277'!Q23)","v":0.12221202106771634},{"$f":"LN('Page 277'!R24/'Page 277'!R23)","v":-2.6523781244344454E-2},{"$f":"LN('Page 277'!S24/'Page 277'!S23)","v":0.22746321245872628},{"$f":"LN('Page 277'!T24/'Page 277'!T23)","v":-1.868909901877089E-3},{"$f":"LN('Page 277'!U24/'Page 277'!U23)","v":0.16761540940425926},{"$f":"LN('Page 277'!V24/'Page 277'!V23)","v":-3.1182184556176201E-2},{"$f":"LN('Page 277'!W24/'Page 277'!W23)","v":2.6337695885035418E-2},{"$f":"LN('Page 277'!X24/'Page 277'!X23)","v":6.0028697403467925E-2},{"$f":"LN('Page 277'!Y24/'Page 277'!Y23)","v":5.4814549606380256E-2},{"$f":"LN('Page 277'!Z24/'Page 277'!Z23)","v":-1.2994037086550041E-2},{"$f":"LN('Page 277'!AA24/'Page 277'!AA23)","v":1.3547444273381792E-2},{"$f":"LN('Page 277'!AB24/'Page 277'!AB23)","v":0.16719267519765466},{"$f":"LN('Page 277'!AC24/'Page 277'!AC23)","v":6.7655241324593704E-2},{"$f":"LN('Page 277'!AD24/'Page 277'!AD23)","v":6.6787312586699746E-2},{"$f":"LN('Page 277'!AE24/'Page 277'!AE23)","v":7.9094100677571888E-2},{"$f":"LN('Page 277'!AF24/'Page 277'!AF23)","v":7.0693394149099822E-3}]
["2003-05-01",{"$f":"LN('Page 277'!B25/'Page 277'!B24)","v":4.9645665489287727E-2},{"$f":"LN('Page 277'!C25/'Page 277'!C24)","v":7.0596523221486157E-2},{"$f":"LN('Page 277'!D25/'Page 277'!D24)","v":-1.2314189259499126E-3},{"$f":"LN('Page 277'!E25/'Page 277'!E24)","v":9.5649124559575222E-2},{"$f":"LN('Page 277'!F25/'Page 277'!F24)","v":0.1227662919520584},{"$f":"LN('Page 277'!G25/'Page 277'!G24)","v":4.9072689951788817E-2},{"$f":"LN('Page 277'!H25/'Page 277'!H24)","v":-8.4763373297132502E-3},{"$f":"LN('Page 277'!I25/'Page 277'!I24)","v":-1.047120514525356E-3},{"$f":"LN('Page 277'!J25/'Page 277'!J24)","v":5.1596612970896613E-2},{"$f":"LN('Page 277'!K25/'Page 277'!K24)","v":-2.5819956337041317E-2},{"$f":"LN('Page 277'!L25/'Page 277'!L24)","v":-6.2592857956961399E-3},{"$f":"LN('Page 277'!M25/'Page 277'!M24)","v":0.14434822979500392},{"$f":"LN('Page 277'!N25/'Page 277'!N24)","v":0.11177823414162132},{"$f":"LN('Page 277'!O25/'Page 277'!O24)","v":0.17932176881484305},{"$f":"LN('Page 277'!P25/'Page 277'!P24)","v":3.817575173109395E-2},{"$f":"LN('Page 277'!Q25/'Page 277'!Q24)","v":0.12486601028208288},{"$f":"LN('Page 277'!R25/'Page 277'!R24)","v":-3.1925788359223974E-2},{"$f":"LN('Page 277'!S25/'Page 277'!S24)","v":0.11291809199390565},{"$f":"LN('Page 277'!T25/'Page 277'!T24)","v":0.12045183894846385},{"$f":"LN('Page 277'!U25/'Page 277'!U24)","v":9.0810734643094984E-2},{"$f":"LN('Page 277'!V25/'Page 277'!V24)","v":8.6011155090919712E-3},{"$f":"LN('Page 277'!W25/'Page 277'!W24)","v":0.29453924217791788},{"$f":"LN('Page 277'!X25/'Page 277'!X24)","v":-4.5602217693244643E-2},{"$f":"LN('Page 277'!Y25/'Page 277'!Y24)","v":-3.8378396553751505E-2},{"$f":"LN('Page 277'!Z25/'Page 277'!Z24)","v":1.2994037086550106E-2},{"$f":"LN('Page 277'!AA25/'Page 277'!AA24)","v":2.1717140720683405E-2},{"$f":"LN('Page 277'!AB25/'Page 277'!AB24)","v":8.6121753749918539E-2},{"$f":"LN('Page 277'!AC25/'Page 277'!AC24)","v":0.1031775555167863},{"$f":"LN('Page 277'!AD25/'Page 277'!AD24)","v":1.2594238037958991E-2},{"$f":"LN('Page 277'!AE25/'Page 277'!AE24)","v":-6.8022417789291759E-2},{"$f":"LN('Page 277'!AF25/'Page 277'!AF24)","v":4.0515668893721414E-2}]
["2003-06-02",{"$f":"LN('Page 277'!B26/'Page 277'!B25)","v":1.125862601085219E-2},{"$f":"LN('Page 277'!C26/'Page 277'!C25)","v":3.5596978740231759E-2},{"$f":"LN('Page 277'!D26/'Page 277'!D25)","v":-4.6846973296788781E-2},{"$f":"LN('Page 277'!E26/'Page 277'!E25)","v":3.6645566026929938E-3},{"$f":"LN('Page 277'!F26/'Page 277'!F25)","v":0.11239774621627627},{"$f":"LN('Page 277'!G26/'Page 277'!G25)","v":4.266049714271504E-2},{"$f":"LN('Page 277'!H26/'Page 277'!H25)","v":6.5121042966952508E-2},{"$f":"LN('Page 277'!I26/'Page 277'!I25)","v":-1.212136053234485E-2},{"$f":"LN('Page 277'!J26/'Page 277'!J25)","v":5.224672281952304E-3},{"$f":"LN('Page 277'!K26/'Page 277'!K25)","v":6.046881614892907E-3},{"$f":"LN('Page 277'!L26/'Page 277'!L25)","v":1.8661533537849079E-2},{"$f":"LN('Page 277'!M26/'Page 277'!M25)","v":2.1066649233051005E-2},{"$f":"LN('Page 277'!N26/'Page 277'!N25)","v":2.4602975173661945E-2},{"$f":"LN('Page 277'!O26/'Page 277'!O25)","v":9.2183956078058613E-2},{"$f":"LN('Page 277'!P26/'Page 277'!P25)","v":-6.5083204651018176E-2},{"$f":"LN('Page 277'!Q26/'Page 277'!Q25)","v":-4.9541739928333941E-4},{"$f":"LN('Page 277'!R26/'Page 277'!R25)","v":-5.0090598971637451E-2},{"$f":"LN('Page 277'!S26/'Page 277'!S25)","v":3.9260200606148342E-2},{"$f":"LN('Page 277'!T26/'Page 277'!T25)","v":2.295182717820227E-2},{"$f":"LN('Page 277'!U26/'Page 277'!U25)","v":0.16392718208933182},{"$f":"LN('Page 277'!V26/'Page 277'!V25)","v":1.9786163816293573E-2},{"$f":"LN('Page 277'!W26/'Page 277'!W25)","v":0.11041605200128428},{"$f":"LN('Page 277'!X26/'Page 277'!X25)","v":9.1990281094654625E-2},{"$f":"LN('Page 277'!Y26/'Page 277'!Y25)","v":4.1064163611348611E-2},{"$f":"LN('Page 277'!Z26/'Page 277'!Z25)","v":9.6071166587196374E-2},{"$f":"LN('Page 277'!AA26/'Page 277'!AA25)","v":-2.9300115445138851E-2},{"$f":"LN('Page 277'!AB26/'Page 277'!AB25)","v":3.7226660022456914E-3},{"$f":"LN('Page 277'!AC26/'Page 277'!AC25)","v":3.7102732606584705E-2},{"$f":"LN('Page 277'!AD26/'Page 277'!AD25)","v":4.1261458381425947E-2},{"$f":"LN('Page 277'!AE26/'Page 277'!AE25)","v":2.1589869026376819E-2},{"$f":"LN('Page 277'!AF26/'Page 277'!AF25)","v":-1.3323661198470655E-2}]
["2003-07-01",{"$f":"LN('Page 277'!B27/'Page 277'!B26)","v":1.6093506478773681E-2},{"$f":"LN('Page 277'!C27/'Page 277'!C26)","v":8.5344709937160576E-2},{"$f":"LN('Page 277'!D27/'Page 277'!D26)","v":0.1513798274033131},{"$f":"LN('Page 277'!E27/'Page 277'!E26)","v":5.7408491990673653E-2},{"$f":"LN('Page 277'!F27/'Page 277'!F26)","v":-3.5550984264318866E-2},{"$f":"LN('Page 277'!G27/'Page 277'!G26)","v":5.3456459631549977E-2},{"$f":"LN('Page 277'!H27/'Page 277'!H26)","v":0.19845853459320464},{"$f":"LN('Page 277'!I27/'Page 277'!I26)","v":5.392767924696916E-2},{"$f":"LN('Page 277'!J27/'Page 277'!J26)","v":0.10384816888577954},{"$f":"LN('Page 277'!K27/'Page 277'!K26)","v":-8.703933851860135E-3},{"$f":"LN('Page 277'!L27/'Page 277'!L26)","v":3.8808941468620115E-2},{"$f":"LN('Page 277'!M27/'Page 277'!M26)","v":-5.9944237275739262E-2},{"$f":"LN('Page 277'!N27/'Page 277'!N26)","v":5.2010168845747329E-2},{"$f":"LN('Page 277'!O27/'Page 277'!O26)","v":-5.8881426252225975E-3},{"$f":"LN('Page 277'!P27/'Page 277'!P26)","v":-1.5183176421390006E-2},{"$f":"LN('Page 277'!Q27/'Page 277'!Q26)","v":0.17917820074392266},{"$f":"LN('Page 277'!R27/'Page 277'!R26)","v":1.8474807677078544E-3},{"$f":"LN('Page 277'!S27/'Page 277'!S26)","v":3.5238816620500768E-2},{"$f":"LN('Page 277'!T27/'Page 277'!T26)","v":-3.151719003712531E-2},{"$f":"LN('Page 277'!U27/'Page 277'!U26)","v":4.2160810824278118E-2},{"$f":"LN('Page 277'!V27/'Page 277'!V26)","v":8.3355266807444053E-2},{"$f":"LN('Page 277'!W27/'Page 277'!W26)","v":-0.12735830936629924},{"$f":"LN('Page 277'!X27/'Page 277'!X26)","v":-9.1122602081432233E-2},{"$f":"LN('Page 277'!Y27/'Page 277'!Y26)","v":2.951106032565216E-2},{"$f":"LN('Page 277'!Z27/'Page 277'!Z26)","v":-2.3409759095252527E-2},{"$f":"LN('Page 277'!AA27/'Page 277'!AA26)","v":-9.5603022619822255E-3},{"$f":"LN('Page 277'!AB27/'Page 277'!AB26)","v":-7.5216163948547937E-2},{"$f":"LN('Page 277'!AC27/'Page 277'!AC26)","v":6.0049633779510309E-2},{"$f":"LN('Page 277'!AD27/'Page 277'!AD26)","v":-0.10979655920348243},{"$f":"LN('Page 277'!AE27/'Page 277'!AE26)","v":4.072193178853617E-2},{"$f":"LN('Page 277'!AF27/'Page 277'!AF26)","v":-9.2828934304432006E-3}]
["2003-08-01",{"$f":"LN('Page 277'!B28/'Page 277'!B27)","v":1.7715343790636197E-2},{"$f":"LN('Page 277'!C28/'Page 277'!C27)","v":3.3825096153643881E-2},{"$f":"LN('Page 277'!D28/'Page 277'!D27)","v":-7.4876644523636238E-2},{"$f":"LN('Page 277'!E28/'Page 277'!E27)","v":1.9729694295527435E-2},{"$f":"LN('Page 277'!F28/'Page 277'!F27)","v":0.12656272330842924},{"$f":"LN('Page 277'!G28/'Page 277'!G27)","v":-3.3042379965386455E-2},{"$f":"LN('Page 277'!H28/'Page 277'!H27)","v":6.2473169586022267E-2},{"$f":"LN('Page 277'!I28/'Page 277'!I27)","v":2.6033452377250046E-2},{"$f":"LN('Page 277'!J28/'Page 277'!J27)","v":-6.6513226748935797E-2},{"$f":"LN('Page 277'!K28/'Page 277'!K27)","v":3.9132997702148328E-2},{"$f":"LN('Page 277'!L28/'Page 277'!L27)","v":0.10701281600412117},{"$f":"LN('Page 277'!M28/'Page 277'!M27)","v":3.0260971781809479E-2},{"$f":"LN('Page 277'!N28/'Page 277'!N27)","v":3.1275817991775902E-2},{"$f":"LN('Page 277'!O28/'Page 277'!O27)","v":-6.0347839258119644E-2},{"$f":"LN('Page 277'!P28/'Page 277'!P27)","v":1.1315182329404493E-2},{"$f":"LN('Page 277'!Q28/'Page 277'!Q27)","v":0.13936562452305809},{"$f":"LN('Page 277'!R28/'Page 277'!R27)","v":-3.8892629160837099E-2},{"$f":"LN('Page 277'!S28/'Page 277'!S27)","v":-2.4113047406809193E-2},{"$f":"LN('Page 277'!T28/'Page 277'!T27)","v":-3.2789822822990956E-2},{"$f":"LN('Page 277'!U28/'Page 277'!U27)","v":-2.6023773421305359E-2},{"$f":"LN('Page 277'!V28/'Page 277'!V27)","v":2.0687291493214577E-2},{"$f":"LN('Page 277'!W28/'Page 277'!W27)","v":2.9674074558462916E-2},{"$f":"LN('Page 277'!X28/'Page 277'!X27)","v":-3.8908532918691993E-2},{"$f":"LN('Page 277'!Y28/'Page 277'!Y27)","v":4.3308859378401489E-3},{"$f":"LN('Page 277'!Z28/'Page 277'!Z27)","v":-0.1042075285732616},{"$f":"LN('Page 277'!AA28/'Page 277'!AA27)","v":-6.5052632734480583E-3},{"$f":"LN('Page 277'!AB28/'Page 277'!AB27)","v":-3.9320868393987976E-2},{"$f":"LN('Page 277'!AC28/'Page 277'!AC27)","v":6.8174540835719555E-2},{"$f":"LN('Page 277'!AD28/'Page 277'!AD27)","v":9.1116803512558131E-3},{"$f":"LN('Page 277'!AE28/'Page 277'!AE27)","v":5.6737527611599781E-2},{"$f":"LN('Page 277'!AF28/'Page 277'!AF27)","v":6.465133065881444E-2}]
["2003-09-02",{"$f":"LN('Page 277'!B29/'Page 277'!B28)","v":-1.2016232567985653E-2},{"$f":"LN('Page 277'!C29/'Page 277'!C28)","v":-8.8019746541645447E-2},{"$f":"LN('Page 277'!D29/'Page 277'!D28)","v":-3.071291979041154E-2},{"$f":"LN('Page 277'!E29/'Page 277'!E28)","v":0},{"$f":"LN('Page 277'!F29/'Page 277'!F28)","v":-8.5512183478071768E-2},{"$f":"LN('Page 277'!G29/'Page 277'!G28)","v":4.8561605112987349E-2},{"$f":"LN('Page 277'!H29/'Page 277'!H28)","v":-4.2432418702576156E-2},{"$f":"LN('Page 277'!I29/'Page 277'!I28)","v":-0.11174403843961539},{"$f":"LN('Page 277'!J29/'Page 277'!J28)","v":-1.6705020200002887E-2},{"$f":"LN('Page 277'!K29/'Page 277'!K28)","v":1.4153747438093766E-2},{"$f":"LN('Page 277'!L29/'Page 277'!L28)","v":-4.2140812468307665E-3},{"$f":"LN('Page 277'!M29/'Page 277'!M28)","v":-7.3991008303252196E-3},{"$f":"LN('Page 277'!N29/'Page 277'!N28)","v":-9.5310179804324893E-2},{"$f":"LN('Page 277'!O29/'Page 277'!O28)","v":-2.5411637362336956E-2},{"$f":"LN('Page 277'!P29/'Page 277'!P28)","v":7.4188336113208256E-2},{"$f":"LN('Page 277'!Q29/'Page 277'!Q28)","v":-3.8197813070573967E-2},{"$f":"LN('Page 277'!R29/'Page 277'!R28)","v":-1.2801367227169426E-3},{"$f":"LN('Page 277'!S29/'Page 277'!S28)","v":3.2488657556656369E-3},{"$f":"LN('Page 277'!T29/'Page 277'!T28)","v":-8.1815257413026046E-3},{"$f":"LN('Page 277'!U29/'Page 277'!U28)","v":4.8700482092335171E-2},{"$f":"LN('Page 277'!V29/'Page 277'!V28)","v":-3.0887577848030593E-2},{"$f":"LN('Page 277'!W29/'Page 277'!W28)","v":7.7335818616388816E-2},{"$f":"LN('Page 277'!X29/'Page 277'!X28)","v":1.321259843546308E-2},{"$f":"LN('Page 277'!Y29/'Page 277'!Y28)","v":4.7266181750373705E-2},{"$f":"LN('Page 277'!Z29/'Page 277'!Z28)","v":1.5365676625359811E-2},{"$f":"LN('Page 277'!AA29/'Page 277'!AA28)","v":6.1406354887308355E-2},{"$f":"LN('Page 277'!AB29/'Page 277'!AB28)","v":-9.4192219164916397E-3},{"$f":"LN('Page 277'!AC29/'Page 277'!AC28)","v":-3.7690236064165793E-2},{"$f":"LN('Page 277'!AD29/'Page 277'!AD28)","v":-8.5157808340306826E-2},{"$f":"LN('Page 277'!AE29/'Page 277'!AE28)","v":-5.7661656685777822E-2},{"$f":"LN('Page 277'!AF29/'Page 277'!AF28)","v":-2.9477023295629484E-2}]
["2003-10-01",{"$f":"LN('Page 277'!B30/'Page 277'!B29)","v":5.3504268464946513E-2},{"$f":"LN('Page 277'!C30/'Page 277'!C29)","v":0.18815599644086031},{"$f":"LN('Page 277'!D30/'Page 277'!D29)","v":5.2684396840289915E-2},{"$f":"LN('Page 277'!E30/'Page 277'!E29)","v":4.3080447763902879E-2},{"$f":"LN('Page 277'!F30/'Page 277'!F29)","v":0.11445975951294031},{"$f":"LN('Page 277'!G30/'Page 277'!G29)","v":4.8148315623648345E-2},{"$f":"LN('Page 277'!H30/'Page 277'!H29)","v":6.7282007083321993E-2},{"$f":"LN('Page 277'!I30/'Page 277'!I29)","v":9.8040000966208348E-3},{"$f":"LN('Page 277'!J30/'Page 277'!J29)","v":0.11556857261022038},{"$f":"LN('Page 277'!K30/'Page 277'!K29)","v":-2.7028672387919259E-2},{"$f":"LN('Page 277'!L30/'Page 277'!L29)","v":4.1632476801552E-2},{"$f":"LN('Page 277'!M30/'Page 277'!M29)","v":0.15188786974584667},{"$f":"LN('Page 277'!N30/'Page 277'!N29)","v":0.14987889592550058},{"$f":"LN('Page 277'!O30/'Page 277'!O29)","v":0.14220678904379266},{"$f":"LN('Page 277'!P30/'Page 277'!P29)","v":1.2916798201281145E-2},{"$f":"LN('Page 277'!Q30/'Page 277'!Q29)","v":0.18007268028393869},{"$f":"LN('Page 277'!R30/'Page 277'!R29)","v":1.6305284476910688E-2},{"$f":"LN('Page 277'!S30/'Page 277'!S29)","v":5.4596299236280781E-2},{"$f":"LN('Page 277'!T30/'Page 277'!T29)","v":7.7108551439068529E-2},{"$f":"LN('Page 277'!U30/'Page 277'!U29)","v":6.0044131549731733E-2},{"$f":"LN('Page 277'!V30/'Page 277'!V29)","v":0.1326511277227809},{"$f":"LN('Page 277'!W30/'Page 277'!W29)","v":5.98436768333633E-2},{"$f":"LN('Page 277'!X30/'Page 277'!X29)","v":-0.13458072734726104},{"$f":"LN('Page 277'!Y30/'Page 277'!Y29)","v":-5.5946791814679479E-2},{"$f":"LN('Page 277'!Z30/'Page 277'!Z29)","v":3.9288905045291686E-2},{"$f":"LN('Page 277'!AA30/'Page 277'!AA29)","v":6.1920867562972624E-2},{"$f":"LN('Page 277'!AB30/'Page 277'!AB29)","v":9.1862891127566265E-2},{"$f":"LN('Page 277'!AC30/'Page 277'!AC29)","v":9.1442084266058724E-2},{"$f":"LN('Page 277'!AD30/'Page 277'!AD29)","v":4.6520015634892699E-2},{"$f":"LN('Page 277'!AE30/'Page 277'!AE29)","v":5.5564853541171258E-2},{"$f":"LN('Page 277'!AF30/'Page 277'!AF29)","v":-5.8105754104343711E-4}]
["2003-11-03",{"$f":"LN('Page 277'!B31/'Page 277'!B30)","v":7.1032253560451564E-3},{"$f":"LN('Page 277'!C31/'Page 277'!C30)","v":4.3186298653130631E-2},{"$f":"LN('Page 277'!D31/'Page 277'!D30)","v":-4.8464239354893759E-2},{"$f":"LN('Page 277'!E31/'Page 277'!E30)","v":-2.6546875584085701E-2},{"$f":"LN('Page 277'!F31/'Page 277'!F30)","v":1.9003670711680138E-3},{"$f":"LN('Page 277'!G31/'Page 277'!G30)","v":-7.8269276178815211E-3},{"$f":"LN('Page 277'!H31/'Page 277'!H30)","v":3.6979003241087431E-2},{"$f":"LN('Page 277'!I31/'Page 277'!I30)","v":3.4362150190943297E-2},{"$f":"LN('Page 277'!J31/'Page 277'!J30)","v":1.9811543965447154E-2},{"$f":"LN('Page 277'!K31/'Page 277'!K30)","v":-1.191820438809145E-2},{"$f":"LN('Page 277'!L31/'Page 277'!L30)","v":1.4477464660356284E-2},{"$f":"LN('Page 277'!M31/'Page 277'!M30)","v":-8.3565945909413047E-3},{"$f":"LN('Page 277'!N31/'Page 277'!N30)","v":-2.4241482153972871E-2},{"$f":"LN('Page 277'!O31/'Page 277'!O30)","v":-2.5914288765470354E-2},{"$f":"LN('Page 277'!P31/'Page 277'!P30)","v":1.3656750320074559E-2},{"$f":"LN('Page 277'!Q31/'Page 277'!Q30)","v":1.8280911882333842E-2},{"$f":"LN('Page 277'!R31/'Page 277'!R30)","v":-1.5878390126777799E-2},{"$f":"LN('Page 277'!S31/'Page 277'!S30)","v":-1.4228510998369416E-2},{"$f":"LN('Page 277'!T31/'Page 277'!T30)","v":6.8902431530850385E-3},{"$f":"LN('Page 277'!U31/'Page 277'!U30)","v":4.0551687720393262E-2},{"$f":"LN('Page 277'!V31/'Page 277'!V30)","v":6.4119909770771703E-3},{"$f":"LN('Page 277'!W31/'Page 277'!W30)","v":0.11166413544612598},{"$f":"LN('Page 277'!X31/'Page 277'!X30)","v":-8.6063169839410369E-2},{"$f":"LN('Page 277'!Y31/'Page 277'!Y30)","v":-1.6703685071366603E-2},{"$f":"LN('Page 277'!Z31/'Page 277'!Z30)","v":6.5326652348954573E-2},{"$f":"LN('Page 277'!AA31/'Page 277'!AA30)","v":-2.1162525898251516E-2},{"$f":"LN('Page 277'!AB31/'Page 277'!AB30)","v":-2.9693103825545863E-2},{"$f":"LN('Page 277'!AC31/'Page 277'!AC30)","v":1.5918053751249654E-2},{"$f":"LN('Page 277'!AD31/'Page 277'!AD30)","v":-2.2817267772115294E-2},{"$f":"LN('Page 277'!AE31/'Page 277'!AE30)","v":-5.7786253936324757E-2},{"$f":"LN('Page 277'!AF31/'Page 277'!AF30)","v":-3.493453334559977E-3}]
["2003-12-01",{"$f":"LN('Page 277'!B32/'Page 277'!B31)","v":4.9518899306471208E-2},{"$f":"LN('Page 277'!C32/'Page 277'!C31)","v":0.1468508746690195},{"$f":"LN('Page 277'!D32/'Page 277'!D31)","v":0.13550347731826642},{"$f":"LN('Page 277'!E32/'Page 277'!E31)","v":5.5805262571967003E-2},{"$f":"LN('Page 277'!F32/'Page 277'!F31)","v":9.3162746641721098E-2},{"$f":"LN('Page 277'!G32/'Page 277'!G31)","v":3.1618692175218219E-2},{"$f":"LN('Page 277'!H32/'Page 277'!H31)","v":8.7881918383866761E-2},{"$f":"LN('Page 277'!I32/'Page 277'!I31)","v":0.10150391334127384},{"$f":"LN('Page 277'!J32/'Page 277'!J31)","v":1.9863817979480232E-2},{"$f":"LN('Page 277'!K32/'Page 277'!K31)","v":8.4040814620105708E-2},{"$f":"LN('Page 277'!L32/'Page 277'!L31)","v":0.22159857351561749},{"$f":"LN('Page 277'!M32/'Page 277'!M31)","v":-3.3274788884872321E-2},{"$f":"LN('Page 277'!N32/'Page 277'!N31)","v":0.11857298751040188},{"$f":"LN('Page 277'!O32/'Page 277'!O31)","v":5.8403991538189343E-2},{"$f":"LN('Page 277'!P32/'Page 277'!P31)","v":2.3349102959578361E-2},{"$f":"LN('Page 277'!Q32/'Page 277'!Q31)","v":-4.5540919977951212E-2},{"$f":"LN('Page 277'!R32/'Page 277'!R31)","v":4.6694601720825395E-2},{"$f":"LN('Page 277'!S32/'Page 277'!S31)","v":3.7001622069618184E-2},{"$f":"LN('Page 277'!T32/'Page 277'!T31)","v":8.7602489346788368E-2},{"$f":"LN('Page 277'!U32/'Page 277'!U31)","v":-3.1722536398480015E-2},{"$f":"LN('Page 277'!V32/'Page 277'!V31)","v":7.3032636721528266E-2},{"$f":"LN('Page 277'!W32/'Page 277'!W31)","v":5.8326808890349982E-2},{"$f":"LN('Page 277'!X32/'Page 277'!X31)","v":0.13813244202968306},{"$f":"LN('Page 277'!Y32/'Page 277'!Y31)","v":6.2291983603303888E-2},{"$f":"LN('Page 277'!Z32/'Page 277'!Z31)","v":5.1053725610202091E-2},{"$f":"LN('Page 277'!AA32/'Page 277'!AA31)","v":3.72713947972316E-2},{"$f":"LN('Page 277'!AB32/'Page 277'!AB31)","v":0.11338162010017296},{"$f":"LN('Page 277'!AC32/'Page 277'!AC31)","v":0.10068487885222685},{"$f":"LN('Page 277'!AD32/'Page 277'!AD31)","v":6.5979955075818969E-2},{"$f":"LN('Page 277'!AE32/'Page 277'!AE31)","v":-4.5884826115336126E-2},{"$f":"LN('Page 277'!AF32/'Page 277'!AF31)","v":0.12433937726874698}]
["2004-01-02",{"$f":"LN('Page 277'!B33/'Page 277'!B32)","v":1.7128882262967212E-2},{"$f":"LN('Page 277'!C33/'Page 277'!C32)","v":-0.10606730547874653},{"$f":"LN('Page 277'!D33/'Page 277'!D32)","v":4.6701093045980621E-2},{"$f":"LN('Page 277'!E33/'Page 277'!E32)","v":7.220231871767574E-2},{"$f":"LN('Page 277'!F33/'Page 277'!F32)","v":-9.1846245752505943E-3},{"$f":"LN('Page 277'!G33/'Page 277'!G32)","v":2.7386870654487638E-2},{"$f":"LN('Page 277'!H33/'Page 277'!H32)","v":-5.6477063555120791E-2},{"$f":"LN('Page 277'!I33/'Page 277'!I32)","v":-4.4258220426428019E-2},{"$f":"LN('Page 277'!J33/'Page 277'!J32)","v":2.843793532053341E-2},{"$f":"LN('Page 277'!K33/'Page 277'!K32)","v":8.1975177732644747E-2},{"$f":"LN('Page 277'!L33/'Page 277'!L32)","v":-7.2059445965976701E-2},{"$f":"LN('Page 277'!M33/'Page 277'!M32)","v":-5.7853631928948075E-4},{"$f":"LN('Page 277'!N33/'Page 277'!N32)","v":7.746394453664722E-2},{"$f":"LN('Page 277'!O33/'Page 277'!O32)","v":3.4951578022813505E-2},{"$f":"LN('Page 277'!P33/'Page 277'!P32)","v":6.8285907866131368E-2},{"$f":"LN('Page 277'!Q33/'Page 277'!Q32)","v":-4.8725898882304684E-2},{"$f":"LN('Page 277'!R33/'Page 277'!R32)","v":3.3446594158827996E-2},{"$f":"LN('Page 277'!S33/'Page 277'!S32)","v":6.6487985652396456E-2},{"$f":"LN('Page 277'!T33/'Page 277'!T32)","v":-3.0227929391224644E-2},{"$f":"LN('Page 277'!U33/'Page 277'!U32)","v":3.5769486478677309E-2},{"$f":"LN('Page 277'!V33/'Page 277'!V32)","v":-7.2367079292633765E-2},{"$f":"LN('Page 277'!W33/'Page 277'!W32)","v":2.1277398447284879E-2},{"$f":"LN('Page 277'!X33/'Page 277'!X32)","v":2.9753474096948125E-2},{"$f":"LN('Page 277'!Y33/'Page 277'!Y32)","v":1.0358493282742128E-2},{"$f":"LN('Page 277'!Z33/'Page 277'!Z32)","v":3.606410797185268E-2},{"$f":"LN('Page 277'!AA33/'Page 277'!AA32)","v":1.6474150076722295E-2},{"$f":"LN('Page 277'!AB33/'Page 277'!AB32)","v":-1.064311598732076E-2},{"$f":"LN('Page 277'!AC33/'Page 277'!AC32)","v":8.0954385886665547E-3},{"$f":"LN('Page 277'!AD33/'Page 277'!AD32)","v":6.0074363275915192E-2},{"$f":"LN('Page 277'!AE33/'Page 277'!AE32)","v":1.4829352158300783E-2},{"$f":"LN('Page 277'!AF33/'Page 277'!AF32)","v":-4.9051343992586203E-3}]
["2004-02-02",{"$f":"LN('Page 277'!B34/'Page 277'!B33)","v":1.2135100829125884E-2},{"$f":"LN('Page 277'!C34/'Page 277'!C33)","v":9.634365614730557E-2},{"$f":"LN('Page 277'!D34/'Page 277'!D33)","v":6.3459407369262477E-2},{"$f":"LN('Page 277'!E34/'Page 277'!E33)","v":2.9978929861486769E-2},{"$f":"LN('Page 277'!F34/'Page 277'!F33)","v":4.1998359687963879E-2},{"$f":"LN('Page 277'!G34/'Page 277'!G33)","v":1.5564516541111548E-2},{"$f":"LN('Page 277'!H34/'Page 277'!H33)","v":-3.0854951048047748E-2},{"$f":"LN('Page 277'!I34/'Page 277'!I33)","v":3.4511322865583019E-2},{"$f":"LN('Page 277'!J34/'Page 277'!J33)","v":0.10016437125222855},{"$f":"LN('Page 277'!K34/'Page 277'!K33)","v":-2.7346082325515195E-2},{"$f":"LN('Page 277'!L34/'Page 277'!L33)","v":-2.1780286365647616E-2},{"$f":"LN('Page 277'!M34/'Page 277'!M33)","v":2.3449744795784353E-2},{"$f":"LN('Page 277'!N34/'Page 277'!N33)","v":-2.4860706226230728E-2},{"$f":"LN('Page 277'!O34/'Page 277'!O33)","v":-4.6271599287819744E-2},{"$f":"LN('Page 277'!P34/'Page 277'!P33)","v":-2.6333810103692061E-2},{"$f":"LN('Page 277'!Q34/'Page 277'!Q33)","v":-4.3087829943006355E-2},{"$f":"LN('Page 277'!R34/'Page 277'!R33)","v":1.3693484705360101E-2},{"$f":"LN('Page 277'!S34/'Page 277'!S33)","v":5.3327740352158766E-2},{"$f":"LN('Page 277'!T34/'Page 277'!T33)","v":1.4376387503969058E-2},{"$f":"LN('Page 277'!U34/'Page 277'!U33)","v":9.5089858869272931E-2},{"$f":"LN('Page 277'!V34/'Page 277'!V33)","v":-9.0897564764294558E-3},{"$f":"LN('Page 277'!W34/'Page 277'!W33)","v":3.4616545669163876E-2},{"$f":"LN('Page 277'!X34/'Page 277'!X33)","v":1.0033919208430145E-2},{"$f":"LN('Page 277'!Y34/'Page 277'!Y33)","v":-4.1234280652667023E-2},{"$f":"LN('Page 277'!Z34/'Page 277'!Z33)","v":4.9642385492316065E-3},{"$f":"LN('Page 277'!AA34/'Page 277'!AA33)","v":1.4170069728652691E-2},{"$f":"LN('Page 277'!AB34/'Page 277'!AB33)","v":-6.017888969405611E-2},{"$f":"LN('Page 277'!AC34/'Page 277'!AC33)","v":-3.2782559102731333E-2},{"$f":"LN('Page 277'!AD34/'Page 277'!AD33)","v":3.9010454885268518E-2},{"$f":"LN('Page 277'!AE34/'Page 277'!AE33)","v":0.10083874216546934},{"$f":"LN('Page 277'!AF34/'Page 277'!AF33)","v":3.9330199116792378E-2}]
["2004-03-01",{"$f":"LN('Page 277'!B35/'Page 277'!B34)","v":-1.6494220669989047E-2},{"$f":"LN('Page 277'!C35/'Page 277'!C34)","v":-7.7162066365471571E-2},{"$f":"LN('Page 277'!D35/'Page 277'!D34)","v":-3.5625755369347686E-2},{"$f":"LN('Page 277'!E35/'Page 277'!E34)","v":-2.7727183807602505E-2},{"$f":"LN('Page 277'!F35/'Page 277'!F34)","v":-5.4545575740052671E-2},{"$f":"LN('Page 277'!G35/'Page 277'!G34)","v":2.8337696551702485E-2},{"$f":"LN('Page 277'!H35/'Page 277'!H34)","v":4.3040532294163519E-2},{"$f":"LN('Page 277'!I35/'Page 277'!I34)","v":-6.5653970221436778E-2},{"$f":"LN('Page 277'!J35/'Page 277'!J34)","v":-5.9784275544337961E-2},{"$f":"LN('Page 277'!K35/'Page 277'!K34)","v":-6.3625695880211552E-2},{"$f":"LN('Page 277'!L35/'Page 277'!L34)","v":-1.8201660757083821E-2},{"$f":"LN('Page 277'!M35/'Page 277'!M34)","v":3.03433160889496E-2},{"$f":"LN('Page 277'!N35/'Page 277'!N34)","v":-3.4759596935936145E-2},{"$f":"LN('Page 277'!O35/'Page 277'!O34)","v":9.0662452377530418E-3},{"$f":"LN('Page 277'!P35/'Page 277'!P34)","v":-4.9489264900183773E-2},{"$f":"LN('Page 277'!Q35/'Page 277'!Q34)","v":-7.0780812180571473E-2},{"$f":"LN('Page 277'!R35/'Page 277'!R34)","v":-6.1086162154750691E-2},{"$f":"LN('Page 277'!S35/'Page 277'!S34)","v":2.2384081383537435E-2},{"$f":"LN('Page 277'!T35/'Page 277'!T34)","v":1.1859520617718222E-2},{"$f":"LN('Page 277'!U35/'Page 277'!U34)","v":9.5029954914861142E-3},{"$f":"LN('Page 277'!V35/'Page 277'!V34)","v":4.8105729904370467E-2},{"$f":"LN('Page 277'!W35/'Page 277'!W34)","v":-4.3767600886521159E-2},{"$f":"LN('Page 277'!X35/'Page 277'!X34)","v":-7.6450375170201493E-2},{"$f":"LN('Page 277'!Y35/'Page 277'!Y34)","v":-6.2478788174560609E-2},{"$f":"LN('Page 277'!Z35/'Page 277'!Z34)","v":-4.4372322885373093E-2},{"$f":"LN('Page 277'!AA35/'Page 277'!AA34)","v":2.2780946868205625E-2},{"$f":"LN('Page 277'!AB35/'Page 277'!AB34)","v":2.2009785688655227E-2},{"$f":"LN('Page 277'!AC35/'Page 277'!AC34)","v":-6.5124146309160968E-2},{"$f":"LN('Page 277'!AD35/'Page 277'!AD34)","v":-4.78560211776351E-2},{"$f":"LN('Page 277'!AE35/'Page 277'!AE34)","v":4.4835391540929857E-3},{"$f":"LN('Page 277'!AF35/'Page 277'!AF34)","v":-1.3779498999322442E-2}]
["2004-04-01",{"$f":"LN('Page 277'!B36/'Page 277'!B35)","v":-1.6933393494544095E-2},{"$f":"LN('Page 277'!C36/'Page 277'!C35)","v":-0.12034965592245828},{"$f":"LN('Page 277'!D36/'Page 277'!D35)","v":4.2577413171854105E-3},{"$f":"LN('Page 277'!E36/'Page 277'!E35)","v":-5.7634831190551052E-2},{"$f":"LN('Page 277'!F36/'Page 277'!F35)","v":3.8637792705413919E-2},{"$f":"LN('Page 277'!G36/'Page 277'!G35)","v":-6.4149383628143999E-2},{"$f":"LN('Page 277'!H36/'Page 277'!H35)","v":-1.2718772407774559E-2},{"$f":"LN('Page 277'!I36/'Page 277'!I35)","v":1.7198198297220822E-2},{"$f":"LN('Page 277'!J36/'Page 277'!J35)","v":-8.1573867060109426E-2},{"$f":"LN('Page 277'!K36/'Page 277'!K35)","v":-1.8593764938415306E-2},{"$f":"LN('Page 277'!L36/'Page 277'!L35)","v":3.5718575896427612E-3},{"$f":"LN('Page 277'!M36/'Page 277'!M35)","v":-5.9887986152230469E-2},{"$f":"LN('Page 277'!N36/'Page 277'!N35)","v":2.1182679981522696E-2},{"$f":"LN('Page 277'!O36/'Page 277'!O35)","v":-0.14755395425582776},{"$f":"LN('Page 277'!P36/'Page 277'!P35)","v":-4.0761730796912123E-2},{"$f":"LN('Page 277'!Q36/'Page 277'!Q35)","v":-5.5580653265543241E-2},{"$f":"LN('Page 277'!R36/'Page 277'!R35)","v":6.3221048943286159E-2},{"$f":"LN('Page 277'!S36/'Page 277'!S35)","v":-0.10160599861202289},{"$f":"LN('Page 277'!T36/'Page 277'!T35)","v":5.4587580437511036E-3},{"$f":"LN('Page 277'!U36/'Page 277'!U35)","v":-4.8062891410103142E-2},{"$f":"LN('Page 277'!V36/'Page 277'!V35)","v":5.4780934697511344E-2},{"$f":"LN('Page 277'!W36/'Page 277'!W35)","v":1.7014791677571944E-2},{"$f":"LN('Page 277'!X36/'Page 277'!X35)","v":6.1479335318415811E-2},{"$f":"LN('Page 277'!Y36/'Page 277'!Y35)","v":4.7330262181136555E-2},{"$f":"LN('Page 277'!Z36/'Page 277'!Z35)","v":1.9898154246793115E-2},{"$f":"LN('Page 277'!AA36/'Page 277'!AA35)","v":1.3462883998407262E-2},{"$f":"LN('Page 277'!AB36/'Page 277'!AB35)","v":2.6960737395505058E-2},{"$f":"LN('Page 277'!AC36/'Page 277'!AC35)","v":-4.8076924002949875E-4},{"$f":"LN('Page 277'!AD36/'Page 277'!AD35)","v":4.258514513863592E-2},{"$f":"LN('Page 277'!AE36/'Page 277'!AE35)","v":-4.6126817949693283E-2},{"$f":"LN('Page 277'!AF36/'Page 277'!AF35)","v":2.2697071099634526E-2}]
["2004-05-03",{"$f":"LN('Page 277'!B37/'Page 277'!B36)","v":1.2011024205564368E-2},{"$f":"LN('Page 277'!C37/'Page 277'!C36)","v":2.2533322655801786E-2},{"$f":"LN('Page 277'!D37/'Page 277'!D36)","v":2.2683694534500053E-2},{"$f":"LN('Page 277'!E37/'Page 277'!E36)","v":3.5115967655201141E-2},{"$f":"LN('Page 277'!F37/'Page 277'!F36)","v":7.48712515163176E-2},{"$f":"LN('Page 277'!G37/'Page 277'!G36)","v":-3.5067499984439081E-2},{"$f":"LN('Page 277'!H37/'Page 277'!H36)","v":-3.1146728996836709E-2},{"$f":"LN('Page 277'!I37/'Page 277'!I36)","v":1.4191698410863171E-2},{"$f":"LN('Page 277'!J37/'Page 277'!J36)","v":1.8856072813824742E-2},{"$f":"LN('Page 277'!K37/'Page 277'!K36)","v":3.8212360089794326E-2},{"$f":"LN('Page 277'!L37/'Page 277'!L36)","v":-3.2615525360162281E-2},{"$f":"LN('Page 277'!M37/'Page 277'!M36)","v":2.0458860824730089E-2},{"$f":"LN('Page 277'!N37/'Page 277'!N36)","v":-1.9942369744998568E-2},{"$f":"LN('Page 277'!O37/'Page 277'!O36)","v":7.5041487279112279E-2},{"$f":"LN('Page 277'!P37/'Page 277'!P36)","v":6.8141396654091352E-3},{"$f":"LN('Page 277'!Q37/'Page 277'!Q36)","v":0.10536051565782635},{"$f":"LN('Page 277'!R37/'Page 277'!R36)","v":3.5799710257574294E-2},{"$f":"LN('Page 277'!S37/'Page 277'!S36)","v":-2.0385097273633575E-2},{"$f":"LN('Page 277'!T37/'Page 277'!T36)","v":1.5169122032914359E-2},{"$f":"LN('Page 277'!U37/'Page 277'!U36)","v":-3.1010236742560322E-2},{"$f":"LN('Page 277'!V37/'Page 277'!V36)","v":-1.809340312427337E-2},{"$f":"LN('Page 277'!W37/'Page 277'!W36)","v":-0.14359534999433954},{"$f":"LN('Page 277'!X37/'Page 277'!X36)","v":6.3432610203455345E-3},{"$f":"LN('Page 277'!Y37/'Page 277'!Y36)","v":3.4828071774614566E-3},{"$f":"LN('Page 277'!Z37/'Page 277'!Z36)","v":-7.189965066239163E-3},{"$f":"LN('Page 277'!AA37/'Page 277'!AA36)","v":1.889605263939495E-2},{"$f":"LN('Page 277'!AB37/'Page 277'!AB36)","v":-4.9444120061991732E-2},{"$f":"LN('Page 277'!AC37/'Page 277'!AC36)","v":-1.5019662196040701E-2},{"$f":"LN('Page 277'!AD37/'Page 277'!AD36)","v":-8.7385118951854163E-2},{"$f":"LN('Page 277'!AE37/'Page 277'!AE36)","v":-2.0202707317519466E-2},{"$f":"LN('Page 277'!AF37/'Page 277'!AF36)","v":2.29166537833548E-2}]
["2004-06-01",{"$f":"LN('Page 277'!B38/'Page 277'!B37)","v":1.7829189249312503E-2},{"$f":"LN('Page 277'!C38/'Page 277'!C37)","v":5.3734608594666534E-2},{"$f":"LN('Page 277'!D38/'Page 277'!D37)","v":-2.6941435851685513E-2},{"$f":"LN('Page 277'!E38/'Page 277'!E37)","v":1.5295355827889769E-2},{"$f":"LN('Page 277'!F38/'Page 277'!F37)","v":0.10943246648162849},{"$f":"LN('Page 277'!G38/'Page 277'!G37)","v":1.3805800628164918E-3},{"$f":"LN('Page 277'!H38/'Page 277'!H37)","v":5.3038675412935263E-2},{"$f":"LN('Page 277'!I38/'Page 277'!I37)","v":2.7793110250319549E-2},{"$f":"LN('Page 277'!J38/'Page 277'!J37)","v":8.2512421574464201E-2},{"$f":"LN('Page 277'!K38/'Page 277'!K37)","v":4.6287603427557625E-2},{"$f":"LN('Page 277'!L38/'Page 277'!L37)","v":2.6176967288443334E-2},{"$f":"LN('Page 277'!M38/'Page 277'!M37)","v":-1.7842199933558494E-2},{"$f":"LN('Page 277'!N38/'Page 277'!N37)","v":8.3208058088216297E-2},{"$f":"LN('Page 277'!O38/'Page 277'!O37)","v":-2.9154539601240195E-3},{"$f":"LN('Page 277'!P38/'Page 277'!P37)","v":-4.961644056325697E-3},{"$f":"LN('Page 277'!Q38/'Page 277'!Q37)","v":-3.3653505041642676E-2},{"$f":"LN('Page 277'!R38/'Page 277'!R37)","v":-1.8707323971865403E-4},{"$f":"LN('Page 277'!S38/'Page 277'!S37)","v":5.1043189562901777E-2},{"$f":"LN('Page 277'!T38/'Page 277'!T37)","v":-1.2242086700391435E-2},{"$f":"LN('Page 277'!U38/'Page 277'!U37)","v":-1.5473429134963119E-2},{"$f":"LN('Page 277'!V38/'Page 277'!V37)","v":6.2408200320793056E-2},{"$f":"LN('Page 277'!W38/'Page 277'!W37)","v":5.656571433412301E-2},{"$f":"LN('Page 277'!X38/'Page 277'!X37)","v":1.1873029709262878E-2},{"$f":"LN('Page 277'!Y38/'Page 277'!Y37)","v":8.5344045420647704E-2},{"$f":"LN('Page 277'!Z38/'Page 277'!Z37)","v":-3.0217467700911011E-2},{"$f":"LN('Page 277'!AA38/'Page 277'!AA37)","v":9.7936452501524059E-3},{"$f":"LN('Page 277'!AB38/'Page 277'!AB37)","v":2.2946452829890128E-2},{"$f":"LN('Page 277'!AC38/'Page 277'!AC37)","v":7.7918826376327063E-2},{"$f":"LN('Page 277'!AD38/'Page 277'!AD37)","v":4.5718669330290854E-2},{"$f":"LN('Page 277'!AE38/'Page 277'!AE37)","v":-5.9659836406335875E-2},{"$f":"LN('Page 277'!AF38/'Page 277'!AF37)","v":2.6401818930548101E-2}]
["2004-07-01",{"$f":"LN('Page 277'!B39/'Page 277'!B38)","v":-3.4892238215330364E-2},{"$f":"LN('Page 277'!C39/'Page 277'!C38)","v":-3.0722416261153792E-2},{"$f":"LN('Page 277'!D39/'Page 277'!D38)","v":-8.857200760642548E-3},{"$f":"LN('Page 277'!E39/'Page 277'!E38)","v":-2.2220591261204157E-2},{"$f":"LN('Page 277'!F39/'Page 277'!F38)","v":-6.6903442659606771E-3},{"$f":"LN('Page 277'!G39/'Page 277'!G38)","v":-4.3950205644058764E-2},{"$f":"LN('Page 277'!H39/'Page 277'!H38)","v":-7.2764276789855115E-2},{"$f":"LN('Page 277'!I39/'Page 277'!I38)","v":-3.548641038662833E-2},{"$f":"LN('Page 277'!J39/'Page 277'!J38)","v":-9.9157571533218483E-2},{"$f":"LN('Page 277'!K39/'Page 277'!K38)","v":2.6017205392498965E-2},{"$f":"LN('Page 277'!L39/'Page 277'!L38)","v":-7.705673949497438E-2},{"$f":"LN('Page 277'!M39/'Page 277'!M38)","v":-4.3014194319039925E-2},{"$f":"LN('Page 277'!N39/'Page 277'!N38)","v":2.645061350869702E-2},{"$f":"LN('Page 277'!O39/'Page 277'!O38)","v":-4.5801932653874042E-2},{"$f":"LN('Page 277'!P39/'Page 277'!P38)","v":-1.2337214209784713E-2},{"$f":"LN('Page 277'!Q39/'Page 277'!Q38)","v":-0.12422112647342679},{"$f":"LN('Page 277'!R39/'Page 277'!R38)","v":-7.7002915934472173E-3},{"$f":"LN('Page 277'!S39/'Page 277'!S38)","v":-2.8929981260125266E-2},{"$f":"LN('Page 277'!T39/'Page 277'!T38)","v":-0.14053468345138126},{"$f":"LN('Page 277'!U39/'Page 277'!U38)","v":5.6358413797281806E-2},{"$f":"LN('Page 277'!V39/'Page 277'!V38)","v":-8.8783080819304527E-2},{"$f":"LN('Page 277'!W39/'Page 277'!W38)","v":-5.0325083887515769E-2},{"$f":"LN('Page 277'!X39/'Page 277'!X38)","v":-4.6178442300736068E-2},{"$f":"LN('Page 277'!Y39/'Page 277'!Y38)","v":-2.3971245997214037E-3},{"$f":"LN('Page 277'!Z39/'Page 277'!Z38)","v":-7.0277506982231563E-2},{"$f":"LN('Page 277'!AA39/'Page 277'!AA38)","v":-3.8372611207969982E-2},{"$f":"LN('Page 277'!AB39/'Page 277'!AB38)","v":5.7132693344570398E-2},{"$f":"LN('Page 277'!AC39/'Page 277'!AC38)","v":2.1885643512760396E-2},{"$f":"LN('Page 277'!AD39/'Page 277'!AD38)","v":7.3451847203997306E-2},{"$f":"LN('Page 277'!AE39/'Page 277'!AE38)","v":9.7106997293494781E-3},{"$f":"LN('Page 277'!AF39/'Page 277'!AF38)","v":4.1610416028686148E-2}]
["2004-08-02",{"$f":"LN('Page 277'!B40/'Page 277'!B39)","v":2.284720571713859E-3},{"$f":"LN('Page 277'!C40/'Page 277'!C39)","v":1.5479186848460032E-2},{"$f":"LN('Page 277'!D40/'Page 277'!D39)","v":8.2881297536787617E-3},{"$f":"LN('Page 277'!E40/'Page 277'!E39)","v":-4.6436117804824987E-3},{"$f":"LN('Page 277'!F40/'Page 277'!F39)","v":3.2619200115319526E-2},{"$f":"LN('Page 277'!G40/'Page 277'!G39)","v":5.4926762227230426E-2},{"$f":"LN('Page 277'!H40/'Page 277'!H39)","v":-1.0719425632884512E-2},{"$f":"LN('Page 277'!I40/'Page 277'!I39)","v":-5.9970194723744019E-3},{"$f":"LN('Page 277'!J40/'Page 277'!J39)","v":-2.7767122040448365E-2},{"$f":"LN('Page 277'!K40/'Page 277'!K39)","v":-1.4048762349703836E-2},{"$f":"LN('Page 277'!L40/'Page 277'!L39)","v":-3.1232035941940295E-2},{"$f":"LN('Page 277'!M40/'Page 277'!M39)","v":8.3139081805139362E-2},{"$f":"LN('Page 277'!N40/'Page 277'!N39)","v":-3.8787593966549384E-2},{"$f":"LN('Page 277'!O40/'Page 277'!O39)","v":-0.11886614875644017},{"$f":"LN('Page 277'!P40/'Page 277'!P39)","v":-2.5621138161511021E-2},{"$f":"LN('Page 277'!Q40/'Page 277'!Q39)","v":-0.13365175129350101},{"$f":"LN('Page 277'!R40/'Page 277'!R39)","v":5.5019375591199203E-2},{"$f":"LN('Page 277'!S40/'Page 277'!S39)","v":5.8404639376304954E-2},{"$f":"LN('Page 277'!T40/'Page 277'!T39)","v":1.9274838248745246E-2},{"$f":"LN('Page 277'!U40/'Page 277'!U39)","v":-1.7922310033410844E-2},{"$f":"LN('Page 277'!V40/'Page 277'!V39)","v":4.549483393577248E-3},{"$f":"LN('Page 277'!W40/'Page 277'!W39)","v":2.7946837534819531E-2},{"$f":"LN('Page 277'!X40/'Page 277'!X39)","v":-8.5189757017985705E-3},{"$f":"LN('Page 277'!Y40/'Page 277'!Y39)","v":-3.9989008216363281E-2},{"$f":"LN('Page 277'!Z40/'Page 277'!Z39)","v":2.7542724637582183E-2},{"$f":"LN('Page 277'!AA40/'Page 277'!AA39)","v":7.0712334909070834E-2},{"$f":"LN('Page 277'!AB40/'Page 277'!AB39)","v":1.7338969279510518E-2},{"$f":"LN('Page 277'!AC40/'Page 277'!AC39)","v":8.1399635460075882E-3},{"$f":"LN('Page 277'!AD40/'Page 277'!AD39)","v":1.8318111193365155E-2},{"$f":"LN('Page 277'!AE40/'Page 277'!AE39)","v":-4.0670144177501911E-3},{"$f":"LN('Page 277'!AF40/'Page 277'!AF39)","v":1.7997755139396077E-3}]
["2004-09-01",{"$f":"LN('Page 277'!B41/'Page 277'!B40)","v":9.3203368022064838E-3},{"$f":"LN('Page 277'!C41/'Page 277'!C40)","v":3.6756140125119671E-2},{"$f":"LN('Page 277'!D41/'Page 277'!D40)","v":-4.5564973652217386E-2},{"$f":"LN('Page 277'!E41/'Page 277'!E40)","v":2.8448810051248098E-2},{"$f":"LN('Page 277'!F41/'Page 277'!F40)","v":-1.1684458115470036E-2},{"$f":"LN('Page 277'!G41/'Page 277'!G40)","v":-5.4446339445950599E-2},{"$f":"LN('Page 277'!H41/'Page 277'!H40)","v":0.10132515822524112},{"$f":"LN('Page 277'!I41/'Page 277'!I40)","v":1.2700955194564387E-2},{"$f":"LN('Page 277'!J41/'Page 277'!J40)","v":4.5310453596001023E-3},{"$f":"LN('Page 277'!K41/'Page 277'!K40)","v":2.9777303014969857E-2},{"$f":"LN('Page 277'!L41/'Page 277'!L40)","v":2.7867208126340609E-2},{"$f":"LN('Page 277'!M41/'Page 277'!M40)","v":6.9755017056462379E-2},{"$f":"LN('Page 277'!N41/'Page 277'!N40)","v":-3.4702174790071059E-3},{"$f":"LN('Page 277'!O41/'Page 277'!O40)","v":5.0891607296389224E-2},{"$f":"LN('Page 277'!P41/'Page 277'!P40)","v":1.2299396792866651E-2},{"$f":"LN('Page 277'!Q41/'Page 277'!Q40)","v":-5.9511856480036096E-2},{"$f":"LN('Page 277'!R41/'Page 277'!R40)","v":-3.0989160905374558E-2},{"$f":"LN('Page 277'!S41/'Page 277'!S40)","v":3.7930145718724729E-3},{"$f":"LN('Page 277'!T41/'Page 277'!T40)","v":-0.10423511150591219},{"$f":"LN('Page 277'!U41/'Page 277'!U40)","v":3.701328849823983E-2},{"$f":"LN('Page 277'!V41/'Page 277'!V40)","v":-2.9428940544069474E-2},{"$f":"LN('Page 277'!W41/'Page 277'!W40)","v":-2.4955923076972433E-2},{"$f":"LN('Page 277'!X41/'Page 277'!X40)","v":-0.30088710337205904},{"$f":"LN('Page 277'!Y41/'Page 277'!Y40)","v":1.2823340143593657E-2},{"$f":"LN('Page 277'!Z41/'Page 277'!Z40)","v":-6.5487656201705671E-2},{"$f":"LN('Page 277'!AA41/'Page 277'!AA40)","v":-3.3678283992750885E-2},{"$f":"LN('Page 277'!AB41/'Page 277'!AB40)","v":6.4253808553710948E-3},{"$f":"LN('Page 277'!AC41/'Page 277'!AC40)","v":-5.7130456421792203E-3},{"$f":"LN('Page 277'!AD41/'Page 277'!AD40)","v":3.3454171150860247E-3},{"$f":"LN('Page 277'!AE41/'Page 277'!AE40)","v":9.8484913041715812E-3},{"$f":"LN('Page 277'!AF41/'Page 277'!AF40)","v":4.7194097224286406E-2}]
["2004-10-01",{"$f":"LN('Page 277'!B42/'Page 277'!B41)","v":1.391695587821374E-2},{"$f":"LN('Page 277'!C42/'Page 277'!C41)","v":-3.2923494104943316E-2},{"$f":"LN('Page 277'!D42/'Page 277'!D41)","v":-0.11326911007836554},{"$f":"LN('Page 277'!E42/'Page 277'!E41)","v":3.2928447737028202E-2},{"$f":"LN('Page 277'!F42/'Page 277'!F41)","v":-3.3832863280558734E-2},{"$f":"LN('Page 277'!G42/'Page 277'!G41)","v":1.5016370831930394E-2},{"$f":"LN('Page 277'!H42/'Page 277'!H41)","v":6.1318536533496162E-3},{"$f":"LN('Page 277'!I42/'Page 277'!I41)","v":1.7307458888278151E-3},{"$f":"LN('Page 277'!J42/'Page 277'!J41)","v":0.11153490487919067},{"$f":"LN('Page 277'!K42/'Page 277'!K41)","v":1.5792246454419762E-2},{"$f":"LN('Page 277'!L42/'Page 277'!L41)","v":-9.7126710730722793E-2},{"$f":"LN('Page 277'!M42/'Page 277'!M41)","v":4.7004715101164184E-2},{"$f":"LN('Page 277'!N42/'Page 277'!N41)","v":-6.2763349907697177E-2},{"$f":"LN('Page 277'!O42/'Page 277'!O41)","v":-4.9193867998182173E-3},{"$f":"LN('Page 277'!P42/'Page 277'!P41)","v":4.5699706461875163E-2},{"$f":"LN('Page 277'!Q42/'Page 277'!Q41)","v":0.10377520248221568},{"$f":"LN('Page 277'!R42/'Page 277'!R41)","v":3.5795578703095556E-2},{"$f":"LN('Page 277'!S42/'Page 277'!S41)","v":-2.0213744784200117E-2},{"$f":"LN('Page 277'!T42/'Page 277'!T41)","v":1.5057397672493665E-2},{"$f":"LN('Page 277'!U42/'Page 277'!U41)","v":3.8906925014750675E-2},{"$f":"LN('Page 277'!V42/'Page 277'!V41)","v":-3.0455191412387114E-2},{"$f":"LN('Page 277'!W42/'Page 277'!W41)","v":2.9650242639753112E-2},{"$f":"LN('Page 277'!X42/'Page 277'!X41)","v":-5.2545555578049831E-2},{"$f":"LN('Page 277'!Y42/'Page 277'!Y41)","v":1.1442707607533258E-2},{"$f":"LN('Page 277'!Z42/'Page 277'!Z41)","v":-5.5372554123491194E-2},{"$f":"LN('Page 277'!AA42/'Page 277'!AA41)","v":-5.1031480012445875E-2},{"$f":"LN('Page 277'!AB42/'Page 277'!AB41)","v":-1.5490843328658405E-2},{"$f":"LN('Page 277'!AC42/'Page 277'!AC41)","v":-5.9675279313911363E-3},{"$f":"LN('Page 277'!AD42/'Page 277'!AD41)","v":2.2240765353565015E-3},{"$f":"LN('Page 277'!AE42/'Page 277'!AE41)","v":1.3551118711871384E-2},{"$f":"LN('Page 277'!AF42/'Page 277'!AF41)","v":1.8271168998358657E-2}]
["2004-11-01",{"$f":"LN('Page 277'!B43/'Page 277'!B42)","v":3.7868779461133012E-2},{"$f":"LN('Page 277'!C43/'Page 277'!C42)","v":4.9139238745929577E-2},{"$f":"LN('Page 277'!D43/'Page 277'!D42)","v":4.2615214763532409E-2},{"$f":"LN('Page 277'!E43/'Page 277'!E42)","v":4.8696359938792462E-2},{"$f":"LN('Page 277'!F43/'Page 277'!F42)","v":7.4814207653752379E-2},{"$f":"LN('Page 277'!G43/'Page 277'!G42)","v":8.4806161984203529E-3},{"$f":"LN('Page 277'!H43/'Page 277'!H42)","v":0.12820008979286365},{"$f":"LN('Page 277'!I43/'Page 277'!I42)","v":6.3410785680541745E-2},{"$f":"LN('Page 277'!J43/'Page 277'!J42)","v":6.3830628100981515E-2},{"$f":"LN('Page 277'!K43/'Page 277'!K42)","v":3.590670846324405E-2},{"$f":"LN('Page 277'!L43/'Page 277'!L42)","v":1.4184634991956381E-2},{"$f":"LN('Page 277'!M43/'Page 277'!M42)","v":1.820020725083887E-2},{"$f":"LN('Page 277'!N43/'Page 277'!N42)","v":5.3157687343679837E-2},{"$f":"LN('Page 277'!O43/'Page 277'!O42)","v":6.9832701379484413E-2},{"$f":"LN('Page 277'!P43/'Page 277'!P42)","v":5.0731912352342388E-2},{"$f":"LN('Page 277'!Q43/'Page 277'!Q42)","v":7.3428507984759864E-3},{"$f":"LN('Page 277'!R43/'Page 277'!R42)","v":3.7299548651550371E-2},{"$f":"LN('Page 277'!S43/'Page 277'!S42)","v":-2.4865088832196861E-2},{"$f":"LN('Page 277'!T43/'Page 277'!T42)","v":-2.7427604103515132E-2},{"$f":"LN('Page 277'!U43/'Page 277'!U42)","v":7.1557340765303637E-2},{"$f":"LN('Page 277'!V43/'Page 277'!V42)","v":3.006555571682842E-2},{"$f":"LN('Page 277'!W43/'Page 277'!W42)","v":0.17095779814363948},{"$f":"LN('Page 277'!X43/'Page 277'!X42)","v":-0.11106185171340001},{"$f":"LN('Page 277'!Y43/'Page 277'!Y42)","v":6.6035774338825293E-2},{"$f":"LN('Page 277'!Z43/'Page 277'!Z42)","v":-3.5664998410538912E-2},{"$f":"LN('Page 277'!AA43/'Page 277'!AA42)","v":4.3926313299627887E-2},{"$f":"LN('Page 277'!AB43/'Page 277'!AB42)","v":-3.4752424203033146E-3},{"$f":"LN('Page 277'!AC43/'Page 277'!AC42)","v":5.3728809817069866E-2},{"$f":"LN('Page 277'!AD43/'Page 277'!AD42)","v":5.2999696582927081E-2},{"$f":"LN('Page 277'!AE43/'Page 277'!AE42)","v":-3.5111631459662673E-2},{"$f":"LN('Page 277'!AF43/'Page 277'!AF42)","v":4.5677555601914867E-2}]
["2004-12-01",{"$f":"LN('Page 277'!B44/'Page 277'!B43)","v":3.1942491193192112E-2},{"$f":"LN('Page 277'!C44/'Page 277'!C43)","v":-7.8576913481500574E-2},{"$f":"LN('Page 277'!D44/'Page 277'!D43)","v":3.7183670283339881E-2},{"$f":"LN('Page 277'!E44/'Page 277'!E43)","v":1.1812384784482806E-2},{"$f":"LN('Page 277'!F44/'Page 277'!F43)","v":-3.4231269110829042E-2},{"$f":"LN('Page 277'!G44/'Page 277'!G43)","v":7.3688997629623151E-2},{"$f":"LN('Page 277'!H44/'Page 277'!H43)","v":6.2954811984739401E-2},{"$f":"LN('Page 277'!I44/'Page 277'!I43)","v":7.9096996758603308E-2},{"$f":"LN('Page 277'!J44/'Page 277'!J43)","v":4.2701865302176713E-2},{"$f":"LN('Page 277'!K44/'Page 277'!K43)","v":3.7520760091573076E-2},{"$f":"LN('Page 277'!L44/'Page 277'!L43)","v":3.7322922153975452E-2},{"$f":"LN('Page 277'!M44/'Page 277'!M43)","v":2.3366111829273544E-2},{"$f":"LN('Page 277'!N44/'Page 277'!N43)","v":2.3371322353075985E-3},{"$f":"LN('Page 277'!O44/'Page 277'!O43)","v":5.0807739631713138E-2},{"$f":"LN('Page 277'!P44/'Page 277'!P43)","v":4.5093492359046861E-2},{"$f":"LN('Page 277'!Q44/'Page 277'!Q43)","v":4.4272823677988037E-2},{"$f":"LN('Page 277'!R44/'Page 277'!R43)","v":5.0214868784261207E-2},{"$f":"LN('Page 277'!S44/'Page 277'!S43)","v":3.5296146903782737E-2},{"$f":"LN('Page 277'!T44/'Page 277'!T43)","v":5.7629112836636423E-2},{"$f":"LN('Page 277'!U44/'Page 277'!U43)","v":4.2255229895782231E-2},{"$f":"LN('Page 277'!V44/'Page 277'!V43)","v":3.0700799499319052E-2},{"$f":"LN('Page 277'!W44/'Page 277'!W43)","v":7.2845091274365475E-2},{"$f":"LN('Page 277'!X44/'Page 277'!X43)","v":0.15064395501804845},{"$f":"LN('Page 277'!Y44/'Page 277'!Y43)","v":-3.0476214064748372E-3},{"$f":"LN('Page 277'!Z44/'Page 277'!Z43)","v":-3.2285663497968721E-2},{"$f":"LN('Page 277'!AA44/'Page 277'!AA43)","v":2.9433435848742025E-2},{"$f":"LN('Page 277'!AB44/'Page 277'!AB43)","v":2.3651930318661592E-2},{"$f":"LN('Page 277'!AC44/'Page 277'!AC43)","v":5.7356806857164953E-2},{"$f":"LN('Page 277'!AD44/'Page 277'!AD43)","v":-1.7534987010644373E-2},{"$f":"LN('Page 277'!AE44/'Page 277'!AE43)","v":1.6938008368924173E-2},{"$f":"LN('Page 277'!AF44/'Page 277'!AF43)","v":2.0110608413675824E-4}]
["2005-01-03",{"$f":"LN('Page 277'!B45/'Page 277'!B44)","v":-2.5615747968515911E-2},{"$f":"LN('Page 277'!C45/'Page 277'!C44)","v":-6.230857333871094E-2},{"$f":"LN('Page 277'!D45/'Page 277'!D44)","v":9.3508767502730773E-3},{"$f":"LN('Page 277'!E45/'Page 277'!E44)","v":-5.2877616444773394E-2},{"$f":"LN('Page 277'!F45/'Page 277'!F44)","v":-2.2814677766171399E-2},{"$f":"LN('Page 277'!G45/'Page 277'!G44)","v":1.7925110113229552E-2},{"$f":"LN('Page 277'!H45/'Page 277'!H44)","v":-8.5845329852435093E-2},{"$f":"LN('Page 277'!I45/'Page 277'!I44)","v":-3.0892167212963981E-2},{"$f":"LN('Page 277'!J45/'Page 277'!J44)","v":2.9371738905941854E-2},{"$f":"LN('Page 277'!K45/'Page 277'!K44)","v":-1.0041685297054388E-2},{"$f":"LN('Page 277'!L45/'Page 277'!L44)","v":-8.4621241930356389E-2},{"$f":"LN('Page 277'!M45/'Page 277'!M44)","v":-3.5380477259514341E-2},{"$f":"LN('Page 277'!N45/'Page 277'!N44)","v":1.5921598453525445E-2},{"$f":"LN('Page 277'!O45/'Page 277'!O44)","v":-6.7814075802137774E-2},{"$f":"LN('Page 277'!P45/'Page 277'!P44)","v":-5.3752492235068984E-2},{"$f":"LN('Page 277'!Q45/'Page 277'!Q44)","v":-4.1077203519580364E-2},{"$f":"LN('Page 277'!R45/'Page 277'!R44)","v":1.9974890936536489E-2},{"$f":"LN('Page 277'!S45/'Page 277'!S44)","v":-3.5296146903782771E-2},{"$f":"LN('Page 277'!T45/'Page 277'!T44)","v":-3.7570488777121766E-3},{"$f":"LN('Page 277'!U45/'Page 277'!U44)","v":1.0133082270787906E-2},{"$f":"LN('Page 277'!V45/'Page 277'!V44)","v":2.7582814615142014E-2},{"$f":"LN('Page 277'!W45/'Page 277'!W44)","v":4.3767669233827577E-2},{"$f":"LN('Page 277'!X45/'Page 277'!X44)","v":-0.13597187714720946},{"$f":"LN('Page 277'!Y45/'Page 277'!Y44)","v":-1.6929992671041276E-2},{"$f":"LN('Page 277'!Z45/'Page 277'!Z44)","v":-0.1070981355563671},{"$f":"LN('Page 277'!AA45/'Page 277'!AA44)","v":-2.9626169780147062E-2},{"$f":"LN('Page 277'!AB45/'Page 277'!AB44)","v":-6.8598316342752333E-2},{"$f":"LN('Page 277'!AC45/'Page 277'!AC44)","v":-2.6126888043386216E-2},{"$f":"LN('Page 277'!AD45/'Page 277'!AD44)","v":-0.11972810485004924},{"$f":"LN('Page 277'!AE45/'Page 277'!AE44)","v":-7.9465482612990947E-3},{"$f":"LN('Page 277'!AF45/'Page 277'!AF44)","v":6.6139132769810005E-3}]
["2005-02-01",{"$f":"LN('Page 277'!B46/'Page 277'!B45)","v":1.8726934874337724E-2},{"$f":"LN('Page 277'!C46/'Page 277'!C45)","v":8.9831761210009339E-2},{"$f":"LN('Page 277'!D46/'Page 277'!D45)","v":7.5999757812586811E-3},{"$f":"LN('Page 277'!E46/'Page 277'!E45)","v":1.487577285865291E-2},{"$f":"LN('Page 277'!F46/'Page 277'!F45)","v":8.755104241017489E-2},{"$f":"LN('Page 277'!G46/'Page 277'!G45)","v":-1.8579061090213268E-2},{"$f":"LN('Page 277'!H46/'Page 277'!H45)","v":6.4796397100662775E-2},{"$f":"LN('Page 277'!I46/'Page 277'!I45)","v":0.12096939095894733},{"$f":"LN('Page 277'!J46/'Page 277'!J45)","v":-2.4295585874081371E-2},{"$f":"LN('Page 277'!K46/'Page 277'!K45)","v":-1.9802627296179754E-2},{"$f":"LN('Page 277'!L46/'Page 277'!L45)","v":-1.8781294338486465E-2},{"$f":"LN('Page 277'!M46/'Page 277'!M45)","v":-3.0301554580135844E-2},{"$f":"LN('Page 277'!N46/'Page 277'!N45)","v":5.9103040431050836E-2},{"$f":"LN('Page 277'!O46/'Page 277'!O45)","v":6.0012963591970378E-2},{"$f":"LN('Page 277'!P46/'Page 277'!P45)","v":-7.2005547854782619E-3},{"$f":"LN('Page 277'!Q46/'Page 277'!Q45)","v":6.9964747892186846E-2},{"$f":"LN('Page 277'!R46/'Page 277'!R45)","v":1.8175134839673361E-2},{"$f":"LN('Page 277'!S46/'Page 277'!S45)","v":-2.1155734695328915E-2},{"$f":"LN('Page 277'!T46/'Page 277'!T45)","v":3.1128995673563007E-2},{"$f":"LN('Page 277'!U46/'Page 277'!U45)","v":2.1197801209267085E-2},{"$f":"LN('Page 277'!V46/'Page 277'!V45)","v":0},{"$f":"LN('Page 277'!W46/'Page 277'!W45)","v":2.8040761814603344E-2},{"$f":"LN('Page 277'!X46/'Page 277'!X45)","v":0.1224991236785478},{"$f":"LN('Page 277'!Y46/'Page 277'!Y45)","v":-4.0385535649574408E-2},{"$f":"LN('Page 277'!Z46/'Page 277'!Z45)","v":9.2143114607623741E-2},{"$f":"LN('Page 277'!AA46/'Page 277'!AA45)","v":-2.7021826903600847E-3},{"$f":"LN('Page 277'!AB46/'Page 277'!AB45)","v":1.2664122215730326E-2},{"$f":"LN('Page 277'!AC46/'Page 277'!AC45)","v":-3.6719747501210774E-3},{"$f":"LN('Page 277'!AD46/'Page 277'!AD45)","v":1.0518504191220317E-2},{"$f":"LN('Page 277'!AE46/'Page 277'!AE45)","v":-1.5294415778151649E-2},{"$f":"LN('Page 277'!AF46/'Page 277'!AF45)","v":0.20938574149133185}]
["2005-03-01",{"$f":"LN('Page 277'!B47/'Page 277'!B46)","v":-1.930275225452871E-2},{"$f":"LN('Page 277'!C47/'Page 277'!C46)","v":-5.5487726498661551E-2},{"$f":"LN('Page 277'!D47/'Page 277'!D46)","v":-0.18511163563429758},{"$f":"LN('Page 277'!E47/'Page 277'!E46)","v":-5.0471439764517609E-2},{"$f":"LN('Page 277'!F47/'Page 277'!F46)","v":6.1496993851172195E-2},{"$f":"LN('Page 277'!G47/'Page 277'!G46)","v":-5.9984290457148703E-2},{"$f":"LN('Page 277'!H47/'Page 277'!H46)","v":-3.8773885621271417E-2},{"$f":"LN('Page 277'!I47/'Page 277'!I46)","v":-3.9533996363863642E-2},{"$f":"LN('Page 277'!J47/'Page 277'!J46)","v":2.7819197694564632E-2},{"$f":"LN('Page 277'!K47/'Page 277'!K46)","v":2.4118559761748433E-2},{"$f":"LN('Page 277'!L47/'Page 277'!L46)","v":-0.19291006897247834},{"$f":"LN('Page 277'!M47/'Page 277'!M46)","v":-4.3123564739768361E-2},{"$f":"LN('Page 277'!N47/'Page 277'!N46)","v":-2.0235855939368382E-2},{"$f":"LN('Page 277'!O47/'Page 277'!O46)","v":5.7076831135436719E-2},{"$f":"LN('Page 277'!P47/'Page 277'!P46)","v":-1.3004371054261266E-2},{"$f":"LN('Page 277'!Q47/'Page 277'!Q46)","v":-3.2393244720235054E-2},{"$f":"LN('Page 277'!R47/'Page 277'!R46)","v":2.337386807319905E-2},{"$f":"LN('Page 277'!S47/'Page 277'!S46)","v":-5.4629194936529513E-2},{"$f":"LN('Page 277'!T47/'Page 277'!T46)","v":-2.014810170653111E-2},{"$f":"LN('Page 277'!U47/'Page 277'!U46)","v":-6.0721017578951812E-2},{"$f":"LN('Page 277'!V47/'Page 277'!V46)","v":2.061928720273561E-2},{"$f":"LN('Page 277'!W47/'Page 277'!W46)","v":7.2927962795744389E-3},{"$f":"LN('Page 277'!X47/'Page 277'!X46)","v":3.2691370170432756E-2},{"$f":"LN('Page 277'!Y47/'Page 277'!Y46)","v":-3.9980597752063453E-2},{"$f":"LN('Page 277'!Z47/'Page 277'!Z46)","v":-7.9333601939587397E-4},{"$f":"LN('Page 277'!AA47/'Page 277'!AA46)","v":-1.5473890901887063E-3},{"$f":"LN('Page 277'!AB47/'Page 277'!AB46)","v":-1.5398855004874062E-2},{"$f":"LN('Page 277'!AC47/'Page 277'!AC46)","v":1.7624278729574932E-2},{"$f":"LN('Page 277'!AD47/'Page 277'!AD46)","v":-1.324124070913597E-2},{"$f":"LN('Page 277'!AE47/'Page 277'!AE46)","v":-2.642796450870024E-2},{"$f":"LN('Page 277'!AF47/'Page 277'!AF46)","v":-6.0270261407945912E-2}]
["2005-04-01",{"$f":"LN('Page 277'!B48/'Page 277'!B47)","v":-2.031351934767037E-2},{"$f":"LN('Page 277'!C48/'Page 277'!C47)","v":-4.594142352617691E-2},{"$f":"LN('Page 277'!D48/'Page 277'!D47)","v":-8.5753223660070765E-2},{"$f":"LN('Page 277'!E48/'Page 277'!E47)","v":2.5554106869720993E-2},{"$f":"LN('Page 277'!F48/'Page 277'!F47)","v":1.7974904970744807E-2},{"$f":"LN('Page 277'!G48/'Page 277'!G47)","v":5.3421151606371717E-2},{"$f":"LN('Page 277'!H48/'Page 277'!H47)","v":-3.3154717026338883E-2},{"$f":"LN('Page 277'!I48/'Page 277'!I47)","v":-8.4090263411085331E-2},{"$f":"LN('Page 277'!J48/'Page 277'!J47)","v":-8.4743621254678075E-2},{"$f":"LN('Page 277'!K48/'Page 277'!K47)","v":3.7254664094249785E-3},{"$f":"LN('Page 277'!L48/'Page 277'!L47)","v":-9.6880755578711189E-2},{"$f":"LN('Page 277'!M48/'Page 277'!M47)","v":-7.8097869719647564E-2},{"$f":"LN('Page 277'!N48/'Page 277'!N47)","v":-3.9729129667874785E-2},{"$f":"LN('Page 277'!O48/'Page 277'!O47)","v":-6.9389225039504426E-2},{"$f":"LN('Page 277'!P48/'Page 277'!P47)","v":-0.1793310245768219},{"$f":"LN('Page 277'!Q48/'Page 277'!Q47)","v":1.2216556821876676E-2},{"$f":"LN('Page 277'!R48/'Page 277'!R47)","v":2.1792629990852578E-2},{"$f":"LN('Page 277'!S48/'Page 277'!S47)","v":3.537539129398188E-2},{"$f":"LN('Page 277'!T48/'Page 277'!T47)","v":4.156631908011249E-2},{"$f":"LN('Page 277'!U48/'Page 277'!U47)","v":-6.046075454855495E-2},{"$f":"LN('Page 277'!V48/'Page 277'!V47)","v":-0.11379938430369087},{"$f":"LN('Page 277'!W48/'Page 277'!W47)","v":-6.1548623195070394E-3},{"$f":"LN('Page 277'!X48/'Page 277'!X47)","v":4.6176847292534448E-2},{"$f":"LN('Page 277'!Y48/'Page 277'!Y47)","v":4.5621225116864943E-2},{"$f":"LN('Page 277'!Z48/'Page 277'!Z47)","v":3.355757717932132E-2},{"$f":"LN('Page 277'!AA48/'Page 277'!AA47)","v":2.6551077392297673E-2},{"$f":"LN('Page 277'!AB48/'Page 277'!AB47)","v":1.7643524858697884E-2},{"$f":"LN('Page 277'!AC48/'Page 277'!AC47)","v":6.0222826270591909E-4},{"$f":"LN('Page 277'!AD48/'Page 277'!AD47)","v":1.9796687307881516E-2},{"$f":"LN('Page 277'!AE48/'Page 277'!AE47)","v":-6.128420224573547E-2},{"$f":"LN('Page 277'!AF48/'Page 277'!AF47)","v":-4.415456483047743E-2}]
["2005-05-02",{"$f":"LN('Page 277'!B49/'Page 277'!B48)","v":2.9512223385105795E-2},{"$f":"LN('Page 277'!C49/'Page 277'!C48)","v":-6.3478637625527953E-2},{"$f":"LN('Page 277'!D49/'Page 277'!D48)","v":8.8300995738869445E-2},{"$f":"LN('Page 277'!E49/'Page 277'!E48)","v":2.1702240638656743E-2},{"$f":"LN('Page 277'!F49/'Page 277'!F48)","v":7.5208526210292018E-2},{"$f":"LN('Page 277'!G49/'Page 277'!G48)","v":3.0681593211776266E-3},{"$f":"LN('Page 277'!H49/'Page 277'!H48)","v":6.6542399816643685E-2},{"$f":"LN('Page 277'!I49/'Page 277'!I48)","v":-4.8856415191471511E-3},{"$f":"LN('Page 277'!J49/'Page 277'!J48)","v":3.8675741971714132E-2},{"$f":"LN('Page 277'!K49/'Page 277'!K48)","v":7.6934415658113531E-3},{"$f":"LN('Page 277'!L49/'Page 277'!L48)","v":0.18352710244930318},{"$f":"LN('Page 277'!M49/'Page 277'!M48)","v":0.10662263503826326},{"$f":"LN('Page 277'!N49/'Page 277'!N48)","v":1.8793263814285963E-2},{"$f":"LN('Page 277'!O49/'Page 277'!O48)","v":9.5400273952770856E-2},{"$f":"LN('Page 277'!P49/'Page 277'!P48)","v":-8.2623071303056482E-3},{"$f":"LN('Page 277'!Q49/'Page 277'!Q48)","v":0.14017665330873544},{"$f":"LN('Page 277'!R49/'Page 277'!R48)","v":-1.767017205696865E-2},{"$f":"LN('Page 277'!S49/'Page 277'!S48)","v":7.3367900638543083E-3},{"$f":"LN('Page 277'!T49/'Page 277'!T48)","v":2.7012799246068551E-2},{"$f":"LN('Page 277'!U49/'Page 277'!U48)","v":5.4213816594147521E-2},{"$f":"LN('Page 277'!V49/'Page 277'!V48)","v":7.7717127067817651E-3},{"$f":"LN('Page 277'!W49/'Page 277'!W48)","v":3.260637264885393E-2},{"$f":"LN('Page 277'!X49/'Page 277'!X48)","v":-4.4209633543365608E-2},{"$f":"LN('Page 277'!Y49/'Page 277'!Y48)","v":2.2642476749759752E-2},{"$f":"LN('Page 277'!Z49/'Page 277'!Z48)","v":3.3581725658307145E-2},{"$f":"LN('Page 277'!AA49/'Page 277'!AA48)","v":1.8304582795982412E-2},{"$f":"LN('Page 277'!AB49/'Page 277'!AB48)","v":-1.7643524858697926E-2},{"$f":"LN('Page 277'!AC49/'Page 277'!AC48)","v":5.2005462970895373E-2},{"$f":"LN('Page 277'!AD49/'Page 277'!AD48)","v":-1.165061721997525E-2},{"$f":"LN('Page 277'!AE49/'Page 277'!AE48)","v":5.1635226600492837E-3},{"$f":"LN('Page 277'!AF49/'Page 277'!AF48)","v":-9.5780979821466408E-3}]
["2005-06-01",{"$f":"LN('Page 277'!B50/'Page 277'!B49)","v":-1.4268747689802155E-4},{"$f":"LN('Page 277'!C50/'Page 277'!C49)","v":-3.6437396202430979E-2},{"$f":"LN('Page 277'!D50/'Page 277'!D49)","v":4.7213737480265194E-2},{"$f":"LN('Page 277'!E50/'Page 277'!E49)","v":-9.4910117105872979E-3},{"$f":"LN('Page 277'!F50/'Page 277'!F49)","v":3.235921258011671E-2},{"$f":"LN('Page 277'!G50/'Page 277'!G49)","v":-1.8774709395353945E-2},{"$f":"LN('Page 277'!H50/'Page 277'!H49)","v":1.2665190225578091E-2},{"$f":"LN('Page 277'!I50/'Page 277'!I49)","v":-7.8226311422276262E-2},{"$f":"LN('Page 277'!J50/'Page 277'!J49)","v":-8.570635246069197E-2},{"$f":"LN('Page 277'!K50/'Page 277'!K49)","v":-4.5290759180162989E-2},{"$f":"LN('Page 277'!L50/'Page 277'!L49)","v":7.5398017484211849E-2},{"$f":"LN('Page 277'!M50/'Page 277'!M49)","v":-8.810629682154807E-3},{"$f":"LN('Page 277'!N50/'Page 277'!N49)","v":1.0941335128593244E-2},{"$f":"LN('Page 277'!O50/'Page 277'!O49)","v":4.6642858212284775E-2},{"$f":"LN('Page 277'!P50/'Page 277'!P49)","v":-1.8093931385227312E-2},{"$f":"LN('Page 277'!Q50/'Page 277'!Q49)","v":-3.5683816664131493E-2},{"$f":"LN('Page 277'!R50/'Page 277'!R49)","v":-3.1891247537313885E-2},{"$f":"LN('Page 277'!S50/'Page 277'!S49)","v":-1.2356732688905492E-2},{"$f":"LN('Page 277'!T50/'Page 277'!T49)","v":-6.0421861377198391E-2},{"$f":"LN('Page 277'!U50/'Page 277'!U49)","v":-0.1089583021297915},{"$f":"LN('Page 277'!V50/'Page 277'!V49)","v":-5.839972287312481E-2},{"$f":"LN('Page 277'!W50/'Page 277'!W49)","v":-2.7097609528046317E-2},{"$f":"LN('Page 277'!X50/'Page 277'!X49)","v":-4.0098923757426963E-2},{"$f":"LN('Page 277'!Y50/'Page 277'!Y49)","v":-3.7619482061249911E-2},{"$f":"LN('Page 277'!Z50/'Page 277'!Z49)","v":-1.1569451682817729E-2},{"$f":"LN('Page 277'!AA50/'Page 277'!AA49)","v":-4.4468588381628066E-2},{"$f":"LN('Page 277'!AB50/'Page 277'!AB49)","v":1.5848192240023713E-2},{"$f":"LN('Page 277'!AC50/'Page 277'!AC49)","v":-3.8253377781918056E-2},{"$f":"LN('Page 277'!AD50/'Page 277'!AD49)","v":-2.3716526617316044E-2},{"$f":"LN('Page 277'!AE50/'Page 277'!AE49)","v":2.0391530690980819E-2},{"$f":"LN('Page 277'!AF50/'Page 277'!AF49)","v":2.2444608575396804E-2}]
["2005-07-01",{"$f":"LN('Page 277'!B51/'Page 277'!B50)","v":3.5336451864729147E-2},{"$f":"LN('Page 277'!C51/'Page 277'!C50)","v":7.086611586863184E-2},{"$f":"LN('Page 277'!D51/'Page 277'!D50)","v":3.5426047847868215E-2},{"$f":"LN('Page 277'!E51/'Page 277'!E50)","v":3.2831770011486773E-2},{"$f":"LN('Page 277'!F51/'Page 277'!F50)","v":1.5381065938180444E-4},{"$f":"LN('Page 277'!G51/'Page 277'!G50)","v":-5.0999961834334188E-2},{"$f":"LN('Page 277'!H51/'Page 277'!H50)","v":0.12796988096337655},{"$f":"LN('Page 277'!I51/'Page 277'!I50)","v":-7.7332429856533293E-3},{"$f":"LN('Page 277'!J51/'Page 277'!J50)","v":1.7896679691938006E-2},{"$f":"LN('Page 277'!K51/'Page 277'!K50)","v":-4.1666726948459453E-3},{"$f":"LN('Page 277'!L51/'Page 277'!L50)","v":7.961287744985443E-2},{"$f":"LN('Page 277'!M51/'Page 277'!M50)","v":0.111924040446493},{"$f":"LN('Page 277'!N51/'Page 277'!N50)","v":6.9773816470022842E-2},{"$f":"LN('Page 277'!O51/'Page 277'!O50)","v":4.6207295751177817E-2},{"$f":"LN('Page 277'!P51/'Page 277'!P50)","v":0.11761648380916553},{"$f":"LN('Page 277'!Q51/'Page 277'!Q50)","v":4.2071213920687058E-2},{"$f":"LN('Page 277'!R51/'Page 277'!R50)","v":-1.6015564711261688E-2},{"$f":"LN('Page 277'!S51/'Page 277'!S50)","v":4.725348426426074E-3},{"$f":"LN('Page 277'!T51/'Page 277'!T50)","v":4.7124103313094759E-2},{"$f":"LN('Page 277'!U51/'Page 277'!U50)","v":0.11618804114610691},{"$f":"LN('Page 277'!V51/'Page 277'!V50)","v":3.6675870532732226E-2},{"$f":"LN('Page 277'!W51/'Page 277'!W50)","v":3.492972976486533E-2},{"$f":"LN('Page 277'!X51/'Page 277'!X50)","v":8.487574293294043E-3},{"$f":"LN('Page 277'!Y51/'Page 277'!Y50)","v":3.0524458210646015E-2},{"$f":"LN('Page 277'!Z51/'Page 277'!Z50)","v":-3.9821494186671608E-2},{"$f":"LN('Page 277'!AA51/'Page 277'!AA50)","v":5.8254304360585818E-2},{"$f":"LN('Page 277'!AB51/'Page 277'!AB50)","v":4.265320093491904E-2},{"$f":"LN('Page 277'!AC51/'Page 277'!AC50)","v":-1.2749176670454627E-2},{"$f":"LN('Page 277'!AD51/'Page 277'!AD50)","v":2.1515299524503405E-3},{"$f":"LN('Page 277'!AE51/'Page 277'!AE50)","v":2.3481598372028376E-2},{"$f":"LN('Page 277'!AF51/'Page 277'!AF50)","v":2.1951886837931294E-2}]
["2005-08-01",{"$f":"LN('Page 277'!B52/'Page 277'!B51)","v":-1.1285467972359155E-2},{"$f":"LN('Page 277'!C52/'Page 277'!C51)","v":-4.0852320064980054E-2},{"$f":"LN('Page 277'!D52/'Page 277'!D51)","v":-1.4155949230132298E-2},{"$f":"LN('Page 277'!E52/'Page 277'!E51)","v":4.3946915974237147E-3},{"$f":"LN('Page 277'!F52/'Page 277'!F51)","v":1.8891481995990719E-2},{"$f":"LN('Page 277'!G52/'Page 277'!G51)","v":6.3150718583181633E-3},{"$f":"LN('Page 277'!H52/'Page 277'!H51)","v":2.9041160489105523E-2},{"$f":"LN('Page 277'!I52/'Page 277'!I51)","v":-6.6967475452974504E-2},{"$f":"LN('Page 277'!J52/'Page 277'!J51)","v":-1.7495476075724006E-2},{"$f":"LN('Page 277'!K52/'Page 277'!K51)","v":-2.6289472935818216E-2},{"$f":"LN('Page 277'!L52/'Page 277'!L51)","v":-5.9944142589560705E-2},{"$f":"LN('Page 277'!M52/'Page 277'!M51)","v":-7.3624746343640385E-2},{"$f":"LN('Page 277'!N52/'Page 277'!N51)","v":-2.0239881347746316E-2},{"$f":"LN('Page 277'!O52/'Page 277'!O51)","v":0.12015205726548621},{"$f":"LN('Page 277'!P52/'Page 277'!P51)","v":-3.2127817082959545E-2},{"$f":"LN('Page 277'!Q52/'Page 277'!Q51)","v":-5.0702103119962205E-2},{"$f":"LN('Page 277'!R52/'Page 277'!R51)","v":-3.843694674562827E-3},{"$f":"LN('Page 277'!S52/'Page 277'!S51)","v":-3.6302171292991139E-2},{"$f":"LN('Page 277'!T52/'Page 277'!T51)","v":5.3870606915213462E-3},{"$f":"LN('Page 277'!U52/'Page 277'!U51)","v":4.0428989995644933E-2},{"$f":"LN('Page 277'!V52/'Page 277'!V51)","v":-4.6773375085093986E-2},{"$f":"LN('Page 277'!W52/'Page 277'!W51)","v":5.4354604727998697E-2},{"$f":"LN('Page 277'!X52/'Page 277'!X51)","v":-8.2044936173400654E-2},{"$f":"LN('Page 277'!Y52/'Page 277'!Y51)","v":6.9520158606998589E-2},{"$f":"LN('Page 277'!Z52/'Page 277'!Z51)","v":-3.2152005438417744E-2},{"$f":"LN('Page 277'!AA52/'Page 277'!AA51)","v":-2.7419814273057968E-3},{"$f":"LN('Page 277'!AB52/'Page 277'!AB51)","v":-1.5618538747627968E-2},{"$f":"LN('Page 277'!AC52/'Page 277'!AC51)","v":-9.669696617958936E-3},{"$f":"LN('Page 277'!AD52/'Page 277'!AD51)","v":-4.5219634834625322E-2},{"$f":"LN('Page 277'!AE52/'Page 277'!AE51)","v":-8.9984481022414978E-2},{"$f":"LN('Page 277'!AF52/'Page 277'!AF51)","v":2.4196804699411927E-2}]
["2005-09-01",{"$f":"LN('Page 277'!B53/'Page 277'!B52)","v":6.9249074268589216E-3},{"$f":"LN('Page 277'!C53/'Page 277'!C52)","v":-9.2471150737398339E-2},{"$f":"LN('Page 277'!D53/'Page 277'!D52)","v":4.5616997408971932E-2},{"$f":"LN('Page 277'!E53/'Page 277'!E52)","v":3.8907446299573378E-2},{"$f":"LN('Page 277'!F53/'Page 277'!F52)","v":1.3789187312396822E-2},{"$f":"LN('Page 277'!G53/'Page 277'!G52)","v":3.9095160497229303E-2},{"$f":"LN('Page 277'!H53/'Page 277'!H52)","v":5.7046992662719183E-2},{"$f":"LN('Page 277'!I53/'Page 277'!I52)","v":-1.0168253429252682E-2},{"$f":"LN('Page 277'!J53/'Page 277'!J52)","v":-4.3030609011065264E-2},{"$f":"LN('Page 277'!K53/'Page 277'!K52)","v":8.5366372071751795E-3},{"$f":"LN('Page 277'!L53/'Page 277'!L52)","v":-0.11058139743583054},{"$f":"LN('Page 277'!M53/'Page 277'!M52)","v":-5.5627110165963341E-2},{"$f":"LN('Page 277'!N53/'Page 277'!N52)","v":-2.0658011620421985E-2},{"$f":"LN('Page 277'!O53/'Page 277'!O52)","v":5.3166311674076518E-2},{"$f":"LN('Page 277'!P53/'Page 277'!P52)","v":-5.0163135036327879E-3},{"$f":"LN('Page 277'!Q53/'Page 277'!Q52)","v":-4.2662405188275292E-2},{"$f":"LN('Page 277'!R53/'Page 277'!R52)","v":-1.766643035564452E-3},{"$f":"LN('Page 277'!S53/'Page 277'!S52)","v":1.2213741976343732E-3},{"$f":"LN('Page 277'!T53/'Page 277'!T52)","v":-1.222106867245757E-2},{"$f":"LN('Page 277'!U53/'Page 277'!U52)","v":3.1571795875813574E-2},{"$f":"LN('Page 277'!V53/'Page 277'!V52)","v":3.0546396365180008E-2},{"$f":"LN('Page 277'!W53/'Page 277'!W52)","v":5.2814229686611279E-2},{"$f":"LN('Page 277'!X53/'Page 277'!X52)","v":-3.6625917411804654E-2},{"$f":"LN('Page 277'!Y53/'Page 277'!Y52)","v":-6.2032438894289652E-2},{"$f":"LN('Page 277'!Z53/'Page 277'!Z52)","v":-2.0375603033017994E-2},{"$f":"LN('Page 277'!AA53/'Page 277'!AA52)","v":6.9297907636100012E-2},{"$f":"LN('Page 277'!AB53/'Page 277'!AB52)","v":-4.3821279590416148E-3},{"$f":"LN('Page 277'!AC53/'Page 277'!AC52)","v":3.6179656577502474E-2},{"$f":"LN('Page 277'!AD53/'Page 277'!AD52)","v":-6.4267354397108223E-4},{"$f":"LN('Page 277'!AE53/'Page 277'!AE52)","v":-2.5721231324919751E-2},{"$f":"LN('Page 277'!AF53/'Page 277'!AF52)","v":5.908752662314206E-2}]
["2005-10-03",{"$f":"LN('Page 277'!B54/'Page 277'!B53)","v":-1.7899994313773929E-2},{"$f":"LN('Page 277'!C54/'Page 277'!C53)","v":-5.4200674693391446E-3},{"$f":"LN('Page 277'!D54/'Page 277'!D53)","v":4.4712584018884359E-2},{"$f":"LN('Page 277'!E54/'Page 277'!E53)","v":-7.6613277964327677E-3},{"$f":"LN('Page 277'!F54/'Page 277'!F53)","v":-4.9899740521956448E-2},{"$f":"LN('Page 277'!G54/'Page 277'!G53)","v":5.8126700660439141E-3},{"$f":"LN('Page 277'!H54/'Page 277'!H53)","v":-0.10618361611297575},{"$f":"LN('Page 277'!I54/'Page 277'!I53)","v":6.2472709572152785E-2},{"$f":"LN('Page 277'!J54/'Page 277'!J53)","v":9.5854036686783221E-3},{"$f":"LN('Page 277'!K54/'Page 277'!K53)","v":6.9581282094668068E-3},{"$f":"LN('Page 277'!L54/'Page 277'!L53)","v":-0.1109657416650736},{"$f":"LN('Page 277'!M54/'Page 277'!M53)","v":7.3256368722335555E-2},{"$f":"LN('Page 277'!N54/'Page 277'!N53)","v":-9.1927455517847478E-2},{"$f":"LN('Page 277'!O54/'Page 277'!O53)","v":-4.0505625285962132E-2},{"$f":"LN('Page 277'!P54/'Page 277'!P53)","v":2.0532047094810383E-2},{"$f":"LN('Page 277'!Q54/'Page 277'!Q53)","v":-4.7577905830525957E-2},{"$f":"LN('Page 277'!R54/'Page 277'!R53)","v":-1.0503449556249871E-2},{"$f":"LN('Page 277'!S54/'Page 277'!S53)","v":8.6197293297574903E-2},{"$f":"LN('Page 277'!T54/'Page 277'!T53)","v":-9.5035165254536737E-3},{"$f":"LN('Page 277'!U54/'Page 277'!U53)","v":-5.8342036940418444E-2},{"$f":"LN('Page 277'!V54/'Page 277'!V53)","v":3.5010045623190378E-2},{"$f":"LN('Page 277'!W54/'Page 277'!W53)","v":1.8058554362292371E-2},{"$f":"LN('Page 277'!X54/'Page 277'!X53)","v":3.6258877583862995E-2},{"$f":"LN('Page 277'!Y54/'Page 277'!Y53)","v":-1.1785505194441416E-3},{"$f":"LN('Page 277'!Z54/'Page 277'!Z53)","v":-0.13842483752179424},{"$f":"LN('Page 277'!AA54/'Page 277'!AA53)","v":-5.4940550608893871E-2},{"$f":"LN('Page 277'!AB54/'Page 277'!AB53)","v":8.7451366253586318E-3},{"$f":"LN('Page 277'!AC54/'Page 277'!AC53)","v":-1.0796061283560747E-2},{"$f":"LN('Page 277'!AD54/'Page 277'!AD53)","v":-2.4074031851888247E-2},{"$f":"LN('Page 277'!AE54/'Page 277'!AE53)","v":7.675606534817557E-2},{"$f":"LN('Page 277'!AF54/'Page 277'!AF53)","v":-0.12387475055085766}]
["2005-11-01",{"$f":"LN('Page 277'!B55/'Page 277'!B54)","v":3.4581237676988605E-2},{"$f":"LN('Page 277'!C55/'Page 277'!C54)","v":0.12703037360806441},{"$f":"LN('Page 277'!D55/'Page 277'!D54)","v":3.5492263906324352E-2},{"$f":"LN('Page 277'!E55/'Page 277'!E54)","v":3.2456806178875773E-2},{"$f":"LN('Page 277'!F55/'Page 277'!F54)","v":5.7167106581943863E-2},{"$f":"LN('Page 277'!G55/'Page 277'!G54)","v":6.8487468119720521E-2},{"$f":"LN('Page 277'!H55/'Page 277'!H54)","v":9.4055955342796926E-2},{"$f":"LN('Page 277'!I55/'Page 277'!I54)","v":3.3885139264615775E-2},{"$f":"LN('Page 277'!J55/'Page 277'!J54)","v":2.296123834818568E-2},{"$f":"LN('Page 277'!K55/'Page 277'!K54)","v":5.198645174694938E-2},{"$f":"LN('Page 277'!L55/'Page 277'!L54)","v":-0.20545063730561666},{"$f":"LN('Page 277'!M55/'Page 277'!M54)","v":2.0222397007998206E-2},{"$f":"LN('Page 277'!N55/'Page 277'!N54)","v":7.1663892514036848E-2},{"$f":"LN('Page 277'!O55/'Page 277'!O54)","v":5.6599107365378584E-2},{"$f":"LN('Page 277'!P55/'Page 277'!P54)","v":8.4627291677561431E-2},{"$f":"LN('Page 277'!Q55/'Page 277'!Q54)","v":0.13040014782673898},{"$f":"LN('Page 277'!R55/'Page 277'!R54)","v":-8.8106296821549197E-3},{"$f":"LN('Page 277'!S55/'Page 277'!S54)","v":4.3550631224768349E-2},{"$f":"LN('Page 277'!T55/'Page 277'!T54)","v":4.5254334705107646E-3},{"$f":"LN('Page 277'!U55/'Page 277'!U54)","v":8.9242950636757717E-2},{"$f":"LN('Page 277'!V55/'Page 277'!V54)","v":3.7700662364008368E-2},{"$f":"LN('Page 277'!W55/'Page 277'!W54)","v":-3.0612495948348563E-2},{"$f":"LN('Page 277'!X55/'Page 277'!X54)","v":5.3951285962047978E-2},{"$f":"LN('Page 277'!Y55/'Page 277'!Y54)","v":7.7135728882227236E-2},{"$f":"LN('Page 277'!Z55/'Page 277'!Z54)","v":-1.6686918785014597E-2},{"$f":"LN('Page 277'!AA55/'Page 277'!AA54)","v":2.1068445774304875E-2},{"$f":"LN('Page 277'!AB55/'Page 277'!AB54)","v":4.3448060150596282E-2},{"$f":"LN('Page 277'!AC55/'Page 277'!AC54)","v":5.2851188193996486E-2},{"$f":"LN('Page 277'!AD55/'Page 277'!AD54)","v":1.470855083431217E-2},{"$f":"LN('Page 277'!AE55/'Page 277'!AE54)","v":2.6134258710418995E-2},{"$f":"LN('Page 277'!AF55/'Page 277'!AF54)","v":3.815563541679072E-2}]
["2005-12-01",{"$f":"LN('Page 277'!B56/'Page 277'!B55)","v":-9.528500142413687E-4},{"$f":"LN('Page 277'!C56/'Page 277'!C55)","v":7.5842213332526193E-2},{"$f":"LN('Page 277'!D56/'Page 277'!D55)","v":1.6180862197089498E-2},{"$f":"LN('Page 277'!E56/'Page 277'!E55)","v":7.8339212780407738E-4},{"$f":"LN('Page 277'!F56/'Page 277'!F55)","v":2.9700829254173194E-2},{"$f":"LN('Page 277'!G56/'Page 277'!G55)","v":-4.1640641867552982E-4},{"$f":"LN('Page 277'!H56/'Page 277'!H55)","v":-1.7432232241474714E-4},{"$f":"LN('Page 277'!I56/'Page 277'!I55)","v":-5.9673169077704346E-3},{"$f":"LN('Page 277'!J56/'Page 277'!J55)","v":-2.8784882094972462E-2},{"$f":"LN('Page 277'!K56/'Page 277'!K55)","v":-1.1803793304009404E-2},{"$f":"LN('Page 277'!L56/'Page 277'!L55)","v":-0.12029317970226346},{"$f":"LN('Page 277'!M56/'Page 277'!M55)","v":-3.1608658636442653E-2},{"$f":"LN('Page 277'!N56/'Page 277'!N55)","v":1.9178670030572068E-2},{"$f":"LN('Page 277'!O56/'Page 277'!O55)","v":-3.3152207316900509E-2},{"$f":"LN('Page 277'!P56/'Page 277'!P55)","v":-7.8365376685959193E-2},{"$f":"LN('Page 277'!Q56/'Page 277'!Q55)","v":-6.6508666504689312E-2},{"$f":"LN('Page 277'!R56/'Page 277'!R55)","v":-2.7075817260754826E-2},{"$f":"LN('Page 277'!S56/'Page 277'!S55)","v":3.7094875175309655E-2},{"$f":"LN('Page 277'!T56/'Page 277'!T55)","v":-5.7465998602946933E-2},{"$f":"LN('Page 277'!U56/'Page 277'!U55)","v":-3.8478662246293838E-3},{"$f":"LN('Page 277'!V56/'Page 277'!V55)","v":-1.2583677756234533E-2},{"$f":"LN('Page 277'!W56/'Page 277'!W55)","v":3.6651493165116622E-2},{"$f":"LN('Page 277'!X56/'Page 277'!X55)","v":7.8570051941829144E-2},{"$f":"LN('Page 277'!Y56/'Page 277'!Y55)","v":-5.6901575518259327E-2},{"$f":"LN('Page 277'!Z56/'Page 277'!Z55)","v":9.5310179804324741E-2},{"$f":"LN('Page 277'!AA56/'Page 277'!AA55)","v":1.2117103211349229E-2},{"$f":"LN('Page 277'!AB56/'Page 277'!AB55)","v":-1.7238181742378345E-2},{"$f":"LN('Page 277'!AC56/'Page 277'!AC55)","v":3.7657126385328331E-2},{"$f":"LN('Page 277'!AD56/'Page 277'!AD55)","v":-5.9834051855431142E-2},{"$f":"LN('Page 277'!AE56/'Page 277'!AE55)","v":-3.4066554563606195E-2},{"$f":"LN('Page 277'!AF56/'Page 277'!AF55)","v":-3.2563485910827014E-2}]
["2006-01-03",{"$f":"LN('Page 277'!B57/'Page 277'!B56)","v":2.5147961230518261E-2},{"$f":"LN('Page 277'!C57/'Page 277'!C56)","v":6.3151040259666502E-2},{"$f":"LN('Page 277'!D57/'Page 277'!D56)","v":-4.1490995554845825E-2},{"$f":"LN('Page 277'!E57/'Page 277'!E56)","v":2.1497874490983376E-2},{"$f":"LN('Page 277'!F57/'Page 277'!F56)","v":-2.7929088055432878E-2},{"$f":"LN('Page 277'!G57/'Page 277'!G56)","v":-4.1021584060690279E-2},{"$f":"LN('Page 277'!H57/'Page 277'!H56)","v":0.16559126222915135},{"$f":"LN('Page 277'!I57/'Page 277'!I56)","v":-8.2039752711578345E-2},{"$f":"LN('Page 277'!J57/'Page 277'!J56)","v":5.4396526110739675E-2},{"$f":"LN('Page 277'!K57/'Page 277'!K56)","v":-6.7690505338030463E-2},{"$f":"LN('Page 277'!L57/'Page 277'!L56)","v":0.21458520228304806},{"$f":"LN('Page 277'!M57/'Page 277'!M56)","v":1.7410774202929755E-3},{"$f":"LN('Page 277'!N57/'Page 277'!N56)","v":3.099366436581167E-2},{"$f":"LN('Page 277'!O57/'Page 277'!O56)","v":8.5430071204617777E-2},{"$f":"LN('Page 277'!P57/'Page 277'!P56)","v":-1.1077036338907607E-2},{"$f":"LN('Page 277'!Q57/'Page 277'!Q56)","v":-0.1607120724610995},{"$f":"LN('Page 277'!R57/'Page 277'!R56)","v":-4.3533755804915142E-2},{"$f":"LN('Page 277'!S57/'Page 277'!S56)","v":1.0021926359046567E-2},{"$f":"LN('Page 277'!T57/'Page 277'!T56)","v":2.6330383502959478E-2},{"$f":"LN('Page 277'!U57/'Page 277'!U56)","v":3.7542601832919666E-2},{"$f":"LN('Page 277'!V57/'Page 277'!V56)","v":-6.3181739632142964E-2},{"$f":"LN('Page 277'!W57/'Page 277'!W56)","v":-3.240219498645891E-2},{"$f":"LN('Page 277'!X57/'Page 277'!X56)","v":8.1179829888370206E-2},{"$f":"LN('Page 277'!Y57/'Page 277'!Y56)","v":7.3860307765218847E-2},{"$f":"LN('Page 277'!Z57/'Page 277'!Z56)","v":9.6580828005780536E-2},{"$f":"LN('Page 277'!AA57/'Page 277'!AA56)","v":2.7715002237054608E-2},{"$f":"LN('Page 277'!AB57/'Page 277'!AB56)","v":7.1590568904359053E-2},{"$f":"LN('Page 277'!AC57/'Page 277'!AC56)","v":4.3047747170555171E-2},{"$f":"LN('Page 277'!AD57/'Page 277'!AD56)","v":6.2749978107486393E-2},{"$f":"LN('Page 277'!AE57/'Page 277'!AE56)","v":-1.47444128178424E-2},{"$f":"LN('Page 277'!AF57/'Page 277'!AF56)","v":0.11090367760583343}]
["2006-02-01",{"$f":"LN('Page 277'!B58/'Page 277'!B57)","v":4.529940641520396E-4},{"$f":"LN('Page 277'!C58/'Page 277'!C57)","v":-6.6912371416664659E-2},{"$f":"LN('Page 277'!D58/'Page 277'!D57)","v":1.3719727397480003E-2},{"$f":"LN('Page 277'!E58/'Page 277'!E57)","v":2.6844712184124434E-2},{"$f":"LN('Page 277'!F58/'Page 277'!F57)","v":6.6343941572338291E-2},{"$f":"LN('Page 277'!G58/'Page 277'!G57)","v":6.056691670952419E-3},{"$f":"LN('Page 277'!H58/'Page 277'!H57)","v":7.3464074120697526E-2},{"$f":"LN('Page 277'!I58/'Page 277'!I57)","v":3.6488293263136684E-2},{"$f":"LN('Page 277'!J58/'Page 277'!J57)","v":0.10064772897032936},{"$f":"LN('Page 277'!K58/'Page 277'!K57)","v":1.1094104541358792E-2},{"$f":"LN('Page 277'!L58/'Page 277'!L57)","v":-0.1583331549988253},{"$f":"LN('Page 277'!M58/'Page 277'!M57)","v":3.8752259662623204E-2},{"$f":"LN('Page 277'!N58/'Page 277'!N57)","v":6.9361127797502531E-2},{"$f":"LN('Page 277'!O58/'Page 277'!O57)","v":5.090637234751344E-2},{"$f":"LN('Page 277'!P58/'Page 277'!P57)","v":-1.057552624708641E-2},{"$f":"LN('Page 277'!Q58/'Page 277'!Q57)","v":-2.6963597877582197E-2},{"$f":"LN('Page 277'!R58/'Page 277'!R57)","v":7.5339821976327277E-3},{"$f":"LN('Page 277'!S58/'Page 277'!S57)","v":3.4429836211787378E-2},{"$f":"LN('Page 277'!T58/'Page 277'!T57)","v":1.4119027143852922E-2},{"$f":"LN('Page 277'!U58/'Page 277'!U57)","v":-2.8604138496296457E-3},{"$f":"LN('Page 277'!V58/'Page 277'!V57)","v":1.7780083852863355E-2},{"$f":"LN('Page 277'!W58/'Page 277'!W57)","v":-6.0962831464255992E-3},{"$f":"LN('Page 277'!X58/'Page 277'!X57)","v":1.0616437076253071E-2},{"$f":"LN('Page 277'!Y58/'Page 277'!Y57)","v":-4.3135342068847039E-2},{"$f":"LN('Page 277'!Z58/'Page 277'!Z57)","v":2.8942184370920315E-2},{"$f":"LN('Page 277'!AA58/'Page 277'!AA57)","v":1.1814483413763056E-2},{"$f":"LN('Page 277'!AB58/'Page 277'!AB57)","v":6.1251442809923673E-2},{"$f":"LN('Page 277'!AC58/'Page 277'!AC57)","v":6.025670293590032E-3},{"$f":"LN('Page 277'!AD58/'Page 277'!AD57)","v":6.2392901627301156E-2},{"$f":"LN('Page 277'!AE58/'Page 277'!AE57)","v":-1.6518380210940327E-2},{"$f":"LN('Page 277'!AF58/'Page 277'!AF57)","v":-5.0183825252067778E-2}]
["2006-03-01",{"$f":"LN('Page 277'!B59/'Page 277'!B58)","v":1.1034733969458945E-2},{"$f":"LN('Page 277'!C59/'Page 277'!C58)","v":4.1602779042856315E-2},{"$f":"LN('Page 277'!D59/'Page 277'!D58)","v":-1.8184578431258707E-3},{"$f":"LN('Page 277'!E59/'Page 277'!E58)","v":-2.5121729083425172E-2},{"$f":"LN('Page 277'!F59/'Page 277'!F58)","v":6.9581691288308697E-2},{"$f":"LN('Page 277'!G59/'Page 277'!G58)","v":1.8376585504656297E-2},{"$f":"LN('Page 277'!H59/'Page 277'!H58)","v":-1.7586827303334048E-2},{"$f":"LN('Page 277'!I59/'Page 277'!I58)","v":4.7942660970409473E-2},{"$f":"LN('Page 277'!J59/'Page 277'!J58)","v":-3.5791018879645156E-3},{"$f":"LN('Page 277'!K59/'Page 277'!K58)","v":5.6306755609997976E-2},{"$f":"LN('Page 277'!L59/'Page 277'!L58)","v":4.6158302921268657E-2},{"$f":"LN('Page 277'!M59/'Page 277'!M58)","v":7.1462905368182526E-3},{"$f":"LN('Page 277'!N59/'Page 277'!N58)","v":4.3469444220723227E-2},{"$f":"LN('Page 277'!O59/'Page 277'!O58)","v":5.1948168771041511E-3},{"$f":"LN('Page 277'!P59/'Page 277'!P58)","v":2.7388832663133186E-2},{"$f":"LN('Page 277'!Q59/'Page 277'!Q58)","v":-5.6727880402377404E-2},{"$f":"LN('Page 277'!R59/'Page 277'!R58)","v":2.6865745285799249E-2},{"$f":"LN('Page 277'!S59/'Page 277'!S58)","v":1.2032066579569562E-2},{"$f":"LN('Page 277'!T59/'Page 277'!T58)","v":4.8227727912260052E-3},{"$f":"LN('Page 277'!U59/'Page 277'!U58)","v":-1.588022400088996E-2},{"$f":"LN('Page 277'!V59/'Page 277'!V58)","v":2.815190289476506E-2},{"$f":"LN('Page 277'!W59/'Page 277'!W58)","v":-3.7042356075807268E-3},{"$f":"LN('Page 277'!X59/'Page 277'!X58)","v":2.1474998228097959E-2},{"$f":"LN('Page 277'!Y59/'Page 277'!Y58)","v":1.225187035339419E-2},{"$f":"LN('Page 277'!Z59/'Page 277'!Z58)","v":-4.9387875531209637E-2},{"$f":"LN('Page 277'!AA59/'Page 277'!AA58)","v":-3.9180445507657986E-2},{"$f":"LN('Page 277'!AB59/'Page 277'!AB58)","v":-2.0255756308274839E-2},{"$f":"LN('Page 277'!AC59/'Page 277'!AC58)","v":-9.1387824584463293E-3},{"$f":"LN('Page 277'!AD59/'Page 277'!AD58)","v":1.0582109330537008E-2},{"$f":"LN('Page 277'!AE59/'Page 277'!AE58)","v":4.4306921099570601E-2},{"$f":"LN('Page 277'!AF59/'Page 277'!AF58)","v":2.4911427810049402E-2}]
["2006-04-03",{"$f":"LN('Page 277'!B60/'Page 277'!B59)","v":1.2082373675144375E-2},{"$f":"LN('Page 277'!C60/'Page 277'!C59)","v":9.9989561843298519E-2},{"$f":"LN('Page 277'!D60/'Page 277'!D59)","v":-1.2822645540912345E-2},{"$f":"LN('Page 277'!E60/'Page 277'!E59)","v":2.6053956241456868E-2},{"$f":"LN('Page 277'!F60/'Page 277'!F59)","v":6.8546381577074961E-2},{"$f":"LN('Page 277'!G60/'Page 277'!G59)","v":5.5993221186536851E-2},{"$f":"LN('Page 277'!H60/'Page 277'!H59)","v":5.6490717135769065E-2},{"$f":"LN('Page 277'!I60/'Page 277'!I59)","v":4.3693435217569923E-2},{"$f":"LN('Page 277'!J60/'Page 277'!J59)","v":2.5067157262118516E-3},{"$f":"LN('Page 277'!K60/'Page 277'!K59)","v":-5.5192587456266489E-3},{"$f":"LN('Page 277'!L60/'Page 277'!L59)","v":7.3225748894030954E-2},{"$f":"LN('Page 277'!M60/'Page 277'!M59)","v":-5.7647216771325914E-2},{"$f":"LN('Page 277'!N60/'Page 277'!N59)","v":-6.3656940173461869E-3},{"$f":"LN('Page 277'!O60/'Page 277'!O59)","v":-1.3192398723521168E-2},{"$f":"LN('Page 277'!P60/'Page 277'!P59)","v":-1.5833387389166198E-3},{"$f":"LN('Page 277'!Q60/'Page 277'!Q59)","v":2.6505119379997093E-2},{"$f":"LN('Page 277'!R60/'Page 277'!R59)","v":-1.0247741260475809E-2},{"$f":"LN('Page 277'!S60/'Page 277'!S59)","v":9.4044595746061499E-2},{"$f":"LN('Page 277'!T60/'Page 277'!T59)","v":2.1626825682798628E-3},{"$f":"LN('Page 277'!U60/'Page 277'!U59)","v":6.0931568174785091E-3},{"$f":"LN('Page 277'!V60/'Page 277'!V59)","v":0.12106861082463452},{"$f":"LN('Page 277'!W60/'Page 277'!W59)","v":3.2025208754611109E-2},{"$f":"LN('Page 277'!X60/'Page 277'!X59)","v":-2.3236595865095331E-2},{"$f":"LN('Page 277'!Y60/'Page 277'!Y59)","v":-0.11898301733912256},{"$f":"LN('Page 277'!Z60/'Page 277'!Z59)","v":1.6071057021242771E-2},{"$f":"LN('Page 277'!AA60/'Page 277'!AA59)","v":1.5582032719997961E-2},{"$f":"LN('Page 277'!AB60/'Page 277'!AB59)","v":-1.874218180974075E-2},{"$f":"LN('Page 277'!AC60/'Page 277'!AC59)","v":8.0189267840077974E-2},{"$f":"LN('Page 277'!AD60/'Page 277'!AD59)","v":-1.8822656496633863E-2},{"$f":"LN('Page 277'!AE60/'Page 277'!AE59)","v":-4.7866435425159011E-2},{"$f":"LN('Page 277'!AF60/'Page 277'!AF59)","v":3.5683318735638396E-2}]
["2006-05-01",{"$f":"LN('Page 277'!B61/'Page 277'!B60)","v":-3.1404913585891703E-2},{"$f":"LN('Page 277'!C61/'Page 277'!C60)","v":-5.8471128985531085E-2},{"$f":"LN('Page 277'!D61/'Page 277'!D60)","v":-6.8181138612174702E-2},{"$f":"LN('Page 277'!E61/'Page 277'!E60)","v":1.0197548274768733E-2},{"$f":"LN('Page 277'!F61/'Page 277'!F60)","v":9.614229799570056E-4},{"$f":"LN('Page 277'!G61/'Page 277'!G60)","v":-1.3098424045918254E-2},{"$f":"LN('Page 277'!H61/'Page 277'!H60)","v":-3.7532147504853987E-2},{"$f":"LN('Page 277'!I61/'Page 277'!I60)","v":-2.8053305983079591E-2},{"$f":"LN('Page 277'!J61/'Page 277'!J60)","v":8.6951766247756454E-2},{"$f":"LN('Page 277'!K61/'Page 277'!K60)","v":-9.3650084504965578E-3},{"$f":"LN('Page 277'!L61/'Page 277'!L60)","v":0.17263965122364733},{"$f":"LN('Page 277'!M61/'Page 277'!M60)","v":-4.6316484975888444E-2},{"$f":"LN('Page 277'!N61/'Page 277'!N60)","v":-2.6361459402393532E-2},{"$f":"LN('Page 277'!O61/'Page 277'!O60)","v":-2.7833634793053221E-3},{"$f":"LN('Page 277'!P61/'Page 277'!P60)","v":-2.6431080431950901E-2},{"$f":"LN('Page 277'!Q61/'Page 277'!Q60)","v":-9.8231949048236122E-2},{"$f":"LN('Page 277'!R61/'Page 277'!R60)","v":3.3260430607777773E-2},{"$f":"LN('Page 277'!S61/'Page 277'!S60)","v":-6.2334035820444104E-2},{"$f":"LN('Page 277'!T61/'Page 277'!T60)","v":4.803547304239731E-2},{"$f":"LN('Page 277'!U61/'Page 277'!U60)","v":-4.1340400974572103E-2},{"$f":"LN('Page 277'!V61/'Page 277'!V60)","v":-1.5654968672613196E-2},{"$f":"LN('Page 277'!W61/'Page 277'!W60)","v":-1.1120492693080124E-2},{"$f":"LN('Page 277'!X61/'Page 277'!X60)","v":-2.1985436925880866E-2},{"$f":"LN('Page 277'!Y61/'Page 277'!Y60)","v":-6.0390858617489745E-2},{"$f":"LN('Page 277'!Z61/'Page 277'!Z60)","v":-5.8683501828090179E-2},{"$f":"LN('Page 277'!AA61/'Page 277'!AA60)","v":-7.0454168863075234E-2},{"$f":"LN('Page 277'!AB61/'Page 277'!AB60)","v":-5.8083415957469022E-3},{"$f":"LN('Page 277'!AC61/'Page 277'!AC60)","v":-4.7973135964421665E-4},{"$f":"LN('Page 277'!AD61/'Page 277'!AD60)","v":-5.6743868707170436E-2},{"$f":"LN('Page 277'!AE61/'Page 277'!AE60)","v":7.6762918348883477E-2},{"$f":"LN('Page 277'!AF61/'Page 277'!AF60)","v":-2.992056301643866E-2}]
["2006-06-01",{"$f":"LN('Page 277'!B62/'Page 277'!B61)","v":8.6604285391806066E-5},{"$f":"LN('Page 277'!C62/'Page 277'!C61)","v":1.9975695423643827E-2},{"$f":"LN('Page 277'!D62/'Page 277'!D61)","v":-2.9205246328750052E-2},{"$f":"LN('Page 277'!E62/'Page 277'!E61)","v":-2.1253596432443251E-2},{"$f":"LN('Page 277'!F62/'Page 277'!F61)","v":-1.6227045333042631E-2},{"$f":"LN('Page 277'!G62/'Page 277'!G61)","v":-2.152825326364944E-2},{"$f":"LN('Page 277'!H62/'Page 277'!H61)","v":2.0756358000016913E-2},{"$f":"LN('Page 277'!I62/'Page 277'!I61)","v":-2.2109541998324524E-2},{"$f":"LN('Page 277'!J62/'Page 277'!J61)","v":-1.6529301951210582E-2},{"$f":"LN('Page 277'!K62/'Page 277'!K61)","v":-3.135989397783303E-2},{"$f":"LN('Page 277'!L62/'Page 277'!L61)","v":0.10093185990168346},{"$f":"LN('Page 277'!M62/'Page 277'!M61)","v":-5.9127849465776476E-2},{"$f":"LN('Page 277'!N62/'Page 277'!N61)","v":-2.1601232647006138E-2},{"$f":"LN('Page 277'!O62/'Page 277'!O61)","v":-1.9072017823958738E-2},{"$f":"LN('Page 277'!P62/'Page 277'!P61)","v":-3.9310829854470403E-2},{"$f":"LN('Page 277'!Q62/'Page 277'!Q61)","v":5.2956726986248565E-2},{"$f":"LN('Page 277'!R62/'Page 277'!R61)","v":-4.9941838446236455E-3},{"$f":"LN('Page 277'!S62/'Page 277'!S61)","v":-1.5009215651571376E-2},{"$f":"LN('Page 277'!T62/'Page 277'!T61)","v":-1.5911785035639055E-2},{"$f":"LN('Page 277'!U62/'Page 277'!U61)","v":1.2880214010197425E-2},{"$f":"LN('Page 277'!V62/'Page 277'!V61)","v":-3.5155356559847424E-2},{"$f":"LN('Page 277'!W62/'Page 277'!W61)","v":2.6075837632647349E-2},{"$f":"LN('Page 277'!X62/'Page 277'!X61)","v":9.0135559433538959E-2},{"$f":"LN('Page 277'!Y62/'Page 277'!Y61)","v":2.8293508642611997E-2},{"$f":"LN('Page 277'!Z62/'Page 277'!Z61)","v":-8.0628486873086311E-3},{"$f":"LN('Page 277'!AA62/'Page 277'!AA61)","v":2.4580208835967805E-2},{"$f":"LN('Page 277'!AB62/'Page 277'!AB61)","v":6.7930819035712534E-2},{"$f":"LN('Page 277'!AC62/'Page 277'!AC61)","v":1.4292763556925473E-2},{"$f":"LN('Page 277'!AD62/'Page 277'!AD61)","v":7.0440628257431664E-2},{"$f":"LN('Page 277'!AE62/'Page 277'!AE61)","v":-5.7959176946458012E-3},{"$f":"LN('Page 277'!AF62/'Page 277'!AF61)","v":7.1978063085272413E-3}]
["2006-07-03",{"$f":"LN('Page 277'!B63/'Page 277'!B62)","v":-3.7228715386083515E-3},{"$f":"LN('Page 277'!C63/'Page 277'!C62)","v":3.61137712273999E-2},{"$f":"LN('Page 277'!D63/'Page 277'!D62)","v":-1.3557026309584757E-3},{"$f":"LN('Page 277'!E63/'Page 277'!E62)","v":-2.075276762645941E-2},{"$f":"LN('Page 277'!F63/'Page 277'!F62)","v":-2.3719456666780159E-2},{"$f":"LN('Page 277'!G63/'Page 277'!G62)","v":1.7055792057715624E-2},{"$f":"LN('Page 277'!H63/'Page 277'!H62)","v":-2.5841231183887443E-2},{"$f":"LN('Page 277'!I63/'Page 277'!I62)","v":-2.5811026243363643E-2},{"$f":"LN('Page 277'!J63/'Page 277'!J62)","v":-5.6827831354982683E-3},{"$f":"LN('Page 277'!K63/'Page 277'!K62)","v":1.0262691945127161E-2},{"$f":"LN('Page 277'!L63/'Page 277'!L62)","v":-1.0460699404055022E-2},{"$f":"LN('Page 277'!M63/'Page 277'!M62)","v":-1.1804521560545289E-2},{"$f":"LN('Page 277'!N63/'Page 277'!N62)","v":-3.3815990178302856E-2},{"$f":"LN('Page 277'!O63/'Page 277'!O62)","v":3.6266177984394569E-2},{"$f":"LN('Page 277'!P63/'Page 277'!P62)","v":-5.2205808990046848E-3},{"$f":"LN('Page 277'!Q63/'Page 277'!Q62)","v":-2.3430251808385996E-2},{"$f":"LN('Page 277'!R63/'Page 277'!R62)","v":1.1614532420693083E-2},{"$f":"LN('Page 277'!S63/'Page 277'!S62)","v":1.7842747653673507E-2},{"$f":"LN('Page 277'!T63/'Page 277'!T62)","v":3.7123012470772396E-3},{"$f":"LN('Page 277'!U63/'Page 277'!U62)","v":-1.2578782206860185E-2},{"$f":"LN('Page 277'!V63/'Page 277'!V62)","v":-8.6190077152163702E-2},{"$f":"LN('Page 277'!W63/'Page 277'!W62)","v":5.7808859720826763E-2},{"$f":"LN('Page 277'!X63/'Page 277'!X62)","v":1.4714161928068082E-2},{"$f":"LN('Page 277'!Y63/'Page 277'!Y62)","v":0},{"$f":"LN('Page 277'!Z63/'Page 277'!Z62)","v":8.9078001528727357E-3},{"$f":"LN('Page 277'!AA63/'Page 277'!AA62)","v":1.6057436895858469E-2},{"$f":"LN('Page 277'!AB63/'Page 277'!AB62)","v":6.5099687412276657E-3},{"$f":"LN('Page 277'!AC63/'Page 277'!AC62)","v":-5.058499563033835E-3},{"$f":"LN('Page 277'!AD63/'Page 277'!AD62)","v":-1.1248028605197994E-2},{"$f":"LN('Page 277'!AE63/'Page 277'!AE62)","v":-4.6095024153034472E-2},{"$f":"LN('Page 277'!AF63/'Page 277'!AF62)","v":2.3996642230499975E-2}]
[]
[]
[]
[{"$f":"\"The cells below compute the variance-covariance matrix for the DJ30 by using the formula \"&ggetformula(B74)","v":"The cells below compute the variance-covariance matrix for the DJ30 by using the formula {=varcovar(C9:AF68)}"}]
[null,"AA","AIG","AXP","BA","C","CAT","DD","DIS","GE","GM","HD","HON","HPQ","IBM","INTC","JNJ","JPM","KO","MCD","MMM","MP","MRK","MSFT","PFE","PG","T","UTX","VZ","WMT","XOM"]
["AA",{"$f":"varcovar(C9:AF68)","v":9.2808464652174381E-3},3.2001907948570971E-3,3.7596130703837971E-3,4.5037625188762385E-3,3.3438439747685215E-3,4.5885984950926875E-3,4.0255460998030665E-3,4.244473452084738E-3,2.4249188499061744E-3,4.6347143752223131E-3,4.6014042872105348E-3,6.1259513617449206E-3,6.0247664612308686E-3,3.8782138001149202E-3,6.8915246168307761E-3,-1.0739748425796245E-4,5.6789610889045189E-3,1.314328196560777E-3,4.3279507854302882E-3,2.3640472840532013E-3,1.8127417805893521E-3,1.8285813473719883E-3,3.1084652989045911E-3,1.8738401895958673E-3,2.5317726119982695E-4,3.258894677083778E-3,3.7770214391564037E-3,2.8495783273135003E-3,1.8057966578815593E-3,2.394464308203927E-3]
["AIG",3.2001907948570971E-3,4.3761642125552929E-3,2.0210125720545361E-3,9.8225637933405606E-4,2.2888648203971849E-3,2.2163184285343205E-3,2.208194349063562E-3,1.548353186690029E-3,1.4773829477686068E-3,1.8731427212284378E-3,2.0638046578129649E-3,2.6519877163896179E-3,2.3950437783805995E-3,2.5987781908452618E-3,2.6306790727454133E-3,4.3765467537157582E-4,3.0090311892126066E-3,4.8235843124357037E-4,2.1873822447320244E-3,1.5022985169190737E-3,8.338254282887325E-5,1.3364558178827529E-3,1.9237782613702394E-3,9.8200009089532297E-4,3.8883947232464997E-4,2.4052573013174823E-3,1.2177921911426673E-3,1.8433015874610987E-3,1.4318019903932144E-3,1.0217328537493661E-3]
["AXP",3.7596130703837971E-3,2.0210125720545361E-3,4.2024895634578327E-3,3.013411734671928E-3,3.0843961884932337E-3,2.9288193063412636E-3,2.0250294666073164E-3,3.7094440057752901E-3,1.9383054446013145E-3,3.3053455632796884E-3,3.2980690525287013E-3,4.2117984977597831E-3,4.9926522961801041E-3,3.3394323305191331E-3,5.7341143499002748E-3,6.7554540204255522E-4,3.9512918660118048E-3,6.878866941019354E-4,2.7521229615278565E-3,1.434787566882734E-3,1.6483903808681645E-3,1.025280798584378E-3,2.1337971115367948E-3,6.4426658524765839E-4,4.0824131478453605E-4,2.1438197565375673E-3,3.1258766307344951E-3,1.8883804038113434E-3,1.0655648953784699E-3,1.0335892003590797E-3]
["BA",4.5037625188762385E-3,9.8225637933405606E-4,3.013411734671928E-3,8.3159230075595374E-3,1.4336264213070315E-3,2.8888342795725711E-3,2.0977728290540979E-3,3.7365213289075323E-3,1.9757831626294538E-3,4.3405282625196768E-3,2.561219865368447E-3,5.3441618965717214E-3,4.2407956120412487E-3,6.7258586126191428E-4,3.827498166993128E-3,-6.2611825603120009E-4,2.8436533418691517E-3,1.0218500234005844E-3,2.1488555850762607E-3,1.1836638044494079E-3,1.0693909407841697E-3,7.0178646722240706E-5,1.4761078615402668E-3,3.7337573762304897E-4,3.8391271965629298E-4,8.9199992893994762E-4,4.9766664915752799E-3,6.9808447899703926E-4,3.292997690239158E-4,1.7096751978103815E-3]
["C",3.3438439747685215E-3,2.2888648203971849E-3,3.0843961884932337E-3,1.4336264213070315E-3,4.3811533912874664E-3,2.2242563777374086E-3,1.9342416330540616E-3,2.5688749700927796E-3,1.6510322425813061E-3,1.3333180758955149E-3,2.9358746784113893E-3,2.8950541783339121E-3,3.7934873695285205E-3,3.835053863495945E-3,4.7508134988409334E-3,9.5669525821235973E-4,4.4293070573359532E-3,8.3652819132387136E-4,2.3259707601277681E-3,1.3709790855095372E-3,9.7316662989629064E-4,1.507397837556624E-3,2.793408664379909E-3,1.1667856858844077E-3,3.4755273031535197E-4,2.2679436077679095E-3,2.2317128483968205E-3,2.3349160077206434E-3,1.5432262177971308E-3,8.5017838890388798E-4]
["CAT",4.5885984950926875E-3,2.2163184285343205E-3,2.9288193063412636E-3,2.8888342795725711E-3,2.2242563777374086E-3,5.8449215664459347E-3,2.2738036761842206E-3,3.3525918513920253E-3,1.8352980875899956E-3,4.2854344066708024E-3,2.879708952820349E-3,4.0383746245191187E-3,4.1401187804057816E-3,2.9660412855293072E-3,4.6585708592902612E-3,1.3572765030448337E-4,3.1708865588095545E-3,6.925780206497521E-4,2.937425357900281E-3,2.087302803198186E-3,4.1681217114538537E-4,6.7862637019276998E-4,2.5592773666633711E-3,1.2864509594152863E-3,3.7081543203876282E-4,2.385699285710868E-3,2.5515086662596421E-3,2.1522824803388691E-3,1.142364048058964E-3,2.1302852810287879E-3]
["DD",4.0255460998030665E-3,2.208194349063562E-3,2.0250294666073164E-3,2.0977728290540979E-3,1.9342416330540616E-3,2.2738036761842206E-3,3.5821319035427008E-3,2.3225424876384131E-3,1.7596257181173656E-3,1.8332229568538891E-3,2.1813751103480598E-3,3.0595202905594914E-3,2.9888147668189324E-3,2.5116902954559228E-3,3.9101625864694277E-3,7.1105918881959407E-4,2.492787450452521E-3,5.9986418732397065E-4,1.8656443565019634E-3,1.9207759502036677E-3,6.7669727513742942E-4,1.779404498706794E-3,1.6924060037338371E-3,7.3678129595569912E-4,9.8550370442908116E-5,1.6747925543217754E-3,2.1390997848189045E-3,1.8286195960645643E-3,1.3851132968810611E-3,1.2345647637224105E-3]
["DIS",4.244473452084738E-3,1.548353186690029E-3,3.7094440057752901E-3,3.7365213289075323E-3,2.5688749700927796E-3,3.3525918513920253E-3,2.3225424876384131E-3,6.6509296306873087E-3,1.8674421964256199E-3,3.48218432044436E-3,3.018038735487282E-3,4.5681438857838067E-3,5.8662786093794678E-3,2.7354791268229105E-3,6.5688381736818029E-3,7.5662610600304829E-4,2.9847609322330173E-3,9.4683455557320031E-4,2.6472616688933159E-3,1.8819789685254262E-3,8.3474643700215357E-4,7.0713481981427441E-4,1.5572926838259653E-3,1.641199489386249E-4,8.014393000523036E-5,1.2408659753917995E-3,3.7596110662114334E-3,1.4184973155019999E-3,8.6025637850727229E-4,4.0730359936545779E-4]
["GE",2.4249188499061744E-3,1.4773829477686068E-3,1.9383054446013145E-3,1.9757831626294538E-3,1.6510322425813061E-3,1.8352980875899956E-3,1.7596257181173656E-3,1.8674421964256199E-3,3.4332378810837008E-3,1.1052415318750703E-3,2.0025437805136197E-3,2.6512972612847698E-3,2.1180620391007834E-3,2.8227880991714177E-3,3.1480746122381892E-3,6.2680234061494497E-4,1.8913198875750389E-3,-1.7858787684043513E-4,1.7014632684697658E-3,8.5241462403863361E-4,6.1088274290254274E-4,1.1864693127498498E-3,1.7705182286161499E-3,2.3728128612365937E-4,-2.6476662064017913E-5,1.9297953592281663E-3,1.7737909342038466E-3,1.250887977181835E-3,8.663490533378209E-4,7.2955961805951813E-4]
["GM",4.6347143752223131E-3,1.8731427212284378E-3,3.3053455632796884E-3,4.3405282625196768E-3,1.3333180758955149E-3,4.2854344066708024E-3,1.8332229568538891E-3,3.48218432044436E-3,1.1052415318750703E-3,1.182777833834767E-2,3.0654910199078627E-3,4.3954037000963377E-3,4.1784506299949445E-3,1.6057308402724732E-3,4.4459037001366424E-3,-7.1419518691395929E-6,3.9278585306654215E-3,1.5625704300888288E-3,2.6560823169680791E-3,1.3840587303072757E-3,1.3574779152973301E-3,9.8357225406274311E-4,1.813411328004411E-3,8.4139178872508983E-4,3.2564675137672892E-4,1.2252277540296017E-3,2.97794875293661E-3,6.153310957326978E-4,1.2346335513352654E-3,1.9670787984909276E-3]
["HD",4.6014042872105348E-3,2.0638046578129649E-3,3.2980690525287013E-3,2.561219865368447E-3,2.9358746784113893E-3,2.879708952820349E-3,2.1813751103480598E-3,3.018038735487282E-3,2.0025437805136197E-3,3.0654910199078627E-3,7.112393469804682E-3,3.8782842770695427E-3,4.4408262731872039E-3,3.8290815850988156E-3,5.462000075853967E-3,4.3444451428915822E-4,4.3228067884596164E-3,1.2547099634194596E-3,3.5927061262898126E-3,1.8412987159414625E-3,2.349572419987385E-3,9.7990283921565798E-5,2.3629319051647469E-3,8.5343794989790932E-4,4.7268166464066474E-4,2.0345141050630605E-3,2.2638513153145925E-3,1.5777467280766702E-3,2.4112607784287001E-3,7.4195186544598021E-4]
["HON",6.1259513617449206E-3,2.6519877163896179E-3,4.2117984977597831E-3,5.3441618965717214E-3,2.8950541783339121E-3,4.0383746245191187E-3,3.0595202905594914E-3,4.5681438857838067E-3,2.6512972612847698E-3,4.3954037000963377E-3,3.8782842770695427E-3,7.8901173773502312E-3,6.4307348240237048E-3,3.8308548136862736E-3,6.3809960058128432E-3,2.5182380413259317E-4,4.3482866843725957E-3,1.2581963159194135E-3,3.7317400738220044E-3,2.4882072866076925E-3,2.4847854653735715E-3,1.3749374857812036E-3,2.4947796538694889E-3,1.2231884375044082E-3,4.648056519034127E-4,2.5483915126204323E-3,4.8628081930658998E-3,2.3689136045263177E-3,8.0670468231398547E-4,1.9983803852662539E-3]
["HPQ",6.0247664612308686E-3,2.3950437783805995E-3,4.9926522961801041E-3,4.2407956120412487E-3,3.7934873695285205E-3,4.1401187804057816E-3,2.9888147668189324E-3,5.8662786093794678E-3,2.1180620391007834E-3,4.1784506299949445E-3,4.4408262731872039E-3,6.4307348240237048E-3,1.1495262140715813E-2,4.8522697692296134E-3,9.5057351585171816E-3,1.2285887529074653E-4,4.5350623349063902E-3,4.8973358781450097E-4,3.7722941814145416E-3,2.1108453399986487E-3,2.3428779793749871E-3,2.163427467778996E-3,3.2790849933982064E-3,1.6385308801160007E-3,2.0225152353716387E-4,3.2794797323988088E-3,4.7734520966407736E-3,3.0050145946213715E-3,8.3365833162548622E-4,1.1513151190039601E-3]
["IBM",3.8782138001149202E-3,2.5987781908452618E-3,3.3394323305191331E-3,6.7258586126191428E-4,3.835053863495945E-3,2.9660412855293072E-3,2.5116902954559228E-3,2.7354791268229105E-3,2.8227880991714177E-3,1.6057308402724732E-3,3.8290815850988156E-3,3.8308548136862736E-3,4.8522697692296134E-3,7.0793979305751754E-3,5.9834640489777793E-3,1.1193452647558356E-3,4.1045664289121641E-3,2.3096391088277932E-4,2.6934393357026629E-3,1.9867446980798395E-3,1.4906906050710033E-3,1.5702024552028554E-3,3.6717965674370285E-3,1.0511262415356874E-3,8.9546317675373054E-5,2.9387779616956585E-3,2.1076331865558478E-3,2.9833708953046155E-3,1.8853035125853655E-3,1.4275867391290288E-3]
["INTC",6.8915246168307761E-3,2.6306790727454133E-3,5.7341143499002748E-3,3.827498166993128E-3,4.7508134988409334E-3,4.6585708592902612E-3,3.9101625864694277E-3,6.5688381736818029E-3,3.1480746122381892E-3,4.4459037001366424E-3,5.462000075853967E-3,6.3809960058128432E-3,9.5057351585171816E-3,5.9834640489777793E-3,1.6543182618795119E-2,1.144155666861203E-3,5.0670617428888523E-3,5.515856236169665E-4,4.0436283526265066E-3,3.0383339668284613E-3,2.43679926289654E-3,1.6804698168954354E-3,3.441858026775403E-3,9.2836726736743498E-4,2.0993343445887408E-4,1.6859610117231894E-3,5.114758019877385E-3,1.5259341284234841E-3,1.4222451012666374E-3,5.1871433037956429E-4]
["JNJ",-1.0739748425796245E-4,4.3765467537157582E-4,6.7554540204255522E-4,-6.2611825603120009E-4,9.5669525821235973E-4,1.3572765030448337E-4,7.1105918881959407E-4,7.5662610600304829E-4,6.2680234061494497E-4,-7.1419518691395929E-6,4.3444451428915822E-4,2.5182380413259317E-4,1.2285887529074653E-4,1.1193452647558356E-3,1.144155666861203E-3,1.6814752401357572E-3,9.4621709341725604E-5,3.6955012394597085E-4,-9.7835985878030554E-5,5.2313627575235628E-4,2.9112667505346273E-4,9.4790533530172744E-4,3.6782957455303023E-4,2.8189184562485171E-4,2.9512263298873297E-4,5.4075517258336966E-4,-2.0380620589236309E-5,7.9113710114998305E-4,4.1841346087026585E-4,1.9494771148867194E-4]
["JPM",5.6789610889045189E-3,3.0090311892126066E-3,3.9512918660118048E-3,2.8436533418691517E-3,4.4293070573359532E-3,3.1708865588095545E-3,2.492787450452521E-3,2.9847609322330173E-3,1.8913198875750389E-3,3.9278585306654215E-3,4.3228067884596164E-3,4.3482866843725957E-3,4.5350623349063902E-3,4.1045664289121641E-3,5.0670617428888523E-3,9.4621709341725604E-5,8.4130407178574264E-3,1.4757315722970018E-3,4.4897516222187715E-3,1.4049795992818219E-3,1.5414561659620009E-3,1.7356168057240504E-3,3.0309267143309132E-3,1.565098342937896E-3,3.039931303489884E-4,3.2059679326126235E-3,2.1363508154192577E-3,2.9326338410274387E-3,1.8376910038778382E-3,1.3502299586417613E-3]
["KO",1.314328196560777E-3,4.8235843124357037E-4,6.878866941019354E-4,1.0218500234005844E-3,8.3652819132387136E-4,6.925780206497521E-4,5.9986418732397065E-4,9.4683455557320031E-4,-1.7858787684043513E-4,1.5625704300888288E-3,1.2547099634194596E-3,1.2581963159194135E-3,4.8973358781450097E-4,2.3096391088277932E-4,5.515856236169665E-4,3.6955012394597085E-4,1.4757315722970018E-3,2.4876251053891538E-3,1.2004338122657094E-3,7.0505645608128918E-4,1.0872902106331107E-3,7.2349741252148868E-4,1.4829611299037131E-4,4.5054245488739691E-4,5.8070296362748791E-4,3.4492191204958786E-4,4.1811386852800853E-4,8.9074957307831484E-5,-8.0527276481908938E-5,5.7176917900737193E-4]
["MCD",4.3279507854302882E-3,2.1873822447320244E-3,2.7521229615278565E-3,2.1488555850762607E-3,2.3259707601277681E-3,2.937425357900281E-3,1.8656443565019634E-3,2.6472616688933159E-3,1.7014632684697658E-3,2.6560823169680791E-3,3.5927061262898126E-3,3.7317400738220044E-3,3.7722941814145416E-3,2.6934393357026629E-3,4.0436283526265066E-3,-9.7835985878030554E-5,4.4897516222187715E-3,1.2004338122657094E-3,5.6346407096867675E-3,1.0266040378183153E-3,2.3096734880913151E-3,7.1197404639919014E-4,1.9739874335890327E-3,1.1241285708544738E-3,5.1143241007619916E-4,2.5048499407275978E-3,1.6383784227678938E-3,1.9840563923352737E-3,1.1170509360041785E-3,1.3842718519988756E-3]
["MMM",2.3640472840532013E-3,1.5022985169190737E-3,1.434787566882734E-3,1.1836638044494079E-3,1.3709790855095372E-3,2.087302803198186E-3,1.9207759502036677E-3,1.8819789685254262E-3,8.5241462403863361E-4,1.3840587303072757E-3,1.8412987159414625E-3,2.4882072866076925E-3,2.1108453399986487E-3,1.9867446980798395E-3,3.0383339668284613E-3,5.2313627575235628E-4,1.4049795992818219E-3,7.0505645608128918E-4,1.0266040378183153E-3,3.2512383206366388E-3,6.9038224115613306E-4,4.8772993059222286E-4,7.4149223867506784E-4,3.3760658851693029E-4,2.594076456249004E-4,6.9545050090580416E-4,1.7054008981648406E-3,6.8236384822358822E-4,7.8991697349410802E-4,2.8429830283951865E-4]
["MP",1.8127417805893521E-3,8.338254282887325E-5,1.6483903808681645E-3,1.0693909407841697E-3,9.7316662989629064E-4,4.1681217114538537E-4,6.7669727513742942E-4,8.3474643700215357E-4,6.1088274290254274E-4,1.3574779152973301E-3,2.349572419987385E-3,2.4847854653735715E-3,2.3428779793749871E-3,1.4906906050710033E-3,2.43679926289654E-3,2.9112667505346273E-4,1.5414561659620009E-3,1.0872902106331107E-3,2.3096734880913151E-3,6.9038224115613306E-4,7.5909327494309824E-3,8.0860417738005291E-4,-3.6669453996837035E-4,6.8523336897591551E-4,1.6469529700552954E-4,2.1267768871344643E-3,9.3301551105205976E-4,1.0761289732326366E-3,-8.4841042819568547E-4,4.3638771824052591E-4]
["MRK",1.8285813473719883E-3,1.3364558178827529E-3,1.025280798584378E-3,7.0178646722240706E-5,1.507397837556624E-3,6.7862637019276998E-4,1.779404498706794E-3,7.0713481981427441E-4,1.1864693127498498E-3,9.8357225406274311E-4,9.7990283921565798E-5,1.3749374857812036E-3,2.163427467778996E-3,1.5702024552028554E-3,1.6804698168954354E-3,9.4790533530172744E-4,1.7356168057240504E-3,7.2349741252148868E-4,7.1197404639919014E-4,4.8772993059222286E-4,8.0860417738005291E-4,6.5397592196770327E-3,1.3969637118784639E-3,2.1632190042672208E-3,2.910523078576958E-4,2.8096097940524234E-3,4.9779331152081214E-4,2.6928928130172509E-3,6.091751595183819E-4,6.1412583323138697E-4]
["MSFT",3.1084652989045911E-3,1.9237782613702394E-3,2.1337971115367948E-3,1.4761078615402668E-3,2.793408664379909E-3,2.5592773666633711E-3,1.6924060037338371E-3,1.5572926838259653E-3,1.7705182286161499E-3,1.813411328004411E-3,2.3629319051647469E-3,2.4947796538694889E-3,3.2790849933982064E-3,3.6717965674370285E-3,3.441858026775403E-3,3.6782957455303023E-4,3.0309267143309132E-3,1.4829611299037131E-4,1.9739874335890327E-3,7.4149223867506784E-4,-3.6669453996837035E-4,1.3969637118784639E-3,4.8200413769855961E-3,1.1804549210171359E-3,3.5777166175173123E-5,1.9035705419903552E-3,1.9551029636546177E-3,2.4315877992432799E-3,1.4623022711737386E-3,1.2239841415497875E-3]
["PFE",1.8738401895958673E-3,9.8200009089532297E-4,6.4426658524765839E-4,3.7337573762304897E-4,1.1667856858844077E-3,1.2864509594152863E-3,7.3678129595569912E-4,1.641199489386249E-4,2.3728128612365937E-4,8.4139178872508983E-4,8.5343794989790932E-4,1.2231884375044082E-3,1.6385308801160007E-3,1.0511262415356874E-3,9.2836726736743498E-4,2.8189184562485171E-4,1.565098342937896E-3,4.5054245488739691E-4,1.1241285708544738E-3,3.3760658851693029E-4,6.8523336897591551E-4,2.1632190042672208E-3,1.1804549210171359E-3,3.0944677256733808E-3,5.1322871202819597E-4,1.4163095969797733E-3,4.8947196606023973E-4,1.697935132221692E-3,3.8155782394817681E-4,1.007110283467925E-3]
["PG",2.5317726119982695E-4,3.8883947232464997E-4,4.0824131478453605E-4,3.8391271965629298E-4,3.4755273031535197E-4,3.7081543203876282E-4,9.8550370442908116E-5,8.014393000523036E-5,-2.6476662064017913E-5,3.2564675137672892E-4,4.7268166464066474E-4,4.648056519034127E-4,2.0225152353716387E-4,8.9546317675373054E-5,2.0993343445887408E-4,2.9512263298873297E-4,3.039931303489884E-4,5.8070296362748791E-4,5.1143241007619916E-4,2.594076456249004E-4,1.6469529700552954E-4,2.910523078576958E-4,3.5777166175173123E-5,5.1322871202819597E-4,1.1524680562839322E-3,1.1428391749128742E-4,6.1016808518921366E-4,5.2834704962141549E-5,-2.6844072136813054E-4,2.4532439794377098E-4]
["T",3.258894677083778E-3,2.4052573013174823E-3,2.1438197565375673E-3,8.9199992893994762E-4,2.2679436077679095E-3,2.385699285710868E-3,1.6747925543217754E-3,1.2408659753917995E-3,1.9297953592281663E-3,1.2252277540296017E-3,2.0345141050630605E-3,2.5483915126204323E-3,3.2794797323988088E-3,2.9387779616956585E-3,1.6859610117231894E-3,5.4075517258336966E-4,3.2059679326126235E-3,3.4492191204958786E-4,2.5048499407275978E-3,6.9545050090580416E-4,2.1267768871344643E-3,2.8096097940524234E-3,1.9035705419903552E-3,1.4163095969797733E-3,1.1428391749128742E-4,6.9814894066679766E-3,6.2361649466943444E-4,5.1369870981849523E-3,1.0977474710057967E-3,1.6570584373832502E-3]
["UTX",3.7770214391564037E-3,1.2177921911426673E-3,3.1258766307344951E-3,4.9766664915752799E-3,2.2317128483968205E-3,2.5515086662596421E-3,2.1390997848189045E-3,3.7596110662114334E-3,1.7737909342038466E-3,2.97794875293661E-3,2.2638513153145925E-3,4.8628081930658998E-3,4.7734520966407736E-3,2.1076331865558478E-3,5.114758019877385E-3,-2.0380620589236309E-5,2.1363508154192577E-3,4.1811386852800853E-4,1.6383784227678938E-3,1.7054008981648406E-3,9.3301551105205976E-4,4.9779331152081214E-4,1.9551029636546177E-3,4.8947196606023973E-4,6.1016808518921366E-4,6.2361649466943444E-4,5.484148208622845E-3,8.2205401075059335E-4,1.9990263143928954E-4,9.5293906488903943E-4]
["VZ",2.8495783273135003E-3,1.8433015874610987E-3,1.8883804038113434E-3,6.9808447899703926E-4,2.3349160077206434E-3,2.1522824803388691E-3,1.8286195960645643E-3,1.4184973155019999E-3,1.250887977181835E-3,6.153310957326978E-4,1.5777467280766702E-3,2.3689136045263177E-3,3.0050145946213715E-3,2.9833708953046155E-3,1.5259341284234841E-3,7.9113710114998305E-4,2.9326338410274387E-3,8.9074957307831484E-5,1.9840563923352737E-3,6.8236384822358822E-4,1.0761289732326366E-3,2.6928928130172509E-3,2.4315877992432799E-3,1.697935132221692E-3,5.2834704962141549E-5,5.1369870981849523E-3,8.2205401075059335E-4,5.7206049318576048E-3,1.4019109475977823E-3,1.7670982816727961E-3]
["WMT",1.8057966578815593E-3,1.4318019903932144E-3,1.0655648953784699E-3,3.292997690239158E-4,1.5432262177971308E-3,1.142364048058964E-3,1.3851132968810611E-3,8.6025637850727229E-4,8.663490533378209E-4,1.2346335513352654E-3,2.4112607784287001E-3,8.0670468231398547E-4,8.3365833162548622E-4,1.8853035125853655E-3,1.4222451012666374E-3,4.1841346087026585E-4,1.8376910038778382E-3,-8.0527276481908938E-5,1.1170509360041785E-3,7.8991697349410802E-4,-8.4841042819568547E-4,6.091751595183819E-4,1.4623022711737386E-3,3.8155782394817681E-4,-2.6844072136813054E-4,1.0977474710057967E-3,1.9990263143928954E-4,1.4019109475977823E-3,2.9355995397049991E-3,4.027269871659235E-4]
["XOM",2.394464308203927E-3,1.0217328537493661E-3,1.0335892003590797E-3,1.7096751978103815E-3,8.5017838890388798E-4,2.1302852810287879E-3,1.2345647637224105E-3,4.0730359936545779E-4,7.2955961805951813E-4,1.9670787984909276E-3,7.4195186544598021E-4,1.9983803852662539E-3,1.1513151190039601E-3,1.4275867391290288E-3,5.1871433037956429E-4,1.9494771148867194E-4,1.3502299586417613E-3,5.7176917900737193E-4,1.3842718519988756E-3,2.8429830283951865E-4,4.3638771824052591E-4,6.1412583323138697E-4,1.2239841415497875E-3,1.007110283467925E-3,2.4532439794377098E-4,1.6570584373832502E-3,9.5293906488903943E-4,1.7670982816727961E-3,4.027269871659235E-4,2.8726361526099603E-3]
[]
["An efficient portfolio",null,null,"Data table:  computing the largest short and long position for a given constant c"]
["Constant",3.0000000000000001E-3,null,null,"Largest\nshort","Largest\nlong"]
[null,null,null,"Constant c",{"$f":"B140","v":-0.61185819181274548},{"$f":"B141","v":0.76258386330203376},{"$f":"\"<-- Data table hidden:  \"&ggetformula(F107)","v":"<-- Data table hidden:  =B141"}]
["AA",{"$f":"MMULT(MINVERSE(varcov),TRANSPOSE(C4:AF4)-B106)/SUM(MMULT(MINVERSE(varcov),TRANSPOSE(C4:AF4)-B106))","v":5.4533000036017708E-2},null,0,-0.3264274402189421,0.52331728517820009]
["AIG",-0.11770777757909948,null,5.0000000000000001E-4,-0.3550768308982224,0.53581525279628828]
["AXP",-5.7774149925197645E-2,null,1E-3,-0.38867848053350995,0.55047358650248734]
["BA",-0.13940218261842274,null,1.5E-3,-0.42863791909938898,0.56790543260434911]
["C",-0.36597846015453495,null,2E-3,-0.47694813571831579,0.59696876508433661]
["CAT",0.76258386330203376,null,2.5000000000000001E-3,-0.53653231103874732,0.6701140837773083]
["DD",-0.22553923050213284,null,3.0000000000000001E-3,-0.61185819181274548,0.76258386330203376]
["DIS",-0.17046385902067485,null,3.5000000000000001E-3,-0.71011351839884584,0.88320174779523286]
["GE",-8.7990021245646338E-2,null,4.0000000000000001E-3,-0.8436475693601766,1.0471276670750254]
["GM",-0.37734604935212118,null,4.4999999999999997E-3,-1.0356180728743383,1.282789964718317]
["HD",-0.37209624226323218,null,5.0000000000000001E-3,-1.3351281108170672,1.6504674069124821]
["HON",-0.17396667430531004,null,5.4999999999999997E-3,-1.8676989189076074,2.3042494098497333]
["HPQ",0.39790129139010461,null,6.0000000000000001E-3,-3.0786039611373388,3.7907520717477579]
["IBM",-0.26380245101358474,null,6.4999999999999997E-3,-8.5365755412398592,10.490938295637408]
["INTC",-0.18624146665615943,null,7.0000000000000001E-3,-13.989301283962988,11.405027189615868]
["JNJ",0.65075625478313204,null,7.4999999999999997E-3,-4.2259057648286049,3.4517653714987735]
["JPM",0.53610175541269889,null,8.0000000000000002E-3,-2.4989915294300902,2.0450210657251611]
["KO",-0.12953197639645367]
["MCD",-0.12181615422602306]
["MMM",-2.0663033453262741E-2]
["MP",0.42145999648915206]
["MRK",8.2935974489204325E-2]
["MSFT",3.6121172922358384E-2]
["PFE",-0.61185819181274548]
["PG",0.54673295106900899]
["T",-8.3769531407362999E-2]
["UTX",0.44052369366611177]
["VZ",-0.36550999938582612]
["WMT",0.6478331721148739]
["XOM",0.293974325643094]
["Sum",{"$f":"SUM(B108:B137)","v":1}]
[]
["Largest short",{"$f":"MIN(B108:B137)","v":-0.61185819181274548},{"$f":"getformula(B140)","v":"<--  =MIN(B108:B137)"}]
["Largest long",{"$f":"MAX(B108:B137)","v":0.76258386330203376},{"$f":"getformula(B141)","v":"<--  =MAX(B108:B137)"}]

{"sheet":"Page 287","index":9,"n_rows":85,"n_cols":33,"rows_kept":85,"cut":false,"hidden":false,"merged":[[0,0,0,14]]}
["EXCESS RETURN DATA FOR THE DOW-JONES INDUSTRIAL STOCKS AND THE STANDARD AND POORS 500\nMonthly returns minus monthly Treasury bill return\nJuly 2001 - July 2006"]
["Date","Treasury bill return\nrisk-free rate","S&P 500 Index\n^GSPC","Alcoa \nAA","American International Group \nAIG","American Express AXP","Boeing BA","Citigroup C","Caterpillar CAT","DuPont DD","Disney DIS","General Electric GE","General Motors GM","Home Depot HD","Honeywell HON","Hewlitt Packard HPQ","IBM","Intel \nINTC","Johnson & Johnson JNJ","JP Morgan JPM","Coca Cola \nKO","McDonalds \nMCD","3M \nMMM","Altria\nMO","Merck \nMRK","Microsoft \nMSFT","Pfizer \nPFE","Proctor Gamble \nPG","AT&T \nT","United Technologies UTX","Verizon \nVZ","Walmart \nWMT","Exxon Mobil \nXOM"]
[]
["Average return",null,{"$f":"AVERAGE(C9:C68)","v":-2.1947479228413718E-3},{"$f":"AVERAGE(D9:D68)","v":-3.8054523299949788E-3},-8.2810524791288882E-3,4.2828563356630883E-3,3.7351094741208857E-3,8.5192138065507493E-5,1.5019538670859988E-2,-1.0792180033520882E-3,5.651558131524106E-6,-5.2695913734344306E-3,-1.1636586655356239E-2,-8.1039842829916039E-3,-3.1124721782099911E-5,3.1396047398152692E-3,-7.576234583685869E-3,-1.0189806590125349E-2,4.4917003760542977E-4,-1.0774798375871295E-3,-1.7538763129651884E-3,5.2870246017766619E-4,3.4492097805926703E-3,1.0100248898244334E-2,-9.2334472440219733E-3,-6.4454556814594506E-3,-1.0358613263809303E-2,6.4773212973838114E-3,-7.0594123560427501E-3,7.4006234684003526E-3,-7.836482594183054E-3,-5.4454525972353045E-3,5.8534223052485734E-3]
["Beta",null,{"$f":"SLOPE(C9:C68,$C$9:$C$68)","v":1},{"$f":"SLOPE(D9:D68,$C$9:$C$68)","v":1.9027983836619955},0.99357597429546685,1.3784130266948686,1.1514634616640862,1.2951646980207128,1.3903214616252038,1.0009466005598446,1.2805379702174073,0.84198822730205136,1.4059650700066384,1.5527908702425728,1.6639716851986355,1.9594245248915774,1.5764137929690807,2.2648399177150531,0.24707693477970646,1.7916694423015864,0.35903260375546042,1.2645943445894277,0.65043868573479946,0.66329440207335677,0.6099272422683002,1.121940141629941,0.55717127351603957,0.16872571999704269,1.1275018151228948,1.0659180109233315,1.0231125023839318,0.60001144381683769,0.64552508652338159]
["Alpha",null,{"$f":"INTERCEPT(C9:C68,$C$9:$C$68)","v":0},3.7071047013310541E-4,-6.10040367335882E-3,7.3081254628191393E-3,6.2622815148358751E-3,2.9277521687839391E-3,1.8070943810843683E-2,1.1176074691017629E-3,2.8161096083856854E-3,-3.4216394605063646E-3,-8.5508477383716454E-3,-4.6959997459196708E-3,3.6208736779744623E-3,7.4400476457854997E-3,-4.1164036860284903E-3,-5.2190538851520129E-3,9.9144162699520361E-4,2.8547829493226367E-3,-9.6589025164056229E-4,3.3041682712022587E-3,4.8767587350447934E-3,1.1556012909427144E-2,-7.8948106959692548E-3,-3.9830798860647828E-3,-9.1357627685930941E-3,6.8476317208772362E-3,-4.5848300893019008E-3,9.7400448087935406E-3,-5.5910085547428816E-3,-4.1285787272372478E-3,7.2701871480377617E-3]
["R-squared",null,{"$f":"RSQ(C9:C68,$C$9:$C$68)","v":0.99999999999999978},0.60847765066893611,0.35184811122035303,0.70517801760363696,0.24867752412854979,0.59718406379967015,0.51582030933360234,0.43624143766022505,0.38454683391705408,0.32207336771025186,0.2606709034061907,0.52875785850421364,0.54733733270476004,0.52093660013759524,0.54750841607413714,0.48361819242009424,5.6626615446838918E-2,0.59512672624119656,8.0821985992514361E-2,0.44267287742790778,0.20296006525126681,9.0399117733825224E-2,8.8723971944721647E-2,0.40731957218483705,0.15647254573731365,3.8528345098536206E-2,0.28400964418052632,0.32313581038494293,0.2853983769920721,0.19127972027703805,0.22625193335445209]
[]
["2001-08-01",2.9250000000000001E-3,{"$f":"LN('Page 277'!B4/'Page 277'!B3)-$B$9","v":-6.9180605887467037E-2},{"$f":"LN('Page 277'!C4/'Page 277'!C3)-$B$9","v":-2.7829679180075118E-2},{"$f":"LN('Page 277'!D4/'Page 277'!D3)-$B$9","v":-6.4941699505353001E-2},{"$f":"LN('Page 277'!E4/'Page 277'!E3)-$B$9","v":-0.10489830160654307},{"$f":"LN('Page 277'!F4/'Page 277'!F3)-$B$9","v":-0.13379667511426127},{"$f":"LN('Page 277'!G4/'Page 277'!G3)-$B$9","v":-9.1690860810958966E-2},{"$f":"LN('Page 277'!H4/'Page 277'!H3)-$B$9","v":-9.9651467345061542E-2},{"$f":"LN('Page 277'!I4/'Page 277'!I3)-$B$9","v":-3.8833486258404652E-2},{"$f":"LN('Page 277'!J4/'Page 277'!J3)-$B$9","v":-3.8730289369379563E-2},{"$f":"LN('Page 277'!K4/'Page 277'!K3)-$B$9","v":-6.4528446652326502E-2},{"$f":"LN('Page 277'!L4/'Page 277'!L3)-$B$9","v":-0.14488162568150004},{"$f":"LN('Page 277'!M4/'Page 277'!M3)-$B$9","v":-9.3975718822688556E-2},{"$f":"LN('Page 277'!N4/'Page 277'!N3)-$B$9","v":1.2828127949124486E-2},{"$f":"LN('Page 277'!O4/'Page 277'!O3)-$B$9","v":-6.3878190901040091E-2},{"$f":"LN('Page 277'!P4/'Page 277'!P3)-$B$9","v":-5.2854201063659775E-2},{"$f":"LN('Page 277'!Q4/'Page 277'!Q3)-$B$9","v":-6.658121594206784E-2},{"$f":"LN('Page 277'!R4/'Page 277'!R3)-$B$9","v":-2.5599855650745698E-2},{"$f":"LN('Page 277'!S4/'Page 277'!S3)-$B$9","v":-9.7339901023194578E-2},{"$f":"LN('Page 277'!T4/'Page 277'!T3)-$B$9","v":8.4562454123115804E-2},{"$f":"LN('Page 277'!U4/'Page 277'!U3)-$B$9","v":2.7026106602773683E-2},{"$f":"LN('Page 277'!V4/'Page 277'!V3)-$B$9","v":-6.9377649968593177E-2},{"$f":"LN('Page 277'!W4/'Page 277'!W3)-$B$9","v":3.8065472323703144E-2},{"$f":"LN('Page 277'!X4/'Page 277'!X3)-$B$9","v":-4.1064415787459785E-2},{"$f":"LN('Page 277'!Y4/'Page 277'!Y3)-$B$9","v":-0.1513589037555122},{"$f":"LN('Page 277'!Z4/'Page 277'!Z3)-$B$9","v":-7.3483225315588638E-2},{"$f":"LN('Page 277'!AA4/'Page 277'!AA3)-$B$9","v":4.0010503108324089E-2},{"$f":"LN('Page 277'!AB4/'Page 277'!AB3)-$B$9","v":-9.8797926020639054E-2},{"$f":"LN('Page 277'!AC4/'Page 277'!AC3)-$B$9","v":-7.0215636104445936E-2},{"$f":"LN('Page 277'!AD4/'Page 277'!AD3)-$B$9","v":-8.2759016639853397E-2},{"$f":"LN('Page 277'!AE4/'Page 277'!AE3)-$B$9","v":-0.15436957077138078},{"$f":"LN('Page 277'!AF4/'Page 277'!AF3)-$B$9","v":-3.6631437881910776E-2}]
["2001-09-04",2.8E-3,{"$f":"LN('Page 277'!B5/'Page 277'!B4)-$B$9","v":-8.8181615246989919E-2},{"$f":"LN('Page 277'!C5/'Page 277'!C4)-$B$9","v":-0.20953924936299931},{"$f":"LN('Page 277'!D5/'Page 277'!D4)-$B$9","v":-5.4140299088461519E-3},{"$f":"LN('Page 277'!E5/'Page 277'!E4)-$B$9","v":-0.22886299712051297},{"$f":"LN('Page 277'!F5/'Page 277'!F4)-$B$9","v":-0.42715842136280746},{"$f":"LN('Page 277'!G5/'Page 277'!G4)-$B$9","v":-0.12595651411594927},{"$f":"LN('Page 277'!H5/'Page 277'!H4)-$B$9","v":-0.11299841040370261},{"$f":"LN('Page 277'!I5/'Page 277'!I4)-$B$9","v":-9.0637721261510651E-2},{"$f":"LN('Page 277'!J5/'Page 277'!J4)-$B$9","v":-0.31436115845988805},{"$f":"LN('Page 277'!K5/'Page 277'!K4)-$B$9","v":-9.3170336351864239E-2},{"$f":"LN('Page 277'!L5/'Page 277'!L4)-$B$9","v":-0.24661902424121562},{"$f":"LN('Page 277'!M5/'Page 277'!M4)-$B$9","v":-0.18325127225751422},{"$f":"LN('Page 277'!N5/'Page 277'!N4)-$B$9","v":-0.34760637308234565},{"$f":"LN('Page 277'!O5/'Page 277'!O4)-$B$9","v":-0.36734467486504918},{"$f":"LN('Page 277'!P5/'Page 277'!P4)-$B$9","v":-8.8934136046455128E-2},{"$f":"LN('Page 277'!Q5/'Page 277'!Q4)-$B$9","v":-0.31605501417247328},{"$f":"LN('Page 277'!R5/'Page 277'!R4)-$B$9","v":4.6848545112087643E-2},{"$f":"LN('Page 277'!S5/'Page 277'!S4)-$B$9","v":-0.14584769372705025},{"$f":"LN('Page 277'!T5/'Page 277'!T4)-$B$9","v":-4.1208296985651295E-2},{"$f":"LN('Page 277'!U5/'Page 277'!U4)-$B$9","v":-0.10433507058491871},{"$f":"LN('Page 277'!V5/'Page 277'!V4)-$B$9","v":-5.9238105251997943E-2},{"$f":"LN('Page 277'!W5/'Page 277'!W4)-$B$9","v":1.5502547748008123E-2},{"$f":"LN('Page 277'!X5/'Page 277'!X4)-$B$9","v":1.9907042042645689E-2},{"$f":"LN('Page 277'!Y5/'Page 277'!Y4)-$B$9","v":-0.11182978909146039},{"$f":"LN('Page 277'!Z5/'Page 277'!Z4)-$B$9","v":4.2724314665648931E-2},{"$f":"LN('Page 277'!AA5/'Page 277'!AA4)-$B$9","v":-2.1274138668196541E-2},{"$f":"LN('Page 277'!AB5/'Page 277'!AB4)-$B$9","v":0.13831653105049019},{"$f":"LN('Page 277'!AC5/'Page 277'!AC4)-$B$9","v":-0.38905076550871209},{"$f":"LN('Page 277'!AD5/'Page 277'!AD4)-$B$9","v":7.6225723138720808E-2},{"$f":"LN('Page 277'!AE5/'Page 277'!AE4)-$B$9","v":2.8327543504104529E-2},{"$f":"LN('Page 277'!AF5/'Page 277'!AF4)-$B$9","v":-2.1774904023634231E-2}]
["2001-10-01",2.2000000000000001E-3,{"$f":"LN('Page 277'!B6/'Page 277'!B5)-$B$9","v":1.5012188329115411E-2},{"$f":"LN('Page 277'!C6/'Page 277'!C5)-$B$9","v":4.1681698040520784E-2},{"$f":"LN('Page 277'!D6/'Page 277'!D5)-$B$9","v":4.6537635718121272E-3},{"$f":"LN('Page 277'!E6/'Page 277'!E5)-$B$9","v":1.2591848690684155E-2},{"$f":"LN('Page 277'!F6/'Page 277'!F5)-$B$9","v":-2.9918080607837173E-2},{"$f":"LN('Page 277'!G6/'Page 277'!G5)-$B$9","v":0.11395264854157089},{"$f":"LN('Page 277'!H6/'Page 277'!H5)-$B$9","v":3.0244473950934215E-3},{"$f":"LN('Page 277'!I6/'Page 277'!I5)-$B$9","v":6.0794663982381272E-2},{"$f":"LN('Page 277'!J6/'Page 277'!J5)-$B$9","v":-4.6232738301917077E-3},{"$f":"LN('Page 277'!K6/'Page 277'!K5)-$B$9","v":-2.4411400560926558E-2},{"$f":"LN('Page 277'!L6/'Page 277'!L5)-$B$9","v":-4.059707558545509E-2},{"$f":"LN('Page 277'!M6/'Page 277'!M5)-$B$9","v":-6.4648267051240623E-3},{"$f":"LN('Page 277'!N6/'Page 277'!N5)-$B$9","v":0.10970643034112883},{"$f":"LN('Page 277'!O6/'Page 277'!O5)-$B$9","v":4.4843322210547515E-2},{"$f":"LN('Page 277'!P6/'Page 277'!P5)-$B$9","v":0.16112371817539009},{"$f":"LN('Page 277'!Q6/'Page 277'!Q5)-$B$9","v":0.17481523037939195},{"$f":"LN('Page 277'!R6/'Page 277'!R5)-$B$9","v":4.1295968681573467E-2},{"$f":"LN('Page 277'!S6/'Page 277'!S5)-$B$9","v":3.1866825493663951E-2},{"$f":"LN('Page 277'!T6/'Page 277'!T5)-$B$9","v":1.8832788941804957E-2},{"$f":"LN('Page 277'!U6/'Page 277'!U5)-$B$9","v":-4.314980131050887E-2},{"$f":"LN('Page 277'!V6/'Page 277'!V5)-$B$9","v":5.6132749643601154E-2},{"$f":"LN('Page 277'!W6/'Page 277'!W5)-$B$9","v":-3.4101940570674498E-2},{"$f":"LN('Page 277'!X6/'Page 277'!X5)-$B$9","v":-4.5779092948531316E-2},{"$f":"LN('Page 277'!Y6/'Page 277'!Y5)-$B$9","v":0.12514205206962445},{"$f":"LN('Page 277'!Z6/'Page 277'!Z5)-$B$9","v":4.0996399259542196E-2},{"$f":"LN('Page 277'!AA6/'Page 277'!AA5)-$B$9","v":1.6020086242449421E-2},{"$f":"LN('Page 277'!AB6/'Page 277'!AB5)-$B$9","v":-0.20940705291889097},{"$f":"LN('Page 277'!AC6/'Page 277'!AC5)-$B$9","v":0.14458378505953928},{"$f":"LN('Page 277'!AD6/'Page 277'!AD5)-$B$9","v":-7.8874932519783433E-2},{"$f":"LN('Page 277'!AE6/'Page 277'!AE5)-$B$9","v":3.4916794169327359E-2},{"$f":"LN('Page 277'!AF6/'Page 277'!AF5)-$B$9","v":-1.7896039086834697E-3}]
["2001-11-01",1.8000000000000002E-3,{"$f":"LN('Page 277'!B7/'Page 277'!B6)-$B$9","v":6.9559350433373149E-2},{"$f":"LN('Page 277'!C7/'Page 277'!C6)-$B$9","v":0.17603941688028815},{"$f":"LN('Page 277'!D7/'Page 277'!D6)-$B$9","v":4.4363932505549444E-2},{"$f":"LN('Page 277'!E7/'Page 277'!E6)-$B$9","v":0.10889757368591726},{"$f":"LN('Page 277'!F7/'Page 277'!F6)-$B$9","v":7.5962038990654693E-2},{"$f":"LN('Page 277'!G7/'Page 277'!G6)-$B$9","v":5.139644778747085E-2},{"$f":"LN('Page 277'!H7/'Page 277'!H6)-$B$9","v":5.5632994194371767E-2},{"$f":"LN('Page 277'!I7/'Page 277'!I6)-$B$9","v":0.10853158377136383},{"$f":"LN('Page 277'!J7/'Page 277'!J6)-$B$9","v":9.3157480010043037E-2},{"$f":"LN('Page 277'!K7/'Page 277'!K6)-$B$9","v":5.2888006133768525E-2},{"$f":"LN('Page 277'!L7/'Page 277'!L6)-$B$9","v":0.19357686606800414},{"$f":"LN('Page 277'!M7/'Page 277'!M6)-$B$9","v":0.19715036875904984},{"$f":"LN('Page 277'!N7/'Page 277'!N6)-$B$9","v":0.11797002773851652},{"$f":"LN('Page 277'!O7/'Page 277'!O6)-$B$9","v":0.26458696550264849},{"$f":"LN('Page 277'!P7/'Page 277'!P6)-$B$9","v":6.5605782064427423E-2},{"$f":"LN('Page 277'!Q7/'Page 277'!Q6)-$B$9","v":0.28889391208250709},{"$f":"LN('Page 277'!R7/'Page 277'!R6)-$B$9","v":6.0621415604602703E-3},{"$f":"LN('Page 277'!S7/'Page 277'!S6)-$B$9","v":6.1714322508555269E-2},{"$f":"LN('Page 277'!T7/'Page 277'!T6)-$B$9","v":-1.8552140171750719E-2},{"$f":"LN('Page 277'!U7/'Page 277'!U6)-$B$9","v":3.6104343905735081E-2},{"$f":"LN('Page 277'!V7/'Page 277'!V6)-$B$9","v":9.5389880494626003E-2},{"$f":"LN('Page 277'!W7/'Page 277'!W6)-$B$9","v":4.9608328439283769E-3},{"$f":"LN('Page 277'!X7/'Page 277'!X6)-$B$9","v":5.6902362497400237E-2},{"$f":"LN('Page 277'!Y7/'Page 277'!Y6)-$B$9","v":9.6009217212298006E-2},{"$f":"LN('Page 277'!Z7/'Page 277'!Z6)-$B$9","v":3.2769814613013974E-2},{"$f":"LN('Page 277'!AA7/'Page 277'!AA6)-$B$9","v":4.5623990076035258E-2},{"$f":"LN('Page 277'!AB7/'Page 277'!AB6)-$B$9","v":-2.2278290061030263E-2},{"$f":"LN('Page 277'!AC7/'Page 277'!AC6)-$B$9","v":0.11178788707917753},{"$f":"LN('Page 277'!AD7/'Page 277'!AD6)-$B$9","v":-6.0864562167652868E-2},{"$f":"LN('Page 277'!AE7/'Page 277'!AE6)-$B$9","v":6.7392751022094521E-2},{"$f":"LN('Page 277'!AF7/'Page 277'!AF6)-$B$9","v":-5.0269401277808226E-2}]
["2001-12-03",1.5583333333333334E-3,{"$f":"LN('Page 277'!B8/'Page 277'!B7)-$B$9","v":4.6202920338960334E-3},{"$f":"LN('Page 277'!C8/'Page 277'!C7)-$B$9","v":-8.5154955942229174E-2},{"$f":"LN('Page 277'!D8/'Page 277'!D7)-$B$9","v":-3.9596197122498622E-2},{"$f":"LN('Page 277'!E8/'Page 277'!E7)-$B$9","v":7.8120549141503126E-2},{"$f":"LN('Page 277'!F8/'Page 277'!F7)-$B$9","v":9.677661099763589E-2},{"$f":"LN('Page 277'!G8/'Page 277'!G7)-$B$9","v":4.9562294046720419E-2},{"$f":"LN('Page 277'!H8/'Page 277'!H7)-$B$9","v":9.3867445824790521E-2},{"$f":"LN('Page 277'!I8/'Page 277'!I7)-$B$9","v":-4.5154684668085553E-2},{"$f":"LN('Page 277'!J8/'Page 277'!J7)-$B$9","v":1.9970937839079175E-2},{"$f":"LN('Page 277'!K8/'Page 277'!K7)-$B$9","v":4.1552277656629916E-2},{"$f":"LN('Page 277'!L8/'Page 277'!L7)-$B$9","v":-2.5380651402987762E-2},{"$f":"LN('Page 277'!M8/'Page 277'!M7)-$B$9","v":8.6521254543617199E-2},{"$f":"LN('Page 277'!N8/'Page 277'!N7)-$B$9","v":1.7358322139941668E-2},{"$f":"LN('Page 277'!O8/'Page 277'!O7)-$B$9","v":-6.7561325431257521E-2},{"$f":"LN('Page 277'!P8/'Page 277'!P7)-$B$9","v":4.2491438707813467E-2},{"$f":"LN('Page 277'!Q8/'Page 277'!Q7)-$B$9","v":-4.0787474338762307E-2},{"$f":"LN('Page 277'!R8/'Page 277'!R7)-$B$9","v":1.1509003369401132E-2},{"$f":"LN('Page 277'!S8/'Page 277'!S7)-$B$9","v":-3.9886398564456332E-2},{"$f":"LN('Page 277'!T8/'Page 277'!T7)-$B$9","v":1.297384879848261E-3},{"$f":"LN('Page 277'!U8/'Page 277'!U7)-$B$9","v":-1.6978634231395062E-2},{"$f":"LN('Page 277'!V8/'Page 277'!V7)-$B$9","v":2.8304023846079225E-2},{"$f":"LN('Page 277'!W8/'Page 277'!W7)-$B$9","v":-1.8759346666626219E-2},{"$f":"LN('Page 277'!X8/'Page 277'!X7)-$B$9","v":-0.1392344294143846},{"$f":"LN('Page 277'!Y8/'Page 277'!Y7)-$B$9","v":2.8454271202265246E-2},{"$f":"LN('Page 277'!Z8/'Page 277'!Z7)-$B$9","v":-8.6150824899923428E-2},{"$f":"LN('Page 277'!AA8/'Page 277'!AA7)-$B$9","v":1.8412137388131106E-2},{"$f":"LN('Page 277'!AB8/'Page 277'!AB7)-$B$9","v":4.380940088600889E-2},{"$f":"LN('Page 277'!AC8/'Page 277'!AC7)-$B$9","v":6.7943710524937181E-2},{"$f":"LN('Page 277'!AD8/'Page 277'!AD7)-$B$9","v":6.6667780098590632E-3},{"$f":"LN('Page 277'!AE8/'Page 277'!AE7)-$B$9","v":4.0926258293732531E-2},{"$f":"LN('Page 277'!AF8/'Page 277'!AF7)-$B$9","v":4.6403247755289846E-2}]
["2002-01-02",1.4083333333333333E-3,{"$f":"LN('Page 277'!B9/'Page 277'!B8)-$B$9","v":-1.8621373666933345E-2},{"$f":"LN('Page 277'!C9/'Page 277'!C8)-$B$9","v":5.3942591965755789E-3},{"$f":"LN('Page 277'!D9/'Page 277'!D8)-$B$9","v":-7.128327491730807E-2},{"$f":"LN('Page 277'!E9/'Page 277'!E8)-$B$9","v":3.7350312776022261E-3},{"$f":"LN('Page 277'!F9/'Page 277'!F8)-$B$9","v":5.1391907328075456E-2},{"$f":"LN('Page 277'!G9/'Page 277'!G8)-$B$9","v":-6.2555181559100656E-2},{"$f":"LN('Page 277'!H9/'Page 277'!H8)-$B$9","v":-3.3868594733412222E-2},{"$f":"LN('Page 277'!I9/'Page 277'!I8)-$B$9","v":3.537128507728033E-2},{"$f":"LN('Page 277'!J9/'Page 277'!J8)-$B$9","v":1.353833018710169E-2},{"$f":"LN('Page 277'!K9/'Page 277'!K8)-$B$9","v":-7.869674021504644E-2},{"$f":"LN('Page 277'!L9/'Page 277'!L8)-$B$9","v":4.7890761031806055E-2},{"$f":"LN('Page 277'!M9/'Page 277'!M8)-$B$9","v":-2.1058610424654605E-2},{"$f":"LN('Page 277'!N9/'Page 277'!N8)-$B$9","v":-9.1987534488792797E-3},{"$f":"LN('Page 277'!O9/'Page 277'!O8)-$B$9","v":7.0959383555808858E-2},{"$f":"LN('Page 277'!P9/'Page 277'!P8)-$B$9","v":-0.11725728046124953},{"$f":"LN('Page 277'!Q9/'Page 277'!Q8)-$B$9","v":0.10513635060548314},{"$f":"LN('Page 277'!R9/'Page 277'!R8)-$B$9","v":-3.0114756889673387E-2},{"$f":"LN('Page 277'!S9/'Page 277'!S8)-$B$9","v":-6.8405288590633911E-2},{"$f":"LN('Page 277'!T9/'Page 277'!T8)-$B$9","v":-7.7753485190152169E-2},{"$f":"LN('Page 277'!U9/'Page 277'!U8)-$B$9","v":2.3413314183262136E-2},{"$f":"LN('Page 277'!V9/'Page 277'!V8)-$B$9","v":-6.5797933633058053E-2},{"$f":"LN('Page 277'!W9/'Page 277'!W8)-$B$9","v":8.5758982175134987E-2},{"$f":"LN('Page 277'!X9/'Page 277'!X8)-$B$9","v":3.4134957619382038E-3},{"$f":"LN('Page 277'!Y9/'Page 277'!Y8)-$B$9","v":-4.2215135903144262E-2},{"$f":"LN('Page 277'!Z9/'Page 277'!Z8)-$B$9","v":4.1683973409030989E-2},{"$f":"LN('Page 277'!AA9/'Page 277'!AA8)-$B$9","v":3.3621199657466599E-2},{"$f":"LN('Page 277'!AB9/'Page 277'!AB8)-$B$9","v":-4.1271497320580906E-2},{"$f":"LN('Page 277'!AC9/'Page 277'!AC8)-$B$9","v":5.8578365074926309E-2},{"$f":"LN('Page 277'!AD9/'Page 277'!AD8)-$B$9","v":-1.8788029292099467E-2},{"$f":"LN('Page 277'!AE9/'Page 277'!AE8)-$B$9","v":3.8389270146626797E-2},{"$f":"LN('Page 277'!AF9/'Page 277'!AF8)-$B$9","v":-9.1732452639390824E-3}]
["2002-02-01",1.3750000000000001E-3,{"$f":"LN('Page 277'!B10/'Page 277'!B9)-$B$9","v":-2.3909886675167722E-2},{"$f":"LN('Page 277'!C10/'Page 277'!C9)-$B$9","v":4.8506364020888038E-2},{"$f":"LN('Page 277'!D10/'Page 277'!D9)-$B$9","v":-4.7194652479050879E-3},{"$f":"LN('Page 277'!E10/'Page 277'!E9)-$B$9","v":1.3859991730180782E-2},{"$f":"LN('Page 277'!F10/'Page 277'!F9)-$B$9","v":0.11676534121265121},{"$f":"LN('Page 277'!G10/'Page 277'!G9)-$B$9","v":-4.9298731257803562E-2},{"$f":"LN('Page 277'!H10/'Page 277'!H9)-$B$9","v":9.5910564216469554E-2},{"$f":"LN('Page 277'!I10/'Page 277'!I9)-$B$9","v":6.3647709312355666E-2},{"$f":"LN('Page 277'!J10/'Page 277'!J9)-$B$9","v":8.511668885311538E-2},{"$f":"LN('Page 277'!K10/'Page 277'!K9)-$B$9","v":3.7424585041476569E-2},{"$f":"LN('Page 277'!L10/'Page 277'!L9)-$B$9","v":4.2624580368746487E-2},{"$f":"LN('Page 277'!M10/'Page 277'!M9)-$B$9","v":-4.7982443816804478E-3},{"$f":"LN('Page 277'!N10/'Page 277'!N9)-$B$9","v":0.12849253363168497},{"$f":"LN('Page 277'!O10/'Page 277'!O9)-$B$9","v":-9.7363466833245066E-2},{"$f":"LN('Page 277'!P10/'Page 277'!P9)-$B$9","v":-9.6522801200443126E-2},{"$f":"LN('Page 277'!Q10/'Page 277'!Q9)-$B$9","v":-0.20715441807914534},{"$f":"LN('Page 277'!R10/'Page 277'!R9)-$B$9","v":5.7333087505275555E-2},{"$f":"LN('Page 277'!S10/'Page 277'!S9)-$B$9","v":-0.15495620778614189},{"$f":"LN('Page 277'!T10/'Page 277'!T9)-$B$9","v":7.6807172774681867E-2},{"$f":"LN('Page 277'!U10/'Page 277'!U9)-$B$9","v":-4.3517271663461699E-2},{"$f":"LN('Page 277'!V10/'Page 277'!V9)-$B$9","v":6.3091718006881944E-2},{"$f":"LN('Page 277'!W10/'Page 277'!W9)-$B$9","v":4.669224946030108E-2},{"$f":"LN('Page 277'!X10/'Page 277'!X9)-$B$9","v":3.2863285136419645E-2},{"$f":"LN('Page 277'!Y10/'Page 277'!Y9)-$B$9","v":-9.0790039582102272E-2},{"$f":"LN('Page 277'!Z10/'Page 277'!Z9)-$B$9","v":-1.6855040413445772E-2},{"$f":"LN('Page 277'!AA10/'Page 277'!AA9)-$B$9","v":3.4398648908988687E-2},{"$f":"LN('Page 277'!AB10/'Page 277'!AB9)-$B$9","v":7.3792294467246652E-3},{"$f":"LN('Page 277'!AC10/'Page 277'!AC9)-$B$9","v":6.0304888861985637E-2},{"$f":"LN('Page 277'!AD10/'Page 277'!AD9)-$B$9","v":6.7268291994588818E-3},{"$f":"LN('Page 277'!AE10/'Page 277'!AE9)-$B$9","v":3.0385791837118297E-2},{"$f":"LN('Page 277'!AF10/'Page 277'!AF9)-$B$9","v":5.8939007641756566E-2}]
["2002-03-01",1.4416666666666666E-3,{"$f":"LN('Page 277'!B11/'Page 277'!B10)-$B$9","v":3.315507625275841E-2},{"$f":"LN('Page 277'!C11/'Page 277'!C10)-$B$9","v":1.7275236584155065E-3},{"$f":"LN('Page 277'!D11/'Page 277'!D10)-$B$9","v":-2.8108199888472338E-2},{"$f":"LN('Page 277'!E11/'Page 277'!E10)-$B$9","v":0.11369693247804179},{"$f":"LN('Page 277'!F11/'Page 277'!F10)-$B$9","v":4.5597103586135349E-2},{"$f":"LN('Page 277'!G11/'Page 277'!G10)-$B$9","v":8.7276955226984879E-2},{"$f":"LN('Page 277'!H11/'Page 277'!H10)-$B$9","v":2.0908908023618247E-2},{"$f":"LN('Page 277'!I11/'Page 277'!I10)-$B$9","v":3.6902391187194042E-3},{"$f":"LN('Page 277'!J11/'Page 277'!J10)-$B$9","v":6.9327622249961253E-4},{"$f":"LN('Page 277'!K11/'Page 277'!K10)-$B$9","v":-3.1835568075509836E-2},{"$f":"LN('Page 277'!L11/'Page 277'!L10)-$B$9","v":0.12905257299470085},{"$f":"LN('Page 277'!M11/'Page 277'!M10)-$B$9","v":-3.0167736393874257E-2},{"$f":"LN('Page 277'!N11/'Page 277'!N10)-$B$9","v":1.1329765831008458E-3},{"$f":"LN('Page 277'!O11/'Page 277'!O10)-$B$9","v":-0.11374352635959274},{"$f":"LN('Page 277'!P11/'Page 277'!P10)-$B$9","v":5.5296028970948881E-2},{"$f":"LN('Page 277'!Q11/'Page 277'!Q10)-$B$9","v":6.0046389688850926E-2},{"$f":"LN('Page 277'!R11/'Page 277'!R10)-$B$9","v":6.1435759160390013E-2},{"$f":"LN('Page 277'!S11/'Page 277'!S10)-$B$9","v":0.19494074412994122},{"$f":"LN('Page 277'!T11/'Page 277'!T10)-$B$9","v":9.9075579695578717E-2},{"$f":"LN('Page 277'!U11/'Page 277'!U10)-$B$9","v":5.8712475497447562E-2},{"$f":"LN('Page 277'!V11/'Page 277'!V10)-$B$9","v":-2.8167061885177699E-2},{"$f":"LN('Page 277'!W11/'Page 277'!W10)-$B$9","v":8.5118651909461985E-3},{"$f":"LN('Page 277'!X11/'Page 277'!X10)-$B$9","v":-6.0430127535623789E-2},{"$f":"LN('Page 277'!Y11/'Page 277'!Y10)-$B$9","v":3.0411420267591711E-2},{"$f":"LN('Page 277'!Z11/'Page 277'!Z10)-$B$9","v":-3.3325807559221411E-2},{"$f":"LN('Page 277'!AA11/'Page 277'!AA10)-$B$9","v":5.7638914577078031E-2},{"$f":"LN('Page 277'!AB11/'Page 277'!AB10)-$B$9","v":-1.3563398205055643E-2},{"$f":"LN('Page 277'!AC11/'Page 277'!AC10)-$B$9","v":1.4224090522259349E-2},{"$f":"LN('Page 277'!AD11/'Page 277'!AD10)-$B$9","v":-1.8096622423056794E-2},{"$f":"LN('Page 277'!AE11/'Page 277'!AE10)-$B$9","v":-1.3226534991240572E-2},{"$f":"LN('Page 277'!AF11/'Page 277'!AF10)-$B$9","v":5.6596269088767144E-2}]
["2002-04-01",1.4916666666666665E-3,{"$f":"LN('Page 277'!B12/'Page 277'!B11)-$B$9","v":-6.6309682784413515E-2},{"$f":"LN('Page 277'!C12/'Page 277'!C11)-$B$9","v":-0.10644985502932729},{"$f":"LN('Page 277'!D12/'Page 277'!D11)-$B$9","v":-4.5620146660275487E-2},{"$f":"LN('Page 277'!E12/'Page 277'!E11)-$B$9","v":2.6479536810008076E-4},{"$f":"LN('Page 277'!F12/'Page 277'!F11)-$B$9","v":-8.1442211126327407E-2},{"$f":"LN('Page 277'!G12/'Page 277'!G11)-$B$9","v":-0.13698161191564542},{"$f":"LN('Page 277'!H12/'Page 277'!H11)-$B$9","v":-3.6693422473594264E-2},{"$f":"LN('Page 277'!I12/'Page 277'!I11)-$B$9","v":-6.0730035265647603E-2},{"$f":"LN('Page 277'!J12/'Page 277'!J11)-$B$9","v":1.129972891237055E-3},{"$f":"LN('Page 277'!K12/'Page 277'!K11)-$B$9","v":-0.17316774989813088},{"$f":"LN('Page 277'!L12/'Page 277'!L11)-$B$9","v":5.647867210448379E-2},{"$f":"LN('Page 277'!M12/'Page 277'!M11)-$B$9","v":-5.0046678894988018E-2},{"$f":"LN('Page 277'!N12/'Page 277'!N11)-$B$9","v":-4.5472037621728655E-2},{"$f":"LN('Page 277'!O12/'Page 277'!O11)-$B$9","v":-5.1061005780311024E-2},{"$f":"LN('Page 277'!P12/'Page 277'!P11)-$B$9","v":-0.21935795076188391},{"$f":"LN('Page 277'!Q12/'Page 277'!Q11)-$B$9","v":-6.3720110266255292E-2},{"$f":"LN('Page 277'!R12/'Page 277'!R11)-$B$9","v":-1.9732118316381289E-2},{"$f":"LN('Page 277'!S12/'Page 277'!S11)-$B$9","v":-1.8404186848460086E-2},{"$f":"LN('Page 277'!T12/'Page 277'!T11)-$B$9","v":5.7476874349266245E-2},{"$f":"LN('Page 277'!U12/'Page 277'!U11)-$B$9","v":1.9950568599075361E-2},{"$f":"LN('Page 277'!V12/'Page 277'!V11)-$B$9","v":8.6844043074332425E-2},{"$f":"LN('Page 277'!W12/'Page 277'!W11)-$B$9","v":2.9933600979075606E-2},{"$f":"LN('Page 277'!X12/'Page 277'!X11)-$B$9","v":-6.0742008524070988E-2},{"$f":"LN('Page 277'!Y12/'Page 277'!Y11)-$B$9","v":-0.14614315601433053},{"$f":"LN('Page 277'!Z12/'Page 277'!Z11)-$B$9","v":-9.1859551832093322E-2},{"$f":"LN('Page 277'!AA12/'Page 277'!AA11)-$B$9","v":3.1275544896669752E-3},{"$f":"LN('Page 277'!AB12/'Page 277'!AB11)-$B$9","v":-0.18257632823807587},{"$f":"LN('Page 277'!AC12/'Page 277'!AC11)-$B$9","v":-5.8931339979803314E-2},{"$f":"LN('Page 277'!AD12/'Page 277'!AD11)-$B$9","v":-0.13337356752047011},{"$f":"LN('Page 277'!AE12/'Page 277'!AE11)-$B$9","v":-9.5895362870169573E-2},{"$f":"LN('Page 277'!AF12/'Page 277'!AF11)-$B$9","v":-9.0142853469251202E-2}]
["2002-05-01",1.4333333333333333E-3,{"$f":"LN('Page 277'!B13/'Page 277'!B12)-$B$9","v":-1.2047942297125957E-2},{"$f":"LN('Page 277'!C13/'Page 277'!C12)-$B$9","v":2.9054929622318874E-2},{"$f":"LN('Page 277'!D13/'Page 277'!D12)-$B$9","v":-3.4468618535442946E-2},{"$f":"LN('Page 277'!E13/'Page 277'!E12)-$B$9","v":3.290482068812213E-2},{"$f":"LN('Page 277'!F13/'Page 277'!F12)-$B$9","v":-4.3867833140425208E-2},{"$f":"LN('Page 277'!G13/'Page 277'!G12)-$B$9","v":-1.8048654667506506E-3},{"$f":"LN('Page 277'!H13/'Page 277'!H12)-$B$9","v":-4.7013772984649121E-2},{"$f":"LN('Page 277'!I13/'Page 277'!I12)-$B$9","v":3.8134999829931987E-2},{"$f":"LN('Page 277'!J13/'Page 277'!J12)-$B$9","v":-1.468452040690625E-2},{"$f":"LN('Page 277'!K13/'Page 277'!K12)-$B$9","v":-1.5782319975237317E-2},{"$f":"LN('Page 277'!L13/'Page 277'!L12)-$B$9","v":-2.7216106210459393E-2},{"$f":"LN('Page 277'!M13/'Page 277'!M12)-$B$9","v":-0.10938326538135634},{"$f":"LN('Page 277'!N13/'Page 277'!N12)-$B$9","v":6.8419465925884382E-2},{"$f":"LN('Page 277'!O13/'Page 277'!O12)-$B$9","v":0.10747895588041478},{"$f":"LN('Page 277'!P13/'Page 277'!P12)-$B$9","v":-4.1303858051192875E-2},{"$f":"LN('Page 277'!Q13/'Page 277'!Q12)-$B$9","v":-3.757645797254177E-2},{"$f":"LN('Page 277'!R13/'Page 277'!R12)-$B$9","v":-3.9694482587011186E-2},{"$f":"LN('Page 277'!S13/'Page 277'!S12)-$B$9","v":2.1157075655727976E-2},{"$f":"LN('Page 277'!T13/'Page 277'!T12)-$B$9","v":-2.1332343212659742E-3},{"$f":"LN('Page 277'!U13/'Page 277'!U12)-$B$9","v":4.9931339064220079E-2},{"$f":"LN('Page 277'!V13/'Page 277'!V12)-$B$9","v":-1.0227080298910367E-3},{"$f":"LN('Page 277'!W13/'Page 277'!W12)-$B$9","v":4.7588531487687047E-2},{"$f":"LN('Page 277'!X13/'Page 277'!X12)-$B$9","v":4.6462260129633441E-2},{"$f":"LN('Page 277'!Y13/'Page 277'!Y12)-$B$9","v":-2.9224710583961016E-2},{"$f":"LN('Page 277'!Z13/'Page 277'!Z12)-$B$9","v":-4.8953024943851009E-2},{"$f":"LN('Page 277'!AA13/'Page 277'!AA12)-$B$9","v":-1.0678855179523406E-2},{"$f":"LN('Page 277'!AB13/'Page 277'!AB12)-$B$9","v":9.6014947854903651E-2},{"$f":"LN('Page 277'!AC13/'Page 277'!AC12)-$B$9","v":-1.797211332011564E-2},{"$f":"LN('Page 277'!AD13/'Page 277'!AD12)-$B$9","v":6.6668291799195395E-2},{"$f":"LN('Page 277'!AE13/'Page 277'!AE12)-$B$9","v":-3.4914100267801937E-2},{"$f":"LN('Page 277'!AF13/'Page 277'!AF12)-$B$9","v":-3.2003683068481158E-3}]
["2002-06-03",1.4416666666666666E-3,{"$f":"LN('Page 277'!B14/'Page 277'!B13)-$B$9","v":-7.8139343275906145E-2},{"$f":"LN('Page 277'!C14/'Page 277'!C13)-$B$9","v":-5.669795343249228E-2},{"$f":"LN('Page 277'!D14/'Page 277'!D13)-$B$9","v":1.6270027491194546E-2},{"$f":"LN('Page 277'!E14/'Page 277'!E13)-$B$9","v":-0.16019973524384246},{"$f":"LN('Page 277'!F14/'Page 277'!F13)-$B$9","v":5.0744622760008309E-2},{"$f":"LN('Page 277'!G14/'Page 277'!G13)-$B$9","v":-0.11099465833025482},{"$f":"LN('Page 277'!H14/'Page 277'!H13)-$B$9","v":-6.8465692592752994E-2},{"$f":"LN('Page 277'!I14/'Page 277'!I13)-$B$9","v":-3.8566330914068858E-2},{"$f":"LN('Page 277'!J14/'Page 277'!J13)-$B$9","v":-0.19548992420871572},{"$f":"LN('Page 277'!K14/'Page 277'!K13)-$B$9","v":-6.636180378425946E-2},{"$f":"LN('Page 277'!L14/'Page 277'!L13)-$B$9","v":-0.15374327824135917},{"$f":"LN('Page 277'!M14/'Page 277'!M13)-$B$9","v":-0.1282878633461218},{"$f":"LN('Page 277'!N14/'Page 277'!N13)-$B$9","v":-0.10959797483188079},{"$f":"LN('Page 277'!O14/'Page 277'!O13)-$B$9","v":-0.22132854522772716},{"$f":"LN('Page 277'!P14/'Page 277'!P13)-$B$9","v":-0.1138781307938864},{"$f":"LN('Page 277'!Q14/'Page 277'!Q13)-$B$9","v":-0.41592026417191741},{"$f":"LN('Page 277'!R14/'Page 277'!R13)-$B$9","v":-0.16336704263381685},{"$f":"LN('Page 277'!S14/'Page 277'!S13)-$B$9","v":-6.1054323957669437E-2},{"$f":"LN('Page 277'!T14/'Page 277'!T13)-$B$9","v":8.6813071318598313E-3},{"$f":"LN('Page 277'!U14/'Page 277'!U13)-$B$9","v":-5.389845392876913E-2},{"$f":"LN('Page 277'!V14/'Page 277'!V13)-$B$9","v":-2.2465049471441245E-2},{"$f":"LN('Page 277'!W14/'Page 277'!W13)-$B$9","v":-0.2611131665242899},{"$f":"LN('Page 277'!X14/'Page 277'!X13)-$B$9","v":-0.11659235780091598},{"$f":"LN('Page 277'!Y14/'Page 277'!Y13)-$B$9","v":6.8954397034375503E-2},{"$f":"LN('Page 277'!Z14/'Page 277'!Z13)-$B$9","v":8.4675282810948403E-3},{"$f":"LN('Page 277'!AA14/'Page 277'!AA13)-$B$9","v":1.9282004988862042E-3},{"$f":"LN('Page 277'!AB14/'Page 277'!AB13)-$B$9","v":-0.12002891848257478},{"$f":"LN('Page 277'!AC14/'Page 277'!AC13)-$B$9","v":-1.7259929170992231E-2},{"$f":"LN('Page 277'!AD14/'Page 277'!AD13)-$B$9","v":-7.1617796465945169E-2},{"$f":"LN('Page 277'!AE14/'Page 277'!AE13)-$B$9","v":1.4993893474271807E-2},{"$f":"LN('Page 277'!AF14/'Page 277'!AF13)-$B$9","v":2.1559356932286746E-2}]
["2002-07-01",1.4166666666666668E-3,{"$f":"LN('Page 277'!B15/'Page 277'!B14)-$B$9","v":-8.5224871837899049E-2},{"$f":"LN('Page 277'!C15/'Page 277'!C14)-$B$9","v":-0.20042195818804634},{"$f":"LN('Page 277'!D15/'Page 277'!D14)-$B$9","v":-6.8182342301863902E-2},{"$f":"LN('Page 277'!E15/'Page 277'!E14)-$B$9","v":-3.04329481979209E-2},{"$f":"LN('Page 277'!F15/'Page 277'!F14)-$B$9","v":-8.3643988156795301E-2},{"$f":"LN('Page 277'!G15/'Page 277'!G14)-$B$9","v":-0.1472498780664597},{"$f":"LN('Page 277'!H15/'Page 277'!H14)-$B$9","v":-8.5570616963003096E-2},{"$f":"LN('Page 277'!I15/'Page 277'!I14)-$B$9","v":-6.0386205582103385E-2},{"$f":"LN('Page 277'!J15/'Page 277'!J14)-$B$9","v":-6.6691618358989152E-2},{"$f":"LN('Page 277'!K15/'Page 277'!K14)-$B$9","v":9.9981338492300481E-2},{"$f":"LN('Page 277'!L15/'Page 277'!L14)-$B$9","v":-0.14117782112290919},{"$f":"LN('Page 277'!M15/'Page 277'!M14)-$B$9","v":-0.17645677741703408},{"$f":"LN('Page 277'!N15/'Page 277'!N14)-$B$9","v":-8.8061962195279425E-2},{"$f":"LN('Page 277'!O15/'Page 277'!O14)-$B$9","v":-7.9496687180657638E-2},{"$f":"LN('Page 277'!P15/'Page 277'!P14)-$B$9","v":-2.5466491041347253E-2},{"$f":"LN('Page 277'!Q15/'Page 277'!Q14)-$B$9","v":2.5025394108345294E-2},{"$f":"LN('Page 277'!R15/'Page 277'!R14)-$B$9","v":3.6593859281792381E-3},{"$f":"LN('Page 277'!S15/'Page 277'!S14)-$B$9","v":-0.3098449634782286},{"$f":"LN('Page 277'!T15/'Page 277'!T14)-$B$9","v":-0.11738869257156745},{"$f":"LN('Page 277'!U15/'Page 277'!U14)-$B$9","v":-0.1423860094809225},{"$f":"LN('Page 277'!V15/'Page 277'!V14)-$B$9","v":1.9892327092116614E-2},{"$f":"LN('Page 277'!W15/'Page 277'!W14)-$B$9","v":5.0102117760512432E-2},{"$f":"LN('Page 277'!X15/'Page 277'!X14)-$B$9","v":-2.3564553296548049E-2},{"$f":"LN('Page 277'!Y15/'Page 277'!Y14)-$B$9","v":-0.1343568747422399},{"$f":"LN('Page 277'!Z15/'Page 277'!Z14)-$B$9","v":-8.1447990362838729E-2},{"$f":"LN('Page 277'!AA15/'Page 277'!AA14)-$B$9","v":-1.2319290912762115E-3},{"$f":"LN('Page 277'!AB15/'Page 277'!AB14)-$B$9","v":-9.190090493023248E-2},{"$f":"LN('Page 277'!AC15/'Page 277'!AC14)-$B$9","v":2.0342685319325215E-2},{"$f":"LN('Page 277'!AD15/'Page 277'!AD14)-$B$9","v":-0.18903409852081368},{"$f":"LN('Page 277'!AE15/'Page 277'!AE14)-$B$9","v":-0.11496224675971019},{"$f":"LN('Page 277'!AF15/'Page 277'!AF14)-$B$9","v":-0.11004884192652391}]
["2002-08-01",1.4E-3,{"$f":"LN('Page 277'!B16/'Page 277'!B15)-$B$9","v":1.9445443903156651E-3},{"$f":"LN('Page 277'!C16/'Page 277'!C15)-$B$9","v":-7.8204762968983974E-2},{"$f":"LN('Page 277'!D16/'Page 277'!D15)-$B$9","v":-2.0496178275357671E-2},{"$f":"LN('Page 277'!E16/'Page 277'!E15)-$B$9","v":1.9667323028594058E-2},{"$f":"LN('Page 277'!F16/'Page 277'!F15)-$B$9","v":-0.11156732186784364},{"$f":"LN('Page 277'!G16/'Page 277'!G15)-$B$9","v":4.833227068394965E-2},{"$f":"LN('Page 277'!H16/'Page 277'!H15)-$B$9","v":-2.6928111725371958E-2},{"$f":"LN('Page 277'!I16/'Page 277'!I15)-$B$9","v":-3.3645556129501569E-2},{"$f":"LN('Page 277'!J16/'Page 277'!J15)-$B$9","v":-0.1253484152128857},{"$f":"LN('Page 277'!K16/'Page 277'!K15)-$B$9","v":-6.8615993317682589E-2},{"$f":"LN('Page 277'!L16/'Page 277'!L15)-$B$9","v":3.6275346761899599E-2},{"$f":"LN('Page 277'!M16/'Page 277'!M15)-$B$9","v":6.1592484228313052E-2},{"$f":"LN('Page 277'!N16/'Page 277'!N15)-$B$9","v":-7.4547913914725192E-2},{"$f":"LN('Page 277'!O16/'Page 277'!O15)-$B$9","v":-5.5325276393531672E-2},{"$f":"LN('Page 277'!P16/'Page 277'!P15)-$B$9","v":6.7625710227707664E-2},{"$f":"LN('Page 277'!Q16/'Page 277'!Q15)-$B$9","v":-0.12160424749810754},{"$f":"LN('Page 277'!R16/'Page 277'!R15)-$B$9","v":3.2731914690746489E-2},{"$f":"LN('Page 277'!S16/'Page 277'!S15)-$B$9","v":5.3064744211750225E-2},{"$f":"LN('Page 277'!T16/'Page 277'!T15)-$B$9","v":1.812384047394543E-2},{"$f":"LN('Page 277'!U16/'Page 277'!U15)-$B$9","v":-4.3530754925943015E-2},{"$f":"LN('Page 277'!V16/'Page 277'!V15)-$B$9","v":-5.166187042754242E-3},{"$f":"LN('Page 277'!W16/'Page 277'!W15)-$B$9","v":7.9235633720963455E-2},{"$f":"LN('Page 277'!X16/'Page 277'!X15)-$B$9","v":1.5523438603733165E-2},{"$f":"LN('Page 277'!Y16/'Page 277'!Y15)-$B$9","v":1.9824796300981041E-2},{"$f":"LN('Page 277'!Z16/'Page 277'!Z15)-$B$9","v":2.3277372394024116E-2},{"$f":"LN('Page 277'!AA16/'Page 277'!AA15)-$B$9","v":-6.7990968550841E-3},{"$f":"LN('Page 277'!AB16/'Page 277'!AB15)-$B$9","v":-0.11493665448676881},{"$f":"LN('Page 277'!AC16/'Page 277'!AC15)-$B$9","v":-0.15605402056389267},{"$f":"LN('Page 277'!AD16/'Page 277'!AD15)-$B$9","v":-6.5561945145435729E-2},{"$f":"LN('Page 277'!AE16/'Page 277'!AE15)-$B$9","v":8.0946767743412168E-2},{"$f":"LN('Page 277'!AF16/'Page 277'!AF15)-$B$9","v":-3.2678257281908193E-2}]
["2002-09-03",1.3500000000000003E-3,{"$f":"LN('Page 277'!B17/'Page 277'!B16)-$B$9","v":-0.11948616844786664},{"$f":"LN('Page 277'!C17/'Page 277'!C16)-$B$9","v":-0.26515968323067285},{"$f":"LN('Page 277'!D17/'Page 277'!D16)-$B$9","v":-0.14025049188862204},{"$f":"LN('Page 277'!E17/'Page 277'!E16)-$B$9","v":-0.14835342653636871},{"$f":"LN('Page 277'!F17/'Page 277'!F16)-$B$9","v":-8.5542145185650467E-2},{"$f":"LN('Page 277'!G17/'Page 277'!G16)-$B$9","v":-0.10252224801824499},{"$f":"LN('Page 277'!H17/'Page 277'!H16)-$B$9","v":-0.16221196814671315},{"$f":"LN('Page 277'!I17/'Page 277'!I16)-$B$9","v":-0.11398532126150675},{"$f":"LN('Page 277'!J17/'Page 277'!J16)-$B$9","v":-3.8087513612693268E-2},{"$f":"LN('Page 277'!K17/'Page 277'!K16)-$B$9","v":-0.19742371944121415},{"$f":"LN('Page 277'!L17/'Page 277'!L16)-$B$9","v":-0.21009447675957454},{"$f":"LN('Page 277'!M17/'Page 277'!M16)-$B$9","v":-0.23406827715708134},{"$f":"LN('Page 277'!N17/'Page 277'!N16)-$B$9","v":-0.3266045051012374},{"$f":"LN('Page 277'!O17/'Page 277'!O16)-$B$9","v":-0.13736096075494955},{"$f":"LN('Page 277'!P17/'Page 277'!P16)-$B$9","v":-0.25965821878146272},{"$f":"LN('Page 277'!Q17/'Page 277'!Q16)-$B$9","v":-0.18561906564534728},{"$f":"LN('Page 277'!R17/'Page 277'!R16)-$B$9","v":-7.0896069116321275E-3},{"$f":"LN('Page 277'!S17/'Page 277'!S16)-$B$9","v":-0.33207750533907782},{"$f":"LN('Page 277'!T17/'Page 277'!T16)-$B$9","v":-6.0373973801567109E-2},{"$f":"LN('Page 277'!U17/'Page 277'!U16)-$B$9","v":-0.29965690797169875},{"$f":"LN('Page 277'!V17/'Page 277'!V16)-$B$9","v":-0.13070345727413993},{"$f":"LN('Page 277'!W17/'Page 277'!W16)-$B$9","v":-0.24303443692820373},{"$f":"LN('Page 277'!X17/'Page 277'!X16)-$B$9","v":-9.555780203360853E-2},{"$f":"LN('Page 277'!Y17/'Page 277'!Y16)-$B$9","v":-0.11801718875636305},{"$f":"LN('Page 277'!Z17/'Page 277'!Z16)-$B$9","v":-0.13380738445294574},{"$f":"LN('Page 277'!AA17/'Page 277'!AA16)-$B$9","v":5.2895907687138238E-3},{"$f":"LN('Page 277'!AB17/'Page 277'!AB16)-$B$9","v":-0.21025794528756744},{"$f":"LN('Page 277'!AC17/'Page 277'!AC16)-$B$9","v":-5.3127884247737373E-2},{"$f":"LN('Page 277'!AD17/'Page 277'!AD16)-$B$9","v":-0.12470794460612428},{"$f":"LN('Page 277'!AE17/'Page 277'!AE16)-$B$9","v":-8.4053281797661153E-2},{"$f":"LN('Page 277'!AF17/'Page 277'!AF16)-$B$9","v":-0.10845673387586309}]
["2002-10-01",1.3583333333333331E-3,{"$f":"LN('Page 277'!B18/'Page 277'!B17)-$B$9","v":7.9989421028757154E-2},{"$f":"LN('Page 277'!C18/'Page 277'!C17)-$B$9","v":0.13039581458703386},{"$f":"LN('Page 277'!D18/'Page 277'!D17)-$B$9","v":0.13114262942088409},{"$f":"LN('Page 277'!E18/'Page 277'!E17)-$B$9","v":0.1532860828768339},{"$f":"LN('Page 277'!F18/'Page 277'!F17)-$B$9","v":-0.14035643118889127},{"$f":"LN('Page 277'!G18/'Page 277'!G17)-$B$9","v":0.22225805800749615},{"$f":"LN('Page 277'!H18/'Page 277'!H17)-$B$9","v":9.9232717753302793E-2},{"$f":"LN('Page 277'!I18/'Page 277'!I17)-$B$9","v":0.13119510121115971},{"$f":"LN('Page 277'!J18/'Page 277'!J17)-$B$9","v":9.469746405802168E-2},{"$f":"LN('Page 277'!K18/'Page 277'!K17)-$B$9","v":2.0991108895772759E-2},{"$f":"LN('Page 277'!L18/'Page 277'!L17)-$B$9","v":-0.15995067200644356},{"$f":"LN('Page 277'!M18/'Page 277'!M17)-$B$9","v":9.8331678992051183E-2},{"$f":"LN('Page 277'!N18/'Page 277'!N17)-$B$9","v":9.7062156553826398E-2},{"$f":"LN('Page 277'!O18/'Page 277'!O17)-$B$9","v":0.30002454458256939},{"$f":"LN('Page 277'!P18/'Page 277'!P17)-$B$9","v":0.30001045067486209},{"$f":"LN('Page 277'!Q18/'Page 277'!Q17)-$B$9","v":0.21693447611301969},{"$f":"LN('Page 277'!R18/'Page 277'!R17)-$B$9","v":7.9804568107736867E-2},{"$f":"LN('Page 277'!S18/'Page 277'!S17)-$B$9","v":8.5536776103578141E-2},{"$f":"LN('Page 277'!T18/'Page 277'!T17)-$B$9","v":-3.4343615680898075E-2},{"$f":"LN('Page 277'!U18/'Page 277'!U17)-$B$9","v":2.2210973271542454E-2},{"$f":"LN('Page 277'!V18/'Page 277'!V17)-$B$9","v":0.14060720773826221},{"$f":"LN('Page 277'!W18/'Page 277'!W17)-$B$9","v":4.5999461459066894E-2},{"$f":"LN('Page 277'!X18/'Page 277'!X17)-$B$9","v":0.16819321308396171},{"$f":"LN('Page 277'!Y18/'Page 277'!Y17)-$B$9","v":0.19788907491612101},{"$f":"LN('Page 277'!Z18/'Page 277'!Z17)-$B$9","v":8.7701653094449314E-2},{"$f":"LN('Page 277'!AA18/'Page 277'!AA17)-$B$9","v":-8.9585648223534237E-3},{"$f":"LN('Page 277'!AB18/'Page 277'!AB17)-$B$9","v":0.25395669094605988},{"$f":"LN('Page 277'!AC18/'Page 277'!AC17)-$B$9","v":8.4806398308322484E-2},{"$f":"LN('Page 277'!AD18/'Page 277'!AD17)-$B$9","v":0.32813121815288382},{"$f":"LN('Page 277'!AE18/'Page 277'!AE17)-$B$9","v":8.0920147431580214E-2},{"$f":"LN('Page 277'!AF18/'Page 277'!AF17)-$B$9","v":5.0745603334340396E-2}]
["2002-11-01",1.3166666666666667E-3,{"$f":"LN('Page 277'!B19/'Page 277'!B18)-$B$9","v":5.2575584676112223E-2},{"$f":"LN('Page 277'!C19/'Page 277'!C18)-$B$9","v":0.15031266224092052},{"$f":"LN('Page 277'!D19/'Page 277'!D18)-$B$9","v":3.7838255643912973E-2},{"$f":"LN('Page 277'!E19/'Page 277'!E18)-$B$9","v":6.5222535415543709E-2},{"$f":"LN('Page 277'!F19/'Page 277'!F18)-$B$9","v":0.13763338808326742},{"$f":"LN('Page 277'!G19/'Page 277'!G18)-$B$9","v":4.7975823780070252E-2},{"$f":"LN('Page 277'!H19/'Page 277'!H18)-$B$9","v":0.19760252129052716},{"$f":"LN('Page 277'!I19/'Page 277'!I18)-$B$9","v":8.3834582955818138E-2},{"$f":"LN('Page 277'!J19/'Page 277'!J18)-$B$9","v":0.16872811547703109},{"$f":"LN('Page 277'!K19/'Page 277'!K18)-$B$9","v":6.8835736900315872E-2},{"$f":"LN('Page 277'!L19/'Page 277'!L18)-$B$9","v":0.18887875767263115},{"$f":"LN('Page 277'!M19/'Page 277'!M18)-$B$9","v":-9.2716837065877897E-2},{"$f":"LN('Page 277'!N19/'Page 277'!N18)-$B$9","v":8.7967217381434676E-2},{"$f":"LN('Page 277'!O19/'Page 277'!O18)-$B$9","v":0.2067593979402049},{"$f":"LN('Page 277'!P19/'Page 277'!P18)-$B$9","v":9.5224656349915615E-2},{"$f":"LN('Page 277'!Q19/'Page 277'!Q18)-$B$9","v":0.18615199675060362},{"$f":"LN('Page 277'!R19/'Page 277'!R18)-$B$9","v":-2.9435033315255977E-2},{"$f":"LN('Page 277'!S19/'Page 277'!S18)-$B$9","v":0.19042222773861414},{"$f":"LN('Page 277'!T19/'Page 277'!T18)-$B$9","v":-1.6868272094966195E-2},{"$f":"LN('Page 277'!U19/'Page 277'!U18)-$B$9","v":3.1921731330168103E-2},{"$f":"LN('Page 277'!V19/'Page 277'!V18)-$B$9","v":2.4556622231469059E-2},{"$f":"LN('Page 277'!W19/'Page 277'!W18)-$B$9","v":-8.0136744000826265E-2},{"$f":"LN('Page 277'!X19/'Page 277'!X18)-$B$9","v":8.8115353552916192E-2},{"$f":"LN('Page 277'!Y19/'Page 277'!Y18)-$B$9","v":7.2840583731354547E-2},{"$f":"LN('Page 277'!Z19/'Page 277'!Z18)-$B$9","v":-6.7292584355342199E-3},{"$f":"LN('Page 277'!AA19/'Page 277'!AA18)-$B$9","v":-4.8235386843392493E-2},{"$f":"LN('Page 277'!AB19/'Page 277'!AB18)-$B$9","v":0.10224592422679099},{"$f":"LN('Page 277'!AC19/'Page 277'!AC18)-$B$9","v":1.4140260554186931E-2},{"$f":"LN('Page 277'!AD19/'Page 277'!AD18)-$B$9","v":0.10074870052634674},{"$f":"LN('Page 277'!AE19/'Page 277'!AE18)-$B$9","v":3.6425337470852152E-3},{"$f":"LN('Page 277'!AF19/'Page 277'!AF18)-$B$9","v":3.6844834572830505E-2}]
["2002-12-02",1.0250000000000001E-3,{"$f":"LN('Page 277'!B20/'Page 277'!B19)-$B$9","v":-6.515427712987544E-2},{"$f":"LN('Page 277'!C20/'Page 277'!C19)-$B$9","v":-0.11760366863723777},{"$f":"LN('Page 277'!D20/'Page 277'!D19)-$B$9","v":-0.12100178180307766},{"$f":"LN('Page 277'!E20/'Page 277'!E19)-$B$9","v":-9.7082232075042574E-2},{"$f":"LN('Page 277'!F20/'Page 277'!F19)-$B$9","v":-3.4643485160777941E-2},{"$f":"LN('Page 277'!G20/'Page 277'!G19)-$B$9","v":-0.10269145110465264},{"$f":"LN('Page 277'!H20/'Page 277'!H19)-$B$9","v":-9.0405090379978029E-2},{"$f":"LN('Page 277'!I20/'Page 277'!I19)-$B$9","v":-5.3807505202755852E-2},{"$f":"LN('Page 277'!J20/'Page 277'!J19)-$B$9","v":-0.18587767073096442},{"$f":"LN('Page 277'!K20/'Page 277'!K19)-$B$9","v":-0.10309421633419347},{"$f":"LN('Page 277'!L20/'Page 277'!L19)-$B$9","v":-7.6986437799726734E-2},{"$f":"LN('Page 277'!M20/'Page 277'!M19)-$B$9","v":-9.5095459799657223E-2},{"$f":"LN('Page 277'!N20/'Page 277'!N19)-$B$9","v":-8.3350682697801312E-2},{"$f":"LN('Page 277'!O20/'Page 277'!O19)-$B$9","v":-0.11402311255449941},{"$f":"LN('Page 277'!P20/'Page 277'!P19)-$B$9","v":-0.11770211781040728},{"$f":"LN('Page 277'!Q20/'Page 277'!Q19)-$B$9","v":-0.29656538203541155},{"$f":"LN('Page 277'!R20/'Page 277'!R19)-$B$9","v":-6.2728054454518609E-2},{"$f":"LN('Page 277'!S20/'Page 277'!S19)-$B$9","v":-5.0718832399136E-2},{"$f":"LN('Page 277'!T20/'Page 277'!T19)-$B$9","v":-4.2983760552005097E-2},{"$f":"LN('Page 277'!U20/'Page 277'!U19)-$B$9","v":-0.14300091860117492},{"$f":"LN('Page 277'!V20/'Page 277'!V19)-$B$9","v":-5.4653360742031004E-2},{"$f":"LN('Page 277'!W20/'Page 277'!W19)-$B$9","v":8.4677218956596467E-2},{"$f":"LN('Page 277'!X20/'Page 277'!X19)-$B$9","v":-4.4939160672714563E-2},{"$f":"LN('Page 277'!Y20/'Page 277'!Y19)-$B$9","v":-0.11236969073922956},{"$f":"LN('Page 277'!Z20/'Page 277'!Z19)-$B$9","v":-3.3891584108389619E-2},{"$f":"LN('Page 277'!AA20/'Page 277'!AA19)-$B$9","v":1.3654128802911263E-2},{"$f":"LN('Page 277'!AB20/'Page 277'!AB19)-$B$9","v":-5.2782286242738792E-2},{"$f":"LN('Page 277'!AC20/'Page 277'!AC19)-$B$9","v":-1.1762583012465107E-2},{"$f":"LN('Page 277'!AD20/'Page 277'!AD19)-$B$9","v":-8.0719252538525993E-2},{"$f":"LN('Page 277'!AE20/'Page 277'!AE19)-$B$9","v":-6.6514158037542181E-2},{"$f":"LN('Page 277'!AF20/'Page 277'!AF19)-$B$9","v":1.1216981293098384E-3}]
["2003-01-02",9.9166666666666652E-4,{"$f":"LN('Page 277'!B21/'Page 277'!B20)-$B$9","v":-3.0722493671422966E-2},{"$f":"LN('Page 277'!C21/'Page 277'!C20)-$B$9","v":-0.14439052029994254},{"$f":"LN('Page 277'!D21/'Page 277'!D20)-$B$9","v":-6.9616374498672154E-2},{"$f":"LN('Page 277'!E21/'Page 277'!E20)-$B$9","v":2.0658604677582207E-3},{"$f":"LN('Page 277'!F21/'Page 277'!F20)-$B$9","v":-4.6395788985772568E-2},{"$f":"LN('Page 277'!G21/'Page 277'!G20)-$B$9","v":-2.1479595002110816E-2},{"$f":"LN('Page 277'!H21/'Page 277'!H20)-$B$9","v":-3.4356158789582106E-2},{"$f":"LN('Page 277'!I21/'Page 277'!I20)-$B$9","v":-0.11585101069443486},{"$f":"LN('Page 277'!J21/'Page 277'!J20)-$B$9","v":6.774995766993637E-2},{"$f":"LN('Page 277'!K21/'Page 277'!K20)-$B$9","v":-5.419459742431524E-2},{"$f":"LN('Page 277'!L21/'Page 277'!L20)-$B$9","v":-1.7360946232941481E-2},{"$f":"LN('Page 277'!M21/'Page 277'!M20)-$B$9","v":-0.14188984634751811},{"$f":"LN('Page 277'!N21/'Page 277'!N20)-$B$9","v":1.5020748539198343E-2},{"$f":"LN('Page 277'!O21/'Page 277'!O20)-$B$9","v":9.8891025076919097E-5},{"$f":"LN('Page 277'!P21/'Page 277'!P20)-$B$9","v":6.0828765138604603E-3},{"$f":"LN('Page 277'!Q21/'Page 277'!Q20)-$B$9","v":3.0333095836306248E-3},{"$f":"LN('Page 277'!R21/'Page 277'!R20)-$B$9","v":-4.7215869689177783E-3},{"$f":"LN('Page 277'!S21/'Page 277'!S20)-$B$9","v":-3.0878627346028618E-2},{"$f":"LN('Page 277'!T21/'Page 277'!T20)-$B$9","v":-8.3091569691407033E-2},{"$f":"LN('Page 277'!U21/'Page 277'!U20)-$B$9","v":-0.12424349668740595},{"$f":"LN('Page 277'!V21/'Page 277'!V20)-$B$9","v":7.1201139077521122E-3},{"$f":"LN('Page 277'!W21/'Page 277'!W20)-$B$9","v":-7.0737233805536065E-2},{"$f":"LN('Page 277'!X21/'Page 277'!X20)-$B$9","v":-2.4832393864309101E-2},{"$f":"LN('Page 277'!Y21/'Page 277'!Y20)-$B$9","v":-8.8320084412128297E-2},{"$f":"LN('Page 277'!Z21/'Page 277'!Z20)-$B$9","v":-4.7135892802497199E-3},{"$f":"LN('Page 277'!AA21/'Page 277'!AA20)-$B$9","v":-2.426867984718523E-3},{"$f":"LN('Page 277'!AB21/'Page 277'!AB20)-$B$9","v":-9.7876499743090678E-2},{"$f":"LN('Page 277'!AC21/'Page 277'!AC20)-$B$9","v":2.3356836160795636E-2},{"$f":"LN('Page 277'!AD21/'Page 277'!AD20)-$B$9","v":-6.2761074772559773E-3},{"$f":"LN('Page 277'!AE21/'Page 277'!AE20)-$B$9","v":-5.7961550627331021E-2},{"$f":"LN('Page 277'!AF21/'Page 277'!AF20)-$B$9","v":-2.5863947680584976E-2}]
["2003-02-03",9.7499999999999985E-4,{"$f":"LN('Page 277'!B22/'Page 277'!B21)-$B$9","v":-2.0074844258839788E-2},{"$f":"LN('Page 277'!C22/'Page 277'!C21)-$B$9","v":4.0768684262947746E-2},{"$f":"LN('Page 277'!D22/'Page 277'!D21)-$B$9","v":-9.6484310982810989E-2},{"$f":"LN('Page 277'!E22/'Page 277'!E21)-$B$9","v":-5.9244266598434771E-2},{"$f":"LN('Page 277'!F22/'Page 277'!F21)-$B$9","v":-0.13400711777781726},{"$f":"LN('Page 277'!G22/'Page 277'!G21)-$B$9","v":-3.2748609660282944E-2},{"$f":"LN('Page 277'!H22/'Page 277'!H21)-$B$9","v":6.3516643738348769E-2},{"$f":"LN('Page 277'!I22/'Page 277'!I21)-$B$9","v":-2.572826829745303E-2},{"$f":"LN('Page 277'!J22/'Page 277'!J21)-$B$9","v":-2.8544512617744513E-2},{"$f":"LN('Page 277'!K22/'Page 277'!K21)-$B$9","v":4.3831954387334005E-2},{"$f":"LN('Page 277'!L22/'Page 277'!L21)-$B$9","v":-6.2146112814114751E-2},{"$f":"LN('Page 277'!M22/'Page 277'!M21)-$B$9","v":0.11204741960429672},{"$f":"LN('Page 277'!N22/'Page 277'!N21)-$B$9","v":-6.0109569597486229E-2},{"$f":"LN('Page 277'!O22/'Page 277'!O21)-$B$9","v":-9.6545786377303572E-2},{"$f":"LN('Page 277'!P22/'Page 277'!P21)-$B$9","v":-4.1125702391953851E-3},{"$f":"LN('Page 277'!Q22/'Page 277'!Q21)-$B$9","v":9.5081810651924281E-2},{"$f":"LN('Page 277'!R22/'Page 277'!R21)-$B$9","v":-2.0663824337381519E-2},{"$f":"LN('Page 277'!S22/'Page 277'!S21)-$B$9","v":-3.168255929505253E-2},{"$f":"LN('Page 277'!T22/'Page 277'!T21)-$B$9","v":-9.1169702479209948E-3},{"$f":"LN('Page 277'!U22/'Page 277'!U21)-$B$9","v":-4.8421853268568515E-2},{"$f":"LN('Page 277'!V22/'Page 277'!V21)-$B$9","v":8.8952661037431519E-3},{"$f":"LN('Page 277'!W22/'Page 277'!W21)-$B$9","v":1.7410441870730667E-2},{"$f":"LN('Page 277'!X22/'Page 277'!X21)-$B$9","v":-5.1682269973609953E-2},{"$f":"LN('Page 277'!Y22/'Page 277'!Y21)-$B$9","v":-9.8889097313359939E-4},{"$f":"LN('Page 277'!Z22/'Page 277'!Z21)-$B$9","v":-2.0989075007573497E-2},{"$f":"LN('Page 277'!AA22/'Page 277'!AA21)-$B$9","v":-4.7218318043063007E-2},{"$f":"LN('Page 277'!AB22/'Page 277'!AB21)-$B$9","v":-0.16416849306770051},{"$f":"LN('Page 277'!AC22/'Page 277'!AC21)-$B$9","v":-8.1057328754564256E-2},{"$f":"LN('Page 277'!AD22/'Page 277'!AD21)-$B$9","v":-0.10466410138070854},{"$f":"LN('Page 277'!AE22/'Page 277'!AE21)-$B$9","v":2.4798342576563691E-3},{"$f":"LN('Page 277'!AF22/'Page 277'!AF21)-$B$9","v":-6.8308642909602722E-5}]
["2003-03-03",9.7499999999999985E-4,{"$f":"LN('Page 277'!B23/'Page 277'!B22)-$B$9","v":5.3978742528296621E-3},{"$f":"LN('Page 277'!C23/'Page 277'!C22)-$B$9","v":-5.8673624768301541E-2},{"$f":"LN('Page 277'!D23/'Page 277'!D22)-$B$9","v":1.4107144414625601E-3},{"$f":"LN('Page 277'!E23/'Page 277'!E22)-$B$9","v":-1.3514580073240927E-2},{"$f":"LN('Page 277'!F23/'Page 277'!F22)-$B$9","v":-9.7851523555613495E-2},{"$f":"LN('Page 277'!G23/'Page 277'!G22)-$B$9","v":2.9800433395712572E-2},{"$f":"LN('Page 277'!H23/'Page 277'!H22)-$B$9","v":4.2648026372150871E-2},{"$f":"LN('Page 277'!I23/'Page 277'!I22)-$B$9","v":5.5143470022885256E-2},{"$f":"LN('Page 277'!J23/'Page 277'!J22)-$B$9","v":-5.3419196055386562E-3},{"$f":"LN('Page 277'!K23/'Page 277'!K22)-$B$9","v":5.5488969839456996E-2},{"$f":"LN('Page 277'!L23/'Page 277'!L22)-$B$9","v":-7.4936250612152918E-3},{"$f":"LN('Page 277'!M23/'Page 277'!M22)-$B$9","v":3.7738041490540754E-2},{"$f":"LN('Page 277'!N23/'Page 277'!N22)-$B$9","v":-7.2119667471896062E-2},{"$f":"LN('Page 277'!O23/'Page 277'!O22)-$B$9","v":-1.6948602107746367E-2},{"$f":"LN('Page 277'!P23/'Page 277'!P22)-$B$9","v":3.1300402189520242E-3},{"$f":"LN('Page 277'!Q23/'Page 277'!Q22)-$B$9","v":-6.0822941632355361E-2},{"$f":"LN('Page 277'!R23/'Page 277'!R22)-$B$9","v":9.5394310996720993E-2},{"$f":"LN('Page 277'!S23/'Page 277'!S22)-$B$9","v":4.1832900641493628E-2},{"$f":"LN('Page 277'!T23/'Page 277'!T22)-$B$9","v":9.4208358222993612E-3},{"$f":"LN('Page 277'!U23/'Page 277'!U22)-$B$9","v":5.8019015882983214E-2},{"$f":"LN('Page 277'!V23/'Page 277'!V22)-$B$9","v":3.3691980542133161E-2},{"$f":"LN('Page 277'!W23/'Page 277'!W22)-$B$9","v":-0.23978875406622116},{"$f":"LN('Page 277'!X23/'Page 277'!X22)-$B$9","v":4.1877090130681895E-2},{"$f":"LN('Page 277'!Y23/'Page 277'!Y22)-$B$9","v":1.8128409197832481E-2},{"$f":"LN('Page 277'!Z23/'Page 277'!Z22)-$B$9","v":4.0940117450513923E-2},{"$f":"LN('Page 277'!AA23/'Page 277'!AA22)-$B$9","v":8.1153919119413345E-2},{"$f":"LN('Page 277'!AB23/'Page 277'!AB22)-$B$9","v":-3.8906469228829281E-2},{"$f":"LN('Page 277'!AC23/'Page 277'!AC22)-$B$9","v":-1.6683363296361584E-2},{"$f":"LN('Page 277'!AD23/'Page 277'!AD22)-$B$9","v":1.912734703019511E-2},{"$f":"LN('Page 277'!AE23/'Page 277'!AE22)-$B$9","v":7.8211745278307807E-2},{"$f":"LN('Page 277'!AF23/'Page 277'!AF22)-$B$9","v":2.4276927320307937E-2}]
["2003-04-01",9.4166666666666661E-4,{"$f":"LN('Page 277'!B24/'Page 277'!B23)-$B$9","v":7.5002350029476736E-2},{"$f":"LN('Page 277'!C24/'Page 277'!C23)-$B$9","v":0.17164887000312878},{"$f":"LN('Page 277'!D24/'Page 277'!D23)-$B$9","v":0.15563058519653011},{"$f":"LN('Page 277'!E24/'Page 277'!E23)-$B$9","v":0.12980763509370302},{"$f":"LN('Page 277'!F24/'Page 277'!F23)-$B$9","v":8.1974443786486273E-2},{"$f":"LN('Page 277'!G24/'Page 277'!G23)-$B$9","v":0.12758347663683098},{"$f":"LN('Page 277'!H24/'Page 277'!H23)-$B$9","v":7.0441224066801825E-2},{"$f":"LN('Page 277'!I24/'Page 277'!I23)-$B$9","v":8.7374207840725429E-2},{"$f":"LN('Page 277'!J24/'Page 277'!J23)-$B$9","v":8.9466112933826669E-2},{"$f":"LN('Page 277'!K24/'Page 277'!K23)-$B$9","v":0.14105713891739788},{"$f":"LN('Page 277'!L24/'Page 277'!L23)-$B$9","v":6.7124023671026198E-2},{"$f":"LN('Page 277'!M24/'Page 277'!M23)-$B$9","v":0.14093858786172786},{"$f":"LN('Page 277'!N24/'Page 277'!N23)-$B$9","v":9.6870107920613194E-2},{"$f":"LN('Page 277'!O24/'Page 277'!O23)-$B$9","v":4.371727997053864E-2},{"$f":"LN('Page 277'!P24/'Page 277'!P23)-$B$9","v":7.639061118003955E-2},{"$f":"LN('Page 277'!Q24/'Page 277'!Q23)-$B$9","v":0.11928702106771634},{"$f":"LN('Page 277'!R24/'Page 277'!R23)-$B$9","v":-2.9448781244344455E-2},{"$f":"LN('Page 277'!S24/'Page 277'!S23)-$B$9","v":0.22453821245872627},{"$f":"LN('Page 277'!T24/'Page 277'!T23)-$B$9","v":-4.7939099018770893E-3},{"$f":"LN('Page 277'!U24/'Page 277'!U23)-$B$9","v":0.16469040940425925},{"$f":"LN('Page 277'!V24/'Page 277'!V23)-$B$9","v":-3.4107184556176201E-2},{"$f":"LN('Page 277'!W24/'Page 277'!W23)-$B$9","v":2.3412695885035417E-2},{"$f":"LN('Page 277'!X24/'Page 277'!X23)-$B$9","v":5.7103697403467928E-2},{"$f":"LN('Page 277'!Y24/'Page 277'!Y23)-$B$9","v":5.1889549606380259E-2},{"$f":"LN('Page 277'!Z24/'Page 277'!Z23)-$B$9","v":-1.5919037086550042E-2},{"$f":"LN('Page 277'!AA24/'Page 277'!AA23)-$B$9","v":1.0622444273381791E-2},{"$f":"LN('Page 277'!AB24/'Page 277'!AB23)-$B$9","v":0.16426767519765464},{"$f":"LN('Page 277'!AC24/'Page 277'!AC23)-$B$9","v":6.4730241324593707E-2},{"$f":"LN('Page 277'!AD24/'Page 277'!AD23)-$B$9","v":6.3862312586699749E-2},{"$f":"LN('Page 277'!AE24/'Page 277'!AE23)-$B$9","v":7.6169100677571891E-2},{"$f":"LN('Page 277'!AF24/'Page 277'!AF23)-$B$9","v":4.1443394149099817E-3}]
["2003-05-01",9.4166666666666661E-4,{"$f":"LN('Page 277'!B25/'Page 277'!B24)-$B$9","v":4.672066548928773E-2},{"$f":"LN('Page 277'!C25/'Page 277'!C24)-$B$9","v":6.767152322148616E-2},{"$f":"LN('Page 277'!D25/'Page 277'!D24)-$B$9","v":-4.1564189259499125E-3},{"$f":"LN('Page 277'!E25/'Page 277'!E24)-$B$9","v":9.2724124559575224E-2},{"$f":"LN('Page 277'!F25/'Page 277'!F24)-$B$9","v":0.11984129195205841},{"$f":"LN('Page 277'!G25/'Page 277'!G24)-$B$9","v":4.614768995178882E-2},{"$f":"LN('Page 277'!H25/'Page 277'!H24)-$B$9","v":-1.1401337329713251E-2},{"$f":"LN('Page 277'!I25/'Page 277'!I24)-$B$9","v":-3.9721205145253563E-3},{"$f":"LN('Page 277'!J25/'Page 277'!J24)-$B$9","v":4.8671612970896616E-2},{"$f":"LN('Page 277'!K25/'Page 277'!K24)-$B$9","v":-2.8744956337041317E-2},{"$f":"LN('Page 277'!L25/'Page 277'!L24)-$B$9","v":-9.1842857956961396E-3},{"$f":"LN('Page 277'!M25/'Page 277'!M24)-$B$9","v":0.14142322979500391},{"$f":"LN('Page 277'!N25/'Page 277'!N24)-$B$9","v":0.10885323414162132},{"$f":"LN('Page 277'!O25/'Page 277'!O24)-$B$9","v":0.17639676881484304},{"$f":"LN('Page 277'!P25/'Page 277'!P24)-$B$9","v":3.5250751731093953E-2},{"$f":"LN('Page 277'!Q25/'Page 277'!Q24)-$B$9","v":0.12194101028208289},{"$f":"LN('Page 277'!R25/'Page 277'!R24)-$B$9","v":-3.4850788359223971E-2},{"$f":"LN('Page 277'!S25/'Page 277'!S24)-$B$9","v":0.10999309199390565},{"$f":"LN('Page 277'!T25/'Page 277'!T24)-$B$9","v":0.11752683894846386},{"$f":"LN('Page 277'!U25/'Page 277'!U24)-$B$9","v":8.7885734643094987E-2},{"$f":"LN('Page 277'!V25/'Page 277'!V24)-$B$9","v":5.6761155090919706E-3},{"$f":"LN('Page 277'!W25/'Page 277'!W24)-$B$9","v":0.29161424217791787},{"$f":"LN('Page 277'!X25/'Page 277'!X24)-$B$9","v":-4.852721769324464E-2},{"$f":"LN('Page 277'!Y25/'Page 277'!Y24)-$B$9","v":-4.1303396553751502E-2},{"$f":"LN('Page 277'!Z25/'Page 277'!Z24)-$B$9","v":1.0069037086550105E-2},{"$f":"LN('Page 277'!AA25/'Page 277'!AA24)-$B$9","v":1.8792140720683404E-2},{"$f":"LN('Page 277'!AB25/'Page 277'!AB24)-$B$9","v":8.3196753749918542E-2},{"$f":"LN('Page 277'!AC25/'Page 277'!AC24)-$B$9","v":0.1002525555167863},{"$f":"LN('Page 277'!AD25/'Page 277'!AD24)-$B$9","v":9.6692380379589903E-3},{"$f":"LN('Page 277'!AE25/'Page 277'!AE24)-$B$9","v":-7.0947417789291756E-2},{"$f":"LN('Page 277'!AF25/'Page 277'!AF24)-$B$9","v":3.7590668893721417E-2}]
["2003-06-02",8.916666666666668E-4,{"$f":"LN('Page 277'!B26/'Page 277'!B25)-$B$9","v":8.3336260108521892E-3},{"$f":"LN('Page 277'!C26/'Page 277'!C25)-$B$9","v":3.2671978740231762E-2},{"$f":"LN('Page 277'!D26/'Page 277'!D25)-$B$9","v":-4.9771973296788778E-2},{"$f":"LN('Page 277'!E26/'Page 277'!E25)-$B$9","v":7.3955660269299376E-4},{"$f":"LN('Page 277'!F26/'Page 277'!F25)-$B$9","v":0.10947274621627627},{"$f":"LN('Page 277'!G26/'Page 277'!G25)-$B$9","v":3.9735497142715043E-2},{"$f":"LN('Page 277'!H26/'Page 277'!H25)-$B$9","v":6.2196042966952511E-2},{"$f":"LN('Page 277'!I26/'Page 277'!I25)-$B$9","v":-1.504636053234485E-2},{"$f":"LN('Page 277'!J26/'Page 277'!J25)-$B$9","v":2.299672281952304E-3},{"$f":"LN('Page 277'!K26/'Page 277'!K25)-$B$9","v":3.121881614892907E-3},{"$f":"LN('Page 277'!L26/'Page 277'!L25)-$B$9","v":1.5736533537849078E-2},{"$f":"LN('Page 277'!M26/'Page 277'!M25)-$B$9","v":1.8141649233051005E-2},{"$f":"LN('Page 277'!N26/'Page 277'!N25)-$B$9","v":2.1677975173661945E-2},{"$f":"LN('Page 277'!O26/'Page 277'!O25)-$B$9","v":8.9258956078058616E-2},{"$f":"LN('Page 277'!P26/'Page 277'!P25)-$B$9","v":-6.8008204651018173E-2},{"$f":"LN('Page 277'!Q26/'Page 277'!Q25)-$B$9","v":-3.4204173992833393E-3},{"$f":"LN('Page 277'!R26/'Page 277'!R25)-$B$9","v":-5.3015598971637448E-2},{"$f":"LN('Page 277'!S26/'Page 277'!S25)-$B$9","v":3.6335200606148345E-2},{"$f":"LN('Page 277'!T26/'Page 277'!T25)-$B$9","v":2.0026827178202269E-2},{"$f":"LN('Page 277'!U26/'Page 277'!U25)-$B$9","v":0.16100218208933181},{"$f":"LN('Page 277'!V26/'Page 277'!V25)-$B$9","v":1.6861163816293573E-2},{"$f":"LN('Page 277'!W26/'Page 277'!W25)-$B$9","v":0.10749105200128428},{"$f":"LN('Page 277'!X26/'Page 277'!X25)-$B$9","v":8.9065281094654628E-2},{"$f":"LN('Page 277'!Y26/'Page 277'!Y25)-$B$9","v":3.8139163611348614E-2},{"$f":"LN('Page 277'!Z26/'Page 277'!Z25)-$B$9","v":9.3146166587196377E-2},{"$f":"LN('Page 277'!AA26/'Page 277'!AA25)-$B$9","v":-3.2225115445138848E-2},{"$f":"LN('Page 277'!AB26/'Page 277'!AB25)-$B$9","v":7.9766600224569131E-4},{"$f":"LN('Page 277'!AC26/'Page 277'!AC25)-$B$9","v":3.4177732606584708E-2},{"$f":"LN('Page 277'!AD26/'Page 277'!AD25)-$B$9","v":3.833645838142595E-2},{"$f":"LN('Page 277'!AE26/'Page 277'!AE25)-$B$9","v":1.8664869026376818E-2},{"$f":"LN('Page 277'!AF26/'Page 277'!AF25)-$B$9","v":-1.6248661198470654E-2}]
["2003-07-01",7.6666666666666669E-4,{"$f":"LN('Page 277'!B27/'Page 277'!B26)-$B$9","v":1.316850647877368E-2},{"$f":"LN('Page 277'!C27/'Page 277'!C26)-$B$9","v":8.2419709937160579E-2},{"$f":"LN('Page 277'!D27/'Page 277'!D26)-$B$9","v":0.14845482740331309},{"$f":"LN('Page 277'!E27/'Page 277'!E26)-$B$9","v":5.4483491990673656E-2},{"$f":"LN('Page 277'!F27/'Page 277'!F26)-$B$9","v":-3.8475984264318863E-2},{"$f":"LN('Page 277'!G27/'Page 277'!G26)-$B$9","v":5.053145963154998E-2},{"$f":"LN('Page 277'!H27/'Page 277'!H26)-$B$9","v":0.19553353459320463},{"$f":"LN('Page 277'!I27/'Page 277'!I26)-$B$9","v":5.1002679246969163E-2},{"$f":"LN('Page 277'!J27/'Page 277'!J26)-$B$9","v":0.10092316888577954},{"$f":"LN('Page 277'!K27/'Page 277'!K26)-$B$9","v":-1.1628933851860136E-2},{"$f":"LN('Page 277'!L27/'Page 277'!L26)-$B$9","v":3.5883941468620117E-2},{"$f":"LN('Page 277'!M27/'Page 277'!M26)-$B$9","v":-6.2869237275739259E-2},{"$f":"LN('Page 277'!N27/'Page 277'!N26)-$B$9","v":4.9085168845747332E-2},{"$f":"LN('Page 277'!O27/'Page 277'!O26)-$B$9","v":-8.8131426252225972E-3},{"$f":"LN('Page 277'!P27/'Page 277'!P26)-$B$9","v":-1.8108176421390006E-2},{"$f":"LN('Page 277'!Q27/'Page 277'!Q26)-$B$9","v":0.17625320074392264},{"$f":"LN('Page 277'!R27/'Page 277'!R26)-$B$9","v":-1.0775192322921457E-3},{"$f":"LN('Page 277'!S27/'Page 277'!S26)-$B$9","v":3.2313816620500771E-2},{"$f":"LN('Page 277'!T27/'Page 277'!T26)-$B$9","v":-3.4442190037125307E-2},{"$f":"LN('Page 277'!U27/'Page 277'!U26)-$B$9","v":3.9235810824278121E-2},{"$f":"LN('Page 277'!V27/'Page 277'!V26)-$B$9","v":8.0430266807444056E-2},{"$f":"LN('Page 277'!W27/'Page 277'!W26)-$B$9","v":-0.13028330936629925},{"$f":"LN('Page 277'!X27/'Page 277'!X26)-$B$9","v":-9.404760208143223E-2},{"$f":"LN('Page 277'!Y27/'Page 277'!Y26)-$B$9","v":2.658606032565216E-2},{"$f":"LN('Page 277'!Z27/'Page 277'!Z26)-$B$9","v":-2.6334759095252527E-2},{"$f":"LN('Page 277'!AA27/'Page 277'!AA26)-$B$9","v":-1.2485302261982226E-2},{"$f":"LN('Page 277'!AB27/'Page 277'!AB26)-$B$9","v":-7.8141163948547934E-2},{"$f":"LN('Page 277'!AC27/'Page 277'!AC26)-$B$9","v":5.7124633779510312E-2},{"$f":"LN('Page 277'!AD27/'Page 277'!AD26)-$B$9","v":-0.11272155920348242},{"$f":"LN('Page 277'!AE27/'Page 277'!AE26)-$B$9","v":3.7796931788536173E-2},{"$f":"LN('Page 277'!AF27/'Page 277'!AF26)-$B$9","v":-1.2207893430443201E-2}]
["2003-08-01",7.5000000000000012E-4,{"$f":"LN('Page 277'!B28/'Page 277'!B27)-$B$9","v":1.4790343790636196E-2},{"$f":"LN('Page 277'!C28/'Page 277'!C27)-$B$9","v":3.0900096153643881E-2},{"$f":"LN('Page 277'!D28/'Page 277'!D27)-$B$9","v":-7.7801644523636235E-2},{"$f":"LN('Page 277'!E28/'Page 277'!E27)-$B$9","v":1.6804694295527434E-2},{"$f":"LN('Page 277'!F28/'Page 277'!F27)-$B$9","v":0.12363772330842925},{"$f":"LN('Page 277'!G28/'Page 277'!G27)-$B$9","v":-3.5967379965386452E-2},{"$f":"LN('Page 277'!H28/'Page 277'!H27)-$B$9","v":5.954816958602227E-2},{"$f":"LN('Page 277'!I28/'Page 277'!I27)-$B$9","v":2.3108452377250045E-2},{"$f":"LN('Page 277'!J28/'Page 277'!J27)-$B$9","v":-6.9438226748935794E-2},{"$f":"LN('Page 277'!K28/'Page 277'!K27)-$B$9","v":3.6207997702148331E-2},{"$f":"LN('Page 277'!L28/'Page 277'!L27)-$B$9","v":0.10408781600412118},{"$f":"LN('Page 277'!M28/'Page 277'!M27)-$B$9","v":2.7335971781809479E-2},{"$f":"LN('Page 277'!N28/'Page 277'!N27)-$B$9","v":2.8350817991775901E-2},{"$f":"LN('Page 277'!O28/'Page 277'!O27)-$B$9","v":-6.3272839258119648E-2},{"$f":"LN('Page 277'!P28/'Page 277'!P27)-$B$9","v":8.3901823294044928E-3},{"$f":"LN('Page 277'!Q28/'Page 277'!Q27)-$B$9","v":0.13644062452305808},{"$f":"LN('Page 277'!R28/'Page 277'!R27)-$B$9","v":-4.1817629160837096E-2},{"$f":"LN('Page 277'!S28/'Page 277'!S27)-$B$9","v":-2.7038047406809193E-2},{"$f":"LN('Page 277'!T28/'Page 277'!T27)-$B$9","v":-3.5714822822990953E-2},{"$f":"LN('Page 277'!U28/'Page 277'!U27)-$B$9","v":-2.8948773421305359E-2},{"$f":"LN('Page 277'!V28/'Page 277'!V27)-$B$9","v":1.7762291493214576E-2},{"$f":"LN('Page 277'!W28/'Page 277'!W27)-$B$9","v":2.6749074558462916E-2},{"$f":"LN('Page 277'!X28/'Page 277'!X27)-$B$9","v":-4.183353291869199E-2},{"$f":"LN('Page 277'!Y28/'Page 277'!Y27)-$B$9","v":1.4058859378401488E-3},{"$f":"LN('Page 277'!Z28/'Page 277'!Z27)-$B$9","v":-0.1071325285732616},{"$f":"LN('Page 277'!AA28/'Page 277'!AA27)-$B$9","v":-9.4302632734480588E-3},{"$f":"LN('Page 277'!AB28/'Page 277'!AB27)-$B$9","v":-4.2245868393987973E-2},{"$f":"LN('Page 277'!AC28/'Page 277'!AC27)-$B$9","v":6.5249540835719558E-2},{"$f":"LN('Page 277'!AD28/'Page 277'!AD27)-$B$9","v":6.1866803512558126E-3},{"$f":"LN('Page 277'!AE28/'Page 277'!AE27)-$B$9","v":5.3812527611599784E-2},{"$f":"LN('Page 277'!AF28/'Page 277'!AF27)-$B$9","v":6.1726330658814443E-2}]
["2003-09-02",7.9166666666666665E-4,{"$f":"LN('Page 277'!B29/'Page 277'!B28)-$B$9","v":-1.4941232567985654E-2},{"$f":"LN('Page 277'!C29/'Page 277'!C28)-$B$9","v":-9.0944746541645444E-2},{"$f":"LN('Page 277'!D29/'Page 277'!D28)-$B$9","v":-3.3637919790411537E-2},{"$f":"LN('Page 277'!E29/'Page 277'!E28)-$B$9","v":-2.9250000000000001E-3},{"$f":"LN('Page 277'!F29/'Page 277'!F28)-$B$9","v":-8.8437183478071765E-2},{"$f":"LN('Page 277'!G29/'Page 277'!G28)-$B$9","v":4.5636605112987352E-2},{"$f":"LN('Page 277'!H29/'Page 277'!H28)-$B$9","v":-4.5357418702576154E-2},{"$f":"LN('Page 277'!I29/'Page 277'!I28)-$B$9","v":-0.11466903843961539},{"$f":"LN('Page 277'!J29/'Page 277'!J28)-$B$9","v":-1.9630020200002887E-2},{"$f":"LN('Page 277'!K29/'Page 277'!K28)-$B$9","v":1.1228747438093765E-2},{"$f":"LN('Page 277'!L29/'Page 277'!L28)-$B$9","v":-7.1390812468307661E-3},{"$f":"LN('Page 277'!M29/'Page 277'!M28)-$B$9","v":-1.0324100830325219E-2},{"$f":"LN('Page 277'!N29/'Page 277'!N28)-$B$9","v":-9.823517980432489E-2},{"$f":"LN('Page 277'!O29/'Page 277'!O28)-$B$9","v":-2.8336637362336957E-2},{"$f":"LN('Page 277'!P29/'Page 277'!P28)-$B$9","v":7.1263336113208259E-2},{"$f":"LN('Page 277'!Q29/'Page 277'!Q28)-$B$9","v":-4.1122813070573964E-2},{"$f":"LN('Page 277'!R29/'Page 277'!R28)-$B$9","v":-4.2051367227169427E-3},{"$f":"LN('Page 277'!S29/'Page 277'!S28)-$B$9","v":3.2386575566563684E-4},{"$f":"LN('Page 277'!T29/'Page 277'!T28)-$B$9","v":-1.1106525741302605E-2},{"$f":"LN('Page 277'!U29/'Page 277'!U28)-$B$9","v":4.5775482092335174E-2},{"$f":"LN('Page 277'!V29/'Page 277'!V28)-$B$9","v":-3.3812577848030594E-2},{"$f":"LN('Page 277'!W29/'Page 277'!W28)-$B$9","v":7.4410818616388819E-2},{"$f":"LN('Page 277'!X29/'Page 277'!X28)-$B$9","v":1.0287598435463079E-2},{"$f":"LN('Page 277'!Y29/'Page 277'!Y28)-$B$9","v":4.4341181750373708E-2},{"$f":"LN('Page 277'!Z29/'Page 277'!Z28)-$B$9","v":1.244067662535981E-2},{"$f":"LN('Page 277'!AA29/'Page 277'!AA28)-$B$9","v":5.8481354887308358E-2},{"$f":"LN('Page 277'!AB29/'Page 277'!AB28)-$B$9","v":-1.234422191649164E-2},{"$f":"LN('Page 277'!AC29/'Page 277'!AC28)-$B$9","v":-4.061523606416579E-2},{"$f":"LN('Page 277'!AD29/'Page 277'!AD28)-$B$9","v":-8.8082808340306823E-2},{"$f":"LN('Page 277'!AE29/'Page 277'!AE28)-$B$9","v":-6.0586656685777819E-2},{"$f":"LN('Page 277'!AF29/'Page 277'!AF28)-$B$9","v":-3.2402023295629481E-2}]
["2003-10-01",7.8333333333333326E-4,{"$f":"LN('Page 277'!B30/'Page 277'!B29)-$B$9","v":5.0579268464946515E-2},{"$f":"LN('Page 277'!C30/'Page 277'!C29)-$B$9","v":0.1852309964408603},{"$f":"LN('Page 277'!D30/'Page 277'!D29)-$B$9","v":4.9759396840289918E-2},{"$f":"LN('Page 277'!E30/'Page 277'!E29)-$B$9","v":4.0155447763902882E-2},{"$f":"LN('Page 277'!F30/'Page 277'!F29)-$B$9","v":0.11153475951294031},{"$f":"LN('Page 277'!G30/'Page 277'!G29)-$B$9","v":4.5223315623648348E-2},{"$f":"LN('Page 277'!H30/'Page 277'!H29)-$B$9","v":6.4357007083321996E-2},{"$f":"LN('Page 277'!I30/'Page 277'!I29)-$B$9","v":6.8790000966208343E-3},{"$f":"LN('Page 277'!J30/'Page 277'!J29)-$B$9","v":0.11264357261022039},{"$f":"LN('Page 277'!K30/'Page 277'!K29)-$B$9","v":-2.995367238791926E-2},{"$f":"LN('Page 277'!L30/'Page 277'!L29)-$B$9","v":3.8707476801552003E-2},{"$f":"LN('Page 277'!M30/'Page 277'!M29)-$B$9","v":0.14896286974584666},{"$f":"LN('Page 277'!N30/'Page 277'!N29)-$B$9","v":0.14695389592550057},{"$f":"LN('Page 277'!O30/'Page 277'!O29)-$B$9","v":0.13928178904379265},{"$f":"LN('Page 277'!P30/'Page 277'!P29)-$B$9","v":9.9917982012811442E-3},{"$f":"LN('Page 277'!Q30/'Page 277'!Q29)-$B$9","v":0.17714768028393868},{"$f":"LN('Page 277'!R30/'Page 277'!R29)-$B$9","v":1.3380284476910687E-2},{"$f":"LN('Page 277'!S30/'Page 277'!S29)-$B$9","v":5.1671299236280784E-2},{"$f":"LN('Page 277'!T30/'Page 277'!T29)-$B$9","v":7.4183551439068532E-2},{"$f":"LN('Page 277'!U30/'Page 277'!U29)-$B$9","v":5.7119131549731736E-2},{"$f":"LN('Page 277'!V30/'Page 277'!V29)-$B$9","v":0.12972612772278089},{"$f":"LN('Page 277'!W30/'Page 277'!W29)-$B$9","v":5.6918676833363303E-2},{"$f":"LN('Page 277'!X30/'Page 277'!X29)-$B$9","v":-0.13750572734726105},{"$f":"LN('Page 277'!Y30/'Page 277'!Y29)-$B$9","v":-5.8871791814679476E-2},{"$f":"LN('Page 277'!Z30/'Page 277'!Z29)-$B$9","v":3.6363905045291689E-2},{"$f":"LN('Page 277'!AA30/'Page 277'!AA29)-$B$9","v":5.8995867562972627E-2},{"$f":"LN('Page 277'!AB30/'Page 277'!AB29)-$B$9","v":8.8937891127566268E-2},{"$f":"LN('Page 277'!AC30/'Page 277'!AC29)-$B$9","v":8.8517084266058726E-2},{"$f":"LN('Page 277'!AD30/'Page 277'!AD29)-$B$9","v":4.3595015634892702E-2},{"$f":"LN('Page 277'!AE30/'Page 277'!AE29)-$B$9","v":5.2639853541171261E-2},{"$f":"LN('Page 277'!AF30/'Page 277'!AF29)-$B$9","v":-3.5060575410434374E-3}]
["2003-11-03",7.6666666666666669E-4,{"$f":"LN('Page 277'!B31/'Page 277'!B30)-$B$9","v":4.1782253560451559E-3},{"$f":"LN('Page 277'!C31/'Page 277'!C30)-$B$9","v":4.0261298653130634E-2},{"$f":"LN('Page 277'!D31/'Page 277'!D30)-$B$9","v":-5.1389239354893756E-2},{"$f":"LN('Page 277'!E31/'Page 277'!E30)-$B$9","v":-2.9471875584085701E-2},{"$f":"LN('Page 277'!F31/'Page 277'!F30)-$B$9","v":-1.0246329288319863E-3},{"$f":"LN('Page 277'!G31/'Page 277'!G30)-$B$9","v":-1.0751927617881522E-2},{"$f":"LN('Page 277'!H31/'Page 277'!H30)-$B$9","v":3.4054003241087434E-2},{"$f":"LN('Page 277'!I31/'Page 277'!I30)-$B$9","v":3.14371501909433E-2},{"$f":"LN('Page 277'!J31/'Page 277'!J30)-$B$9","v":1.6886543965447153E-2},{"$f":"LN('Page 277'!K31/'Page 277'!K30)-$B$9","v":-1.484320438809145E-2},{"$f":"LN('Page 277'!L31/'Page 277'!L30)-$B$9","v":1.1552464660356284E-2},{"$f":"LN('Page 277'!M31/'Page 277'!M30)-$B$9","v":-1.1281594590941305E-2},{"$f":"LN('Page 277'!N31/'Page 277'!N30)-$B$9","v":-2.7166482153972871E-2},{"$f":"LN('Page 277'!O31/'Page 277'!O30)-$B$9","v":-2.8839288765470355E-2},{"$f":"LN('Page 277'!P31/'Page 277'!P30)-$B$9","v":1.0731750320074559E-2},{"$f":"LN('Page 277'!Q31/'Page 277'!Q30)-$B$9","v":1.5355911882333841E-2},{"$f":"LN('Page 277'!R31/'Page 277'!R30)-$B$9","v":-1.88033901267778E-2},{"$f":"LN('Page 277'!S31/'Page 277'!S30)-$B$9","v":-1.7153510998369415E-2},{"$f":"LN('Page 277'!T31/'Page 277'!T30)-$B$9","v":3.9652431530850379E-3},{"$f":"LN('Page 277'!U31/'Page 277'!U30)-$B$9","v":3.7626687720393265E-2},{"$f":"LN('Page 277'!V31/'Page 277'!V30)-$B$9","v":3.4869909770771702E-3},{"$f":"LN('Page 277'!W31/'Page 277'!W30)-$B$9","v":0.10873913544612598},{"$f":"LN('Page 277'!X31/'Page 277'!X30)-$B$9","v":-8.8988169839410367E-2},{"$f":"LN('Page 277'!Y31/'Page 277'!Y30)-$B$9","v":-1.9628685071366603E-2},{"$f":"LN('Page 277'!Z31/'Page 277'!Z30)-$B$9","v":6.2401652348954575E-2},{"$f":"LN('Page 277'!AA31/'Page 277'!AA30)-$B$9","v":-2.4087525898251517E-2},{"$f":"LN('Page 277'!AB31/'Page 277'!AB30)-$B$9","v":-3.2618103825545863E-2},{"$f":"LN('Page 277'!AC31/'Page 277'!AC30)-$B$9","v":1.2993053751249654E-2},{"$f":"LN('Page 277'!AD31/'Page 277'!AD30)-$B$9","v":-2.5742267772115295E-2},{"$f":"LN('Page 277'!AE31/'Page 277'!AE30)-$B$9","v":-6.0711253936324754E-2},{"$f":"LN('Page 277'!AF31/'Page 277'!AF30)-$B$9","v":-6.4184533345599771E-3}]
["2003-12-01",7.7500000000000008E-4,{"$f":"LN('Page 277'!B32/'Page 277'!B31)-$B$9","v":4.6593899306471211E-2},{"$f":"LN('Page 277'!C32/'Page 277'!C31)-$B$9","v":0.14392587466901949},{"$f":"LN('Page 277'!D32/'Page 277'!D31)-$B$9","v":0.13257847731826641},{"$f":"LN('Page 277'!E32/'Page 277'!E31)-$B$9","v":5.2880262571967006E-2},{"$f":"LN('Page 277'!F32/'Page 277'!F31)-$B$9","v":9.02377466417211E-2},{"$f":"LN('Page 277'!G32/'Page 277'!G31)-$B$9","v":2.8693692175218218E-2},{"$f":"LN('Page 277'!H32/'Page 277'!H31)-$B$9","v":8.4956918383866764E-2},{"$f":"LN('Page 277'!I32/'Page 277'!I31)-$B$9","v":9.8578913341273847E-2},{"$f":"LN('Page 277'!J32/'Page 277'!J31)-$B$9","v":1.6938817979480231E-2},{"$f":"LN('Page 277'!K32/'Page 277'!K31)-$B$9","v":8.1115814620105711E-2},{"$f":"LN('Page 277'!L32/'Page 277'!L31)-$B$9","v":0.21867357351561748},{"$f":"LN('Page 277'!M32/'Page 277'!M31)-$B$9","v":-3.6199788884872318E-2},{"$f":"LN('Page 277'!N32/'Page 277'!N31)-$B$9","v":0.11564798751040188},{"$f":"LN('Page 277'!O32/'Page 277'!O31)-$B$9","v":5.5478991538189346E-2},{"$f":"LN('Page 277'!P32/'Page 277'!P31)-$B$9","v":2.0424102959578361E-2},{"$f":"LN('Page 277'!Q32/'Page 277'!Q31)-$B$9","v":-4.8465919977951209E-2},{"$f":"LN('Page 277'!R32/'Page 277'!R31)-$B$9","v":4.3769601720825398E-2},{"$f":"LN('Page 277'!S32/'Page 277'!S31)-$B$9","v":3.4076622069618187E-2},{"$f":"LN('Page 277'!T32/'Page 277'!T31)-$B$9","v":8.467748934678837E-2},{"$f":"LN('Page 277'!U32/'Page 277'!U31)-$B$9","v":-3.4647536398480012E-2},{"$f":"LN('Page 277'!V32/'Page 277'!V31)-$B$9","v":7.0107636721528269E-2},{"$f":"LN('Page 277'!W32/'Page 277'!W31)-$B$9","v":5.5401808890349985E-2},{"$f":"LN('Page 277'!X32/'Page 277'!X31)-$B$9","v":0.13520744202968304},{"$f":"LN('Page 277'!Y32/'Page 277'!Y31)-$B$9","v":5.9366983603303891E-2},{"$f":"LN('Page 277'!Z32/'Page 277'!Z31)-$B$9","v":4.8128725610202094E-2},{"$f":"LN('Page 277'!AA32/'Page 277'!AA31)-$B$9","v":3.4346394797231602E-2},{"$f":"LN('Page 277'!AB32/'Page 277'!AB31)-$B$9","v":0.11045662010017296},{"$f":"LN('Page 277'!AC32/'Page 277'!AC31)-$B$9","v":9.7759878852226853E-2},{"$f":"LN('Page 277'!AD32/'Page 277'!AD31)-$B$9","v":6.3054955075818972E-2},{"$f":"LN('Page 277'!AE32/'Page 277'!AE31)-$B$9","v":-4.8809826115336123E-2},{"$f":"LN('Page 277'!AF32/'Page 277'!AF31)-$B$9","v":0.12141437726874699}]
["2004-01-02",7.5000000000000012E-4,{"$f":"LN('Page 277'!B33/'Page 277'!B32)-$B$9","v":1.4203882262967212E-2},{"$f":"LN('Page 277'!C33/'Page 277'!C32)-$B$9","v":-0.10899230547874653},{"$f":"LN('Page 277'!D33/'Page 277'!D32)-$B$9","v":4.3776093045980624E-2},{"$f":"LN('Page 277'!E33/'Page 277'!E32)-$B$9","v":6.9277318717675743E-2},{"$f":"LN('Page 277'!F33/'Page 277'!F32)-$B$9","v":-1.2109624575250595E-2},{"$f":"LN('Page 277'!G33/'Page 277'!G32)-$B$9","v":2.4461870654487638E-2},{"$f":"LN('Page 277'!H33/'Page 277'!H32)-$B$9","v":-5.9402063555120788E-2},{"$f":"LN('Page 277'!I33/'Page 277'!I32)-$B$9","v":-4.7183220426428016E-2},{"$f":"LN('Page 277'!J33/'Page 277'!J32)-$B$9","v":2.5512935320533409E-2},{"$f":"LN('Page 277'!K33/'Page 277'!K32)-$B$9","v":7.905017773264475E-2},{"$f":"LN('Page 277'!L33/'Page 277'!L32)-$B$9","v":-7.4984445965976698E-2},{"$f":"LN('Page 277'!M33/'Page 277'!M32)-$B$9","v":-3.5035363192894809E-3},{"$f":"LN('Page 277'!N33/'Page 277'!N32)-$B$9","v":7.4538944536647223E-2},{"$f":"LN('Page 277'!O33/'Page 277'!O32)-$B$9","v":3.2026578022813508E-2},{"$f":"LN('Page 277'!P33/'Page 277'!P32)-$B$9","v":6.5360907866131371E-2},{"$f":"LN('Page 277'!Q33/'Page 277'!Q32)-$B$9","v":-5.1650898882304681E-2},{"$f":"LN('Page 277'!R33/'Page 277'!R32)-$B$9","v":3.0521594158827995E-2},{"$f":"LN('Page 277'!S33/'Page 277'!S32)-$B$9","v":6.3562985652396459E-2},{"$f":"LN('Page 277'!T33/'Page 277'!T32)-$B$9","v":-3.3152929391224641E-2},{"$f":"LN('Page 277'!U33/'Page 277'!U32)-$B$9","v":3.2844486478677312E-2},{"$f":"LN('Page 277'!V33/'Page 277'!V32)-$B$9","v":-7.5292079292633762E-2},{"$f":"LN('Page 277'!W33/'Page 277'!W32)-$B$9","v":1.8352398447284878E-2},{"$f":"LN('Page 277'!X33/'Page 277'!X32)-$B$9","v":2.6828474096948125E-2},{"$f":"LN('Page 277'!Y33/'Page 277'!Y32)-$B$9","v":7.4334932827421277E-3},{"$f":"LN('Page 277'!Z33/'Page 277'!Z32)-$B$9","v":3.3139107971852683E-2},{"$f":"LN('Page 277'!AA33/'Page 277'!AA32)-$B$9","v":1.3549150076722295E-2},{"$f":"LN('Page 277'!AB33/'Page 277'!AB32)-$B$9","v":-1.356811598732076E-2},{"$f":"LN('Page 277'!AC33/'Page 277'!AC32)-$B$9","v":5.1704385886665542E-3},{"$f":"LN('Page 277'!AD33/'Page 277'!AD32)-$B$9","v":5.7149363275915195E-2},{"$f":"LN('Page 277'!AE33/'Page 277'!AE32)-$B$9","v":1.1904352158300782E-2},{"$f":"LN('Page 277'!AF33/'Page 277'!AF32)-$B$9","v":-7.83013439925862E-3}]
["2004-02-02",7.3333333333333334E-4,{"$f":"LN('Page 277'!B34/'Page 277'!B33)-$B$9","v":9.2101008291258831E-3},{"$f":"LN('Page 277'!C34/'Page 277'!C33)-$B$9","v":9.3418656147305573E-2},{"$f":"LN('Page 277'!D34/'Page 277'!D33)-$B$9","v":6.053440736926248E-2},{"$f":"LN('Page 277'!E34/'Page 277'!E33)-$B$9","v":2.7053929861486768E-2},{"$f":"LN('Page 277'!F34/'Page 277'!F33)-$B$9","v":3.9073359687963882E-2},{"$f":"LN('Page 277'!G34/'Page 277'!G33)-$B$9","v":1.2639516541111548E-2},{"$f":"LN('Page 277'!H34/'Page 277'!H33)-$B$9","v":-3.3779951048047749E-2},{"$f":"LN('Page 277'!I34/'Page 277'!I33)-$B$9","v":3.1586322865583022E-2},{"$f":"LN('Page 277'!J34/'Page 277'!J33)-$B$9","v":9.7239371252228549E-2},{"$f":"LN('Page 277'!K34/'Page 277'!K33)-$B$9","v":-3.0271082325515196E-2},{"$f":"LN('Page 277'!L34/'Page 277'!L33)-$B$9","v":-2.4705286365647616E-2},{"$f":"LN('Page 277'!M34/'Page 277'!M33)-$B$9","v":2.0524744795784353E-2},{"$f":"LN('Page 277'!N34/'Page 277'!N33)-$B$9","v":-2.7785706226230729E-2},{"$f":"LN('Page 277'!O34/'Page 277'!O33)-$B$9","v":-4.9196599287819741E-2},{"$f":"LN('Page 277'!P34/'Page 277'!P33)-$B$9","v":-2.9258810103692062E-2},{"$f":"LN('Page 277'!Q34/'Page 277'!Q33)-$B$9","v":-4.6012829943006352E-2},{"$f":"LN('Page 277'!R34/'Page 277'!R33)-$B$9","v":1.07684847053601E-2},{"$f":"LN('Page 277'!S34/'Page 277'!S33)-$B$9","v":5.0402740352158769E-2},{"$f":"LN('Page 277'!T34/'Page 277'!T33)-$B$9","v":1.1451387503969058E-2},{"$f":"LN('Page 277'!U34/'Page 277'!U33)-$B$9","v":9.2164858869272934E-2},{"$f":"LN('Page 277'!V34/'Page 277'!V33)-$B$9","v":-1.2014756476429456E-2},{"$f":"LN('Page 277'!W34/'Page 277'!W33)-$B$9","v":3.1691545669163879E-2},{"$f":"LN('Page 277'!X34/'Page 277'!X33)-$B$9","v":7.1089192084301447E-3},{"$f":"LN('Page 277'!Y34/'Page 277'!Y33)-$B$9","v":-4.415928065266702E-2},{"$f":"LN('Page 277'!Z34/'Page 277'!Z33)-$B$9","v":2.0392385492316065E-3},{"$f":"LN('Page 277'!AA34/'Page 277'!AA33)-$B$9","v":1.124506972865269E-2},{"$f":"LN('Page 277'!AB34/'Page 277'!AB33)-$B$9","v":-6.3103889694056114E-2},{"$f":"LN('Page 277'!AC34/'Page 277'!AC33)-$B$9","v":-3.570755910273133E-2},{"$f":"LN('Page 277'!AD34/'Page 277'!AD33)-$B$9","v":3.6085454885268521E-2},{"$f":"LN('Page 277'!AE34/'Page 277'!AE33)-$B$9","v":9.7913742165469345E-2},{"$f":"LN('Page 277'!AF34/'Page 277'!AF33)-$B$9","v":3.6405199116792381E-2}]
["2004-03-01",7.7500000000000008E-4,{"$f":"LN('Page 277'!B35/'Page 277'!B34)-$B$9","v":-1.9419220669989048E-2},{"$f":"LN('Page 277'!C35/'Page 277'!C34)-$B$9","v":-8.0087066365471568E-2},{"$f":"LN('Page 277'!D35/'Page 277'!D34)-$B$9","v":-3.8550755369347683E-2},{"$f":"LN('Page 277'!E35/'Page 277'!E34)-$B$9","v":-3.0652183807602505E-2},{"$f":"LN('Page 277'!F35/'Page 277'!F34)-$B$9","v":-5.7470575740052668E-2},{"$f":"LN('Page 277'!G35/'Page 277'!G34)-$B$9","v":2.5412696551702484E-2},{"$f":"LN('Page 277'!H35/'Page 277'!H34)-$B$9","v":4.0115532294163522E-2},{"$f":"LN('Page 277'!I35/'Page 277'!I34)-$B$9","v":-6.8578970221436775E-2},{"$f":"LN('Page 277'!J35/'Page 277'!J34)-$B$9","v":-6.2709275544337958E-2},{"$f":"LN('Page 277'!K35/'Page 277'!K34)-$B$9","v":-6.6550695880211549E-2},{"$f":"LN('Page 277'!L35/'Page 277'!L34)-$B$9","v":-2.1126660757083821E-2},{"$f":"LN('Page 277'!M35/'Page 277'!M34)-$B$9","v":2.7418316088949599E-2},{"$f":"LN('Page 277'!N35/'Page 277'!N34)-$B$9","v":-3.7684596935936142E-2},{"$f":"LN('Page 277'!O35/'Page 277'!O34)-$B$9","v":6.1412452377530413E-3},{"$f":"LN('Page 277'!P35/'Page 277'!P34)-$B$9","v":-5.241426490018377E-2},{"$f":"LN('Page 277'!Q35/'Page 277'!Q34)-$B$9","v":-7.370581218057147E-2},{"$f":"LN('Page 277'!R35/'Page 277'!R34)-$B$9","v":-6.4011162154750695E-2},{"$f":"LN('Page 277'!S35/'Page 277'!S34)-$B$9","v":1.9459081383537434E-2},{"$f":"LN('Page 277'!T35/'Page 277'!T34)-$B$9","v":8.9345206177182217E-3},{"$f":"LN('Page 277'!U35/'Page 277'!U34)-$B$9","v":6.5779954914861136E-3},{"$f":"LN('Page 277'!V35/'Page 277'!V34)-$B$9","v":4.518072990437047E-2},{"$f":"LN('Page 277'!W35/'Page 277'!W34)-$B$9","v":-4.6692600886521156E-2},{"$f":"LN('Page 277'!X35/'Page 277'!X34)-$B$9","v":-7.937537517020149E-2},{"$f":"LN('Page 277'!Y35/'Page 277'!Y34)-$B$9","v":-6.5403788174560606E-2},{"$f":"LN('Page 277'!Z35/'Page 277'!Z34)-$B$9","v":-4.729732288537309E-2},{"$f":"LN('Page 277'!AA35/'Page 277'!AA34)-$B$9","v":1.9855946868205625E-2},{"$f":"LN('Page 277'!AB35/'Page 277'!AB34)-$B$9","v":1.9084785688655227E-2},{"$f":"LN('Page 277'!AC35/'Page 277'!AC34)-$B$9","v":-6.8049146309160966E-2},{"$f":"LN('Page 277'!AD35/'Page 277'!AD34)-$B$9","v":-5.0781021177635097E-2},{"$f":"LN('Page 277'!AE35/'Page 277'!AE34)-$B$9","v":1.5585391540929856E-3},{"$f":"LN('Page 277'!AF35/'Page 277'!AF34)-$B$9","v":-1.6704498999322442E-2}]
["2004-04-01",7.8333333333333326E-4,{"$f":"LN('Page 277'!B36/'Page 277'!B35)-$B$9","v":-1.9858393494544095E-2},{"$f":"LN('Page 277'!C36/'Page 277'!C35)-$B$9","v":-0.12327465592245827},{"$f":"LN('Page 277'!D36/'Page 277'!D35)-$B$9","v":1.3327413171854104E-3},{"$f":"LN('Page 277'!E36/'Page 277'!E35)-$B$9","v":-6.0559831190551049E-2},{"$f":"LN('Page 277'!F36/'Page 277'!F35)-$B$9","v":3.5712792705413922E-2},{"$f":"LN('Page 277'!G36/'Page 277'!G35)-$B$9","v":-6.7074383628143996E-2},{"$f":"LN('Page 277'!H36/'Page 277'!H35)-$B$9","v":-1.5643772407774557E-2},{"$f":"LN('Page 277'!I36/'Page 277'!I35)-$B$9","v":1.4273198297220822E-2},{"$f":"LN('Page 277'!J36/'Page 277'!J35)-$B$9","v":-8.4498867060109423E-2},{"$f":"LN('Page 277'!K36/'Page 277'!K35)-$B$9","v":-2.1518764938415307E-2},{"$f":"LN('Page 277'!L36/'Page 277'!L35)-$B$9","v":6.4685758964276108E-4},{"$f":"LN('Page 277'!M36/'Page 277'!M35)-$B$9","v":-6.2812986152230466E-2},{"$f":"LN('Page 277'!N36/'Page 277'!N35)-$B$9","v":1.8257679981522695E-2},{"$f":"LN('Page 277'!O36/'Page 277'!O35)-$B$9","v":-0.15047895425582777},{"$f":"LN('Page 277'!P36/'Page 277'!P35)-$B$9","v":-4.368673079691212E-2},{"$f":"LN('Page 277'!Q36/'Page 277'!Q35)-$B$9","v":-5.8505653265543238E-2},{"$f":"LN('Page 277'!R36/'Page 277'!R35)-$B$9","v":6.0296048943286162E-2},{"$f":"LN('Page 277'!S36/'Page 277'!S35)-$B$9","v":-0.10453099861202289},{"$f":"LN('Page 277'!T36/'Page 277'!T35)-$B$9","v":2.5337580437511035E-3},{"$f":"LN('Page 277'!U36/'Page 277'!U35)-$B$9","v":-5.0987891410103139E-2},{"$f":"LN('Page 277'!V36/'Page 277'!V35)-$B$9","v":5.1855934697511347E-2},{"$f":"LN('Page 277'!W36/'Page 277'!W35)-$B$9","v":1.4089791677571944E-2},{"$f":"LN('Page 277'!X36/'Page 277'!X35)-$B$9","v":5.8554335318415814E-2},{"$f":"LN('Page 277'!Y36/'Page 277'!Y35)-$B$9","v":4.4405262181136558E-2},{"$f":"LN('Page 277'!Z36/'Page 277'!Z35)-$B$9","v":1.6973154246793114E-2},{"$f":"LN('Page 277'!AA36/'Page 277'!AA35)-$B$9","v":1.0537883998407261E-2},{"$f":"LN('Page 277'!AB36/'Page 277'!AB35)-$B$9","v":2.4035737395505057E-2},{"$f":"LN('Page 277'!AC36/'Page 277'!AC35)-$B$9","v":-3.4057692400294988E-3},{"$f":"LN('Page 277'!AD36/'Page 277'!AD35)-$B$9","v":3.9660145138635923E-2},{"$f":"LN('Page 277'!AE36/'Page 277'!AE35)-$B$9","v":-4.905181794969328E-2},{"$f":"LN('Page 277'!AF36/'Page 277'!AF35)-$B$9","v":1.9772071099634525E-2}]
["2004-05-03",7.8333333333333326E-4,{"$f":"LN('Page 277'!B37/'Page 277'!B36)-$B$9","v":9.0860242055643674E-3},{"$f":"LN('Page 277'!C37/'Page 277'!C36)-$B$9","v":1.9608322655801785E-2},{"$f":"LN('Page 277'!D37/'Page 277'!D36)-$B$9","v":1.9758694534500052E-2},{"$f":"LN('Page 277'!E37/'Page 277'!E36)-$B$9","v":3.2190967655201144E-2},{"$f":"LN('Page 277'!F37/'Page 277'!F36)-$B$9","v":7.1946251516317603E-2},{"$f":"LN('Page 277'!G37/'Page 277'!G36)-$B$9","v":-3.7992499984439078E-2},{"$f":"LN('Page 277'!H37/'Page 277'!H36)-$B$9","v":-3.4071728996836706E-2},{"$f":"LN('Page 277'!I37/'Page 277'!I36)-$B$9","v":1.126669841086317E-2},{"$f":"LN('Page 277'!J37/'Page 277'!J36)-$B$9","v":1.5931072813824741E-2},{"$f":"LN('Page 277'!K37/'Page 277'!K36)-$B$9","v":3.5287360089794328E-2},{"$f":"LN('Page 277'!L37/'Page 277'!L36)-$B$9","v":-3.5540525360162278E-2},{"$f":"LN('Page 277'!M37/'Page 277'!M36)-$B$9","v":1.7533860824730088E-2},{"$f":"LN('Page 277'!N37/'Page 277'!N36)-$B$9","v":-2.2867369744998568E-2},{"$f":"LN('Page 277'!O37/'Page 277'!O36)-$B$9","v":7.2116487279112282E-2},{"$f":"LN('Page 277'!P37/'Page 277'!P36)-$B$9","v":3.8891396654091351E-3},{"$f":"LN('Page 277'!Q37/'Page 277'!Q36)-$B$9","v":0.10243551565782635},{"$f":"LN('Page 277'!R37/'Page 277'!R36)-$B$9","v":3.2874710257574297E-2},{"$f":"LN('Page 277'!S37/'Page 277'!S36)-$B$9","v":-2.3310097273633576E-2},{"$f":"LN('Page 277'!T37/'Page 277'!T36)-$B$9","v":1.2244122032914358E-2},{"$f":"LN('Page 277'!U37/'Page 277'!U36)-$B$9","v":-3.3935236742560319E-2},{"$f":"LN('Page 277'!V37/'Page 277'!V36)-$B$9","v":-2.1018403124273371E-2},{"$f":"LN('Page 277'!W37/'Page 277'!W36)-$B$9","v":-0.14652034999433955},{"$f":"LN('Page 277'!X37/'Page 277'!X36)-$B$9","v":3.4182610203455344E-3},{"$f":"LN('Page 277'!Y37/'Page 277'!Y36)-$B$9","v":5.5780717746145656E-4},{"$f":"LN('Page 277'!Z37/'Page 277'!Z36)-$B$9","v":-1.0114965066239164E-2},{"$f":"LN('Page 277'!AA37/'Page 277'!AA36)-$B$9","v":1.597105263939495E-2},{"$f":"LN('Page 277'!AB37/'Page 277'!AB36)-$B$9","v":-5.2369120061991729E-2},{"$f":"LN('Page 277'!AC37/'Page 277'!AC36)-$B$9","v":-1.7944662196040701E-2},{"$f":"LN('Page 277'!AD37/'Page 277'!AD36)-$B$9","v":-9.031011895185416E-2},{"$f":"LN('Page 277'!AE37/'Page 277'!AE36)-$B$9","v":-2.3127707317519466E-2},{"$f":"LN('Page 277'!AF37/'Page 277'!AF36)-$B$9","v":1.9991653783354799E-2}]
["2004-06-01",8.5000000000000006E-4,{"$f":"LN('Page 277'!B38/'Page 277'!B37)-$B$9","v":1.4904189249312503E-2},{"$f":"LN('Page 277'!C38/'Page 277'!C37)-$B$9","v":5.0809608594666537E-2},{"$f":"LN('Page 277'!D38/'Page 277'!D37)-$B$9","v":-2.9866435851685514E-2},{"$f":"LN('Page 277'!E38/'Page 277'!E37)-$B$9","v":1.2370355827889768E-2},{"$f":"LN('Page 277'!F38/'Page 277'!F37)-$B$9","v":0.1065074664816285},{"$f":"LN('Page 277'!G38/'Page 277'!G37)-$B$9","v":-1.5444199371835083E-3},{"$f":"LN('Page 277'!H38/'Page 277'!H37)-$B$9","v":5.0113675412935266E-2},{"$f":"LN('Page 277'!I38/'Page 277'!I37)-$B$9","v":2.4868110250319549E-2},{"$f":"LN('Page 277'!J38/'Page 277'!J37)-$B$9","v":7.9587421574464204E-2},{"$f":"LN('Page 277'!K38/'Page 277'!K37)-$B$9","v":4.3362603427557628E-2},{"$f":"LN('Page 277'!L38/'Page 277'!L37)-$B$9","v":2.3251967288443334E-2},{"$f":"LN('Page 277'!M38/'Page 277'!M37)-$B$9","v":-2.0767199933558494E-2},{"$f":"LN('Page 277'!N38/'Page 277'!N37)-$B$9","v":8.02830580882163E-2},{"$f":"LN('Page 277'!O38/'Page 277'!O37)-$B$9","v":-5.8404539601240191E-3},{"$f":"LN('Page 277'!P38/'Page 277'!P37)-$B$9","v":-7.8866440563256975E-3},{"$f":"LN('Page 277'!Q38/'Page 277'!Q37)-$B$9","v":-3.6578505041642673E-2},{"$f":"LN('Page 277'!R38/'Page 277'!R37)-$B$9","v":-3.1120732397186541E-3},{"$f":"LN('Page 277'!S38/'Page 277'!S37)-$B$9","v":4.8118189562901779E-2},{"$f":"LN('Page 277'!T38/'Page 277'!T37)-$B$9","v":-1.5167086700391436E-2},{"$f":"LN('Page 277'!U38/'Page 277'!U37)-$B$9","v":-1.8398429134963118E-2},{"$f":"LN('Page 277'!V38/'Page 277'!V37)-$B$9","v":5.9483200320793059E-2},{"$f":"LN('Page 277'!W38/'Page 277'!W37)-$B$9","v":5.3640714334123013E-2},{"$f":"LN('Page 277'!X38/'Page 277'!X37)-$B$9","v":8.9480297092628773E-3},{"$f":"LN('Page 277'!Y38/'Page 277'!Y37)-$B$9","v":8.2419045420647707E-2},{"$f":"LN('Page 277'!Z38/'Page 277'!Z37)-$B$9","v":-3.3142467700911012E-2},{"$f":"LN('Page 277'!AA38/'Page 277'!AA37)-$B$9","v":6.8686452501524053E-3},{"$f":"LN('Page 277'!AB38/'Page 277'!AB37)-$B$9","v":2.0021452829890127E-2},{"$f":"LN('Page 277'!AC38/'Page 277'!AC37)-$B$9","v":7.4993826376327066E-2},{"$f":"LN('Page 277'!AD38/'Page 277'!AD37)-$B$9","v":4.2793669330290857E-2},{"$f":"LN('Page 277'!AE38/'Page 277'!AE37)-$B$9","v":-6.2584836406335873E-2},{"$f":"LN('Page 277'!AF38/'Page 277'!AF37)-$B$9","v":2.34768189305481E-2}]
["2004-07-01",1.0583333333333332E-3,{"$f":"LN('Page 277'!B39/'Page 277'!B38)-$B$9","v":-3.7817238215330361E-2},{"$f":"LN('Page 277'!C39/'Page 277'!C38)-$B$9","v":-3.3647416261153792E-2},{"$f":"LN('Page 277'!D39/'Page 277'!D38)-$B$9","v":-1.1782200760642549E-2},{"$f":"LN('Page 277'!E39/'Page 277'!E38)-$B$9","v":-2.5145591261204157E-2},{"$f":"LN('Page 277'!F39/'Page 277'!F38)-$B$9","v":-9.6153442659606767E-3},{"$f":"LN('Page 277'!G39/'Page 277'!G38)-$B$9","v":-4.6875205644058761E-2},{"$f":"LN('Page 277'!H39/'Page 277'!H38)-$B$9","v":-7.5689276789855112E-2},{"$f":"LN('Page 277'!I39/'Page 277'!I38)-$B$9","v":-3.8411410386628327E-2},{"$f":"LN('Page 277'!J39/'Page 277'!J38)-$B$9","v":-0.10208257153321848},{"$f":"LN('Page 277'!K39/'Page 277'!K38)-$B$9","v":2.3092205392498965E-2},{"$f":"LN('Page 277'!L39/'Page 277'!L38)-$B$9","v":-7.9981739494974377E-2},{"$f":"LN('Page 277'!M39/'Page 277'!M38)-$B$9","v":-4.5939194319039922E-2},{"$f":"LN('Page 277'!N39/'Page 277'!N38)-$B$9","v":2.3525613508697019E-2},{"$f":"LN('Page 277'!O39/'Page 277'!O38)-$B$9","v":-4.8726932653874039E-2},{"$f":"LN('Page 277'!P39/'Page 277'!P38)-$B$9","v":-1.5262214209784714E-2},{"$f":"LN('Page 277'!Q39/'Page 277'!Q38)-$B$9","v":-0.1271461264734268},{"$f":"LN('Page 277'!R39/'Page 277'!R38)-$B$9","v":-1.0625291593447217E-2},{"$f":"LN('Page 277'!S39/'Page 277'!S38)-$B$9","v":-3.1854981260125266E-2},{"$f":"LN('Page 277'!T39/'Page 277'!T38)-$B$9","v":-0.14345968345138127},{"$f":"LN('Page 277'!U39/'Page 277'!U38)-$B$9","v":5.3433413797281809E-2},{"$f":"LN('Page 277'!V39/'Page 277'!V38)-$B$9","v":-9.1708080819304524E-2},{"$f":"LN('Page 277'!W39/'Page 277'!W38)-$B$9","v":-5.3250083887515766E-2},{"$f":"LN('Page 277'!X39/'Page 277'!X38)-$B$9","v":-4.9103442300736065E-2},{"$f":"LN('Page 277'!Y39/'Page 277'!Y38)-$B$9","v":-5.3221245997214037E-3},{"$f":"LN('Page 277'!Z39/'Page 277'!Z38)-$B$9","v":-7.320250698223156E-2},{"$f":"LN('Page 277'!AA39/'Page 277'!AA38)-$B$9","v":-4.1297611207969979E-2},{"$f":"LN('Page 277'!AB39/'Page 277'!AB38)-$B$9","v":5.4207693344570401E-2},{"$f":"LN('Page 277'!AC39/'Page 277'!AC38)-$B$9","v":1.8960643512760396E-2},{"$f":"LN('Page 277'!AD39/'Page 277'!AD38)-$B$9","v":7.0526847203997309E-2},{"$f":"LN('Page 277'!AE39/'Page 277'!AE38)-$B$9","v":6.7856997293494776E-3},{"$f":"LN('Page 277'!AF39/'Page 277'!AF38)-$B$9","v":3.8685416028686151E-2}]
["2004-08-02",1.1083333333333333E-3,{"$f":"LN('Page 277'!B40/'Page 277'!B39)-$B$9","v":-6.4027942828614104E-4},{"$f":"LN('Page 277'!C40/'Page 277'!C39)-$B$9","v":1.2554186848460032E-2},{"$f":"LN('Page 277'!D40/'Page 277'!D39)-$B$9","v":5.3631297536787612E-3},{"$f":"LN('Page 277'!E40/'Page 277'!E39)-$B$9","v":-7.5686117804824992E-3},{"$f":"LN('Page 277'!F40/'Page 277'!F39)-$B$9","v":2.9694200115319525E-2},{"$f":"LN('Page 277'!G40/'Page 277'!G39)-$B$9","v":5.2001762227230429E-2},{"$f":"LN('Page 277'!H40/'Page 277'!H39)-$B$9","v":-1.3644425632884512E-2},{"$f":"LN('Page 277'!I40/'Page 277'!I39)-$B$9","v":-8.9220194723744015E-3},{"$f":"LN('Page 277'!J40/'Page 277'!J39)-$B$9","v":-3.0692122040448366E-2},{"$f":"LN('Page 277'!K40/'Page 277'!K39)-$B$9","v":-1.6973762349703835E-2},{"$f":"LN('Page 277'!L40/'Page 277'!L39)-$B$9","v":-3.4157035941940292E-2},{"$f":"LN('Page 277'!M40/'Page 277'!M39)-$B$9","v":8.0214081805139364E-2},{"$f":"LN('Page 277'!N40/'Page 277'!N39)-$B$9","v":-4.1712593966549381E-2},{"$f":"LN('Page 277'!O40/'Page 277'!O39)-$B$9","v":-0.12179114875644016},{"$f":"LN('Page 277'!P40/'Page 277'!P39)-$B$9","v":-2.8546138161511022E-2},{"$f":"LN('Page 277'!Q40/'Page 277'!Q39)-$B$9","v":-0.13657675129350103},{"$f":"LN('Page 277'!R40/'Page 277'!R39)-$B$9","v":5.2094375591199206E-2},{"$f":"LN('Page 277'!S40/'Page 277'!S39)-$B$9","v":5.5479639376304957E-2},{"$f":"LN('Page 277'!T40/'Page 277'!T39)-$B$9","v":1.6349838248745245E-2},{"$f":"LN('Page 277'!U40/'Page 277'!U39)-$B$9","v":-2.0847310033410844E-2},{"$f":"LN('Page 277'!V40/'Page 277'!V39)-$B$9","v":1.624483393577248E-3},{"$f":"LN('Page 277'!W40/'Page 277'!W39)-$B$9","v":2.5021837534819531E-2},{"$f":"LN('Page 277'!X40/'Page 277'!X39)-$B$9","v":-1.1443975701798571E-2},{"$f":"LN('Page 277'!Y40/'Page 277'!Y39)-$B$9","v":-4.2914008216363278E-2},{"$f":"LN('Page 277'!Z40/'Page 277'!Z39)-$B$9","v":2.4617724637582182E-2},{"$f":"LN('Page 277'!AA40/'Page 277'!AA39)-$B$9","v":6.7787334909070837E-2},{"$f":"LN('Page 277'!AB40/'Page 277'!AB39)-$B$9","v":1.4413969279510518E-2},{"$f":"LN('Page 277'!AC40/'Page 277'!AC39)-$B$9","v":5.2149635460075876E-3},{"$f":"LN('Page 277'!AD40/'Page 277'!AD39)-$B$9","v":1.5393111193365155E-2},{"$f":"LN('Page 277'!AE40/'Page 277'!AE39)-$B$9","v":-6.9920144177501916E-3},{"$f":"LN('Page 277'!AF40/'Page 277'!AF39)-$B$9","v":-1.1252244860603924E-3}]
["2004-09-01",1.2333333333333335E-3,{"$f":"LN('Page 277'!B41/'Page 277'!B40)-$B$9","v":6.3953368022064833E-3},{"$f":"LN('Page 277'!C41/'Page 277'!C40)-$B$9","v":3.3831140125119674E-2},{"$f":"LN('Page 277'!D41/'Page 277'!D40)-$B$9","v":-4.8489973652217383E-2},{"$f":"LN('Page 277'!E41/'Page 277'!E40)-$B$9","v":2.5523810051248097E-2},{"$f":"LN('Page 277'!F41/'Page 277'!F40)-$B$9","v":-1.4609458115470037E-2},{"$f":"LN('Page 277'!G41/'Page 277'!G40)-$B$9","v":-5.7371339445950596E-2},{"$f":"LN('Page 277'!H41/'Page 277'!H40)-$B$9","v":9.8400158225241119E-2},{"$f":"LN('Page 277'!I41/'Page 277'!I40)-$B$9","v":9.7759551945643865E-3},{"$f":"LN('Page 277'!J41/'Page 277'!J40)-$B$9","v":1.6060453596001023E-3},{"$f":"LN('Page 277'!K41/'Page 277'!K40)-$B$9","v":2.6852303014969856E-2},{"$f":"LN('Page 277'!L41/'Page 277'!L40)-$B$9","v":2.4942208126340609E-2},{"$f":"LN('Page 277'!M41/'Page 277'!M40)-$B$9","v":6.6830017056462382E-2},{"$f":"LN('Page 277'!N41/'Page 277'!N40)-$B$9","v":-6.3952174790071065E-3},{"$f":"LN('Page 277'!O41/'Page 277'!O40)-$B$9","v":4.7966607296389227E-2},{"$f":"LN('Page 277'!P41/'Page 277'!P40)-$B$9","v":9.3743967928666509E-3},{"$f":"LN('Page 277'!Q41/'Page 277'!Q40)-$B$9","v":-6.2436856480036093E-2},{"$f":"LN('Page 277'!R41/'Page 277'!R40)-$B$9","v":-3.3914160905374559E-2},{"$f":"LN('Page 277'!S41/'Page 277'!S40)-$B$9","v":8.6801457187247284E-4},{"$f":"LN('Page 277'!T41/'Page 277'!T40)-$B$9","v":-0.10716011150591219},{"$f":"LN('Page 277'!U41/'Page 277'!U40)-$B$9","v":3.4088288498239833E-2},{"$f":"LN('Page 277'!V41/'Page 277'!V40)-$B$9","v":-3.2353940544069475E-2},{"$f":"LN('Page 277'!W41/'Page 277'!W40)-$B$9","v":-2.7880923076972434E-2},{"$f":"LN('Page 277'!X41/'Page 277'!X40)-$B$9","v":-0.30381210337205905},{"$f":"LN('Page 277'!Y41/'Page 277'!Y40)-$B$9","v":9.8983401435936563E-3},{"$f":"LN('Page 277'!Z41/'Page 277'!Z40)-$B$9","v":-6.8412656201705668E-2},{"$f":"LN('Page 277'!AA41/'Page 277'!AA40)-$B$9","v":-3.6603283992750882E-2},{"$f":"LN('Page 277'!AB41/'Page 277'!AB40)-$B$9","v":3.5003808553710947E-3},{"$f":"LN('Page 277'!AC41/'Page 277'!AC40)-$B$9","v":-8.63804564217922E-3},{"$f":"LN('Page 277'!AD41/'Page 277'!AD40)-$B$9","v":4.2041711508602466E-4},{"$f":"LN('Page 277'!AE41/'Page 277'!AE40)-$B$9","v":6.9234913041715807E-3},{"$f":"LN('Page 277'!AF41/'Page 277'!AF40)-$B$9","v":4.4269097224286409E-2}]
["2004-10-01",1.3750000000000001E-3,{"$f":"LN('Page 277'!B42/'Page 277'!B41)-$B$9","v":1.0991955878213739E-2},{"$f":"LN('Page 277'!C42/'Page 277'!C41)-$B$9","v":-3.5848494104943313E-2},{"$f":"LN('Page 277'!D42/'Page 277'!D41)-$B$9","v":-0.11619411007836554},{"$f":"LN('Page 277'!E42/'Page 277'!E41)-$B$9","v":3.0003447737028201E-2},{"$f":"LN('Page 277'!F42/'Page 277'!F41)-$B$9","v":-3.6757863280558731E-2},{"$f":"LN('Page 277'!G42/'Page 277'!G41)-$B$9","v":1.2091370831930393E-2},{"$f":"LN('Page 277'!H42/'Page 277'!H41)-$B$9","v":3.2068536533496161E-3},{"$f":"LN('Page 277'!I42/'Page 277'!I41)-$B$9","v":-1.194254111172185E-3},{"$f":"LN('Page 277'!J42/'Page 277'!J41)-$B$9","v":0.10860990487919067},{"$f":"LN('Page 277'!K42/'Page 277'!K41)-$B$9","v":1.2867246454419761E-2},{"$f":"LN('Page 277'!L42/'Page 277'!L41)-$B$9","v":-0.10005171073072279},{"$f":"LN('Page 277'!M42/'Page 277'!M41)-$B$9","v":4.4079715101164187E-2},{"$f":"LN('Page 277'!N42/'Page 277'!N41)-$B$9","v":-6.5688349907697174E-2},{"$f":"LN('Page 277'!O42/'Page 277'!O41)-$B$9","v":-7.8443867998182169E-3},{"$f":"LN('Page 277'!P42/'Page 277'!P41)-$B$9","v":4.2774706461875166E-2},{"$f":"LN('Page 277'!Q42/'Page 277'!Q41)-$B$9","v":0.10085020248221568},{"$f":"LN('Page 277'!R42/'Page 277'!R41)-$B$9","v":3.2870578703095558E-2},{"$f":"LN('Page 277'!S42/'Page 277'!S41)-$B$9","v":-2.3138744784200117E-2},{"$f":"LN('Page 277'!T42/'Page 277'!T41)-$B$9","v":1.2132397672493665E-2},{"$f":"LN('Page 277'!U42/'Page 277'!U41)-$B$9","v":3.5981925014750678E-2},{"$f":"LN('Page 277'!V42/'Page 277'!V41)-$B$9","v":-3.3380191412387114E-2},{"$f":"LN('Page 277'!W42/'Page 277'!W41)-$B$9","v":2.6725242639753111E-2},{"$f":"LN('Page 277'!X42/'Page 277'!X41)-$B$9","v":-5.5470555578049828E-2},{"$f":"LN('Page 277'!Y42/'Page 277'!Y41)-$B$9","v":8.5177076075332574E-3},{"$f":"LN('Page 277'!Z42/'Page 277'!Z41)-$B$9","v":-5.8297554123491191E-2},{"$f":"LN('Page 277'!AA42/'Page 277'!AA41)-$B$9","v":-5.3956480012445872E-2},{"$f":"LN('Page 277'!AB42/'Page 277'!AB41)-$B$9","v":-1.8415843328658404E-2},{"$f":"LN('Page 277'!AC42/'Page 277'!AC41)-$B$9","v":-8.8925279313911369E-3},{"$f":"LN('Page 277'!AD42/'Page 277'!AD41)-$B$9","v":-7.0092346464349859E-4},{"$f":"LN('Page 277'!AE42/'Page 277'!AE41)-$B$9","v":1.0626118711871383E-2},{"$f":"LN('Page 277'!AF42/'Page 277'!AF41)-$B$9","v":1.5346168998358656E-2}]
["2004-11-01",1.4666666666666667E-3,{"$f":"LN('Page 277'!B43/'Page 277'!B42)-$B$9","v":3.4943779461133015E-2},{"$f":"LN('Page 277'!C43/'Page 277'!C42)-$B$9","v":4.621423874592958E-2},{"$f":"LN('Page 277'!D43/'Page 277'!D42)-$B$9","v":3.9690214763532412E-2},{"$f":"LN('Page 277'!E43/'Page 277'!E42)-$B$9","v":4.5771359938792465E-2},{"$f":"LN('Page 277'!F43/'Page 277'!F42)-$B$9","v":7.1889207653752382E-2},{"$f":"LN('Page 277'!G43/'Page 277'!G42)-$B$9","v":5.5556161984203524E-3},{"$f":"LN('Page 277'!H43/'Page 277'!H42)-$B$9","v":0.12527508979286364},{"$f":"LN('Page 277'!I43/'Page 277'!I42)-$B$9","v":6.0485785680541748E-2},{"$f":"LN('Page 277'!J43/'Page 277'!J42)-$B$9","v":6.0905628100981518E-2},{"$f":"LN('Page 277'!K43/'Page 277'!K42)-$B$9","v":3.2981708463244053E-2},{"$f":"LN('Page 277'!L43/'Page 277'!L42)-$B$9","v":1.1259634991956381E-2},{"$f":"LN('Page 277'!M43/'Page 277'!M42)-$B$9","v":1.5275207250838869E-2},{"$f":"LN('Page 277'!N43/'Page 277'!N42)-$B$9","v":5.023268734367984E-2},{"$f":"LN('Page 277'!O43/'Page 277'!O42)-$B$9","v":6.6907701379484416E-2},{"$f":"LN('Page 277'!P43/'Page 277'!P42)-$B$9","v":4.7806912352342391E-2},{"$f":"LN('Page 277'!Q43/'Page 277'!Q42)-$B$9","v":4.4178507984759859E-3},{"$f":"LN('Page 277'!R43/'Page 277'!R42)-$B$9","v":3.4374548651550374E-2},{"$f":"LN('Page 277'!S43/'Page 277'!S42)-$B$9","v":-2.7790088832196861E-2},{"$f":"LN('Page 277'!T43/'Page 277'!T42)-$B$9","v":-3.0352604103515132E-2},{"$f":"LN('Page 277'!U43/'Page 277'!U42)-$B$9","v":6.863234076530364E-2},{"$f":"LN('Page 277'!V43/'Page 277'!V42)-$B$9","v":2.714055571682842E-2},{"$f":"LN('Page 277'!W43/'Page 277'!W42)-$B$9","v":0.16803279814363947},{"$f":"LN('Page 277'!X43/'Page 277'!X42)-$B$9","v":-0.11398685171340001},{"$f":"LN('Page 277'!Y43/'Page 277'!Y42)-$B$9","v":6.3110774338825296E-2},{"$f":"LN('Page 277'!Z43/'Page 277'!Z42)-$B$9","v":-3.8589998410538909E-2},{"$f":"LN('Page 277'!AA43/'Page 277'!AA42)-$B$9","v":4.100131329962789E-2},{"$f":"LN('Page 277'!AB43/'Page 277'!AB42)-$B$9","v":-6.4002424203033152E-3},{"$f":"LN('Page 277'!AC43/'Page 277'!AC42)-$B$9","v":5.0803809817069868E-2},{"$f":"LN('Page 277'!AD43/'Page 277'!AD42)-$B$9","v":5.0074696582927083E-2},{"$f":"LN('Page 277'!AE43/'Page 277'!AE42)-$B$9","v":-3.803663145966267E-2},{"$f":"LN('Page 277'!AF43/'Page 277'!AF42)-$B$9","v":4.275255560191487E-2}]
["2004-12-01",1.725E-3,{"$f":"LN('Page 277'!B44/'Page 277'!B43)-$B$9","v":2.9017491193192111E-2},{"$f":"LN('Page 277'!C44/'Page 277'!C43)-$B$9","v":-8.1501913481500571E-2},{"$f":"LN('Page 277'!D44/'Page 277'!D43)-$B$9","v":3.4258670283339884E-2},{"$f":"LN('Page 277'!E44/'Page 277'!E43)-$B$9","v":8.887384784482805E-3},{"$f":"LN('Page 277'!F44/'Page 277'!F43)-$B$9","v":-3.7156269110829039E-2},{"$f":"LN('Page 277'!G44/'Page 277'!G43)-$B$9","v":7.0763997629623154E-2},{"$f":"LN('Page 277'!H44/'Page 277'!H43)-$B$9","v":6.0029811984739403E-2},{"$f":"LN('Page 277'!I44/'Page 277'!I43)-$B$9","v":7.6171996758603311E-2},{"$f":"LN('Page 277'!J44/'Page 277'!J43)-$B$9","v":3.9776865302176716E-2},{"$f":"LN('Page 277'!K44/'Page 277'!K43)-$B$9","v":3.4595760091573079E-2},{"$f":"LN('Page 277'!L44/'Page 277'!L43)-$B$9","v":3.4397922153975455E-2},{"$f":"LN('Page 277'!M44/'Page 277'!M43)-$B$9","v":2.0441111829273544E-2},{"$f":"LN('Page 277'!N44/'Page 277'!N43)-$B$9","v":-5.8786776469240158E-4},{"$f":"LN('Page 277'!O44/'Page 277'!O43)-$B$9","v":4.7882739631713141E-2},{"$f":"LN('Page 277'!P44/'Page 277'!P43)-$B$9","v":4.2168492359046864E-2},{"$f":"LN('Page 277'!Q44/'Page 277'!Q43)-$B$9","v":4.134782367798804E-2},{"$f":"LN('Page 277'!R44/'Page 277'!R43)-$B$9","v":4.728986878426121E-2},{"$f":"LN('Page 277'!S44/'Page 277'!S43)-$B$9","v":3.237114690378274E-2},{"$f":"LN('Page 277'!T44/'Page 277'!T43)-$B$9","v":5.4704112836636426E-2},{"$f":"LN('Page 277'!U44/'Page 277'!U43)-$B$9","v":3.9330229895782234E-2},{"$f":"LN('Page 277'!V44/'Page 277'!V43)-$B$9","v":2.7775799499319052E-2},{"$f":"LN('Page 277'!W44/'Page 277'!W43)-$B$9","v":6.9920091274365478E-2},{"$f":"LN('Page 277'!X44/'Page 277'!X43)-$B$9","v":0.14771895501804844},{"$f":"LN('Page 277'!Y44/'Page 277'!Y43)-$B$9","v":-5.9726214064748373E-3},{"$f":"LN('Page 277'!Z44/'Page 277'!Z43)-$B$9","v":-3.5210663497968718E-2},{"$f":"LN('Page 277'!AA44/'Page 277'!AA43)-$B$9","v":2.6508435848742025E-2},{"$f":"LN('Page 277'!AB44/'Page 277'!AB43)-$B$9","v":2.0726930318661591E-2},{"$f":"LN('Page 277'!AC44/'Page 277'!AC43)-$B$9","v":5.4431806857164956E-2},{"$f":"LN('Page 277'!AD44/'Page 277'!AD43)-$B$9","v":-2.0459987010644373E-2},{"$f":"LN('Page 277'!AE44/'Page 277'!AE43)-$B$9","v":1.4013008368924173E-2},{"$f":"LN('Page 277'!AF44/'Page 277'!AF43)-$B$9","v":-2.7238939158632418E-3}]
["2005-01-03",1.825E-3,{"$f":"LN('Page 277'!B45/'Page 277'!B44)-$B$9","v":-2.8540747968515912E-2},{"$f":"LN('Page 277'!C45/'Page 277'!C44)-$B$9","v":-6.5233573338710937E-2},{"$f":"LN('Page 277'!D45/'Page 277'!D44)-$B$9","v":6.4258767502730768E-3},{"$f":"LN('Page 277'!E45/'Page 277'!E44)-$B$9","v":-5.5802616444773391E-2},{"$f":"LN('Page 277'!F45/'Page 277'!F44)-$B$9","v":-2.57396777661714E-2},{"$f":"LN('Page 277'!G45/'Page 277'!G44)-$B$9","v":1.5000110113229551E-2},{"$f":"LN('Page 277'!H45/'Page 277'!H44)-$B$9","v":-8.877032985243509E-2},{"$f":"LN('Page 277'!I45/'Page 277'!I44)-$B$9","v":-3.3817167212963982E-2},{"$f":"LN('Page 277'!J45/'Page 277'!J44)-$B$9","v":2.6446738905941854E-2},{"$f":"LN('Page 277'!K45/'Page 277'!K44)-$B$9","v":-1.2966685297054388E-2},{"$f":"LN('Page 277'!L45/'Page 277'!L44)-$B$9","v":-8.7546241930356386E-2},{"$f":"LN('Page 277'!M45/'Page 277'!M44)-$B$9","v":-3.8305477259514338E-2},{"$f":"LN('Page 277'!N45/'Page 277'!N44)-$B$9","v":1.2996598453525444E-2},{"$f":"LN('Page 277'!O45/'Page 277'!O44)-$B$9","v":-7.0739075802137771E-2},{"$f":"LN('Page 277'!P45/'Page 277'!P44)-$B$9","v":-5.6677492235068981E-2},{"$f":"LN('Page 277'!Q45/'Page 277'!Q44)-$B$9","v":-4.4002203519580362E-2},{"$f":"LN('Page 277'!R45/'Page 277'!R44)-$B$9","v":1.7049890936536489E-2},{"$f":"LN('Page 277'!S45/'Page 277'!S44)-$B$9","v":-3.8221146903782768E-2},{"$f":"LN('Page 277'!T45/'Page 277'!T44)-$B$9","v":-6.6820488777121767E-3},{"$f":"LN('Page 277'!U45/'Page 277'!U44)-$B$9","v":7.2080822707879053E-3},{"$f":"LN('Page 277'!V45/'Page 277'!V44)-$B$9","v":2.4657814615142014E-2},{"$f":"LN('Page 277'!W45/'Page 277'!W44)-$B$9","v":4.084266923382758E-2},{"$f":"LN('Page 277'!X45/'Page 277'!X44)-$B$9","v":-0.13889687714720947},{"$f":"LN('Page 277'!Y45/'Page 277'!Y44)-$B$9","v":-1.9854992671041276E-2},{"$f":"LN('Page 277'!Z45/'Page 277'!Z44)-$B$9","v":-0.1100231355563671},{"$f":"LN('Page 277'!AA45/'Page 277'!AA44)-$B$9","v":-3.2551169780147063E-2},{"$f":"LN('Page 277'!AB45/'Page 277'!AB44)-$B$9","v":-7.152331634275233E-2},{"$f":"LN('Page 277'!AC45/'Page 277'!AC44)-$B$9","v":-2.9051888043386216E-2},{"$f":"LN('Page 277'!AD45/'Page 277'!AD44)-$B$9","v":-0.12265310485004924},{"$f":"LN('Page 277'!AE45/'Page 277'!AE44)-$B$9","v":-1.0871548261299095E-2},{"$f":"LN('Page 277'!AF45/'Page 277'!AF44)-$B$9","v":3.6889132769810005E-3}]
["2005-02-01",1.9416666666666668E-3,{"$f":"LN('Page 277'!B46/'Page 277'!B45)-$B$9","v":1.5801934874337724E-2},{"$f":"LN('Page 277'!C46/'Page 277'!C45)-$B$9","v":8.6906761210009342E-2},{"$f":"LN('Page 277'!D46/'Page 277'!D45)-$B$9","v":4.6749757812586806E-3},{"$f":"LN('Page 277'!E46/'Page 277'!E45)-$B$9","v":1.1950772858652909E-2},{"$f":"LN('Page 277'!F46/'Page 277'!F45)-$B$9","v":8.4626042410174893E-2},{"$f":"LN('Page 277'!G46/'Page 277'!G45)-$B$9","v":-2.1504061090213269E-2},{"$f":"LN('Page 277'!H46/'Page 277'!H45)-$B$9","v":6.1871397100662778E-2},{"$f":"LN('Page 277'!I46/'Page 277'!I45)-$B$9","v":0.11804439095894734},{"$f":"LN('Page 277'!J46/'Page 277'!J45)-$B$9","v":-2.7220585874081372E-2},{"$f":"LN('Page 277'!K46/'Page 277'!K45)-$B$9","v":-2.2727627296179755E-2},{"$f":"LN('Page 277'!L46/'Page 277'!L45)-$B$9","v":-2.1706294338486466E-2},{"$f":"LN('Page 277'!M46/'Page 277'!M45)-$B$9","v":-3.3226554580135841E-2},{"$f":"LN('Page 277'!N46/'Page 277'!N45)-$B$9","v":5.6178040431050839E-2},{"$f":"LN('Page 277'!O46/'Page 277'!O45)-$B$9","v":5.7087963591970381E-2},{"$f":"LN('Page 277'!P46/'Page 277'!P45)-$B$9","v":-1.0125554785478262E-2},{"$f":"LN('Page 277'!Q46/'Page 277'!Q45)-$B$9","v":6.7039747892186849E-2},{"$f":"LN('Page 277'!R46/'Page 277'!R45)-$B$9","v":1.5250134839673361E-2},{"$f":"LN('Page 277'!S46/'Page 277'!S45)-$B$9","v":-2.4080734695328915E-2},{"$f":"LN('Page 277'!T46/'Page 277'!T45)-$B$9","v":2.8203995673563007E-2},{"$f":"LN('Page 277'!U46/'Page 277'!U45)-$B$9","v":1.8272801209267085E-2},{"$f":"LN('Page 277'!V46/'Page 277'!V45)-$B$9","v":-2.9250000000000001E-3},{"$f":"LN('Page 277'!W46/'Page 277'!W45)-$B$9","v":2.5115761814603343E-2},{"$f":"LN('Page 277'!X46/'Page 277'!X45)-$B$9","v":0.11957412367854781},{"$f":"LN('Page 277'!Y46/'Page 277'!Y45)-$B$9","v":-4.3310535649574405E-2},{"$f":"LN('Page 277'!Z46/'Page 277'!Z45)-$B$9","v":8.9218114607623744E-2},{"$f":"LN('Page 277'!AA46/'Page 277'!AA45)-$B$9","v":-5.6271826903600847E-3},{"$f":"LN('Page 277'!AB46/'Page 277'!AB45)-$B$9","v":9.7391222157303253E-3},{"$f":"LN('Page 277'!AC46/'Page 277'!AC45)-$B$9","v":-6.5969747501210775E-3},{"$f":"LN('Page 277'!AD46/'Page 277'!AD45)-$B$9","v":7.5935041912203165E-3},{"$f":"LN('Page 277'!AE46/'Page 277'!AE45)-$B$9","v":-1.821941577815165E-2},{"$f":"LN('Page 277'!AF46/'Page 277'!AF45)-$B$9","v":0.20646074149133184}]
["2005-03-01",2.1166666666666664E-3,{"$f":"LN('Page 277'!B47/'Page 277'!B46)-$B$9","v":-2.2227752254528711E-2},{"$f":"LN('Page 277'!C47/'Page 277'!C46)-$B$9","v":-5.8412726498661548E-2},{"$f":"LN('Page 277'!D47/'Page 277'!D46)-$B$9","v":-0.18803663563429759},{"$f":"LN('Page 277'!E47/'Page 277'!E46)-$B$9","v":-5.3396439764517606E-2},{"$f":"LN('Page 277'!F47/'Page 277'!F46)-$B$9","v":5.8571993851172198E-2},{"$f":"LN('Page 277'!G47/'Page 277'!G46)-$B$9","v":-6.29092904571487E-2},{"$f":"LN('Page 277'!H47/'Page 277'!H46)-$B$9","v":-4.1698885621271414E-2},{"$f":"LN('Page 277'!I47/'Page 277'!I46)-$B$9","v":-4.2458996363863639E-2},{"$f":"LN('Page 277'!J47/'Page 277'!J46)-$B$9","v":2.4894197694564631E-2},{"$f":"LN('Page 277'!K47/'Page 277'!K46)-$B$9","v":2.1193559761748432E-2},{"$f":"LN('Page 277'!L47/'Page 277'!L46)-$B$9","v":-0.19583506897247835},{"$f":"LN('Page 277'!M47/'Page 277'!M46)-$B$9","v":-4.6048564739768358E-2},{"$f":"LN('Page 277'!N47/'Page 277'!N46)-$B$9","v":-2.3160855939368383E-2},{"$f":"LN('Page 277'!O47/'Page 277'!O46)-$B$9","v":5.4151831135436722E-2},{"$f":"LN('Page 277'!P47/'Page 277'!P46)-$B$9","v":-1.5929371054261267E-2},{"$f":"LN('Page 277'!Q47/'Page 277'!Q46)-$B$9","v":-3.5318244720235051E-2},{"$f":"LN('Page 277'!R47/'Page 277'!R46)-$B$9","v":2.044886807319905E-2},{"$f":"LN('Page 277'!S47/'Page 277'!S46)-$B$9","v":-5.755419493652951E-2},{"$f":"LN('Page 277'!T47/'Page 277'!T46)-$B$9","v":-2.307310170653111E-2},{"$f":"LN('Page 277'!U47/'Page 277'!U46)-$B$9","v":-6.3646017578951816E-2},{"$f":"LN('Page 277'!V47/'Page 277'!V46)-$B$9","v":1.7694287202735609E-2},{"$f":"LN('Page 277'!W47/'Page 277'!W46)-$B$9","v":4.3677962795744384E-3},{"$f":"LN('Page 277'!X47/'Page 277'!X46)-$B$9","v":2.9766370170432755E-2},{"$f":"LN('Page 277'!Y47/'Page 277'!Y46)-$B$9","v":-4.290559775206345E-2},{"$f":"LN('Page 277'!Z47/'Page 277'!Z46)-$B$9","v":-3.7183360193958738E-3},{"$f":"LN('Page 277'!AA47/'Page 277'!AA46)-$B$9","v":-4.4723890901887066E-3},{"$f":"LN('Page 277'!AB47/'Page 277'!AB46)-$B$9","v":-1.8323855004874063E-2},{"$f":"LN('Page 277'!AC47/'Page 277'!AC46)-$B$9","v":1.4699278729574931E-2},{"$f":"LN('Page 277'!AD47/'Page 277'!AD46)-$B$9","v":-1.6166240709135971E-2},{"$f":"LN('Page 277'!AE47/'Page 277'!AE46)-$B$9","v":-2.935296450870024E-2},{"$f":"LN('Page 277'!AF47/'Page 277'!AF46)-$B$9","v":-6.3195261407945916E-2}]
["2005-04-01",2.2833333333333334E-3,{"$f":"LN('Page 277'!B48/'Page 277'!B47)-$B$9","v":-2.3238519347670371E-2},{"$f":"LN('Page 277'!C48/'Page 277'!C47)-$B$9","v":-4.8866423526176907E-2},{"$f":"LN('Page 277'!D48/'Page 277'!D47)-$B$9","v":-8.8678223660070762E-2},{"$f":"LN('Page 277'!E48/'Page 277'!E47)-$B$9","v":2.2629106869720993E-2},{"$f":"LN('Page 277'!F48/'Page 277'!F47)-$B$9","v":1.5049904970744807E-2},{"$f":"LN('Page 277'!G48/'Page 277'!G47)-$B$9","v":5.049615160637172E-2},{"$f":"LN('Page 277'!H48/'Page 277'!H47)-$B$9","v":-3.607971702633888E-2},{"$f":"LN('Page 277'!I48/'Page 277'!I47)-$B$9","v":-8.7015263411085328E-2},{"$f":"LN('Page 277'!J48/'Page 277'!J47)-$B$9","v":-8.7668621254678072E-2},{"$f":"LN('Page 277'!K48/'Page 277'!K47)-$B$9","v":8.0046640942497841E-4},{"$f":"LN('Page 277'!L48/'Page 277'!L47)-$B$9","v":-9.9805755578711186E-2},{"$f":"LN('Page 277'!M48/'Page 277'!M47)-$B$9","v":-8.1022869719647561E-2},{"$f":"LN('Page 277'!N48/'Page 277'!N47)-$B$9","v":-4.2654129667874782E-2},{"$f":"LN('Page 277'!O48/'Page 277'!O47)-$B$9","v":-7.2314225039504423E-2},{"$f":"LN('Page 277'!P48/'Page 277'!P47)-$B$9","v":-0.18225602457682191},{"$f":"LN('Page 277'!Q48/'Page 277'!Q47)-$B$9","v":9.2915568218766755E-3},{"$f":"LN('Page 277'!R48/'Page 277'!R47)-$B$9","v":1.8867629990852577E-2},{"$f":"LN('Page 277'!S48/'Page 277'!S47)-$B$9","v":3.2450391293981883E-2},{"$f":"LN('Page 277'!T48/'Page 277'!T47)-$B$9","v":3.8641319080112493E-2},{"$f":"LN('Page 277'!U48/'Page 277'!U47)-$B$9","v":-6.3385754548554954E-2},{"$f":"LN('Page 277'!V48/'Page 277'!V47)-$B$9","v":-0.11672438430369086},{"$f":"LN('Page 277'!W48/'Page 277'!W47)-$B$9","v":-9.0798623195070399E-3},{"$f":"LN('Page 277'!X48/'Page 277'!X47)-$B$9","v":4.3251847292534451E-2},{"$f":"LN('Page 277'!Y48/'Page 277'!Y47)-$B$9","v":4.2696225116864946E-2},{"$f":"LN('Page 277'!Z48/'Page 277'!Z47)-$B$9","v":3.0632577179321319E-2},{"$f":"LN('Page 277'!AA48/'Page 277'!AA47)-$B$9","v":2.3626077392297672E-2},{"$f":"LN('Page 277'!AB48/'Page 277'!AB47)-$B$9","v":1.4718524858697884E-2},{"$f":"LN('Page 277'!AC48/'Page 277'!AC47)-$B$9","v":-2.3227717372940812E-3},{"$f":"LN('Page 277'!AD48/'Page 277'!AD47)-$B$9","v":1.6871687307881515E-2},{"$f":"LN('Page 277'!AE48/'Page 277'!AE47)-$B$9","v":-6.4209202245735467E-2},{"$f":"LN('Page 277'!AF48/'Page 277'!AF47)-$B$9","v":-4.7079564830477427E-2}]
["2005-05-02",2.3166666666666665E-3,{"$f":"LN('Page 277'!B49/'Page 277'!B48)-$B$9","v":2.6587223385105795E-2},{"$f":"LN('Page 277'!C49/'Page 277'!C48)-$B$9","v":-6.640363762552795E-2},{"$f":"LN('Page 277'!D49/'Page 277'!D48)-$B$9","v":8.5375995738869448E-2},{"$f":"LN('Page 277'!E49/'Page 277'!E48)-$B$9","v":1.8777240638656743E-2},{"$f":"LN('Page 277'!F49/'Page 277'!F48)-$B$9","v":7.2283526210292021E-2},{"$f":"LN('Page 277'!G49/'Page 277'!G48)-$B$9","v":1.431593211776265E-4},{"$f":"LN('Page 277'!H49/'Page 277'!H48)-$B$9","v":6.3617399816643688E-2},{"$f":"LN('Page 277'!I49/'Page 277'!I48)-$B$9","v":-7.8106415191471507E-3},{"$f":"LN('Page 277'!J49/'Page 277'!J48)-$B$9","v":3.5750741971714135E-2},{"$f":"LN('Page 277'!K49/'Page 277'!K48)-$B$9","v":4.7684415658113526E-3},{"$f":"LN('Page 277'!L49/'Page 277'!L48)-$B$9","v":0.18060210244930316},{"$f":"LN('Page 277'!M49/'Page 277'!M48)-$B$9","v":0.10369763503826326},{"$f":"LN('Page 277'!N49/'Page 277'!N48)-$B$9","v":1.5868263814285962E-2},{"$f":"LN('Page 277'!O49/'Page 277'!O48)-$B$9","v":9.2475273952770859E-2},{"$f":"LN('Page 277'!P49/'Page 277'!P48)-$B$9","v":-1.1187307130305649E-2},{"$f":"LN('Page 277'!Q49/'Page 277'!Q48)-$B$9","v":0.13725165330873543},{"$f":"LN('Page 277'!R49/'Page 277'!R48)-$B$9","v":-2.059517205696865E-2},{"$f":"LN('Page 277'!S49/'Page 277'!S48)-$B$9","v":4.4117900638543078E-3},{"$f":"LN('Page 277'!T49/'Page 277'!T48)-$B$9","v":2.4087799246068551E-2},{"$f":"LN('Page 277'!U49/'Page 277'!U48)-$B$9","v":5.1288816594147524E-2},{"$f":"LN('Page 277'!V49/'Page 277'!V48)-$B$9","v":4.8467127067817646E-3},{"$f":"LN('Page 277'!W49/'Page 277'!W48)-$B$9","v":2.968137264885393E-2},{"$f":"LN('Page 277'!X49/'Page 277'!X48)-$B$9","v":-4.7134633543365605E-2},{"$f":"LN('Page 277'!Y49/'Page 277'!Y48)-$B$9","v":1.9717476749759752E-2},{"$f":"LN('Page 277'!Z49/'Page 277'!Z48)-$B$9","v":3.0656725658307144E-2},{"$f":"LN('Page 277'!AA49/'Page 277'!AA48)-$B$9","v":1.5379582795982411E-2},{"$f":"LN('Page 277'!AB49/'Page 277'!AB48)-$B$9","v":-2.0568524858697926E-2},{"$f":"LN('Page 277'!AC49/'Page 277'!AC48)-$B$9","v":4.9080462970895376E-2},{"$f":"LN('Page 277'!AD49/'Page 277'!AD48)-$B$9","v":-1.4575617219975251E-2},{"$f":"LN('Page 277'!AE49/'Page 277'!AE48)-$B$9","v":2.2385226600492836E-3},{"$f":"LN('Page 277'!AF49/'Page 277'!AF48)-$B$9","v":-1.2503097982146641E-2}]
["2005-06-01",2.3666666666666667E-3,{"$f":"LN('Page 277'!B50/'Page 277'!B49)-$B$9","v":-3.0676874768980214E-3},{"$f":"LN('Page 277'!C50/'Page 277'!C49)-$B$9","v":-3.9362396202430976E-2},{"$f":"LN('Page 277'!D50/'Page 277'!D49)-$B$9","v":4.4288737480265197E-2},{"$f":"LN('Page 277'!E50/'Page 277'!E49)-$B$9","v":-1.2416011710587298E-2},{"$f":"LN('Page 277'!F50/'Page 277'!F49)-$B$9","v":2.9434212580116709E-2},{"$f":"LN('Page 277'!G50/'Page 277'!G49)-$B$9","v":-2.1699709395353945E-2},{"$f":"LN('Page 277'!H50/'Page 277'!H49)-$B$9","v":9.7401902255780902E-3},{"$f":"LN('Page 277'!I50/'Page 277'!I49)-$B$9","v":-8.1151311422276259E-2},{"$f":"LN('Page 277'!J50/'Page 277'!J49)-$B$9","v":-8.8631352460691967E-2},{"$f":"LN('Page 277'!K50/'Page 277'!K49)-$B$9","v":-4.8215759180162986E-2},{"$f":"LN('Page 277'!L50/'Page 277'!L49)-$B$9","v":7.2473017484211852E-2},{"$f":"LN('Page 277'!M50/'Page 277'!M49)-$B$9","v":-1.1735629682154807E-2},{"$f":"LN('Page 277'!N50/'Page 277'!N49)-$B$9","v":8.0163351285932431E-3},{"$f":"LN('Page 277'!O50/'Page 277'!O49)-$B$9","v":4.3717858212284778E-2},{"$f":"LN('Page 277'!P50/'Page 277'!P49)-$B$9","v":-2.1018931385227313E-2},{"$f":"LN('Page 277'!Q50/'Page 277'!Q49)-$B$9","v":-3.860881666413149E-2},{"$f":"LN('Page 277'!R50/'Page 277'!R49)-$B$9","v":-3.4816247537313882E-2},{"$f":"LN('Page 277'!S50/'Page 277'!S49)-$B$9","v":-1.5281732688905493E-2},{"$f":"LN('Page 277'!T50/'Page 277'!T49)-$B$9","v":-6.3346861377198388E-2},{"$f":"LN('Page 277'!U50/'Page 277'!U49)-$B$9","v":-0.1118833021297915},{"$f":"LN('Page 277'!V50/'Page 277'!V49)-$B$9","v":-6.1324722873124807E-2},{"$f":"LN('Page 277'!W50/'Page 277'!W49)-$B$9","v":-3.0022609528046317E-2},{"$f":"LN('Page 277'!X50/'Page 277'!X49)-$B$9","v":-4.302392375742696E-2},{"$f":"LN('Page 277'!Y50/'Page 277'!Y49)-$B$9","v":-4.0544482061249908E-2},{"$f":"LN('Page 277'!Z50/'Page 277'!Z49)-$B$9","v":-1.449445168281773E-2},{"$f":"LN('Page 277'!AA50/'Page 277'!AA49)-$B$9","v":-4.7393588381628063E-2},{"$f":"LN('Page 277'!AB50/'Page 277'!AB49)-$B$9","v":1.2923192240023713E-2},{"$f":"LN('Page 277'!AC50/'Page 277'!AC49)-$B$9","v":-4.1178377781918053E-2},{"$f":"LN('Page 277'!AD50/'Page 277'!AD49)-$B$9","v":-2.6641526617316044E-2},{"$f":"LN('Page 277'!AE50/'Page 277'!AE49)-$B$9","v":1.7466530690980819E-2},{"$f":"LN('Page 277'!AF50/'Page 277'!AF49)-$B$9","v":1.9519608575396804E-2}]
["2005-07-01",2.4750000000000002E-3,{"$f":"LN('Page 277'!B51/'Page 277'!B50)-$B$9","v":3.241145186472915E-2},{"$f":"LN('Page 277'!C51/'Page 277'!C50)-$B$9","v":6.7941115868631843E-2},{"$f":"LN('Page 277'!D51/'Page 277'!D50)-$B$9","v":3.2501047847868218E-2},{"$f":"LN('Page 277'!E51/'Page 277'!E50)-$B$9","v":2.9906770011486773E-2},{"$f":"LN('Page 277'!F51/'Page 277'!F50)-$B$9","v":-2.7711893406181958E-3},{"$f":"LN('Page 277'!G51/'Page 277'!G50)-$B$9","v":-5.3924961834334185E-2},{"$f":"LN('Page 277'!H51/'Page 277'!H50)-$B$9","v":0.12504488096337654},{"$f":"LN('Page 277'!I51/'Page 277'!I50)-$B$9","v":-1.065824298565333E-2},{"$f":"LN('Page 277'!J51/'Page 277'!J50)-$B$9","v":1.4971679691938005E-2},{"$f":"LN('Page 277'!K51/'Page 277'!K50)-$B$9","v":-7.0916726948459449E-3},{"$f":"LN('Page 277'!L51/'Page 277'!L50)-$B$9","v":7.6687877449854433E-2},{"$f":"LN('Page 277'!M51/'Page 277'!M50)-$B$9","v":0.108999040446493},{"$f":"LN('Page 277'!N51/'Page 277'!N50)-$B$9","v":6.6848816470022845E-2},{"$f":"LN('Page 277'!O51/'Page 277'!O50)-$B$9","v":4.328229575117782E-2},{"$f":"LN('Page 277'!P51/'Page 277'!P50)-$B$9","v":0.11469148380916554},{"$f":"LN('Page 277'!Q51/'Page 277'!Q50)-$B$9","v":3.914621392068706E-2},{"$f":"LN('Page 277'!R51/'Page 277'!R50)-$B$9","v":-1.8940564711261688E-2},{"$f":"LN('Page 277'!S51/'Page 277'!S50)-$B$9","v":1.8003484264260739E-3},{"$f":"LN('Page 277'!T51/'Page 277'!T50)-$B$9","v":4.4199103313094762E-2},{"$f":"LN('Page 277'!U51/'Page 277'!U50)-$B$9","v":0.11326304114610691},{"$f":"LN('Page 277'!V51/'Page 277'!V50)-$B$9","v":3.3750870532732229E-2},{"$f":"LN('Page 277'!W51/'Page 277'!W50)-$B$9","v":3.2004729764865333E-2},{"$f":"LN('Page 277'!X51/'Page 277'!X50)-$B$9","v":5.5625742932940425E-3},{"$f":"LN('Page 277'!Y51/'Page 277'!Y50)-$B$9","v":2.7599458210646015E-2},{"$f":"LN('Page 277'!Z51/'Page 277'!Z50)-$B$9","v":-4.2746494186671605E-2},{"$f":"LN('Page 277'!AA51/'Page 277'!AA50)-$B$9","v":5.5329304360585821E-2},{"$f":"LN('Page 277'!AB51/'Page 277'!AB50)-$B$9","v":3.9728200934919043E-2},{"$f":"LN('Page 277'!AC51/'Page 277'!AC50)-$B$9","v":-1.5674176670454627E-2},{"$f":"LN('Page 277'!AD51/'Page 277'!AD50)-$B$9","v":-7.7347004754965958E-4},{"$f":"LN('Page 277'!AE51/'Page 277'!AE50)-$B$9","v":2.0556598372028376E-2},{"$f":"LN('Page 277'!AF51/'Page 277'!AF50)-$B$9","v":1.9026886837931294E-2}]
["2005-08-01",2.6833333333333331E-3,{"$f":"LN('Page 277'!B52/'Page 277'!B51)-$B$9","v":-1.4210467972359156E-2},{"$f":"LN('Page 277'!C52/'Page 277'!C51)-$B$9","v":-4.3777320064980051E-2},{"$f":"LN('Page 277'!D52/'Page 277'!D51)-$B$9","v":-1.7080949230132297E-2},{"$f":"LN('Page 277'!E52/'Page 277'!E51)-$B$9","v":1.4696915974237146E-3},{"$f":"LN('Page 277'!F52/'Page 277'!F51)-$B$9","v":1.5966481995990718E-2},{"$f":"LN('Page 277'!G52/'Page 277'!G51)-$B$9","v":3.3900718583181632E-3},{"$f":"LN('Page 277'!H52/'Page 277'!H51)-$B$9","v":2.6116160489105523E-2},{"$f":"LN('Page 277'!I52/'Page 277'!I51)-$B$9","v":-6.9892475452974501E-2},{"$f":"LN('Page 277'!J52/'Page 277'!J51)-$B$9","v":-2.0420476075724007E-2},{"$f":"LN('Page 277'!K52/'Page 277'!K51)-$B$9","v":-2.9214472935818216E-2},{"$f":"LN('Page 277'!L52/'Page 277'!L51)-$B$9","v":-6.2869142589560709E-2},{"$f":"LN('Page 277'!M52/'Page 277'!M51)-$B$9","v":-7.6549746343640382E-2},{"$f":"LN('Page 277'!N52/'Page 277'!N51)-$B$9","v":-2.3164881347746316E-2},{"$f":"LN('Page 277'!O52/'Page 277'!O51)-$B$9","v":0.11722705726548621},{"$f":"LN('Page 277'!P52/'Page 277'!P51)-$B$9","v":-3.5052817082959542E-2},{"$f":"LN('Page 277'!Q52/'Page 277'!Q51)-$B$9","v":-5.3627103119962202E-2},{"$f":"LN('Page 277'!R52/'Page 277'!R51)-$B$9","v":-6.7686946745628271E-3},{"$f":"LN('Page 277'!S52/'Page 277'!S51)-$B$9","v":-3.9227171292991136E-2},{"$f":"LN('Page 277'!T52/'Page 277'!T51)-$B$9","v":2.4620606915213461E-3},{"$f":"LN('Page 277'!U52/'Page 277'!U51)-$B$9","v":3.7503989995644936E-2},{"$f":"LN('Page 277'!V52/'Page 277'!V51)-$B$9","v":-4.9698375085093983E-2},{"$f":"LN('Page 277'!W52/'Page 277'!W51)-$B$9","v":5.14296047279987E-2},{"$f":"LN('Page 277'!X52/'Page 277'!X51)-$B$9","v":-8.4969936173400651E-2},{"$f":"LN('Page 277'!Y52/'Page 277'!Y51)-$B$9","v":6.6595158606998592E-2},{"$f":"LN('Page 277'!Z52/'Page 277'!Z51)-$B$9","v":-3.5077005438417741E-2},{"$f":"LN('Page 277'!AA52/'Page 277'!AA51)-$B$9","v":-5.6669814273057964E-3},{"$f":"LN('Page 277'!AB52/'Page 277'!AB51)-$B$9","v":-1.8543538747627968E-2},{"$f":"LN('Page 277'!AC52/'Page 277'!AC51)-$B$9","v":-1.2594696617958936E-2},{"$f":"LN('Page 277'!AD52/'Page 277'!AD51)-$B$9","v":-4.8144634834625319E-2},{"$f":"LN('Page 277'!AE52/'Page 277'!AE51)-$B$9","v":-9.2909481022414975E-2},{"$f":"LN('Page 277'!AF52/'Page 277'!AF51)-$B$9","v":2.1271804699411926E-2}]
["2005-09-01",2.8666666666666667E-3,{"$f":"LN('Page 277'!B53/'Page 277'!B52)-$B$9","v":3.9999074268589219E-3},{"$f":"LN('Page 277'!C53/'Page 277'!C52)-$B$9","v":-9.5396150737398336E-2},{"$f":"LN('Page 277'!D53/'Page 277'!D52)-$B$9","v":4.2691997408971935E-2},{"$f":"LN('Page 277'!E53/'Page 277'!E52)-$B$9","v":3.5982446299573381E-2},{"$f":"LN('Page 277'!F53/'Page 277'!F52)-$B$9","v":1.0864187312396821E-2},{"$f":"LN('Page 277'!G53/'Page 277'!G52)-$B$9","v":3.6170160497229306E-2},{"$f":"LN('Page 277'!H53/'Page 277'!H52)-$B$9","v":5.4121992662719186E-2},{"$f":"LN('Page 277'!I53/'Page 277'!I52)-$B$9","v":-1.3093253429252683E-2},{"$f":"LN('Page 277'!J53/'Page 277'!J52)-$B$9","v":-4.5955609011065261E-2},{"$f":"LN('Page 277'!K53/'Page 277'!K52)-$B$9","v":5.611637207175179E-3},{"$f":"LN('Page 277'!L53/'Page 277'!L52)-$B$9","v":-0.11350639743583053},{"$f":"LN('Page 277'!M53/'Page 277'!M52)-$B$9","v":-5.8552110165963338E-2},{"$f":"LN('Page 277'!N53/'Page 277'!N52)-$B$9","v":-2.3583011620421986E-2},{"$f":"LN('Page 277'!O53/'Page 277'!O52)-$B$9","v":5.0241311674076521E-2},{"$f":"LN('Page 277'!P53/'Page 277'!P52)-$B$9","v":-7.9413135036327884E-3},{"$f":"LN('Page 277'!Q53/'Page 277'!Q52)-$B$9","v":-4.5587405188275289E-2},{"$f":"LN('Page 277'!R53/'Page 277'!R52)-$B$9","v":-4.6916430355644521E-3},{"$f":"LN('Page 277'!S53/'Page 277'!S52)-$B$9","v":-1.7036258023656269E-3},{"$f":"LN('Page 277'!T53/'Page 277'!T52)-$B$9","v":-1.5146068672457571E-2},{"$f":"LN('Page 277'!U53/'Page 277'!U52)-$B$9","v":2.8646795875813574E-2},{"$f":"LN('Page 277'!V53/'Page 277'!V52)-$B$9","v":2.7621396365180007E-2},{"$f":"LN('Page 277'!W53/'Page 277'!W52)-$B$9","v":4.9889229686611282E-2},{"$f":"LN('Page 277'!X53/'Page 277'!X52)-$B$9","v":-3.9550917411804651E-2},{"$f":"LN('Page 277'!Y53/'Page 277'!Y52)-$B$9","v":-6.4957438894289649E-2},{"$f":"LN('Page 277'!Z53/'Page 277'!Z52)-$B$9","v":-2.3300603033017994E-2},{"$f":"LN('Page 277'!AA53/'Page 277'!AA52)-$B$9","v":6.6372907636100015E-2},{"$f":"LN('Page 277'!AB53/'Page 277'!AB52)-$B$9","v":-7.3071279590416153E-3},{"$f":"LN('Page 277'!AC53/'Page 277'!AC52)-$B$9","v":3.3254656577502477E-2},{"$f":"LN('Page 277'!AD53/'Page 277'!AD52)-$B$9","v":-3.5676735439710821E-3},{"$f":"LN('Page 277'!AE53/'Page 277'!AE52)-$B$9","v":-2.8646231324919752E-2},{"$f":"LN('Page 277'!AF53/'Page 277'!AF52)-$B$9","v":5.6162526623142063E-2}]
["2005-10-03",2.8500000000000001E-3,{"$f":"LN('Page 277'!B54/'Page 277'!B53)-$B$9","v":-2.082499431377393E-2},{"$f":"LN('Page 277'!C54/'Page 277'!C53)-$B$9","v":-8.3450674693391451E-3},{"$f":"LN('Page 277'!D54/'Page 277'!D53)-$B$9","v":4.1787584018884362E-2},{"$f":"LN('Page 277'!E54/'Page 277'!E53)-$B$9","v":-1.0586327796432768E-2},{"$f":"LN('Page 277'!F54/'Page 277'!F53)-$B$9","v":-5.2824740521956445E-2},{"$f":"LN('Page 277'!G54/'Page 277'!G53)-$B$9","v":2.887670066043914E-3},{"$f":"LN('Page 277'!H54/'Page 277'!H53)-$B$9","v":-0.10910861611297575},{"$f":"LN('Page 277'!I54/'Page 277'!I53)-$B$9","v":5.9547709572152788E-2},{"$f":"LN('Page 277'!J54/'Page 277'!J53)-$B$9","v":6.6604036686783216E-3},{"$f":"LN('Page 277'!K54/'Page 277'!K53)-$B$9","v":4.0331282094668072E-3},{"$f":"LN('Page 277'!L54/'Page 277'!L53)-$B$9","v":-0.1138907416650736},{"$f":"LN('Page 277'!M54/'Page 277'!M53)-$B$9","v":7.0331368722335558E-2},{"$f":"LN('Page 277'!N54/'Page 277'!N53)-$B$9","v":-9.4852455517847475E-2},{"$f":"LN('Page 277'!O54/'Page 277'!O53)-$B$9","v":-4.3430625285962129E-2},{"$f":"LN('Page 277'!P54/'Page 277'!P53)-$B$9","v":1.7607047094810382E-2},{"$f":"LN('Page 277'!Q54/'Page 277'!Q53)-$B$9","v":-5.0502905830525954E-2},{"$f":"LN('Page 277'!R54/'Page 277'!R53)-$B$9","v":-1.3428449556249871E-2},{"$f":"LN('Page 277'!S54/'Page 277'!S53)-$B$9","v":8.3272293297574906E-2},{"$f":"LN('Page 277'!T54/'Page 277'!T53)-$B$9","v":-1.2428516525453674E-2},{"$f":"LN('Page 277'!U54/'Page 277'!U53)-$B$9","v":-6.1267036940418441E-2},{"$f":"LN('Page 277'!V54/'Page 277'!V53)-$B$9","v":3.2085045623190381E-2},{"$f":"LN('Page 277'!W54/'Page 277'!W53)-$B$9","v":1.513355436229237E-2},{"$f":"LN('Page 277'!X54/'Page 277'!X53)-$B$9","v":3.3333877583862997E-2},{"$f":"LN('Page 277'!Y54/'Page 277'!Y53)-$B$9","v":-4.1035505194441414E-3},{"$f":"LN('Page 277'!Z54/'Page 277'!Z53)-$B$9","v":-0.14134983752179425},{"$f":"LN('Page 277'!AA54/'Page 277'!AA53)-$B$9","v":-5.7865550608893868E-2},{"$f":"LN('Page 277'!AB54/'Page 277'!AB53)-$B$9","v":5.8201366253586313E-3},{"$f":"LN('Page 277'!AC54/'Page 277'!AC53)-$B$9","v":-1.3721061283560747E-2},{"$f":"LN('Page 277'!AD54/'Page 277'!AD53)-$B$9","v":-2.6999031851888247E-2},{"$f":"LN('Page 277'!AE54/'Page 277'!AE53)-$B$9","v":7.3831065348175573E-2},{"$f":"LN('Page 277'!AF54/'Page 277'!AF53)-$B$9","v":-0.12679975055085765}]
["2005-11-01",3.0916666666666666E-3,{"$f":"LN('Page 277'!B55/'Page 277'!B54)-$B$9","v":3.1656237676988608E-2},{"$f":"LN('Page 277'!C55/'Page 277'!C54)-$B$9","v":0.12410537360806441},{"$f":"LN('Page 277'!D55/'Page 277'!D54)-$B$9","v":3.2567263906324355E-2},{"$f":"LN('Page 277'!E55/'Page 277'!E54)-$B$9","v":2.9531806178875773E-2},{"$f":"LN('Page 277'!F55/'Page 277'!F54)-$B$9","v":5.4242106581943866E-2},{"$f":"LN('Page 277'!G55/'Page 277'!G54)-$B$9","v":6.5562468119720524E-2},{"$f":"LN('Page 277'!H55/'Page 277'!H54)-$B$9","v":9.1130955342796929E-2},{"$f":"LN('Page 277'!I55/'Page 277'!I54)-$B$9","v":3.0960139264615775E-2},{"$f":"LN('Page 277'!J55/'Page 277'!J54)-$B$9","v":2.003623834818568E-2},{"$f":"LN('Page 277'!K55/'Page 277'!K54)-$B$9","v":4.9061451746949383E-2},{"$f":"LN('Page 277'!L55/'Page 277'!L54)-$B$9","v":-0.20837563730561667},{"$f":"LN('Page 277'!M55/'Page 277'!M54)-$B$9","v":1.7297397007998205E-2},{"$f":"LN('Page 277'!N55/'Page 277'!N54)-$B$9","v":6.8738892514036851E-2},{"$f":"LN('Page 277'!O55/'Page 277'!O54)-$B$9","v":5.3674107365378587E-2},{"$f":"LN('Page 277'!P55/'Page 277'!P54)-$B$9","v":8.1702291677561434E-2},{"$f":"LN('Page 277'!Q55/'Page 277'!Q54)-$B$9","v":0.12747514782673897},{"$f":"LN('Page 277'!R55/'Page 277'!R54)-$B$9","v":-1.173562968215492E-2},{"$f":"LN('Page 277'!S55/'Page 277'!S54)-$B$9","v":4.0625631224768352E-2},{"$f":"LN('Page 277'!T55/'Page 277'!T54)-$B$9","v":1.6004334705107645E-3},{"$f":"LN('Page 277'!U55/'Page 277'!U54)-$B$9","v":8.631795063675772E-2},{"$f":"LN('Page 277'!V55/'Page 277'!V54)-$B$9","v":3.4775662364008371E-2},{"$f":"LN('Page 277'!W55/'Page 277'!W54)-$B$9","v":-3.353749594834856E-2},{"$f":"LN('Page 277'!X55/'Page 277'!X54)-$B$9","v":5.1026285962047981E-2},{"$f":"LN('Page 277'!Y55/'Page 277'!Y54)-$B$9","v":7.4210728882227239E-2},{"$f":"LN('Page 277'!Z55/'Page 277'!Z54)-$B$9","v":-1.9611918785014597E-2},{"$f":"LN('Page 277'!AA55/'Page 277'!AA54)-$B$9","v":1.8143445774304875E-2},{"$f":"LN('Page 277'!AB55/'Page 277'!AB54)-$B$9","v":4.0523060150596285E-2},{"$f":"LN('Page 277'!AC55/'Page 277'!AC54)-$B$9","v":4.9926188193996489E-2},{"$f":"LN('Page 277'!AD55/'Page 277'!AD54)-$B$9","v":1.178355083431217E-2},{"$f":"LN('Page 277'!AE55/'Page 277'!AE54)-$B$9","v":2.3209258710418994E-2},{"$f":"LN('Page 277'!AF55/'Page 277'!AF54)-$B$9","v":3.5230635416790723E-2}]
["2005-12-01",3.2333333333333333E-3,{"$f":"LN('Page 277'!B56/'Page 277'!B55)-$B$9","v":-3.8778500142413689E-3},{"$f":"LN('Page 277'!C56/'Page 277'!C55)-$B$9","v":7.2917213332526196E-2},{"$f":"LN('Page 277'!D56/'Page 277'!D55)-$B$9","v":1.3255862197089498E-2},{"$f":"LN('Page 277'!E56/'Page 277'!E55)-$B$9","v":-2.1416078721959225E-3},{"$f":"LN('Page 277'!F56/'Page 277'!F55)-$B$9","v":2.6775829254173194E-2},{"$f":"LN('Page 277'!G56/'Page 277'!G55)-$B$9","v":-3.3414064186755299E-3},{"$f":"LN('Page 277'!H56/'Page 277'!H55)-$B$9","v":-3.0993223224147471E-3},{"$f":"LN('Page 277'!I56/'Page 277'!I55)-$B$9","v":-8.8923169077704343E-3},{"$f":"LN('Page 277'!J56/'Page 277'!J55)-$B$9","v":-3.1709882094972462E-2},{"$f":"LN('Page 277'!K56/'Page 277'!K55)-$B$9","v":-1.4728793304009405E-2},{"$f":"LN('Page 277'!L56/'Page 277'!L55)-$B$9","v":-0.12321817970226345},{"$f":"LN('Page 277'!M56/'Page 277'!M55)-$B$9","v":-3.453365863644265E-2},{"$f":"LN('Page 277'!N56/'Page 277'!N55)-$B$9","v":1.6253670030572067E-2},{"$f":"LN('Page 277'!O56/'Page 277'!O55)-$B$9","v":-3.6077207316900506E-2},{"$f":"LN('Page 277'!P56/'Page 277'!P55)-$B$9","v":-8.129037668595919E-2},{"$f":"LN('Page 277'!Q56/'Page 277'!Q55)-$B$9","v":-6.9433666504689309E-2},{"$f":"LN('Page 277'!R56/'Page 277'!R55)-$B$9","v":-3.0000817260754827E-2},{"$f":"LN('Page 277'!S56/'Page 277'!S55)-$B$9","v":3.4169875175309658E-2},{"$f":"LN('Page 277'!T56/'Page 277'!T55)-$B$9","v":-6.039099860294693E-2},{"$f":"LN('Page 277'!U56/'Page 277'!U55)-$B$9","v":-6.7728662246293835E-3},{"$f":"LN('Page 277'!V56/'Page 277'!V55)-$B$9","v":-1.5508677756234534E-2},{"$f":"LN('Page 277'!W56/'Page 277'!W55)-$B$9","v":3.3726493165116625E-2},{"$f":"LN('Page 277'!X56/'Page 277'!X55)-$B$9","v":7.5645051941829147E-2},{"$f":"LN('Page 277'!Y56/'Page 277'!Y55)-$B$9","v":-5.9826575518259324E-2},{"$f":"LN('Page 277'!Z56/'Page 277'!Z55)-$B$9","v":9.2385179804324744E-2},{"$f":"LN('Page 277'!AA56/'Page 277'!AA55)-$B$9","v":9.1921032113492281E-3},{"$f":"LN('Page 277'!AB56/'Page 277'!AB55)-$B$9","v":-2.0163181742378345E-2},{"$f":"LN('Page 277'!AC56/'Page 277'!AC55)-$B$9","v":3.4732126385328334E-2},{"$f":"LN('Page 277'!AD56/'Page 277'!AD55)-$B$9","v":-6.2759051855431139E-2},{"$f":"LN('Page 277'!AE56/'Page 277'!AE55)-$B$9","v":-3.6991554563606192E-2},{"$f":"LN('Page 277'!AF56/'Page 277'!AF55)-$B$9","v":-3.5488485910827011E-2}]
["2006-01-03",3.241666666666667E-3,{"$f":"LN('Page 277'!B57/'Page 277'!B56)-$B$9","v":2.222296123051826E-2},{"$f":"LN('Page 277'!C57/'Page 277'!C56)-$B$9","v":6.0226040259666505E-2},{"$f":"LN('Page 277'!D57/'Page 277'!D56)-$B$9","v":-4.4415995554845822E-2},{"$f":"LN('Page 277'!E57/'Page 277'!E56)-$B$9","v":1.8572874490983375E-2},{"$f":"LN('Page 277'!F57/'Page 277'!F56)-$B$9","v":-3.0854088055432879E-2},{"$f":"LN('Page 277'!G57/'Page 277'!G56)-$B$9","v":-4.3946584060690276E-2},{"$f":"LN('Page 277'!H57/'Page 277'!H56)-$B$9","v":0.16266626222915134},{"$f":"LN('Page 277'!I57/'Page 277'!I56)-$B$9","v":-8.4964752711578342E-2},{"$f":"LN('Page 277'!J57/'Page 277'!J56)-$B$9","v":5.1471526110739678E-2},{"$f":"LN('Page 277'!K57/'Page 277'!K56)-$B$9","v":-7.061550533803046E-2},{"$f":"LN('Page 277'!L57/'Page 277'!L56)-$B$9","v":0.21166020228304805},{"$f":"LN('Page 277'!M57/'Page 277'!M56)-$B$9","v":-1.1839225797070246E-3},{"$f":"LN('Page 277'!N57/'Page 277'!N56)-$B$9","v":2.8068664365811669E-2},{"$f":"LN('Page 277'!O57/'Page 277'!O56)-$B$9","v":8.250507120461778E-2},{"$f":"LN('Page 277'!P57/'Page 277'!P56)-$B$9","v":-1.4002036338907608E-2},{"$f":"LN('Page 277'!Q57/'Page 277'!Q56)-$B$9","v":-0.16363707246109951},{"$f":"LN('Page 277'!R57/'Page 277'!R56)-$B$9","v":-4.6458755804915139E-2},{"$f":"LN('Page 277'!S57/'Page 277'!S56)-$B$9","v":7.0969263590465667E-3},{"$f":"LN('Page 277'!T57/'Page 277'!T56)-$B$9","v":2.3405383502959478E-2},{"$f":"LN('Page 277'!U57/'Page 277'!U56)-$B$9","v":3.4617601832919669E-2},{"$f":"LN('Page 277'!V57/'Page 277'!V56)-$B$9","v":-6.6106739632142961E-2},{"$f":"LN('Page 277'!W57/'Page 277'!W56)-$B$9","v":-3.5327194986458907E-2},{"$f":"LN('Page 277'!X57/'Page 277'!X56)-$B$9","v":7.8254829888370209E-2},{"$f":"LN('Page 277'!Y57/'Page 277'!Y56)-$B$9","v":7.093530776521885E-2},{"$f":"LN('Page 277'!Z57/'Page 277'!Z56)-$B$9","v":9.3655828005780539E-2},{"$f":"LN('Page 277'!AA57/'Page 277'!AA56)-$B$9","v":2.4790002237054607E-2},{"$f":"LN('Page 277'!AB57/'Page 277'!AB56)-$B$9","v":6.8665568904359056E-2},{"$f":"LN('Page 277'!AC57/'Page 277'!AC56)-$B$9","v":4.0122747170555174E-2},{"$f":"LN('Page 277'!AD57/'Page 277'!AD56)-$B$9","v":5.9824978107486396E-2},{"$f":"LN('Page 277'!AE57/'Page 277'!AE56)-$B$9","v":-1.76694128178424E-2},{"$f":"LN('Page 277'!AF57/'Page 277'!AF56)-$B$9","v":0.10797867760583343}]
["2006-02-01",3.5333333333333332E-3,{"$f":"LN('Page 277'!B58/'Page 277'!B57)-$B$9","v":-2.4720059358479605E-3},{"$f":"LN('Page 277'!C58/'Page 277'!C57)-$B$9","v":-6.9837371416664656E-2},{"$f":"LN('Page 277'!D58/'Page 277'!D57)-$B$9","v":1.0794727397480003E-2},{"$f":"LN('Page 277'!E58/'Page 277'!E57)-$B$9","v":2.3919712184124434E-2},{"$f":"LN('Page 277'!F58/'Page 277'!F57)-$B$9","v":6.3418941572338294E-2},{"$f":"LN('Page 277'!G58/'Page 277'!G57)-$B$9","v":3.1316916709524189E-3},{"$f":"LN('Page 277'!H58/'Page 277'!H57)-$B$9","v":7.0539074120697529E-2},{"$f":"LN('Page 277'!I58/'Page 277'!I57)-$B$9","v":3.3563293263136687E-2},{"$f":"LN('Page 277'!J58/'Page 277'!J57)-$B$9","v":9.7722728970329367E-2},{"$f":"LN('Page 277'!K58/'Page 277'!K57)-$B$9","v":8.1691045413587911E-3},{"$f":"LN('Page 277'!L58/'Page 277'!L57)-$B$9","v":-0.16125815499882531},{"$f":"LN('Page 277'!M58/'Page 277'!M57)-$B$9","v":3.5827259662623206E-2},{"$f":"LN('Page 277'!N58/'Page 277'!N57)-$B$9","v":6.6436127797502534E-2},{"$f":"LN('Page 277'!O58/'Page 277'!O57)-$B$9","v":4.7981372347513443E-2},{"$f":"LN('Page 277'!P58/'Page 277'!P57)-$B$9","v":-1.3500526247086411E-2},{"$f":"LN('Page 277'!Q58/'Page 277'!Q57)-$B$9","v":-2.9888597877582197E-2},{"$f":"LN('Page 277'!R58/'Page 277'!R57)-$B$9","v":4.6089821976327272E-3},{"$f":"LN('Page 277'!S58/'Page 277'!S57)-$B$9","v":3.1504836211787381E-2},{"$f":"LN('Page 277'!T58/'Page 277'!T57)-$B$9","v":1.1194027143852921E-2},{"$f":"LN('Page 277'!U58/'Page 277'!U57)-$B$9","v":-5.7854138496296458E-3},{"$f":"LN('Page 277'!V58/'Page 277'!V57)-$B$9","v":1.4855083852863354E-2},{"$f":"LN('Page 277'!W58/'Page 277'!W57)-$B$9","v":-9.0212831464255988E-3},{"$f":"LN('Page 277'!X58/'Page 277'!X57)-$B$9","v":7.6914370762530705E-3},{"$f":"LN('Page 277'!Y58/'Page 277'!Y57)-$B$9","v":-4.6060342068847036E-2},{"$f":"LN('Page 277'!Z58/'Page 277'!Z57)-$B$9","v":2.6017184370920314E-2},{"$f":"LN('Page 277'!AA58/'Page 277'!AA57)-$B$9","v":8.8894834137630552E-3},{"$f":"LN('Page 277'!AB58/'Page 277'!AB57)-$B$9","v":5.8326442809923676E-2},{"$f":"LN('Page 277'!AC58/'Page 277'!AC57)-$B$9","v":3.1006702935900319E-3},{"$f":"LN('Page 277'!AD58/'Page 277'!AD57)-$B$9","v":5.9467901627301159E-2},{"$f":"LN('Page 277'!AE58/'Page 277'!AE57)-$B$9","v":-1.9443380210940327E-2},{"$f":"LN('Page 277'!AF58/'Page 277'!AF57)-$B$9","v":-5.3108825252067775E-2}]
["2006-03-01",3.6916666666666664E-3,{"$f":"LN('Page 277'!B59/'Page 277'!B58)-$B$9","v":8.1097339694589446E-3},{"$f":"LN('Page 277'!C59/'Page 277'!C58)-$B$9","v":3.8677779042856318E-2},{"$f":"LN('Page 277'!D59/'Page 277'!D58)-$B$9","v":-4.7434578431258707E-3},{"$f":"LN('Page 277'!E59/'Page 277'!E58)-$B$9","v":-2.8046729083425172E-2},{"$f":"LN('Page 277'!F59/'Page 277'!F58)-$B$9","v":6.66566912883087E-2},{"$f":"LN('Page 277'!G59/'Page 277'!G58)-$B$9","v":1.5451585504656296E-2},{"$f":"LN('Page 277'!H59/'Page 277'!H58)-$B$9","v":-2.0511827303334049E-2},{"$f":"LN('Page 277'!I59/'Page 277'!I58)-$B$9","v":4.5017660970409476E-2},{"$f":"LN('Page 277'!J59/'Page 277'!J58)-$B$9","v":-6.5041018879645161E-3},{"$f":"LN('Page 277'!K59/'Page 277'!K58)-$B$9","v":5.3381755609997979E-2},{"$f":"LN('Page 277'!L59/'Page 277'!L58)-$B$9","v":4.323330292126866E-2},{"$f":"LN('Page 277'!M59/'Page 277'!M58)-$B$9","v":4.2212905368182521E-3},{"$f":"LN('Page 277'!N59/'Page 277'!N58)-$B$9","v":4.054444422072323E-2},{"$f":"LN('Page 277'!O59/'Page 277'!O58)-$B$9","v":2.269816877104151E-3},{"$f":"LN('Page 277'!P59/'Page 277'!P58)-$B$9","v":2.4463832663133185E-2},{"$f":"LN('Page 277'!Q59/'Page 277'!Q58)-$B$9","v":-5.9652880402377401E-2},{"$f":"LN('Page 277'!R59/'Page 277'!R58)-$B$9","v":2.3940745285799248E-2},{"$f":"LN('Page 277'!S59/'Page 277'!S58)-$B$9","v":9.1070665795695612E-3},{"$f":"LN('Page 277'!T59/'Page 277'!T58)-$B$9","v":1.8977727912260051E-3},{"$f":"LN('Page 277'!U59/'Page 277'!U58)-$B$9","v":-1.8805224000889961E-2},{"$f":"LN('Page 277'!V59/'Page 277'!V58)-$B$9","v":2.522690289476506E-2},{"$f":"LN('Page 277'!W59/'Page 277'!W58)-$B$9","v":-6.6292356075807269E-3},{"$f":"LN('Page 277'!X59/'Page 277'!X58)-$B$9","v":1.8549998228097959E-2},{"$f":"LN('Page 277'!Y59/'Page 277'!Y58)-$B$9","v":9.3268703533941899E-3},{"$f":"LN('Page 277'!Z59/'Page 277'!Z58)-$B$9","v":-5.2312875531209634E-2},{"$f":"LN('Page 277'!AA59/'Page 277'!AA58)-$B$9","v":-4.2105445507657983E-2},{"$f":"LN('Page 277'!AB59/'Page 277'!AB58)-$B$9","v":-2.318075630827484E-2},{"$f":"LN('Page 277'!AC59/'Page 277'!AC58)-$B$9","v":-1.206378245844633E-2},{"$f":"LN('Page 277'!AD59/'Page 277'!AD58)-$B$9","v":7.657109330537008E-3},{"$f":"LN('Page 277'!AE59/'Page 277'!AE58)-$B$9","v":4.1381921099570604E-2},{"$f":"LN('Page 277'!AF59/'Page 277'!AF58)-$B$9","v":2.1986427810049402E-2}]
["2006-04-03",3.7583333333333336E-3,{"$f":"LN('Page 277'!B60/'Page 277'!B59)-$B$9","v":9.1573736751443743E-3},{"$f":"LN('Page 277'!C60/'Page 277'!C59)-$B$9","v":9.7064561843298522E-2},{"$f":"LN('Page 277'!D60/'Page 277'!D59)-$B$9","v":-1.5747645540912344E-2},{"$f":"LN('Page 277'!E60/'Page 277'!E59)-$B$9","v":2.3128956241456868E-2},{"$f":"LN('Page 277'!F60/'Page 277'!F59)-$B$9","v":6.5621381577074964E-2},{"$f":"LN('Page 277'!G60/'Page 277'!G59)-$B$9","v":5.3068221186536854E-2},{"$f":"LN('Page 277'!H60/'Page 277'!H59)-$B$9","v":5.3565717135769068E-2},{"$f":"LN('Page 277'!I60/'Page 277'!I59)-$B$9","v":4.0768435217569926E-2},{"$f":"LN('Page 277'!J60/'Page 277'!J59)-$B$9","v":-4.1828427378814851E-4},{"$f":"LN('Page 277'!K60/'Page 277'!K59)-$B$9","v":-8.4442587456266486E-3},{"$f":"LN('Page 277'!L60/'Page 277'!L59)-$B$9","v":7.0300748894030957E-2},{"$f":"LN('Page 277'!M60/'Page 277'!M59)-$B$9","v":-6.0572216771325911E-2},{"$f":"LN('Page 277'!N60/'Page 277'!N59)-$B$9","v":-9.2906940173461874E-3},{"$f":"LN('Page 277'!O60/'Page 277'!O59)-$B$9","v":-1.6117398723521168E-2},{"$f":"LN('Page 277'!P60/'Page 277'!P59)-$B$9","v":-4.5083387389166195E-3},{"$f":"LN('Page 277'!Q60/'Page 277'!Q59)-$B$9","v":2.3580119379997093E-2},{"$f":"LN('Page 277'!R60/'Page 277'!R59)-$B$9","v":-1.3172741260475809E-2},{"$f":"LN('Page 277'!S60/'Page 277'!S59)-$B$9","v":9.1119595746061502E-2},{"$f":"LN('Page 277'!T60/'Page 277'!T59)-$B$9","v":-7.6231743172013727E-4},{"$f":"LN('Page 277'!U60/'Page 277'!U59)-$B$9","v":3.168156817478509E-3},{"$f":"LN('Page 277'!V60/'Page 277'!V59)-$B$9","v":0.11814361082463452},{"$f":"LN('Page 277'!W60/'Page 277'!W59)-$B$9","v":2.9100208754611109E-2},{"$f":"LN('Page 277'!X60/'Page 277'!X59)-$B$9","v":-2.6161595865095331E-2},{"$f":"LN('Page 277'!Y60/'Page 277'!Y59)-$B$9","v":-0.12190801733912256},{"$f":"LN('Page 277'!Z60/'Page 277'!Z59)-$B$9","v":1.3146057021242771E-2},{"$f":"LN('Page 277'!AA60/'Page 277'!AA59)-$B$9","v":1.2657032719997961E-2},{"$f":"LN('Page 277'!AB60/'Page 277'!AB59)-$B$9","v":-2.1667181809740751E-2},{"$f":"LN('Page 277'!AC60/'Page 277'!AC59)-$B$9","v":7.7264267840077977E-2},{"$f":"LN('Page 277'!AD60/'Page 277'!AD59)-$B$9","v":-2.1747656496633863E-2},{"$f":"LN('Page 277'!AE60/'Page 277'!AE59)-$B$9","v":-5.0791435425159008E-2},{"$f":"LN('Page 277'!AF60/'Page 277'!AF59)-$B$9","v":3.2758318735638399E-2}]
["2006-05-01",3.8333333333333331E-3,{"$f":"LN('Page 277'!B61/'Page 277'!B60)-$B$9","v":-3.43299135858917E-2},{"$f":"LN('Page 277'!C61/'Page 277'!C60)-$B$9","v":-6.1396128985531082E-2},{"$f":"LN('Page 277'!D61/'Page 277'!D60)-$B$9","v":-7.1106138612174699E-2},{"$f":"LN('Page 277'!E61/'Page 277'!E60)-$B$9","v":7.2725482747687323E-3},{"$f":"LN('Page 277'!F61/'Page 277'!F60)-$B$9","v":-1.9635770200429944E-3},{"$f":"LN('Page 277'!G61/'Page 277'!G60)-$B$9","v":-1.6023424045918253E-2},{"$f":"LN('Page 277'!H61/'Page 277'!H60)-$B$9","v":-4.0457147504853984E-2},{"$f":"LN('Page 277'!I61/'Page 277'!I60)-$B$9","v":-3.0978305983079591E-2},{"$f":"LN('Page 277'!J61/'Page 277'!J60)-$B$9","v":8.4026766247756457E-2},{"$f":"LN('Page 277'!K61/'Page 277'!K60)-$B$9","v":-1.2290008450496558E-2},{"$f":"LN('Page 277'!L61/'Page 277'!L60)-$B$9","v":0.16971465122364732},{"$f":"LN('Page 277'!M61/'Page 277'!M60)-$B$9","v":-4.9241484975888442E-2},{"$f":"LN('Page 277'!N61/'Page 277'!N60)-$B$9","v":-2.9286459402393532E-2},{"$f":"LN('Page 277'!O61/'Page 277'!O60)-$B$9","v":-5.7083634793053221E-3},{"$f":"LN('Page 277'!P61/'Page 277'!P60)-$B$9","v":-2.9356080431950902E-2},{"$f":"LN('Page 277'!Q61/'Page 277'!Q60)-$B$9","v":-0.10115694904823612},{"$f":"LN('Page 277'!R61/'Page 277'!R60)-$B$9","v":3.0335430607777773E-2},{"$f":"LN('Page 277'!S61/'Page 277'!S60)-$B$9","v":-6.5259035820444108E-2},{"$f":"LN('Page 277'!T61/'Page 277'!T60)-$B$9","v":4.5110473042397313E-2},{"$f":"LN('Page 277'!U61/'Page 277'!U60)-$B$9","v":-4.42654009745721E-2},{"$f":"LN('Page 277'!V61/'Page 277'!V60)-$B$9","v":-1.8579968672613197E-2},{"$f":"LN('Page 277'!W61/'Page 277'!W60)-$B$9","v":-1.4045492693080124E-2},{"$f":"LN('Page 277'!X61/'Page 277'!X60)-$B$9","v":-2.4910436925880866E-2},{"$f":"LN('Page 277'!Y61/'Page 277'!Y60)-$B$9","v":-6.3315858617489743E-2},{"$f":"LN('Page 277'!Z61/'Page 277'!Z60)-$B$9","v":-6.1608501828090176E-2},{"$f":"LN('Page 277'!AA61/'Page 277'!AA60)-$B$9","v":-7.3379168863075231E-2},{"$f":"LN('Page 277'!AB61/'Page 277'!AB60)-$B$9","v":-8.7333415957469018E-3},{"$f":"LN('Page 277'!AC61/'Page 277'!AC60)-$B$9","v":-3.4047313596442166E-3},{"$f":"LN('Page 277'!AD61/'Page 277'!AD60)-$B$9","v":-5.9668868707170433E-2},{"$f":"LN('Page 277'!AE61/'Page 277'!AE60)-$B$9","v":7.383791834888348E-2},{"$f":"LN('Page 277'!AF61/'Page 277'!AF60)-$B$9","v":-3.2845563016438657E-2}]
["2006-06-01",3.933333333333333E-3,{"$f":"LN('Page 277'!B62/'Page 277'!B61)-$B$9","v":-2.8383957146081939E-3},{"$f":"LN('Page 277'!C62/'Page 277'!C61)-$B$9","v":1.7050695423643826E-2},{"$f":"LN('Page 277'!D62/'Page 277'!D61)-$B$9","v":-3.2130246328750049E-2},{"$f":"LN('Page 277'!E62/'Page 277'!E61)-$B$9","v":-2.4178596432443251E-2},{"$f":"LN('Page 277'!F62/'Page 277'!F61)-$B$9","v":-1.9152045333042631E-2},{"$f":"LN('Page 277'!G62/'Page 277'!G61)-$B$9","v":-2.445325326364944E-2},{"$f":"LN('Page 277'!H62/'Page 277'!H61)-$B$9","v":1.7831358000016912E-2},{"$f":"LN('Page 277'!I62/'Page 277'!I61)-$B$9","v":-2.5034541998324524E-2},{"$f":"LN('Page 277'!J62/'Page 277'!J61)-$B$9","v":-1.9454301951210583E-2},{"$f":"LN('Page 277'!K62/'Page 277'!K61)-$B$9","v":-3.4284893977833027E-2},{"$f":"LN('Page 277'!L62/'Page 277'!L61)-$B$9","v":9.8006859901683466E-2},{"$f":"LN('Page 277'!M62/'Page 277'!M61)-$B$9","v":-6.2052849465776473E-2},{"$f":"LN('Page 277'!N62/'Page 277'!N61)-$B$9","v":-2.4526232647006138E-2},{"$f":"LN('Page 277'!O62/'Page 277'!O61)-$B$9","v":-2.1997017823958739E-2},{"$f":"LN('Page 277'!P62/'Page 277'!P61)-$B$9","v":-4.22358298544704E-2},{"$f":"LN('Page 277'!Q62/'Page 277'!Q61)-$B$9","v":5.0031726986248568E-2},{"$f":"LN('Page 277'!R62/'Page 277'!R61)-$B$9","v":-7.9191838446236451E-3},{"$f":"LN('Page 277'!S62/'Page 277'!S61)-$B$9","v":-1.7934215651571377E-2},{"$f":"LN('Page 277'!T62/'Page 277'!T61)-$B$9","v":-1.8836785035639056E-2},{"$f":"LN('Page 277'!U62/'Page 277'!U61)-$B$9","v":9.9552140101974249E-3},{"$f":"LN('Page 277'!V62/'Page 277'!V61)-$B$9","v":-3.8080356559847421E-2},{"$f":"LN('Page 277'!W62/'Page 277'!W61)-$B$9","v":2.3150837632647348E-2},{"$f":"LN('Page 277'!X62/'Page 277'!X61)-$B$9","v":8.7210559433538962E-2},{"$f":"LN('Page 277'!Y62/'Page 277'!Y61)-$B$9","v":2.5368508642611996E-2},{"$f":"LN('Page 277'!Z62/'Page 277'!Z61)-$B$9","v":-1.0987848687308632E-2},{"$f":"LN('Page 277'!AA62/'Page 277'!AA61)-$B$9","v":2.1655208835967804E-2},{"$f":"LN('Page 277'!AB62/'Page 277'!AB61)-$B$9","v":6.5005819035712537E-2},{"$f":"LN('Page 277'!AC62/'Page 277'!AC61)-$B$9","v":1.1367763556925472E-2},{"$f":"LN('Page 277'!AD62/'Page 277'!AD61)-$B$9","v":6.7515628257431667E-2},{"$f":"LN('Page 277'!AE62/'Page 277'!AE61)-$B$9","v":-8.7209176946458009E-3},{"$f":"LN('Page 277'!AF62/'Page 277'!AF61)-$B$9","v":4.2728063085272407E-3}]
["2006-07-03",3.9916666666666668E-3,{"$f":"LN('Page 277'!B63/'Page 277'!B62)-$B$9","v":-6.647871538608352E-3},{"$f":"LN('Page 277'!C63/'Page 277'!C62)-$B$9","v":3.3188771227399903E-2},{"$f":"LN('Page 277'!D63/'Page 277'!D62)-$B$9","v":-4.2807026309584755E-3},{"$f":"LN('Page 277'!E63/'Page 277'!E62)-$B$9","v":-2.3677767626459411E-2},{"$f":"LN('Page 277'!F63/'Page 277'!F62)-$B$9","v":-2.6644456666780159E-2},{"$f":"LN('Page 277'!G63/'Page 277'!G62)-$B$9","v":1.4130792057715624E-2},{"$f":"LN('Page 277'!H63/'Page 277'!H62)-$B$9","v":-2.8766231183887443E-2},{"$f":"LN('Page 277'!I63/'Page 277'!I62)-$B$9","v":-2.8736026243363643E-2},{"$f":"LN('Page 277'!J63/'Page 277'!J62)-$B$9","v":-8.6077831354982679E-3},{"$f":"LN('Page 277'!K63/'Page 277'!K62)-$B$9","v":7.3376919451271609E-3},{"$f":"LN('Page 277'!L63/'Page 277'!L62)-$B$9","v":-1.3385699404055023E-2},{"$f":"LN('Page 277'!M63/'Page 277'!M62)-$B$9","v":-1.472952156054529E-2},{"$f":"LN('Page 277'!N63/'Page 277'!N62)-$B$9","v":-3.6740990178302853E-2},{"$f":"LN('Page 277'!O63/'Page 277'!O62)-$B$9","v":3.3341177984394572E-2},{"$f":"LN('Page 277'!P63/'Page 277'!P62)-$B$9","v":-8.1455808990046844E-3},{"$f":"LN('Page 277'!Q63/'Page 277'!Q62)-$B$9","v":-2.6355251808385997E-2},{"$f":"LN('Page 277'!R63/'Page 277'!R62)-$B$9","v":8.6895324206930826E-3},{"$f":"LN('Page 277'!S63/'Page 277'!S62)-$B$9","v":1.4917747653673506E-2},{"$f":"LN('Page 277'!T63/'Page 277'!T62)-$B$9","v":7.8730124707723954E-4},{"$f":"LN('Page 277'!U63/'Page 277'!U62)-$B$9","v":-1.5503782206860186E-2},{"$f":"LN('Page 277'!V63/'Page 277'!V62)-$B$9","v":-8.9115077152163699E-2},{"$f":"LN('Page 277'!W63/'Page 277'!W62)-$B$9","v":5.4883859720826766E-2},{"$f":"LN('Page 277'!X63/'Page 277'!X62)-$B$9","v":1.1789161928068082E-2},{"$f":"LN('Page 277'!Y63/'Page 277'!Y62)-$B$9","v":-2.9250000000000001E-3},{"$f":"LN('Page 277'!Z63/'Page 277'!Z62)-$B$9","v":5.9828001528727352E-3},{"$f":"LN('Page 277'!AA63/'Page 277'!AA62)-$B$9","v":1.3132436895858468E-2},{"$f":"LN('Page 277'!AB63/'Page 277'!AB62)-$B$9","v":3.5849687412276656E-3},{"$f":"LN('Page 277'!AC63/'Page 277'!AC62)-$B$9","v":-7.9834995630338346E-3},{"$f":"LN('Page 277'!AD63/'Page 277'!AD62)-$B$9","v":-1.4173028605197995E-2},{"$f":"LN('Page 277'!AE63/'Page 277'!AE62)-$B$9","v":-4.9020024153034469E-2},{"$f":"LN('Page 277'!AF63/'Page 277'!AF62)-$B$9","v":2.1071642230499975E-2}]
[]
["Average alpha",null,{"$f":"AVERAGE(D6:AG6)","v":9.6623902784923304E-4},{"$f":"getformula(C70)","v":"<--  =AVERAGE(D6:AG6)"}]
["Average beta",null,{"$f":"AVERAGE(D5:AG5)","v":1.1184851771493745},{"$f":"getformula(C71)","v":"<--  =AVERAGE(D5:AG5)"}]
["Average r-squared",null,{"$f":"AVERAGE(D7:AG7)","v":0.35095346425124213},{"$f":"getformula(C72)","v":"<--  =AVERAGE(D7:AG7)"}]
[]
["Average R2 for best regressions"]
[null,null,{"$f":"SUMIF(D7:AG7,\">\"&TEXT(C79,\"0.00\"))","v":9.8257516253064736},{"$f":"getformula(C75)","v":"<--  =SUMIF(D7:AG7,\">\"&TEXT(C79,\"0.00\"))"}]
[null,null,{"$f":"COUNTIF(D7:AG7,\">\"&TEXT(C79,\"0.00\"))","v":23},{"$f":"getformula(C76)","v":"<--  =COUNTIF(D7:AG7,\">\"&TEXT(C79,\"0.00\"))"}]
["Average R2",null,{"$f":"C75/C76","v":0.42720659240462927},{"$f":"getformula(C77)","v":"<--  =C75/C76"}]
[]
["Sum if R2 > ??",null,0.2]
[]
[]
[]
["For graph"]
["start date",{"$f":"A9","v":37104}]
["stop date",{"$f":"A68","v":38901}]

{"sheet":"Page 287, bottom","index":10,"n_rows":34,"n_cols":8,"rows_kept":34,"cut":false,"hidden":false,"merged":[[0,0,0,7]]}
["THE SECOND-PASS REGRESSION FOR EXCESS RETURNS"]
["Stock","Average\nmonthly\nexcess\nreturn","Beta","Alpha"]
[{"$f":"TRANSPOSE('Page 277 bottom'!C2:AF2)","v":"Alcoa \nAA"},{"$f":"TRANSPOSE('Page 287'!D4:AG4)","v":-3.8054523299949788E-3},{"$f":"TRANSPOSE('Page 287'!D5:AG5)","v":1.9027983836619955},{"$f":"TRANSPOSE('Page 287'!D6:AG6)","v":3.7071047013310541E-4},null,"Second-pass regression, regressing monthly returns on Beta"]
["American International Group \nAIG",-8.2810524791288882E-3,0.99357597429546685,-6.10040367335882E-3,null,"Intercept",{"$f":"INTERCEPT(B3:B32,C3:C32)","v":7.1758895677420014E-4},{"$f":"getformula(G4)","v":"<--  =INTERCEPT(B3:B32,C3:C32)"}]
["American Express AXP",4.2828563356630883E-3,1.3784130266948686,7.3081254628191393E-3,null,"Slope",{"$f":"SLOPE(B3:B32,C3:C32)","v":-1.9724382524452431E-3},{"$f":"getformula(G5)","v":"<--  =SLOPE(B3:B32,C3:C32)"}]
["Boeing BA",3.7351094741208857E-3,1.1514634616640862,6.2622815148358751E-3,null,"R-squared",{"$f":"RSQ(B3:B32,C3:C32)","v":2.3752424923938472E-2},{"$f":"getformula(G6)","v":"<--  =RSQ(B3:B32,C3:C32)"}]
["Citigroup C",8.5192138065507493E-5,1.2951646980207128,2.9277521687839391E-3]
["Caterpillar CAT",1.5019538670859988E-2,1.3903214616252038,1.8070943810843683E-2,null,"t-statistic, intercept",{"$f":"tintercept(B3:B32,C3:C32)","v":0.24391124144331838},{"$f":"getformula(G8)","v":"<--  =tintercept(B3:B32,C3:C32)"}]
["DuPont DD",-1.0792180033520882E-3,1.0009466005598446,1.1176074691017629E-3,null,"t-statistic, slope",{"$f":"tslope(B3:B32,C3:C32)","v":-0.82537822771998115},{"$f":"getformula(G9)","v":"<--  =tslope(B3:B32,C3:C32)"}]
["Disney DIS",5.651558131524106E-6,1.2805379702174073,2.8161096083856854E-3]
["General Electric GE",-5.2695913734344306E-3,0.84198822730205136,-3.4216394605063646E-3]
["General Motors GM",-1.1636586655356239E-2,1.4059650700066384,-8.5508477383716454E-3]
["Home Depot HD",-8.1039842829916039E-3,1.5527908702425728,-4.6959997459196708E-3]
["Honeywell HON",-3.1124721782099911E-5,1.6639716851986355,3.6208736779744623E-3]
["Hewlitt Packard HPQ",3.1396047398152692E-3,1.9594245248915774,7.4400476457854997E-3]
["IBM",-7.576234583685869E-3,1.5764137929690807,-4.1164036860284903E-3]
["Intel \nINTC",-1.0189806590125349E-2,2.2648399177150531,-5.2190538851520129E-3]
["Johnson & Johnson JNJ",4.4917003760542977E-4,0.24707693477970646,9.9144162699520361E-4]
["JP Morgan JPM",-1.0774798375871295E-3,1.7916694423015864,2.8547829493226367E-3]
["Coca Cola \nKO",-1.7538763129651884E-3,0.35903260375546042,-9.6589025164056229E-4]
["McDonalds \nMCD",5.2870246017766619E-4,1.2645943445894277,3.3041682712022587E-3]
["3M \nMMM",3.4492097805926703E-3,0.65043868573479946,4.8767587350447934E-3]
["Altria\nMO",1.0100248898244334E-2,0.66329440207335677,1.1556012909427144E-2]
["Merck \nMRK",-9.2334472440219733E-3,0.6099272422683002,-7.8948106959692548E-3]
["Microsoft \nMSFT",-6.4454556814594506E-3,1.121940141629941,-3.9830798860647828E-3]
["Pfizer \nPFE",-1.0358613263809303E-2,0.55717127351603957,-9.1357627685930941E-3]
["Proctor Gamble \nPG",6.4773212973838114E-3,0.16872571999704269,6.8476317208772362E-3]
["AT&T \nT",-7.0594123560427501E-3,1.1275018151228948,-4.5848300893019008E-3]
["United Technologies UTX",7.4006234684003526E-3,1.0659180109233315,9.7400448087935406E-3]
["Verizon \nVZ",-7.836482594183054E-3,1.0231125023839318,-5.5910085547428816E-3]
["Walmart \nWMT",-5.4454525972353045E-3,0.60001144381683769,-4.1285787272372478E-3]
["Exxon Mobil \nXOM",5.8534223052485734E-3,0.64552508652338159,7.2701871480377617E-3]
[]
["Average",{"$f":"AVERAGE(B3:B31)","v":-1.7417255878653508E-3},{"$f":"AVERAGE(C3:C31)","v":1.1347941457916499},{"$f":"AVERAGE(D3:D31)","v":7.4886150646342184E-4}]

{"sheet":"St. Louis Fed, interest rates","index":11,"n_rows":81,"n_cols":3,"rows_kept":81,"cut":false,"hidden":false,"merged":[]}
["Title:","3-Month Treasury Bill: Secondary Market Rate"]
["Series ID:","TB3MS"]
["Source:","Board of Governors of the Federal Reserve System"]
["Release:","H.15 Selected Interest Rates"]
["Seasonal Adjustment:","Not Applicable"]
["Frequency:","Monthly"]
["Units:","Percent"]
["Date Range:","1934-01-01 to 2007-03-01"]
["Last Updated:","2007-04-03 8:41 AM CT"]
["Notes:","Averages of Business Days, Discount Basis"]
[]
["DATE","Annual rate in %","Monthly rate"]
["2001-07-01",3.51,{"$f":"B13/100/12","v":2.9250000000000001E-3}]
["2001-08-01",3.36,{"$f":"B14/100/12","v":2.8E-3}]
["2001-09-01",2.64,2.2000000000000001E-3]
["2001-10-01",2.16,1.8000000000000002E-3]
["2001-11-01",1.87,1.5583333333333334E-3]
["2001-12-01",1.69,1.4083333333333333E-3]
["2002-01-01",1.65,1.3750000000000001E-3]
["2002-02-01",1.73,1.4416666666666666E-3]
["2002-03-01",1.79,1.4916666666666665E-3]
["2002-04-01",1.72,1.4333333333333333E-3]
["2002-05-01",1.73,1.4416666666666666E-3]
["2002-06-01",1.7,1.4166666666666668E-3]
["2002-07-01",1.68,1.4E-3]
["2002-08-01",1.62,1.3500000000000003E-3]
["2002-09-01",1.63,1.3583333333333331E-3]
["2002-10-01",1.58,1.3166666666666667E-3]
["2002-11-01",1.23,1.0250000000000001E-3]
["2002-12-01",1.19,9.9166666666666652E-4]
["2003-01-01",1.17,9.7499999999999985E-4]
["2003-02-01",1.17,9.7499999999999985E-4]
["2003-03-01",1.1299999999999999,9.4166666666666661E-4]
["2003-04-01",1.1299999999999999,9.4166666666666661E-4]
["2003-05-01",1.07,8.916666666666668E-4]
["2003-06-01",0.92,7.6666666666666669E-4]
["2003-07-01",0.9,7.5000000000000012E-4]
["2003-08-01",0.95,7.9166666666666665E-4]
["2003-09-01",0.94,7.8333333333333326E-4]
["2003-10-01",0.92,7.6666666666666669E-4]
["2003-11-01",0.93,7.7500000000000008E-4]
["2003-12-01",0.9,7.5000000000000012E-4]
["2004-01-01",0.88,7.3333333333333334E-4]
["2004-02-01",0.93,7.7500000000000008E-4]
["2004-03-01",0.94,7.8333333333333326E-4]
["2004-04-01",0.94,7.8333333333333326E-4]
["2004-05-01",1.02,8.5000000000000006E-4]
["2004-06-01",1.27,1.0583333333333332E-3]
["2004-07-01",1.33,1.1083333333333333E-3]
["2004-08-01",1.48,1.2333333333333335E-3]
["2004-09-01",1.65,1.3750000000000001E-3]
["2004-10-01",1.76,1.4666666666666667E-3]
["2004-11-01",2.0699999999999998,1.725E-3]
["2004-12-01",2.19,1.825E-3]
["2005-01-01",2.33,1.9416666666666668E-3]
["2005-02-01",2.54,2.1166666666666664E-3]
["2005-03-01",2.74,2.2833333333333334E-3]
["2005-04-01",2.78,2.3166666666666665E-3]
["2005-05-01",2.84,2.3666666666666667E-3]
["2005-06-01",2.97,2.4750000000000002E-3]
["2005-07-01",3.22,2.6833333333333331E-3]
["2005-08-01",3.44,2.8666666666666667E-3]
["2005-09-01",3.42,2.8500000000000001E-3]
["2005-10-01",3.71,3.0916666666666666E-3]
["2005-11-01",3.88,3.2333333333333333E-3]
["2005-12-01",3.89,3.241666666666667E-3]
["2006-01-01",4.24,3.5333333333333332E-3]
["2006-02-01",4.43,3.6916666666666664E-3]
["2006-03-01",4.51,3.7583333333333336E-3]
["2006-04-01",4.5999999999999996,3.8333333333333331E-3]
["2006-05-01",4.72,3.933333333333333E-3]
["2006-06-01",4.79,3.9916666666666668E-3]
["2006-07-01",4.95,4.1250000000000002E-3]
["2006-08-01",4.96,4.1333333333333335E-3]
["2006-09-01",4.8099999999999996,4.0083333333333334E-3]
["2006-10-01",4.92,4.1000000000000003E-3]
["2006-11-01",4.9400000000000004,4.1166666666666669E-3]
["2006-12-01",4.8499999999999996,{"$f":"B78/100/12","v":4.0416666666666665E-3}]
["2007-01-01",4.9800000000000004,{"$f":"B79/100/12","v":4.15E-3}]
["2007-02-01",5.03,{"$f":"B80/100/12","v":4.1916666666666673E-3}]
["2007-03-01",4.9400000000000004,{"$f":"B81/100/12","v":4.1166666666666669E-3}]